Workbook

Sheet SO
A1: Wydział Statystyki i Analiz
A2: Departament Analiz i Strategii Europejskich Ministerstwa Sprawiedliwości
C5: Osoby osądzone i uniewinnione w pierwszej instancji w sądach okręgowych w latach 2004-2025
C6: Lata | D6: Osądzeni* | E6: w tym | G6: Procentowy udział osób uniewinnionych w ogółem osądzonych
E7: Skazani | F7: Uniewinniono
C8: 2004 | D8: 9185 | E8: 8604 | F8: 379 | G8: =F8/D8*100 -> 4.1262929
C9: 2005 | D9: 8037 | E9: 7553 | F9: 310 | G9: =F9/D9*100 -> 3.8571606
C10: 2006 | D10: 7563 | E10: 7070 | F10: 304 | G10: =F10/D10*100 -> 4.019569
C11: 2007 | D11: 6751 | E11: 6320 | F11: 270 | G11: =F11/D11*100 -> 3.9994075
C12: 2008 | D12: 6769 | E12: 6294 | F12: 301 | G12: =F12/D12*100 -> 4.4467425
C13: 2009 | D13: 8091 | E13: 7360 | F13: 494 | G13: =F13/D13*100 -> 6.1055494
C14: 2010 | D14: 8743 | E14: 7880 | F14: 566 | G14: =F14/D14*100 -> 6.4737504
C15: 2011 | D15: 9396 | E15: 8359 | F15: 689 | G15: =F15/D15*100 -> 7.3329076
C16: 2012 | D16: 9216 | E16: 8042 | F16: 776 | G16: =F16/D16*100 -> 8.4201389
C17: 2013 | D17: 8997 | E17: 7898 | F17: 645 | G17: =F17/D17*100 -> 7.1690564
C18: 2014 | D18: 8455 | E18: 7423 | F18: 613 | G18: =F18/D18*100 -> 7.2501478
C19: 2015 | D19: 9574 | E19: 8398 | F19: 626 | G19: =F19/D19*100 -> 6.5385419
... C24: 2020 | D24: 6930 | E24: 6253 | F24: 383 | G24: =F24/D24*100 -> 5.5266955
C25: 2021 | D25: 8751 | E25: 7787 | F25: 561 | G25: 6.4106959
C26: 2022 | D26: 9263 | E26: 8286 | F26: 586 | G26: =F26/D26*100 -> 6.3262442
C27: 2023 | D27: 8466 | E27: 7631 | F27: 469 | G27: =F27/D27*100 -> 5.5398063
C28: 2024 | D28: 8759 | E28: 7824 | F28: 488 | G28: =F28/D28*100 -> 5.5714123
C29: 2025 | D29: 9514 | E29: 8452 | F29: 632 | G29: =F29/D29*100 -> 6.6428421
C30: Suma 2004-2025 | D30: =SUM(D8:D29) -> 186574 | E30: =SUM(E8:E29) -> 167792 | F30: =SUM(F8:F29) -> 11412 | G30: =F30/D30*100 -> 6.1166079
A33: */ łącznie skazania, warunkowe umorzenia, umorzenia, uniewinnienia i odstąpienia od wymierzenia kary.

Sheet SR
A1: Wydział Statystyki i Analiz
A2: Departament Analiz i Strategii Europejskich Ministerstwa Sprawiedliwości
C5: Osoby osądzone i uniewinnione w pierwszej instancji w sądach rejonowych w latach 2004-2025
C6: Lata | D6: Osądzeni* | E6: w tym | G6: Procentowy udział osób uniewinnionych w ogółem osądzonych
E7: Skazani | F7: Uniewinniono
C8: 2004 | D8: 570726 | E8: 506113 | F8: 13000 | G8: =F8/D8*100 -> 2.2778006
C9: 2005 | D9: 582597 | E9: 519317 | F9: 13214 | G9: =F9/D9*100 -> 2.2681202
C10: 2006 | D10: 536017 | E10: 480049 | F10: 12630 | G10: =F10/D10*100 -> 2.3562686
C11: 2007 | D11: 514806 | E11: 460839 | F11: 11992 | G11: =F11/D11*100 -> 2.3294212
C12: 2008 | D12: 472106 | E12: 418202 | F12: 12192 | G12: =F12/D12*100 -> 2.5824709
C13: 2009 | D13: 468518 | E13: 417816 | F13: 11437 | G13: =F13/D13*100 -> 2.4411015
C14: 2010 | D14: 473687 | E14: 422896 | F14: 10673 | G14: =F14/D14*100 -> 2.2531756
C15: 2011 | D15: 480412 | E15: 426936 | F15: 10421 | G15: =F15/D15*100 -> 2.1691798
C16: 2012 | D16: 463850 | E16: 408550 | F16: 10249 | G16: =F16/D16*100 -> 2.2095505
C17: 2013 | D17: 415040 | E17: 360374 | F17: 9949 | G17: =F17/D17*100 -> 2.3971184
C18: 2014 | D18: 361921 | E18: 311503 | F18: 9172 | G18: =F18/D18*100 -> 2.5342547
C19: 2015 | D19: 334085 | E19: 281620 | F19: 9349 | G19: =F19/D19*100 -> 2.7983896
... C27: 2023 | D27: 303215 | E27: 258929 | F27: 7064 | G27: =F27/D27*100 -> 2.3297
C28: 2024 | D28: 280 624 | E28: 234 555 | F28: 6 667 | G28: 2.37
C29: 2025 | D29: 275 131 | E29: 229 718 | F29: 6 531 | G29: 2.37
C30: Suma 2004-2025 | D30: =SUM(D8:D29) -> 8187103 | E30: =SUM(E8:E29) -> 7152464 | F30: =SUM(F8:F29) -> 194065 | G30: =F30/D30*100 -> 2.3703745
A35: */ łącznie skazania, warunkowe umorzenia, umorzenia, uniewinnienia i odstąpienia od wymierzenia kary.

Sheet SR+SO
A1: Wydział Statystyki i Analiz
A2: Departament Analiz i Strategii Europejskich Ministerstwa Sprawiedliwości
C5: Osoby osądzone i uniewinnione w pierwszej instancji w sądach okręgowych oraz rejonowych (łącznie) w latach 2004-2025
C6: Lata | D6: Osądzeni* | E6: w tym | G6: Procentowy udział osób uniewinnionych w ogółem osądzonych
E7: Skazani | F7: Uniewinniono
C8: 2004 | D8: =SO!D8+SR!D8 -> 579911 | E8: =SO!E8+SR!E8 -> 514717 | F8: =SO!F8+SR!F8 -> 13379 | G8: =F8/D8*100 -> 2.3070782
C9: 2005 | D9: =SO!D9+SR!D9 -> 590634 | E9: =SO!E9+SR!E9 -> 526870 | F9: =SO!F9+SR!F9 -> 13524 | G9: =F9/D9*100 -> 2.2897429
C10: 2006 | D10: =SO!D10+SR!D10 -> 543580 | E10: =SO!E10+SR!E10 -> 487119 | F10: =SO!F10+SR!F10 -> 12934 | G10: =F10/D10*100 -> 2.3794106
C11: 2007 | D11: =SO!D11+SR!D11 -> 521557 | E11: =SO!E11+SR!E11 -> 467159 | F11: =SO!F11+SR!F11 -> 12262 | G11: =F11/D11*100 -> 2.3510374
C12: 2008 | D12: =SO!D12+SR!D12 -> 478875 | E12: =SO!E12+SR!E12 -> 424496 | F12: =SO!F12+SR!F12 -> 12493 | G12: =F12/D12*100 -> 2.6088228
C13: 2009 | D13: =SO!D13+SR!D13 -> 476609 | E13: =SO!E13+SR!E13 -> 425176 | F13: =SO!F13+SR!F13 -> 11931 | G13: =F13/D13*100 -> 2.5033098
C14: 2010 | D14: =SO!D14+SR!D14 -> 482430 | E14: =SO!E14+SR!E14 -> 430776 | F14: =SO!F14+SR!F14 -> 11239 | G14: =F14/D14*100 -> 2.3296644
C15: 2011 | D15: =SO!D15+SR!D15 -> 489808 | E15: =SO!E15+SR!E15 -> 435295 | F15: =SO!F15+SR!F15 -> 11110 | G15: =F15/D15*100 -> 2.2682357
C16: 2012 | D16: =SO!D16+SR!D16 -> 473066 | E16: =SO!E16+SR!E16 -> 416592 | F16: =SO!F16+SR!F16 -> 11025 | G16: =F16/D16*100 -> 2.3305416
C17: 2013 | D17: =SO!D17+SR!D17 -> 424037 | E17: =SO!E17+SR!E17 -> 368272 | F17: =SO!F17+SR!F17 -> 10594 | G17: =F17/D17*100 -> 2.4983669
C18: 2014 | D18: =SO!D18+SR!D18 -> 370376 | E18: =SO!E18+SR!E18 -> 318926 | F18: =SO!F18+SR!F18 -> 9785 | G18: =F18/D18*100 -> 2.6419098
C19: 2015 | D19: =SO!D19+SR!D19 -> 343659 | E19: =SO!E19+SR!E19 -> 290018 | F19: =SO!F19+SR!F19 -> 9975 | G19: =F19/D19*100 -> 2.9025866
... C27: 2023 | D27: =SO!D27+SR!D27 -> 311681 | E27: =SO!E27+SR!E27 -> 266560 | F27: =SO!F27+SR!F27 -> 7533 | G27: =F27/D27*100 -> 2.4168942
C28: 2024 | D28: 289 383 | E28: 242 379 | F28: 7155 | G28: 2.47
C29: 2025 | D29: 284 645 | E29: 238 170 | F29: 7 163 | G29: 2.51
C30: Suma 2004-2025 | D30: =SUM(D8:D29) -> 8355404 | E30: =SUM(E8:E29) -> 7303980 | F30: =SUM(F8:F29) -> 211512 | G30: =F30/D30*100 -> 2.5314395
A34: */ łącznie skazania, warunkowe umorzenia, umorzenia, uniewinnienia i odstąpienia od wymierzenia kary.
