Workbook
Name DF_GRID_1: Wybór [1]sądu!$G$21:$J$217
Name DF_GRID_1: Wybór [1]sądu!$G$21:$J$217
Name DF_NAVPANEL_13: #REF!
Name DF_NAVPANEL_13: #REF!
Name DF_NAVPANEL_13: #REF!
Name DF_NAVPANEL_18: #REF!
Name DF_NAVPANEL_18: #REF!
Name DF_NAVPANEL_18: #REF!

Sheet BExRepositorySheet
A1: 7
C14: Filter

Sheet Graph
C1: Apelacja | H1: FEP8Qry3
C2: Liczby | H2: Autor | I2: PROCAG01M | K2: Aktualność danych (godzina)
C3: Okręg
C4: Sąd
C5: Wiersze | G5: Information
G6: Autor | H6: PROCAG01M | J6: Ostatnie odświeżanie | K6: 2014-10-20 12:13:26
G7: Bieżący użytkownik | H7: PROCAG01M | J7: Dzień | K7: 2014-10-20
G8: Ostatnio zmienione przez | H8: PROCAG01M | J8: Godzina zmiany | K8: 2014-10-20 10:18:56
G9: Dostawca informacji | H9: ST_M001 | J9: Aktualność danych
G10: Tech. nazwa zapytania | H10: S_ST_M001_TABL_20143 | J10: Aktualność danych (data)
G11: Opis zapytania | H11: Tablice rzymskie III kw 2014 | J11: Aktualność danych (godzina)
C14: Filter

Sheet Tabl. I (2)
A1: TABL. I. EWIDENCJA SPRAW WEDŁUG DZIAŁÓW PRAWA W SĄDACH POWSZECHNYCH
A2: w kwartale 2015 i 2016 roku
A3: RODZAJE SPRAW WEDŁUG DZIAŁÓW PRAWA I RODZAJÓW SĄDÓW | B3: WPŁYW | E3: ZAŁATWIENIA | H3: POZOSTAŁOŚĆ
B4: I kw. 2015 | C4: I kw. 2016 | E4: I kw. 2015 | F4: I kw. 2016 | H4: I kw. 2015 | I4: I kw. 2016
B5: w liczbach bezwzględnych | D5: I kw. 2015=100 | E5: w liczbach bezwzględnych | G5: I kw. 2015=100 | H5: w liczbach bezwzględnych | J5: I kw. 2015=100
A6: OGÓŁEM | B6: =SUM(B7,B11,B15,B18,B22,B26) -> 3812405 | C6: =SUM(C7,C11,C15,C18,C22,C26) -> 3615359 | D6: =C6*100/B6 -> 94.831452 | E6: =SUM(E7,E11,E15,E18,E22,E26) -> 3757594 | F6: =SUM(F7,F11,F15,F18,F22,F26) -> 3423604 | G6: =F6*100/E6 -> 91.1116 | H6: =SUM(H7,H11,H15,H18,H22,H26) -> 2299714 | I6: =SUM(I7,I11,I15,I18,I22,I26) -> 2491588 | J6: =I6*100/H6 -> 108.34339
A7: SPRAWY KARNEa) | B7: =SUM(B8:B10) -> 729731 | C7: =SUM(C8:C10) -> 633406 | D7: =C7*100/B7 -> 86.79993 | E7: =SUM(E8:E10) -> 695810 | F7: =SUM(F8:F10) -> 647491 | G7: =F7*100/E7 -> 93.055719 | H7: =SUM(H8:H10) -> 474502 | I7: =SUM(I8:I10) -> 427848 | J7: =I7*100/H7 -> 90.167797
A8: W sądach: - apelacyjnych | B8: ='Tabl. II (2)'!B9 -> 8736 | C8: ='Tabl. II (2)'!C9 -> 7732 | D8: =C8*100/B8 -> 88.507326 | E8: ='Tabl. II (2)'!E9 -> 8161 | F8: ='Tabl. II (2)'!F9 -> 7703 | G8: =F8*100/E8 -> 94.387943 | H8: ='Tabl. II (2)'!H9 -> 3388 | I8: ='Tabl. II (2)'!I9 -> 2706 | J8: =I8*100/H8 -> 79.87013
A9: - okręgowych | B9: ='Tabl. II (2)'!B53 -> 96890 | C9: ='Tabl. II (2)'!C53 -> 88461 | D9: =C9*100/B9 -> 91.300444 | E9: ='Tabl. II (2)'!E53 -> 94690 | F9: ='Tabl. II (2)'!F53 -> 85303 | G9: =F9*100/E9 -> 90.086598 | H9: ='Tabl. II (2)'!H53 -> 41986 | I9: ='Tabl. II (2)'!I53 -> 39481 | J9: =I9*100/H9 -> 94.033726
A10: - rejonowych | B10: ='Tabl. II (2)'!B135 -> 624105 | C10: ='Tabl. II (2)'!C135 -> 537213 | D10: =C10*100/B10 -> 86.077343 | E10: ='Tabl. II (2)'!E135 -> 592959 | F10: ='Tabl. II (2)'!F135 -> 554485 | G10: =F10*100/E10 -> 93.511524 | H10: ='Tabl. II (2)'!H135 -> 429128 | I10: ='Tabl. II (2)'!I135 -> 385661 | J10: =I10*100/H10 -> 89.870854
A11: SPRAWY CYWILNE | B11: =SUM(B12:B14) -> 2253503 | C11: =SUM(C12:C14) -> 2173684 | D11: =C11*100/B11 -> 96.458003 | E11: =SUM(E12:E14) -> 2242056 | F11: =SUM(F12:F14) -> 1995222 | G11: =F11*100/E11 -> 88.99073 | H11: =SUM(H12:H14) -> 1241856 | I11: =SUM(I12:I14) -> 1455356 | J11: =I11*100/H11 -> 117.19201
A12: W sądach: - apelacyjnychb) | B12: ='Tabl. II (2)'!B23 -> 11273 | C12: ='Tabl. II (2)'!C23 -> 10974 | D12: =C12*100/B12 -> 97.347645 | E12: ='Tabl. II (2)'!E23 -> 10058 | F12: ='Tabl. II (2)'!F23 -> 10297 | G12: =F12*100/E12 -> 102.37622 | H12: ='Tabl. II (2)'!H23 -> 10609 | I12: ='Tabl. II (2)'!I23 -> 12464 | J12: =I12*100/H12 -> 117.48515
A13: - okręgowychb) | B13: ='Tabl. II (2)'!B67 -> 83780 | C13: ='Tabl. II (2)'!C67 -> 91295 | D13: =C13*100/B13 -> 108.96992 | E13: ='Tabl. II (2)'!E67 -> 83050 | F13: ='Tabl. II (2)'!F67 -> 82507 | G13: =F13*100/E13 -> 99.346177 | H13: ='Tabl. II (2)'!H67 -> 131416 | I13: ='Tabl. II (2)'!I67 -> 137135 | J13: =I13*100/H13 -> 104.35183
A14: - rejonowychc) | B14: ='Tabl. II (2)'!B146 -> 2158450 | C14: ='Tabl. II (2)'!C146 -> 2071415 | D14: =C14*100/B14 -> 95.967708 | E14: ='Tabl. II (2)'!E146 -> 2148948 | F14: ='Tabl. II (2)'!F146 -> 1902418 | G14: =F14*100/E14 -> 88.527875 | H14: ='Tabl. II (2)'!H146 -> 1099831 | I14: ='Tabl. II (2)'!I146 -> 1305757 | J14: =I14*100/H14 -> 118.72342
A15: SPRAWY RODZINNE | B15: =B17 -> 371740 | C15: =C17 -> 344644 | D15: =C15*100/B15 -> 92.711035 | E15: =E17 -> 354866 | F15: =F17 -> 343772 | G15: =F15*100/E15 -> 96.87375 | H15: =H17 -> 194891 | I15: =I17 -> 188854 | J15: =I15*100/H15 -> 96.902371
A16: W sądach: - okręgowychd) | B16: 23456 | C16: 24110 | D16: 102.8 | E16: 23645 | F16: 22592 | G16: 95.5 | H16: 50620 | I16: 49889 | J16: 98.6
A17: - rejonowych | B17: ='Tabl. II (2)'!B158 -> 371740 | C17: ='Tabl. II (2)'!C158 -> 344644 | D17: ='Tabl. II (2)'!D158 -> 92.7 | E17: ='Tabl. II (2)'!E158 -> 354866 | F17: ='Tabl. II (2)'!F158 -> 343772 | G17: ='Tabl. II (2)'!G158 -> 96.9 | H17: ='Tabl. II (2)'!H158 -> 194891 | I17: ='Tabl. II (2)'!I158 -> 188854 | J17: ='Tabl. II (2)'!J158 -> 96.9
A18: SPRAWY Z ZAKRESU PRAWA PRACY | B18: =SUM(B19:B21) -> 30043 | C18: =SUM(C19:C21) -> 22283 | D18: =C18*100/B18 -> 74.170356 | E18: =SUM(E19:E21) -> 37628 | F18: =SUM(F19:F21) -> 24173 | G18: =F18*100/E18 -> 64.242054 | H18: =SUM(H19:H21) -> 51477 | I18: =SUM(I19:I21) -> 38532 | J18: =I18*100/H18 -> 74.852847
A19: W sądach: - apelacyjnych | B19: ='Tabl. II (2)'!B30 -> 266 | C19: ='Tabl. II (2)'!C30 -> 264 | D19: =C19*100/B19 -> 99.24812 | E19: ='Tabl. II (2)'!E30 -> 297 | F19: ='Tabl. II (2)'!F30 -> 236 | G19: =F19*100/E19 -> 79.461279 | H19: ='Tabl. II (2)'!H30 -> 266 | I19: ='Tabl. II (2)'!I30 -> 328 | J19: =I19*100/H19 -> 123.30827
A20: - okręgowych | B20: ='Tabl. II (2)'!B88 -> 3910 | C20: ='Tabl. II (2)'!C88 -> 3616 | D20: =C20*100/B20 -> 92.480818 | E20: ='Tabl. II (2)'!E88 -> 3625 | F20: ='Tabl. II (2)'!F88 -> 3633 | G20: =F20*100/E20 -> 100.22069 | H20: ='Tabl. II (2)'!H88 -> 4436 | I20: ='Tabl. II (2)'!I88 -> 3919 | J20: =I20*100/H20 -> 88.345356
A21: - rejonowychc) | B21: ='Tabl. II (2)'!B173 -> 25867 | C21: ='Tabl. II (2)'!C173 -> 18403 | D21: =C21*100/B21 -> 71.144702 | E21: ='Tabl. II (2)'!E173 -> 33706 | F21: ='Tabl. II (2)'!F173 -> 20304 | G21: =F21*100/E21 -> 60.238533 | H21: ='Tabl. II (2)'!H173 -> 46775 | I21: ='Tabl. II (2)'!I173 -> 34285 | J21: =I21*100/H21 -> 73.297702
A22: SPRAWY Z ZAKRESU UBEZPIECZEŃ SPOŁECZNYCH | B22: =SUM(B23:B25) -> 47371 | C22: =SUM(C23:C25) -> 49220 | D22: =C22*100/B22 -> 103.90323 | E22: =SUM(E23:E25) -> 49707 | F22: =SUM(F23:F25) -> 46891 | G22: =F22*100/E22 -> 94.334802 | H22: =SUM(H23:H25) -> 121529 | I22: =SUM(I23:I25) -> 116110 | J22: =I22*100/H22 -> 95.540982
A23: W sądach: - apelacyjnych | B23: ='Tabl. II (2)'!B37 -> 7169 | C23: ='Tabl. II (2)'!C37 -> 6805 | D23: =C23*100/B23 -> 94.922583 | E23: ='Tabl. II (2)'!E37 -> 6340 | F23: ='Tabl. II (2)'!F37 -> 6702 | G23: =F23*100/E23 -> 105.70978 | H23: ='Tabl. II (2)'!H37 -> 16034 | I23: ='Tabl. II (2)'!I37 -> 16440 | J23: =I23*100/H23 -> 102.53212
A24: - okręgowych | B24: ='Tabl. II (2)'!B100 -> 27660 | C24: ='Tabl. II (2)'!C100 -> 33158 | D24: =C24*100/B24 -> 119.87708 | E24: ='Tabl. II (2)'!E100 -> 34443 | F24: ='Tabl. II (2)'!F100 -> 30892 | G24: =F24*100/E24 -> 89.690213 | H24: ='Tabl. II (2)'!H100 -> 80362 | I24: ='Tabl. II (2)'!I100 -> 72908 | J24: =I24*100/H24 -> 90.724472
A25: - rejonowych | B25: ='Tabl. II (2)'!B180 -> 12542 | C25: ='Tabl. II (2)'!C180 -> 9257 | D25: =C25*100/B25 -> 73.808005 | E25: ='Tabl. II (2)'!E180 -> 8924 | F25: ='Tabl. II (2)'!F180 -> 9297 | G25: =F25*100/E25 -> 104.17974 | H25: ='Tabl. II (2)'!H180 -> 25133 | I25: ='Tabl. II (2)'!I180 -> 26762 | J25: =I25*100/H25 -> 106.48152
A26: SPRAWY GOSPODARCZE | B26: =SUM(B27:B31) -> 380017 | C26: =SUM(C27:C31) -> 392122 | D26: =C26*100/B26 -> 103.18538 | E26: =SUM(E27:E31) -> 377527 | F26: =SUM(F27:F31) -> 366055 | G26: =F26*100/E26 -> 96.961277 | H26: =SUM(H27:H31) -> 215459 | I26: =SUM(I27:I31) -> 264888 | J26: =I26*100/H26 -> 122.94126
A27: W sądach: - apelacyjnych | B27: ='Tabl. II (2)'!B45 -> 2768 | C27: ='Tabl. II (2)'!C45 -> 3165 | D27: =C27*100/B27 -> 114.34249 | E27: ='Tabl. II (2)'!E45 -> 2841 | F27: ='Tabl. II (2)'!F45 -> 3178 | G27: =F27*100/E27 -> 111.86202 | H27: ='Tabl. II (2)'!H45 -> 5466 | I27: ='Tabl. II (2)'!I45 -> 4641 | J27: =I27*100/H27 -> 84.906696
A28: - okręgowych | B28: ='Tabl. II (2)'!B111 -> 14960 | C28: ='Tabl. II (2)'!C111 -> 16552 | D28: =C28*100/B28 -> 110.64171 | E28: ='Tabl. II (2)'!E111 -> 14456 | F28: ='Tabl. II (2)'!F111 -> 14936 | G28: =F28*100/E28 -> 103.32042 | H28: ='Tabl. II (2)'!H111 -> 22045 | I28: ='Tabl. II (2)'!I111 -> 24377 | J28: =I28*100/H28 -> 110.57836
A29: - rejonowychc) | B29: ='Tabl. II (2)'!B184 -> 362045 | C29: ='Tabl. II (2)'!C184 -> 371587 | D29: =C29*100/B29 -> 102.63558 | E29: ='Tabl. II (2)'!E184 -> 359439 | F29: ='Tabl. II (2)'!F184 -> 347273 | G29: =F29*100/E29 -> 96.615281 | H29: ='Tabl. II (2)'!H184 -> 185409 | I29: ='Tabl. II (2)'!I184 -> 233247 | J29: =I29*100/H29 -> 125.80134
A30: - w Sądzie Ochrony Konkurencji i Konsumentów | B30: ='Tabl. II (2)'!B124 -> 196 | C30: ='Tabl. II (2)'!C124 -> 747 | D30: =C30*100/B30 -> 381.12245 | E30: ='Tabl. II (2)'!E124 -> 743 | F30: ='Tabl. II (2)'!F124 -> 600 | G30: =F30*100/E30 -> 80.753701 | H30: ='Tabl. II (2)'!H124 -> 2484 | I30: ='Tabl. II (2)'!I124 -> 2542 | J30: =I30*100/H30 -> 102.33494
A31: - w Sądzie Wspólnotowych Znaków Towarowych i Wzorów Przemysłowych | B31: ='Tabl. II (2)'!B133 -> 48 | C31: ='Tabl. II (2)'!C133 -> 71 | D31: =C31*100/B31 -> 147.91667 | E31: ='Tabl. II (2)'!E133 -> 48 | F31: ='Tabl. II (2)'!F133 -> 68 | G31: =F31*100/E31 -> 141.66667 | H31: ='Tabl. II (2)'!H133 -> 55 | I31: ='Tabl. II (2)'!I133 -> 81 | J31: =I31*100/H31 -> 147.27273
A33: a) W sądach rejonowych łącznie ze sprawami wykroczeniowymi.
A34: b) W liczbie spraw cywilnych zawarte są informacje o sprawach rodzinnych.
A35: c) W liczbie spraw cywilnych, z zakresu prawa pracy oraz gospodarczych w sądach rejonowych zawarte są dane statystyczne o ewidencji spraw z zakresu Elektronicznego Postępowania Upominawczego EPU.
A36: Wyszczególnienie | B36: WPŁYW | E36: ZAŁATWIENIA | H36: POZOSTAŁOŚĆ
B37: I kw. 2015 | C37: I kw. 2016 | E37: I kw. 2015 | F37: I kw. 2016 | H37: I kw. 2015 | I37: I kw. 2016
B38: w liczbach bezwzględnych | D38: I kw. 2015=100 | E38: w liczbach bezwzględnych | G38: I kw. 2015=100 | H38: w liczbach bezwzględnych | J38: I kw. 2015=100
A40: ELEKTRONICZNE POSTĘPOWANIE UPOMINAWCZE (EPU) - RAZEM | B40: =SUM(B41:B43) -> 561990 | C40: =SUM(C41:C43) -> 483395 | D40: =C40*100/B40 -> 86.014876 | E40: =SUM(E41:E43) -> 593137 | F40: =SUM(F41:F43) -> 371420 | G40: =F40*100/E40 -> 62.619597 | H40: =SUM(H41:H43) -> 64685 | I40: =SUM(I41:I43) -> 133068 | J40: =I40*100/H40 -> 205.71694
A41: SPRAWY CYWILNE | B41: ='Tabl. II (2)'!B151 -> 509343 | C41: ='Tabl. II (2)'!C151 -> 428008 | D41: ='Tabl. II (2)'!D151 -> 84 | E41: ='Tabl. II (2)'!E151 -> 540850 | F41: ='Tabl. II (2)'!F151 -> 328246 | G41: ='Tabl. II (2)'!G151 -> 60.7 | H41: ='Tabl. II (2)'!H151 -> 57225 | I41: ='Tabl. II (2)'!I151 -> 118411 | J41: ='Tabl. II (2)'!J151 -> 206.9
A42: SPRAWY Z ZAKRESU PRAWA PRACY | B42: ='Tabl. II (2)'!B176 -> 40 | C42: ='Tabl. II (2)'!C176 -> 72 | D42: ='Tabl. II (2)'!D176 -> 180 | E42: ='Tabl. II (2)'!E176 -> 38 | F42: ='Tabl. II (2)'!F176 -> 51 | G42: ='Tabl. II (2)'!G176 -> 134.2 | H42: ='Tabl. II (2)'!H176 -> 5 | I42: ='Tabl. II (2)'!I176 -> 31 | J42: ='Tabl. II (2)'!J176 -> 620
...

Sheet Tabl. IA
A1: TABL. IA. WPŁYW SPRAW W SĄDACH POWSZECHNYCH WEDŁUG DZIAŁÓW PRAWA - PONOWNE WPISY
A2: w kwartale 2015 i 2016 roku
A3: RODZAJE SPRAW WEDŁUG DZIAŁÓW PRAWA I RODZAJÓW SĄDÓW | B3: WPŁYW SPRAW OGÓŁEM | E3: WPŁYW SPRAW PONOWNIE WPISANYCHa) | H3: WPŁYW SPRAW PO ODJĘCIU SPRAW PONOWNIE WPISANYCH | K3: ODSETEK WPŁYWU SPRAW PONOWNIE WPISANYCH
B4: I kw. 2015 | C4: I kw. 2016 | E4: I kw. 2015 | F4: I kw. 2016 | H4: I kw. 2015 | I4: I kw. 2016 | K4: I kw. 2015 | L4: I kw. 2016
B5: w liczbach bezwzględnych | D5: I kw. 2015=100 | E5: w liczbach bezwzględnych | G5: I kw. 2015=100 | H5: w liczbach bezwzględnych | J5: I kw. 2015=100 | K5: odsetek | M5: I kw. 2015=100
A6: OGÓŁEM | B6: ='Tabl. I (2)'!B6 -> 3812405 | C6: ='Tabl. I (2)'!C6 -> 3615359 | D6: ='Tabl. I (2)'!D6 -> 94.831452 | E6: =E7+E11+E15+E16+E20+E25 -> 305237 | F6: =F7+F11+F15+F16+F20+F25 -> 276644 | G6: =F6*100/E6 -> 90.632525 | H6: =B6-E6 -> 3507168 | I6: =C6-F6 -> 3338715 | J6: =I6*100/H6 -> 95.196894 | K6: =E6*100/B6 -> 8.0064159 | L6: =F6*100/C6 -> 7.6519095 | M6: =L6*100/K6 -> 95.572221
A7: SPRAWY KARNEb) | B7: ='Tabl. I (2)'!B7 -> 729731 | C7: ='Tabl. I (2)'!C7 -> 633406 | D7: ='Tabl. I (2)'!D7 -> 86.79993 | E7: =SUM(E8:E10) -> 33368 | F7: =SUM(F8:F10) -> 11361 | G7: =F7*100/E7 -> 34.047591 | H7: =B7-E7 -> 696363 | I7: =C7-F7 -> 622045 | J7: =I7*100/H7 -> 89.327693 | K7: =E7*100/B7 -> 4.5726439 | L7: =F7*100/C7 -> 1.7936363 | M7: =L7*100/K7 -> 39.225366
A8: W sądach: - apelacyjnych | B8: ='Tabl. I (2)'!B8 -> 8736 | C8: ='Tabl. I (2)'!C8 -> 7732 | D8: ='Tabl. I (2)'!D8 -> 88.507326 | E8: 6 | F8: 5 | G8: =F8*100/E8 -> 83.333333 | H8: =B8-E8 -> 8730 | I8: =C8-F8 -> 7727 | J8: =I8*100/H8 -> 88.510882 | K8: =E8*100/B8 -> 0.068681319 | L8: =F8*100/C8 -> 0.064666322 | M8: =L8*100/K8 -> 94.154165
A9: - okręgowych | B9: ='Tabl. I (2)'!B9 -> 96890 | C9: ='Tabl. I (2)'!C9 -> 88461 | D9: ='Tabl. I (2)'!D9 -> 91.300444 | E9: 1123 | F9: 1571 | G9: =F9*100/E9 -> 139.89314 | H9: =B9-E9 -> 95767 | I9: =C9-F9 -> 86890 | J9: =I9*100/H9 -> 90.730627 | K9: =E9*100/B9 -> 1.1590463 | L9: =F9*100/C9 -> 1.7759239 | M9: =L9*100/K9 -> 153.22285
A10: - rejonowych | B10: ='Tabl. I (2)'!B10 -> 624105 | C10: ='Tabl. I (2)'!C10 -> 537213 | D10: ='Tabl. I (2)'!D10 -> 86.077343 | E10: 32239 | F10: 9785 | G10: =F10*100/E10 -> 30.351438 | H10: =B10-E10 -> 591866 | I10: =C10-F10 -> 527428 | J10: =I10*100/H10 -> 89.112738 | K10: =E10*100/B10 -> 5.1656372 | L10: =F10*100/C10 -> 1.8214377 | M10: =L10*100/K10 -> 35.260658
A11: SPRAWY CYWILNE | B11: ='Tabl. I (2)'!B11 -> 2253503 | C11: ='Tabl. I (2)'!C11 -> 2173684 | D11: ='Tabl. I (2)'!D11 -> 96.458003 | E11: =SUM(E12:E14) -> 205338 | F11: =SUM(F12:F14) -> 212141 | G11: =F11*100/E11 -> 103.31307 | H11: =B11-E11 -> 2048165 | I11: =C11-F11 -> 1961543 | J11: =I11*100/H11 -> 95.770751 | K11: =E11*100/B11 -> 9.111947 | L11: =F11*100/C11 -> 9.7595143 | M11: =L11*100/K11 -> 107.10679
A12: W sądach: - apelacyjnychc) | B12: ='Tabl. I (2)'!B12 -> 11273 | C12: ='Tabl. I (2)'!C12 -> 10974 | D12: ='Tabl. I (2)'!D12 -> 97.347645 | E12: 103 | F12: 80 | G12: =F12*100/E12 -> 77.669903 | H12: =B12-E12 -> 11170 | I12: =C12-F12 -> 10894 | J12: =I12*100/H12 -> 97.529096 | K12: =E12*100/B12 -> 0.91368757 | L12: =F12*100/C12 -> 0.72899581 | M12: =L12*100/K12 -> 79.786114
A13: - okręgowychc) | B13: ='Tabl. I (2)'!B13 -> 83780 | C13: ='Tabl. I (2)'!C13 -> 91295 | D13: ='Tabl. I (2)'!D13 -> 108.96992 | E13: 7308 | F13: 10143 | G13: =F13*100/E13 -> 138.7931 | H13: =B13-E13 -> 76472 | I13: =C13-F13 -> 81152 | J13: =I13*100/H13 -> 106.11989 | K13: =E13*100/B13 -> 8.7228455 | L13: =F13*100/C13 -> 11.110137 | M13: =L13*100/K13 -> 127.36827
A14: - rejonowych | B14: ='Tabl. I (2)'!B14 -> 2158450 | C14: ='Tabl. I (2)'!C14 -> 2071415 | D14: ='Tabl. I (2)'!D14 -> 95.967708 | E14: 197927 | F14: 201918 | G14: =F14*100/E14 -> 102.0164 | H14: =B14-E14 -> 1960523 | I14: =C14-F14 -> 1869497 | J14: =I14*100/H14 -> 95.357055 | K14: =E14*100/B14 -> 9.1698673 | L14: =F14*100/C14 -> 9.7478294 | M14: =L14*100/K14 -> 106.30284
A15: SPRAWY RODZINNEd) | B15: ='Tabl. I (2)'!B15 -> 371740 | C15: ='Tabl. I (2)'!C15 -> 344644 | D15: ='Tabl. I (2)'!D15 -> 92.711035 | E15: =15013+1059 -> 16072 | F15: 5802 | G15: =F15*100/E15 -> 36.10005 | H15: =B15-E15 -> 355668 | I15: =C15-F15 -> 338842 | J15: =I15*100/H15 -> 95.269184 | K15: =E15*100/B15 -> 4.3234519 | L15: =F15*100/C15 -> 1.6834763 | M15: =L15*100/K15 -> 38.938245
A16: SPRAWY Z ZAKRESU PRAWA PRACY | B16: ='Tabl. I (2)'!B18 -> 30043 | C16: ='Tabl. I (2)'!C18 -> 22283 | D16: ='Tabl. I (2)'!D18 -> 74.170356 | E16: =SUM(E17:E19) -> 6165 | F16: =SUM(F17:F19) -> 3030 | G16: =F16*100/E16 -> 49.148418 | H16: =B16-E16 -> 23878 | I16: =C16-F16 -> 19253 | J16: =I16*100/H16 -> 80.630706 | K16: =E16*100/B16 -> 20.520587 | L16: =F16*100/C16 -> 13.59781 | M16: =L16*100/K16 -> 66.264234
A17: W sądach: - apelacyjnych | B17: ='Tabl. I (2)'!B19 -> 266 | C17: ='Tabl. I (2)'!C19 -> 264 | D17: ='Tabl. I (2)'!D19 -> 99.24812 | E17: 9 | F17: 5 | G17: =F17*100/E17 -> 55.555556 | H17: =B17-E17 -> 257 | I17: =C17-F17 -> 259 | J17: =I17*100/H17 -> 100.77821 | K17: =E17*100/B17 -> 3.3834586 | L17: =F17*100/C17 -> 1.8939394 | M17: =L17*100/K17 -> 55.976431
A18: - okręgowych | B18: ='Tabl. I (2)'!B20 -> 3910 | C18: ='Tabl. I (2)'!C20 -> 3616 | D18: ='Tabl. I (2)'!D20 -> 92.480818 | E18: 226 | F18: 156 | G18: =F18*100/E18 -> 69.026549 | H18: =B18-E18 -> 3684 | I18: =C18-F18 -> 3460 | J18: =I18*100/H18 -> 93.919653 | K18: =E18*100/B18 -> 5.7800512 | L18: =F18*100/C18 -> 4.3141593 | M18: =L18*100/K18 -> 74.638774
A19: - rejonowych | B19: ='Tabl. I (2)'!B21 -> 25867 | C19: ='Tabl. I (2)'!C21 -> 18403 | D19: ='Tabl. I (2)'!D21 -> 71.144702 | E19: 5930 | F19: 2869 | G19: =F19*100/E19 -> 48.381113 | H19: =B19-E19 -> 19937 | I19: =C19-F19 -> 15534 | J19: =I19*100/H19 -> 77.915434 | K19: =E19*100/B19 -> 22.924962 | L19: =F19*100/C19 -> 15.589849 | M19: =L19*100/K19 -> 68.003817
A20: SPRAWY Z ZAKRESU UBEZPIECZEŃ SPOŁECZNYCH | B20: ='Tabl. I (2)'!B22 -> 47371 | C20: ='Tabl. I (2)'!C22 -> 49220 | D20: ='Tabl. I (2)'!D22 -> 103.90323 | E20: =SUM(E21:E23) -> 3815 | F20: =SUM(F21:F23) -> 1627 | G20: =F20*100/E20 -> 42.647444 | H20: =B20-E20 -> 43556 | I20: =C20-F20 -> 47593 | J20: =I20*100/H20 -> 109.26853 | K20: =E20*100/B20 -> 8.0534504 | L20: =F20*100/C20 -> 3.3055668 | M20: =L20*100/K20 -> 41.045349
A21: W sądach: - apelacyjnych | B21: ='Tabl. I (2)'!B23 -> 7169 | C21: ='Tabl. I (2)'!C23 -> 6805 | D21: ='Tabl. I (2)'!D23 -> 94.922583 | E21: 62 | F21: 51 | G21: =F21*100/E21 -> 82.258065 | H21: =B21-E21 -> 7107 | I21: =C21-F21 -> 6754 | J21: =I21*100/H21 -> 95.033066 | K21: =E21*100/B21 -> 0.8648347 | L21: =F21*100/C21 -> 0.74944893 | M21: =L21*100/K21 -> 86.658055
A22: - okręgowych | B22: ='Tabl. I (2)'!B24 -> 27660 | C22: ='Tabl. I (2)'!C24 -> 33158 | D22: ='Tabl. I (2)'!D24 -> 119.87708 | E22: 1244 | F22: 1240 | G22: =F22*100/E22 -> 99.678457 | H22: =B22-E22 -> 26416 | I22: =C22-F22 -> 31918 | J22: =I22*100/H22 -> 120.82829 | K22: =E22*100/B22 -> 4.4974693 | L22: =F22*100/C22 -> 3.7396707 | M22: =L22*100/K22 -> 83.150555
A23: - rejonowych | B23: ='Tabl. I (2)'!B25 -> 12542 | C23: ='Tabl. I (2)'!C25 -> 9257 | D23: ='Tabl. I (2)'!D25 -> 73.808005 | E23: 2509 | F23: 336 | G23: =F23*100/E23 -> 13.39179 | H23: =B23-E23 -> 10033 | I23: =C23-F23 -> 8921 | J23: =I23*100/H23 -> 88.916575 | K23: =E23*100/B23 -> 20.004784 | L23: =F23*100/C23 -> 3.6296856 | M23: =L23*100/K23 -> 18.144088
A25: SPRAWY GOSPODARCZE | B25: ='Tabl. I (2)'!B26 -> 380017 | C25: ='Tabl. I (2)'!C26 -> 392122 | D25: ='Tabl. I (2)'!D26 -> 103.18538 | E25: =SUM(E26:E30) -> 40479 | F25: =SUM(F26:F30) -> 42683 | G25: =F25*100/E25 -> 105.4448 | H25: =B25-E25 -> 339538 | I25: =C25-F25 -> 349439 | J25: =I25*100/H25 -> 102.91602 | K25: =E25*100/B25 -> 10.651892 | L25: =F25*100/C25 -> 10.885133 | M25: =L25*100/K25 -> 102.18967
A26: W sądach: - apelacyjnych | B26: ='Tabl. I (2)'!B27 -> 2768 | C26: ='Tabl. I (2)'!C27 -> 3165 | D26: ='Tabl. I (2)'!D27 -> 114.34249 | E26: 36 | F26: 33 | G26: =F26*100/E26 -> 91.666667 | H26: =B26-E26 -> 2732 | I26: =C26-F26 -> 3132 | J26: =I26*100/H26 -> 114.64129 | K26: =E26*100/B26 -> 1.300578 | L26: =F26*100/C26 -> 1.042654 | M26: =L26*100/K26 -> 80.16851
A27: - okręgowych | B27: ='Tabl. I (2)'!B28 -> 14960 | C27: ='Tabl. I (2)'!C28 -> 16552 | D27: ='Tabl. I (2)'!D28 -> 110.64171 | E27: 3387 | F27: 3364 | G27: =F27*100/E27 -> 99.320933 | H27: =B27-E27 -> 11573 | I27: =C27-F27 -> 13188 | J27: =I27*100/H27 -> 113.9549 | K27: =E27*100/B27 -> 22.640374 | L27: =F27*100/C27 -> 20.323828 | M27: =L27*100/K27 -> 89.768074
A28: - rejonowych | B28: ='Tabl. I (2)'!B29 -> 362045 | C28: ='Tabl. I (2)'!C29 -> 371587 | D28: ='Tabl. I (2)'!D29 -> 102.63558 | E28: 37013 | F28: 38768 | G28: =F28*100/E28 -> 104.74158 | H28: =B28-E28 -> 325032 | I28: =C28-F28 -> 332819 | J28: =I28*100/H28 -> 102.39576 | K28: =E28*100/B28 -> 10.223315 | L28: =F28*100/C28 -> 10.433088 | M28: =L28*100/K28 -> 102.05191
A29: - w Sądzie Ochrony Konkurencji i Konsumentów | B29: ='Tabl. I (2)'!B30 -> 196 | C29: ='Tabl. I (2)'!C30 -> 747 | D29: ='Tabl. I (2)'!D30 -> 381.12245 | E29: 39 | F29: 509 | G29: =F29*100/E29 -> 1305.1282 | H29: =B29-E29 -> 157 | I29: =C29-F29 -> 238 | J29: =I29*100/H29 -> 151.59236 | K29: =E29*100/B29 -> 19.897959 | L29: =F29*100/C29 -> 68.139224 | M29: =L29*100/K29 -> 342.44328
A30: - w Sądzie Wspólnotowych Znaków Towarowych i Wzorów Przemysłowych | B30: ='Tabl. I (2)'!B31 -> 48 | C30: ='Tabl. I (2)'!C31 -> 71 | D30: ='Tabl. I (2)'!D31 -> 147.91667 | E30: 4 | F30: 9 | G30: =F30*100/E30 -> 225 | H30: =B30-E30 -> 44 | I30: =C30-F30 -> 62 | J30: =I30*100/H30 -> 140.90909 | K30: =E30*100/B30 -> 8.3333333 | L30: =F30*100/C30 -> 12.676056 | M30: =L30*100/K30 -> 152.11268
A31: a) W szczególności wpływ spraw przekazanych z innych wydziałów/sądów według właściwości, w związku ze zmianami organizacyjnymi, tj. utworzeniem lub likwidacją wydziałów/sądów oraz wyłączonych do odrębnego rozpoznania. W kolumnie nie uwzględniono ponownych wpisów spraw Krajowego Rejestru Sądowego, natomiast w sprawach nieletnich uwzględniono tylko ponowne wpisy z innych sądów.
A32: b) W sądach rejonowych łącznie ze sprawami wykroczeniowymi.
A33: c) W liczbie spraw cywilnych zawarte są informacje o sprawach rodzinnych.
A34: d) Sprawy rodzinne w sądach rejonowych.
A35: e) Wskaźnik wyliczany na podstawie danych przed zaokrągleniem do jednego miejsca po przecinku.

Sheet Tabl. II (2)
A2: TABL. II. EWIDENCJA SPRAW W SĄDACH POWSZECHNYCH WEDŁUG DZIAŁÓW PRAWA I INSTANCYJNOŚCI
A3: w kwartale 2015 i 2016 roku
A4: RODZAJE SPRAW WEDŁUG KSIĄG EWIDENCYJNYCH | B4: WPŁYW | E4: ZAŁATWIENIA | H4: POZOSTAŁOŚĆ
B5: I kw. 2015 | C5: I kw. 2016 | E5: I kw. 2015 | F5: I kw. 2016 | H5: I kw. 2015 | I5: I kw. 2016
B6: w liczbach bezwzględnych | D6: I kw. 2015=100 | E6: w liczbach bezwzględnych | G6: I kw. 2015=100 | H6: w liczbach bezwzględnych | J6: I kw. 2015=100
A7: OGÓŁEM SPRAW W SĄDACH POWSZECHNYCH | B7: 3812405 | C7: 3615359 | D7: 94.8 | E7: 3757594 | F7: 3423604 | G7: 91.1 | H7: 2299714 | I7: 2491588 | J7: 108.3
A8: W SĄDACH APELACYJNYCH - OGÓŁEM | B8: 30212 | C8: 28940 | D8: 95.8 | E8: 27697 | F8: 28116 | G8: 101.5 | H8: 35763 | I8: 36579 | J8: 102.3
A9: Sprawy karne - razem | B9: 8736 | C9: 7732 | D9: 88.5 | E9: 8161 | F9: 7703 | G9: 94.4 | H9: 3388 | I9: 2706 | J9: 79.9
A10: II instancji - apelacje (A Ka) | B10: 939 | C10: 924 | D10: 98.4 | E10: 843 | F10: 779 | G10: 92.4 | H10: 598 | I10: 637 | J10: 106.5
A11: w tym: o odszkodowanie (A Ka) | B11: 96 | C11: 112 | D11: 116.7 | E11: 89 | F11: 84 | G11: 94.4 | H11: 44 | I11: 67 | J11: 152.3
A12: w tym: -z ust. z dn. 23.02.1991 r. o uznaniu za nieważne orzeczeń wydanych wobec osób represjonowanych za działalność na rzecz niepodległego bytu Państwa Polskiego (Dz.U. Nr 34, poz. 149) | B12: 23 | C12: 34 | D12: 147.8 | E12: 26 | F12: 25 | G12: 96.2 | H12: 8 | I12: 17 | J12: 212.5
A13: - w trybie a.552 kpk | B13: 73 | C13: 78 | D13: 106.8 | E13: 63 | F13: 59 | G13: 93.7 | H13: 36 | I13: 50 | J13: 138.9
A14: - zażalenia (A Kz) | B14: 1694 | C14: 1410 | D14: 83.2 | E14: 1693 | F14: 1470 | G14: 86.8 | H14: 288 | I14: 184 | J14: 63.9
A15: ogólne (A Ko) | B15: 509 | C15: 544 | D15: 106.9 | E15: 453 | F15: 558 | G15: 123.2 | H15: 292 | I15: 247 | J15: 84.6
A16: w tym:
A17: sprawy w trybie art.11a pwkpk | B17: 11 | C17: - | D17: 0 | E17: 11 | F17: - | G17: 0 | H17: - | I17: - | J17: X
A18: nadzór sądowy nad postępowaniem przygotowawczym (A Kp) | B18: 124 | C18: 90 | D18: 72.6 | E18: 117 | F18: 87 | G18: 74.4 | H18: 18 | I18: 11 | J18: 61.1
A19: zażalenia na postanowienia w postępowaniu wykonawczym (A Kzw) | B19: 5182 | C19: 4491 | D19: 86.7 | E19: 4793 | F19: 4550 | G19: 94.9 | H19: 1985 | I19: 1446 | J19: 72.8
A20: kasacje (WKK) | B20: 173 | C20: 157 | D20: 90.8 | E20: 153 | F20: 149 | G20: 97.4 | H20: 163 | I20: 148 | J20: 90.8
A21: skargi na postępowanie sądowe i prokuratorskie (S) | B21: 115 | C21: 116 | D21: 100.9 | E21: 109 | F21: 110 | G21: 100.9 | H21: 44 | I21: 33 | J21: 75
A22: W SĄDACH APELACYJNYCH (c.d.)
A23: Sprawy cywilne - razem | B23: 11273 | C23: 10974 | D23: 97.3 | E23: 10058 | F23: 10297 | G23: 102.4 | H23: 10609 | I23: 12464 | J23: 117.5
A24: II instancji - apelacje (A Ca)a) | B24: 4414 | C24: 4242 | D24: 96.1 | E24: 3726 | F24: 3747 | G24: 100.6 | H24: 7566 | I24: 9276 | J24: 122.6
A25: - zażalenia (A Cz)a) | B25: 5227 | C25: 5089 | D25: 97.4 | E25: 4882 | F25: 4963 | G25: 101.7 | H25: 2274 | I25: 2555 | J25: 112.4
A26: ogólne (A Co) | B26: 244 | C26: 237 | D26: 97.1 | E26: 249 | F26: 224 | G26: 90 | H26: 71 | I26: 75 | J26: 105.6
A27: skarga kasacyjna (WSC) | B27: 405 | C27: 385 | D27: 95.1 | E27: 335 | F27: 336 | G27: 100.3 | H27: 309 | I27: 272 | J27: 88
A28: skarga o stwierdzenie niezgodności z prawem (WSC)b) | B28: 15 | C28: 12 | D28: 80 | E28: 10 | F28: 12 | G28: 120 | H28: 12 | I28: 8 | J28: 66.7
A29: skargi na postępowanie sądowe (S) | B29: 968 | C29: 1009 | D29: 104.2 | E29: 856 | F29: 1015 | G29: 118.6 | H29: 377 | I29: 278 | J29: 73.7
A30: Sprawy z zakresu prawa pracy - razem | B30: 266 | C30: 264 | D30: 99.2 | E30: 297 | F30: 236 | G30: 79.5 | H30: 266 | I30: 328 | J30: 123.3
A31: II instancji - apelacje (A Pa) | B31: 90 | C31: 104 | D31: 115.6 | E31: 103 | F31: 84 | G31: 81.6 | H31: 168 | I31: 228 | J31: 135.7
A32: - zażalenia (A Pz) | B32: 113 | C32: 98 | D32: 86.7 | E32: 120 | F32: 92 | G32: 76.7 | H32: 57 | I32: 56 | J32: 98.2
A33: - ogólne (A Po) | B33: 28 | C33: 27 | D33: 96.4 | E33: 42 | F33: 31 | G33: 73.8 | H33: 18 | I33: 20 | J33: 111.1
A34: skarga kasacyjna (WSC-pracy) | B34: 20 | C34: 16 | D34: 80 | E34: 20 | F34: 18 | G34: 90 | H34: 17 | I34: 13 | J34: 76.5
A35: skarga o stwierdzenie niezgodności z prawem (WSC-pracy) | B35: - | C35: 1 | D35: X | E35: 1 | F35: 1 | G35: 100 | H35: - | I35: - | J35: X
A36: skargi na postępowanie sądowe (S) | B36: 15 | C36: 18 | D36: 120 | E36: 11 | F36: 10 | G36: 90.9 | H36: 6 | I36: 11 | J36: 183.3
A37: Sprawy z zakresu ubezpieczeń społecznych - razem | B37: 7169 | C37: 6805 | D37: 94.9 | E37: 6340 | F37: 6702 | G37: 105.7 | H37: 16034 | I37: 16440 | J37: 102.5
A38: II instancji - apelacje (A Ua) | B38: 5973 | C38: 5554 | D38: 93 | E38: 5236 | F38: 5505 | G38: 105.1 | H38: 15411 | I38: 15753 | J38: 102.2
A39: - zażalenia (A Uz) | B39: 791 | C39: 766 | D39: 96.8 | E39: 762 | F39: 758 | G39: 99.5 | H39: 359 | I39: 368 | J39: 102.5
A40: ogólne (A Uo) | B40: 4 | C40: 7 | D40: 175 | E40: 5 | F40: 5 | G40: 100 | H40: 2 | I40: 3 | J40: 150
A41: skarga kasacyjna (WSC-ubezp.) | B41: 368 | C41: 442 | D41: 120.1 | E41: 305 | F41: 397 | G41: 130.2 | H41: 250 | I41: 301 | J41: 120.4
...

Sheet Tabl. III (2)
A2: TABL. III. WSKAŹNIKI DOTYCZĄCE SPRAW W SĄDACH POWSZECHNYCH WEDŁUG DZIAŁÓW PRAWA I INSTANCYJNOŚCI
A3: w kwartale 2015 i 2016 roku
A4: RODZAJE SPRAW WEDŁUG KSIĄG EWIDENCYJNYCH | B4: WSKAŹNIK OPANOWANIA WPŁYWU | E4: WSKAŹNIK CZASU TRWANIA POSTĘPOWANIA (według metodologii CEPEJ) (w dniach) | H4: WSKAŹNIK POZOSTAŁOŚCI (w miesiącach)
B5: I kw. 2015 | C5: I kw. 2016 | D5: I kw. 2015=100 | E5: I kw. 2015 | F5: I kw. 2016 | G5: I kw. 2015=100 | H5: I kw. 2015 | I5: I kw. 2016 | J5: I kw. 2015=100
A7: OGÓŁEM SPRAW W SĄDACH POWSZECHNYCH | B7: =IF('Tabl. II (2)'!B7>0,'Tabl. II (2)'!E7/'Tabl. II (2)'!B7*100,"X") -> 98.562299 | C7: =IF('Tabl. II (2)'!C7>0,'Tabl. II (2)'!F7/'Tabl. II (2)'!C7*100,"X") -> 94.696101 | D7: =C7*100/B7 -> 96.077407 | E7: =IF('Tabl. II (2)'!E7>0,'Tabl. II (2)'!H7/('Tabl. II (2)'!E7/91.25),"X") -> 55.846614 | F7: =IF('Tabl. II (2)'!F7>0,'Tabl. II (2)'!I7/('Tabl. II (2)'!F7/91.25),"X") -> 66.408792 | G7: =F7*100/E7 -> 118.91283 | H7: =IF('Tabl. II (2)'!B7>0,'Tabl. II (2)'!H7*3/'Tabl. II (2)'!B7,"X") -> 1.8096561 | I7: =IF('Tabl. II (2)'!C7>0,'Tabl. II (2)'!I7*3/'Tabl. II (2)'!C7,"X") -> 2.0675026 | J7: =I7*100/H7 -> 114.24837
A8: W SĄDACH APELACYJNYCH - OGÓŁEM | B8: =IF('Tabl. II (2)'!B8>0,'Tabl. II (2)'!E8/'Tabl. II (2)'!B8*100,"X") -> 91.675493 | C8: =IF('Tabl. II (2)'!C8>0,'Tabl. II (2)'!F8/'Tabl. II (2)'!C8*100,"X") -> 97.15273 | D8: =C8*100/B8 -> 105.97459 | E8: =IF('Tabl. II (2)'!E8>0,'Tabl. II (2)'!H8/('Tabl. II (2)'!E8/91.25),"X") -> 117.82409 | F8: =IF('Tabl. II (2)'!F8>0,'Tabl. II (2)'!I8/('Tabl. II (2)'!F8/91.25),"X") -> 118.71652 | G8: =F8*100/E8 -> 100.75743 | H8: =IF('Tabl. II (2)'!B8>0,'Tabl. II (2)'!H8*3/'Tabl. II (2)'!B8,"X") -> 3.5512048 | I8: =IF('Tabl. II (2)'!C8>0,'Tabl. II (2)'!I8*3/'Tabl. II (2)'!C8,"X") -> 3.7918798 | J8: =I8*100/H8 -> 106.77728
A9: Sprawy karne - razem | B9: =IF('Tabl. II (2)'!B9>0,'Tabl. II (2)'!E9/'Tabl. II (2)'!B9*100,"X") -> 93.41804 | C9: =IF('Tabl. II (2)'!C9>0,'Tabl. II (2)'!F9/'Tabl. II (2)'!C9*100,"X") -> 99.624935 | D9: =C9*100/B9 -> 106.64421 | E9: =IF('Tabl. II (2)'!E9>0,'Tabl. II (2)'!H9/('Tabl. II (2)'!E9/91.25),"X") -> 37.882 | F9: =IF('Tabl. II (2)'!F9>0,'Tabl. II (2)'!I9/('Tabl. II (2)'!F9/91.25),"X") -> 32.055368 | G9: =F9*100/E9 -> 84.618996 | H9: =IF('Tabl. II (2)'!B9>0,'Tabl. II (2)'!H9*3/'Tabl. II (2)'!B9,"X") -> 1.1634615 | I9: =IF('Tabl. II (2)'!C9>0,'Tabl. II (2)'!I9*3/'Tabl. II (2)'!C9,"X") -> 1.0499224 | J9: =I9*100/H9 -> 90.241264
A10: II instancji - apelacje (A Ka) | B10: =IF('Tabl. II (2)'!B10>0,'Tabl. II (2)'!E10/'Tabl. II (2)'!B10*100,"X") -> 89.776358 | C10: =IF('Tabl. II (2)'!C10>0,'Tabl. II (2)'!F10/'Tabl. II (2)'!C10*100,"X") -> 84.307359 | D10: =C10*100/B10 -> 93.908197 | E10: =IF('Tabl. II (2)'!E10>0,'Tabl. II (2)'!H10/('Tabl. II (2)'!E10/91.25),"X") -> 64.73013 | F10: =IF('Tabl. II (2)'!F10>0,'Tabl. II (2)'!I10/('Tabl. II (2)'!F10/91.25),"X") -> 74.616496 | G10: =F10*100/E10 -> 115.2732 | H10: =IF('Tabl. II (2)'!B10>0,'Tabl. II (2)'!H10*3/'Tabl. II (2)'!B10,"X") -> 1.9105431 | I10: =IF('Tabl. II (2)'!C10>0,'Tabl. II (2)'!I10*3/'Tabl. II (2)'!C10,"X") -> 2.0681818 | J10: =I10*100/H10 -> 108.25099
A11: w tym: o odszkodowanie (A Ka) | B11: =IF('Tabl. II (2)'!B11>0,'Tabl. II (2)'!E11/'Tabl. II (2)'!B11*100,"X") -> 92.708333 | C11: =IF('Tabl. II (2)'!C11>0,'Tabl. II (2)'!F11/'Tabl. II (2)'!C11*100,"X") -> 75 | D11: =C11*100/B11 -> 80.898876 | E11: =IF('Tabl. II (2)'!E11>0,'Tabl. II (2)'!H11/('Tabl. II (2)'!E11/91.25),"X") -> 45.11236 | F11: =IF('Tabl. II (2)'!F11>0,'Tabl. II (2)'!I11/('Tabl. II (2)'!F11/91.25),"X") -> 72.782738 | G11: =F11*100/E11 -> 161.33658 | H11: =IF('Tabl. II (2)'!B11>0,'Tabl. II (2)'!H11*3/'Tabl. II (2)'!B11,"X") -> 1.375 | I11: =IF('Tabl. II (2)'!C11>0,'Tabl. II (2)'!I11*3/'Tabl. II (2)'!C11,"X") -> 1.7946429 | J11: =I11*100/H11 -> 130.51948
A12: w tym: -z ust. z dn. 23.02.1991 r. o uznaniu za nieważne orzeczeń wydanych wobec osób represjonowanych za działalność na rzecz niepodległego bytu Państwa Polskiego (Dz.U. Nr 34, poz. 149) | B12: =IF('Tabl. II (2)'!B12>0,'Tabl. II (2)'!E12/'Tabl. II (2)'!B12*100,"X") -> 113.04348 | C12: =IF('Tabl. II (2)'!C12>0,'Tabl. II (2)'!F12/'Tabl. II (2)'!C12*100,"X") -> 73.529412 | D12: =C12*100/B12 -> 65.045249 | E12: =IF('Tabl. II (2)'!E12>0,'Tabl. II (2)'!H12/('Tabl. II (2)'!E12/91.25),"X") -> 28.076923 | F12: =IF('Tabl. II (2)'!F12>0,'Tabl. II (2)'!I12/('Tabl. II (2)'!F12/91.25),"X") -> 62.05 | G12: =F12*100/E12 -> 221 | H12: =IF('Tabl. II (2)'!B12>0,'Tabl. II (2)'!H12*3/'Tabl. II (2)'!B12,"X") -> 1.0434783 | I12: =IF('Tabl. II (2)'!C12>0,'Tabl. II (2)'!I12*3/'Tabl. II (2)'!C12,"X") -> 1.5 | J12: =I12*100/H12 -> 143.75
A13: - w trybie a.552 kpk | B13: =IF('Tabl. II (2)'!B13>0,'Tabl. II (2)'!E13/'Tabl. II (2)'!B13*100,"X") -> 86.30137 | C13: =IF('Tabl. II (2)'!C13>0,'Tabl. II (2)'!F13/'Tabl. II (2)'!C13*100,"X") -> 75.641026 | D13: =C13*100/B13 -> 87.647538 | E13: =IF('Tabl. II (2)'!E13>0,'Tabl. II (2)'!H13/('Tabl. II (2)'!E13/91.25),"X") -> 52.142857 | F13: =IF('Tabl. II (2)'!F13>0,'Tabl. II (2)'!I13/('Tabl. II (2)'!F13/91.25),"X") -> 77.330508 | G13: =F13*100/E13 -> 148.30508 | H13: =IF('Tabl. II (2)'!B13>0,'Tabl. II (2)'!H13*3/'Tabl. II (2)'!B13,"X") -> 1.4794521 | I13: =IF('Tabl. II (2)'!C13>0,'Tabl. II (2)'!I13*3/'Tabl. II (2)'!C13,"X") -> 1.9230769 | J13: =I13*100/H13 -> 129.98575
A14: - zażalenia (A Kz) | B14: =IF('Tabl. II (2)'!B14>0,'Tabl. II (2)'!E14/'Tabl. II (2)'!B14*100,"X") -> 99.940968 | C14: =IF('Tabl. II (2)'!C14>0,'Tabl. II (2)'!F14/'Tabl. II (2)'!C14*100,"X") -> 104.25532 | D14: =C14*100/B14 -> 104.3169 | E14: =IF('Tabl. II (2)'!E14>0,'Tabl. II (2)'!H14/('Tabl. II (2)'!E14/91.25),"X") -> 15.522741 | F14: =IF('Tabl. II (2)'!F14>0,'Tabl. II (2)'!I14/('Tabl. II (2)'!F14/91.25),"X") -> 11.421769 | G14: =F14*100/E14 -> 73.580877 | H14: =IF('Tabl. II (2)'!B14>0,'Tabl. II (2)'!H14*3/'Tabl. II (2)'!B14,"X") -> 0.51003542 | I14: =IF('Tabl. II (2)'!C14>0,'Tabl. II (2)'!I14*3/'Tabl. II (2)'!C14,"X") -> 0.39148936 | J14: =I14*100/H14 -> 76.757289
A15: ogólne (A Ko) | B15: =IF('Tabl. II (2)'!B15>0,'Tabl. II (2)'!E15/'Tabl. II (2)'!B15*100,"X") -> 88.998035 | C15: =IF('Tabl. II (2)'!C15>0,'Tabl. II (2)'!F15/'Tabl. II (2)'!C15*100,"X") -> 102.57353 | D15: =C15*100/B15 -> 115.2537 | E15: =IF('Tabl. II (2)'!E15>0,'Tabl. II (2)'!H15/('Tabl. II (2)'!E15/91.25),"X") -> 58.818985 | F15: =IF('Tabl. II (2)'!F15>0,'Tabl. II (2)'!I15/('Tabl. II (2)'!F15/91.25),"X") -> 40.392025 | G15: =F15*100/E15 -> 68.671748 | H15: =IF('Tabl. II (2)'!B15>0,'Tabl. II (2)'!H15*3/'Tabl. II (2)'!B15,"X") -> 1.7210216 | I15: =IF('Tabl. II (2)'!C15>0,'Tabl. II (2)'!I15*3/'Tabl. II (2)'!C15,"X") -> 1.3621324 | J15: =I15*100/H15 -> 79.146731
A16: w tym:
A17: sprawy w trybie art.11a pwkpk | B17: X | C17: X | D17: X | E17: X | F17: X | G17: X | H17: X | I17: X | J17: X
A18: nadzór sądowy nad postępowaniem przygotowawczym (A Kp) | B18: =IF('Tabl. II (2)'!B18>0,'Tabl. II (2)'!E18/'Tabl. II (2)'!B18*100,"X") -> 94.354839 | C18: =IF('Tabl. II (2)'!C18>0,'Tabl. II (2)'!F18/'Tabl. II (2)'!C18*100,"X") -> 96.666667 | D18: =C18*100/B18 -> 102.45014 | E18: =IF('Tabl. II (2)'!E18>0,'Tabl. II (2)'!H18/('Tabl. II (2)'!E18/91.25),"X") -> 14.038462 | F18: =IF('Tabl. II (2)'!F18>0,'Tabl. II (2)'!I18/('Tabl. II (2)'!F18/91.25),"X") -> 11.537356 | G18: =F18*100/E18 -> 82.183908 | H18: =IF('Tabl. II (2)'!B18>0,'Tabl. II (2)'!H18*3/'Tabl. II (2)'!B18,"X") -> 0.43548387 | I18: =IF('Tabl. II (2)'!C18>0,'Tabl. II (2)'!I18*3/'Tabl. II (2)'!C18,"X") -> 0.36666667 | J18: =I18*100/H18 -> 84.197531
A19: zażalenia na postanowienia w postępowaniu wykonawczym (A Kzw) | B19: =IF('Tabl. II (2)'!B19>0,'Tabl. II (2)'!E19/'Tabl. II (2)'!B19*100,"X") -> 92.493246 | C19: =IF('Tabl. II (2)'!C19>0,'Tabl. II (2)'!F19/'Tabl. II (2)'!C19*100,"X") -> 101.31374 | D19: =C19*100/B19 -> 109.53636 | E19: =IF('Tabl. II (2)'!E19>0,'Tabl. II (2)'!H19/('Tabl. II (2)'!E19/91.25),"X") -> 37.790789 | F19: =IF('Tabl. II (2)'!F19>0,'Tabl. II (2)'!I19/('Tabl. II (2)'!F19/91.25),"X") -> 28.999451 | G19: =F19*100/E19 -> 76.736823 | H19: =IF('Tabl. II (2)'!B19>0,'Tabl. II (2)'!H19*3/'Tabl. II (2)'!B19,"X") -> 1.1491702 | I19: =IF('Tabl. II (2)'!C19>0,'Tabl. II (2)'!I19*3/'Tabl. II (2)'!C19,"X") -> 0.96593186 | J19: =I19*100/H19 -> 84.054726
A20: kasacje (WKK) | B20: =IF('Tabl. II (2)'!B20>0,'Tabl. II (2)'!E20/'Tabl. II (2)'!B20*100,"X") -> 88.439306 | C20: =IF('Tabl. II (2)'!C20>0,'Tabl. II (2)'!F20/'Tabl. II (2)'!C20*100,"X") -> 94.904459 | D20: =C20*100/B20 -> 107.31027 | E20: =IF('Tabl. II (2)'!E20>0,'Tabl. II (2)'!H20/('Tabl. II (2)'!E20/91.25),"X") -> 97.214052 | F20: =IF('Tabl. II (2)'!F20>0,'Tabl. II (2)'!I20/('Tabl. II (2)'!F20/91.25),"X") -> 90.637584 | G20: =F20*100/E20 -> 93.235064 | H20: =IF('Tabl. II (2)'!B20>0,'Tabl. II (2)'!H20*3/'Tabl. II (2)'!B20,"X") -> 2.8265896 | I20: =IF('Tabl. II (2)'!C20>0,'Tabl. II (2)'!I20*3/'Tabl. II (2)'!C20,"X") -> 2.8280255 | J20: =I20*100/H20 -> 100.0508
A21: skargi na postępowanie sądowe i prokuratorskie (S) | B21: =IF('Tabl. II (2)'!B21>0,'Tabl. II (2)'!E21/'Tabl. II (2)'!B21*100,"X") -> 94.782609 | C21: =IF('Tabl. II (2)'!C21>0,'Tabl. II (2)'!F21/'Tabl. II (2)'!C21*100,"X") -> 94.827586 | D21: =C21*100/B21 -> 100.04745 | E21: =IF('Tabl. II (2)'!E21>0,'Tabl. II (2)'!H21/('Tabl. II (2)'!E21/91.25),"X") -> 36.834862 | F21: =IF('Tabl. II (2)'!F21>0,'Tabl. II (2)'!I21/('Tabl. II (2)'!F21/91.25),"X") -> 27.375 | G21: =F21*100/E21 -> 74.318182 | H21: =IF('Tabl. II (2)'!B21>0,'Tabl. II (2)'!H21*3/'Tabl. II (2)'!B21,"X") -> 1.1478261 | I21: =IF('Tabl. II (2)'!C21>0,'Tabl. II (2)'!I21*3/'Tabl. II (2)'!C21,"X") -> 0.85344828 | J21: =I21*100/H21 -> 74.353448
A22: W SĄDACH APELACYJNYCH (c.d.)
A23: Sprawy cywilne - razem | B23: =IF('Tabl. II (2)'!B23>0,'Tabl. II (2)'!E23/'Tabl. II (2)'!B23*100,"X") -> 89.222035 | C23: =IF('Tabl. II (2)'!C23>0,'Tabl. II (2)'!F23/'Tabl. II (2)'!C23*100,"X") -> 93.830873 | D23: =C23*100/B23 -> 105.16558 | E23: =IF('Tabl. II (2)'!E23>0,'Tabl. II (2)'!H23/('Tabl. II (2)'!E23/91.25),"X") -> 96.248881 | F23: =IF('Tabl. II (2)'!F23>0,'Tabl. II (2)'!I23/('Tabl. II (2)'!F23/91.25),"X") -> 110.45353 | G23: =F23*100/E23 -> 114.75825 | H23: =IF('Tabl. II (2)'!B23>0,'Tabl. II (2)'!H23*3/'Tabl. II (2)'!B23,"X") -> 2.8232946 | I23: =IF('Tabl. II (2)'!C23>0,'Tabl. II (2)'!I23*3/'Tabl. II (2)'!C23,"X") -> 3.4073264 | J23: =I23*100/H23 -> 120.68618
A24: II instancji - apelacje (A Ca)a) | B24: =IF('Tabl. II (2)'!B24>0,'Tabl. II (2)'!E24/'Tabl. II (2)'!B24*100,"X") -> 84.413231 | C24: =IF('Tabl. II (2)'!C24>0,'Tabl. II (2)'!F24/'Tabl. II (2)'!C24*100,"X") -> 88.330976 | D24: =C24*100/B24 -> 104.64115 | E24: =IF('Tabl. II (2)'!E24>0,'Tabl. II (2)'!H24/('Tabl. II (2)'!E24/91.25),"X") -> 185.29187 | F24: =IF('Tabl. II (2)'!F24>0,'Tabl. II (2)'!I24/('Tabl. II (2)'!F24/91.25),"X") -> 225.89672 | G24: =F24*100/E24 -> 121.91399 | H24: =IF('Tabl. II (2)'!B24>0,'Tabl. II (2)'!H24*3/'Tabl. II (2)'!B24,"X") -> 5.1422746 | I24: =IF('Tabl. II (2)'!C24>0,'Tabl. II (2)'!I24*3/'Tabl. II (2)'!C24,"X") -> 6.5601132 | J24: =I24*100/H24 -> 127.57221
A25: - zażalenia (A Cz)a) | B25: =IF('Tabl. II (2)'!B25>0,'Tabl. II (2)'!E25/'Tabl. II (2)'!B25*100,"X") -> 93.399656 | C25: =IF('Tabl. II (2)'!C25>0,'Tabl. II (2)'!F25/'Tabl. II (2)'!C25*100,"X") -> 97.524072 | D25: =C25*100/B25 -> 104.41588 | E25: =IF('Tabl. II (2)'!E25>0,'Tabl. II (2)'!H25/('Tabl. II (2)'!E25/91.25),"X") -> 42.503585 | F25: =IF('Tabl. II (2)'!F25>0,'Tabl. II (2)'!I25/('Tabl. II (2)'!F25/91.25),"X") -> 46.976375 | G25: =F25*100/E25 -> 110.52333 | H25: =IF('Tabl. II (2)'!B25>0,'Tabl. II (2)'!H25*3/'Tabl. II (2)'!B25,"X") -> 1.3051464 | I25: =IF('Tabl. II (2)'!C25>0,'Tabl. II (2)'!I25*3/'Tabl. II (2)'!C25,"X") -> 1.5061898 | J25: =I25*100/H25 -> 115.4039
A26: ogólne (A Co) | B26: =IF('Tabl. II (2)'!B26>0,'Tabl. II (2)'!E26/'Tabl. II (2)'!B26*100,"X") -> 102.04918 | C26: =IF('Tabl. II (2)'!C26>0,'Tabl. II (2)'!F26/'Tabl. II (2)'!C26*100,"X") -> 94.514768 | D26: =C26*100/B26 -> 92.616881 | E26: =IF('Tabl. II (2)'!E26>0,'Tabl. II (2)'!H26/('Tabl. II (2)'!E26/91.25),"X") -> 26.019076 | F26: =IF('Tabl. II (2)'!F26>0,'Tabl. II (2)'!I26/('Tabl. II (2)'!F26/91.25),"X") -> 30.552455 | G26: =F26*100/E26 -> 117.42329 | H26: =IF('Tabl. II (2)'!B26>0,'Tabl. II (2)'!H26*3/'Tabl. II (2)'!B26,"X") -> 0.87295082 | I26: =IF('Tabl. II (2)'!C26>0,'Tabl. II (2)'!I26*3/'Tabl. II (2)'!C26,"X") -> 0.94936709 | J26: =I26*100/H26 -> 108.75379
A27: skarga kasacyjna (WSC) | B27: =IF('Tabl. II (2)'!B27>0,'Tabl. II (2)'!E27/'Tabl. II (2)'!B27*100,"X") -> 82.716049 | C27: =IF('Tabl. II (2)'!C27>0,'Tabl. II (2)'!F27/'Tabl. II (2)'!C27*100,"X") -> 87.272727 | D27: =C27*100/B27 -> 105.50882 | E27: =IF('Tabl. II (2)'!E27>0,'Tabl. II (2)'!H27/('Tabl. II (2)'!E27/91.25),"X") -> 84.16791 | F27: =IF('Tabl. II (2)'!F27>0,'Tabl. II (2)'!I27/('Tabl. II (2)'!F27/91.25),"X") -> 73.869048 | G27: =F27*100/E27 -> 87.763908 | H27: =IF('Tabl. II (2)'!B27>0,'Tabl. II (2)'!H27*3/'Tabl. II (2)'!B27,"X") -> 2.2888889 | I27: =IF('Tabl. II (2)'!C27>0,'Tabl. II (2)'!I27*3/'Tabl. II (2)'!C27,"X") -> 2.1194805 | J27: =I27*100/H27 -> 92.598663
A28: skarga o stwierdzenie niezgodności z prawem (WSC)b) | B28: =IF('Tabl. II (2)'!B28>0,'Tabl. II (2)'!E28/'Tabl. II (2)'!B28*100,"X") -> 66.666667 | C28: =IF('Tabl. II (2)'!C28>0,'Tabl. II (2)'!F28/'Tabl. II (2)'!C28*100,"X") -> 100 | D28: =C28*100/B28 -> 150 | E28: =IF('Tabl. II (2)'!E28>0,'Tabl. II (2)'!H28/('Tabl. II (2)'!E28/91.25),"X") -> 109.5 | F28: =IF('Tabl. II (2)'!F28>0,'Tabl. II (2)'!I28/('Tabl. II (2)'!F28/91.25),"X") -> 60.833333 | G28: =F28*100/E28 -> 55.555556 | H28: =IF('Tabl. II (2)'!B28>0,'Tabl. II (2)'!H28*3/'Tabl. II (2)'!B28,"X") -> 2.4 | I28: =IF('Tabl. II (2)'!C28>0,'Tabl. II (2)'!I28*3/'Tabl. II (2)'!C28,"X") -> 2 | J28: =I28*100/H28 -> 83.333333
A29: skargi na postępowanie sądowe (S) | B29: =IF('Tabl. II (2)'!B29>0,'Tabl. II (2)'!E29/'Tabl. II (2)'!B29*100,"X") -> 88.429752 | C29: =IF('Tabl. II (2)'!C29>0,'Tabl. II (2)'!F29/'Tabl. II (2)'!C29*100,"X") -> 100.59465 | D29: =C29*100/B29 -> 113.75656 | E29: =IF('Tabl. II (2)'!E29>0,'Tabl. II (2)'!H29/('Tabl. II (2)'!E29/91.25),"X") -> 40.188376 | F29: =IF('Tabl. II (2)'!F29>0,'Tabl. II (2)'!I29/('Tabl. II (2)'!F29/91.25),"X") -> 24.992611 | G29: =F29*100/E29 -> 62.188656 | H29: =IF('Tabl. II (2)'!B29>0,'Tabl. II (2)'!H29*3/'Tabl. II (2)'!B29,"X") -> 1.1683884 | I29: =IF('Tabl. II (2)'!C29>0,'Tabl. II (2)'!I29*3/'Tabl. II (2)'!C29,"X") -> 0.82656095 | J29: =I29*100/H29 -> 70.743678
A30: Sprawy z zakresu prawa pracy - razem | B30: =IF('Tabl. II (2)'!B30>0,'Tabl. II (2)'!E30/'Tabl. II (2)'!B30*100,"X") -> 111.65414 | C30: =IF('Tabl. II (2)'!C30>0,'Tabl. II (2)'!F30/'Tabl. II (2)'!C30*100,"X") -> 89.393939 | D30: =C30*100/B30 -> 80.063259 | E30: =IF('Tabl. II (2)'!E30>0,'Tabl. II (2)'!H30/('Tabl. II (2)'!E30/91.25),"X") -> 81.725589 | F30: =IF('Tabl. II (2)'!F30>0,'Tabl. II (2)'!I30/('Tabl. II (2)'!F30/91.25),"X") -> 126.82203 | G30: =F30*100/E30 -> 155.18032 | H30: =IF('Tabl. II (2)'!B30>0,'Tabl. II (2)'!H30*3/'Tabl. II (2)'!B30,"X") -> 3 | I30: =IF('Tabl. II (2)'!C30>0,'Tabl. II (2)'!I30*3/'Tabl. II (2)'!C30,"X") -> 3.7272727 | J30: =I30*100/H30 -> 124.24242
A31: II instancji - apelacje (A Pa) | B31: =IF('Tabl. II (2)'!B31>0,'Tabl. II (2)'!E31/'Tabl. II (2)'!B31*100,"X") -> 114.44444 | C31: =IF('Tabl. II (2)'!C31>0,'Tabl. II (2)'!F31/'Tabl. II (2)'!C31*100,"X") -> 80.769231 | D31: =C31*100/B31 -> 70.575056 | E31: =IF('Tabl. II (2)'!E31>0,'Tabl. II (2)'!H31/('Tabl. II (2)'!E31/91.25),"X") -> 148.83495 | F31: =IF('Tabl. II (2)'!F31>0,'Tabl. II (2)'!I31/('Tabl. II (2)'!F31/91.25),"X") -> 247.67857 | G31: =F31*100/E31 -> 166.41156 | H31: =IF('Tabl. II (2)'!B31>0,'Tabl. II (2)'!H31*3/'Tabl. II (2)'!B31,"X") -> 5.6 | I31: =IF('Tabl. II (2)'!C31>0,'Tabl. II (2)'!I31*3/'Tabl. II (2)'!C31,"X") -> 6.5769231 | J31: =I31*100/H31 -> 117.44505
A32: - zażalenia (A Pz) | B32: =IF('Tabl. II (2)'!B32>0,'Tabl. II (2)'!E32/'Tabl. II (2)'!B32*100,"X") -> 106.19469 | C32: =IF('Tabl. II (2)'!C32>0,'Tabl. II (2)'!F32/'Tabl. II (2)'!C32*100,"X") -> 93.877551 | D32: =C32*100/B32 -> 88.401361 | E32: =IF('Tabl. II (2)'!E32>0,'Tabl. II (2)'!H32/('Tabl. II (2)'!E32/91.25),"X") -> 43.34375 | F32: =IF('Tabl. II (2)'!F32>0,'Tabl. II (2)'!I32/('Tabl. II (2)'!F32/91.25),"X") -> 55.543478 | G32: =F32*100/E32 -> 128.14645 | H32: =IF('Tabl. II (2)'!B32>0,'Tabl. II (2)'!H32*3/'Tabl. II (2)'!B32,"X") -> 1.5132743 | I32: =IF('Tabl. II (2)'!C32>0,'Tabl. II (2)'!I32*3/'Tabl. II (2)'!C32,"X") -> 1.7142857 | J32: =I32*100/H32 -> 113.28321
A33: - ogólne (A Po) | B33: =IF('Tabl. II (2)'!B33>0,'Tabl. II (2)'!E33/'Tabl. II (2)'!B33*100,"X") -> 150 | C33: =IF('Tabl. II (2)'!C33>0,'Tabl. II (2)'!F33/'Tabl. II (2)'!C33*100,"X") -> 114.81481 | D33: =C33*100/B33 -> 76.54321 | E33: =IF('Tabl. II (2)'!E33>0,'Tabl. II (2)'!H33/('Tabl. II (2)'!E33/91.25),"X") -> 39.107143 | F33: =IF('Tabl. II (2)'!F33>0,'Tabl. II (2)'!I33/('Tabl. II (2)'!F33/91.25),"X") -> 58.870968 | G33: =F33*100/E33 -> 150.53763 | H33: =IF('Tabl. II (2)'!B33>0,'Tabl. II (2)'!H33*3/'Tabl. II (2)'!B33,"X") -> 1.9285714 | I33: =IF('Tabl. II (2)'!C33>0,'Tabl. II (2)'!I33*3/'Tabl. II (2)'!C33,"X") -> 2.2222222 | J33: =I33*100/H33 -> 115.22634
A34: skarga kasacyjna (WSC-pracy) | B34: =IF('Tabl. II (2)'!B34>0,'Tabl. II (2)'!E34/'Tabl. II (2)'!B34*100,"X") -> 100 | C34: =IF('Tabl. II (2)'!C34>0,'Tabl. II (2)'!F34/'Tabl. II (2)'!C34*100,"X") -> 112.5 | D34: =C34*100/B34 -> 112.5 | E34: =IF('Tabl. II (2)'!E34>0,'Tabl. II (2)'!H34/('Tabl. II (2)'!E34/91.25),"X") -> 77.5625 | F34: =IF('Tabl. II (2)'!F34>0,'Tabl. II (2)'!I34/('Tabl. II (2)'!F34/91.25),"X") -> 65.902778 | G34: =F34*100/E34 -> 84.96732 | H34: =IF('Tabl. II (2)'!B34>0,'Tabl. II (2)'!H34*3/'Tabl. II (2)'!B34,"X") -> 2.55 | I34: =IF('Tabl. II (2)'!C34>0,'Tabl. II (2)'!I34*3/'Tabl. II (2)'!C34,"X") -> 2.4375 | J34: =I34*100/H34 -> 95.588235
A35: skarga o stwierdzenie niezgodności z prawem (WSC-pracy) | B35: X | C35: =IF('Tabl. II (2)'!C35>0,'Tabl. II (2)'!F35/'Tabl. II (2)'!C35*100,"X") -> 100 | D35: X | E35: X | F35: X | G35: X | H35: X | I35: X | J35: X
A36: skargi na postępowanie sądowe (S) | B36: =IF('Tabl. II (2)'!B36>0,'Tabl. II (2)'!E36/'Tabl. II (2)'!B36*100,"X") -> 73.333333 | C36: =IF('Tabl. II (2)'!C36>0,'Tabl. II (2)'!F36/'Tabl. II (2)'!C36*100,"X") -> 55.555556 | D36: =C36*100/B36 -> 75.757576 | E36: =IF('Tabl. II (2)'!E36>0,'Tabl. II (2)'!H36/('Tabl. II (2)'!E36/91.25),"X") -> 49.772727 | F36: =IF('Tabl. II (2)'!F36>0,'Tabl. II (2)'!I36/('Tabl. II (2)'!F36/91.25),"X") -> 100.375 | G36: =F36*100/E36 -> 201.66667 | H36: =IF('Tabl. II (2)'!B36>0,'Tabl. II (2)'!H36*3/'Tabl. II (2)'!B36,"X") -> 1.2 | I36: =IF('Tabl. II (2)'!C36>0,'Tabl. II (2)'!I36*3/'Tabl. II (2)'!C36,"X") -> 1.8333333 | J36: =I36*100/H36 -> 152.77778
A37: Sprawy z zakresu ubezpieczeń społecznych - razem | B37: =IF('Tabl. II (2)'!B37>0,'Tabl. II (2)'!E37/'Tabl. II (2)'!B37*100,"X") -> 88.436323 | C37: =IF('Tabl. II (2)'!C37>0,'Tabl. II (2)'!F37/'Tabl. II (2)'!C37*100,"X") -> 98.486407 | D37: =C37*100/B37 -> 111.3642 | E37: =IF('Tabl. II (2)'!E37>0,'Tabl. II (2)'!H37/('Tabl. II (2)'!E37/91.25),"X") -> 230.77326 | F37: =IF('Tabl. II (2)'!F37>0,'Tabl. II (2)'!I37/('Tabl. II (2)'!F37/91.25),"X") -> 223.83617 | G37: =F37*100/E37 -> 96.993977 | H37: =IF('Tabl. II (2)'!B37>0,'Tabl. II (2)'!H37*3/'Tabl. II (2)'!B37,"X") -> 6.7097224 | I37: =IF('Tabl. II (2)'!C37>0,'Tabl. II (2)'!I37*3/'Tabl. II (2)'!C37,"X") -> 7.247612 | J37: =I37*100/H37 -> 108.01657
A38: II instancji - apelacje (A Ua) | B38: =IF('Tabl. II (2)'!B38>0,'Tabl. II (2)'!E38/'Tabl. II (2)'!B38*100,"X") -> 87.661142 | C38: =IF('Tabl. II (2)'!C38>0,'Tabl. II (2)'!F38/'Tabl. II (2)'!C38*100,"X") -> 99.117753 | D38: =C38*100/B38 -> 113.0692 | E38: =IF('Tabl. II (2)'!E38>0,'Tabl. II (2)'!H38/('Tabl. II (2)'!E38/91.25),"X") -> 268.57405 | F38: =IF('Tabl. II (2)'!F38>0,'Tabl. II (2)'!I38/('Tabl. II (2)'!F38/91.25),"X") -> 261.11921 | G38: =F38*100/E38 -> 97.224287 | H38: =IF('Tabl. II (2)'!B38>0,'Tabl. II (2)'!H38*3/'Tabl. II (2)'!B38,"X") -> 7.7403315 | I38: =IF('Tabl. II (2)'!C38>0,'Tabl. II (2)'!I38*3/'Tabl. II (2)'!C38,"X") -> 8.5090025 | J38: =I38*100/H38 -> 109.93072
A39: - zażalenia (A Uz) | B39: =IF('Tabl. II (2)'!B39>0,'Tabl. II (2)'!E39/'Tabl. II (2)'!B39*100,"X") -> 96.333755 | C39: =IF('Tabl. II (2)'!C39>0,'Tabl. II (2)'!F39/'Tabl. II (2)'!C39*100,"X") -> 98.955614 | D39: =C39*100/B39 -> 102.72164 | E39: =IF('Tabl. II (2)'!E39>0,'Tabl. II (2)'!H39/('Tabl. II (2)'!E39/91.25),"X") -> 42.990486 | F39: =IF('Tabl. II (2)'!F39>0,'Tabl. II (2)'!I39/('Tabl. II (2)'!F39/91.25),"X") -> 44.300792 | G39: =F39*100/E39 -> 103.0479 | H39: =IF('Tabl. II (2)'!B39>0,'Tabl. II (2)'!H39*3/'Tabl. II (2)'!B39,"X") -> 1.3615676 | I39: =IF('Tabl. II (2)'!C39>0,'Tabl. II (2)'!I39*3/'Tabl. II (2)'!C39,"X") -> 1.4412533 | J39: =I39*100/H39 -> 105.85249
A40: ogólne (A Uo) | B40: =IF('Tabl. II (2)'!B40>0,'Tabl. II (2)'!E40/'Tabl. II (2)'!B40*100,"X") -> 125 | C40: =IF('Tabl. II (2)'!C40>0,'Tabl. II (2)'!F40/'Tabl. II (2)'!C40*100,"X") -> 71.428571 | D40: =C40*100/B40 -> 57.142857 | E40: =IF('Tabl. II (2)'!E40>0,'Tabl. II (2)'!H40/('Tabl. II (2)'!E40/91.25),"X") -> 36.5 | F40: =IF('Tabl. II (2)'!F40>0,'Tabl. II (2)'!I40/('Tabl. II (2)'!F40/91.25),"X") -> 54.75 | G40: =F40*100/E40 -> 150 | H40: =IF('Tabl. II (2)'!B40>0,'Tabl. II (2)'!H40*3/'Tabl. II (2)'!B40,"X") -> 1.5 | I40: =IF('Tabl. II (2)'!C40>0,'Tabl. II (2)'!I40*3/'Tabl. II (2)'!C40,"X") -> 1.2857143 | J40: =I40*100/H40 -> 85.714286
A41: skarga kasacyjna (WSC-ubezp.) | B41: =IF('Tabl. II (2)'!B41>0,'Tabl. II (2)'!E41/'Tabl. II (2)'!B41*100,"X") -> 82.880435 | C41: =IF('Tabl. II (2)'!C41>0,'Tabl. II (2)'!F41/'Tabl. II (2)'!C41*100,"X") -> 89.819005 | D41: =C41*100/B41 -> 108.37178 | E41: =IF('Tabl. II (2)'!E41>0,'Tabl. II (2)'!H41/('Tabl. II (2)'!E41/91.25),"X") -> 74.795082 | F41: =IF('Tabl. II (2)'!F41>0,'Tabl. II (2)'!I41/('Tabl. II (2)'!F41/91.25),"X") -> 69.184509 | G41: =F41*100/E41 -> 92.498741 | H41: =IF('Tabl. II (2)'!B41>0,'Tabl. II (2)'!H41*3/'Tabl. II (2)'!B41,"X") -> 2.0380435 | I41: =IF('Tabl. II (2)'!C41>0,'Tabl. II (2)'!I41*3/'Tabl. II (2)'!C41,"X") -> 2.0429864 | J41: =I41*100/H41 -> 100.24253
A42: skarga o stwierdzenie niezgodności z prawem (WSC-ubezp.) | B42: =IF('Tabl. II (2)'!B42>0,'Tabl. II (2)'!E42/'Tabl. II (2)'!B42*100,"X") -> 100 | C42: =IF('Tabl. II (2)'!C42>0,'Tabl. II (2)'!F42/'Tabl. II (2)'!C42*100,"X") -> 33.333333 | D42: =C42*100/B42 -> 33.333333 | E42: =IF('Tabl. II (2)'!E42>0,'Tabl. II (2)'!H42/('Tabl. II (2)'!E42/91.25),"X") -> 91.25 | F42: =IF('Tabl. II (2)'!F42>0,'Tabl. II (2)'!I42/('Tabl. II (2)'!F42/91.25),"X") -> 273.75 | G42: =F42*100/E42 -> 300 | H42: =IF('Tabl. II (2)'!B42>0,'Tabl. II (2)'!H42*3/'Tabl. II (2)'!B42,"X") -> 3 | I42: =IF('Tabl. II (2)'!C42>0,'Tabl. II (2)'!I42*3/'Tabl. II (2)'!C42,"X") -> 3 | J42: =I42*100/H42 -> 100
...
