Workbook
Name DF_GRID_1: Wybór [1]sądu!$G$21:$J$217
Name DF_NAVPANEL_13: #REF!
Name DF_NAVPANEL_13: #REF!
Name DF_NAVPANEL_18: #REF!
Name DF_NAVPANEL_18: #REF!

Sheet BExRepositorySheet
A1: 7
C14: Filter

Sheet Graph
C1: Apelacja | H1: FEP8Qry3
C2: Liczby | H2: Autor | I2: PROCAG01M | K2: Aktualność danych (godzina)
C3: Okręg
C4: Sąd
C5: Wiersze | G5: Information
G6: Autor | H6: PROCAG01M | J6: Ostatnie odświeżanie | K6: 2014-10-20 12:13:26
G7: Bieżący użytkownik | H7: PROCAG01M | J7: Dzień | K7: 2014-10-20
G8: Ostatnio zmienione przez | H8: PROCAG01M | J8: Godzina zmiany | K8: 2014-10-20 10:18:56
G9: Dostawca informacji | H9: ST_M001 | J9: Aktualność danych
G10: Tech. nazwa zapytania | H10: S_ST_M001_TABL_20143 | J10: Aktualność danych (data)
G11: Opis zapytania | H11: Tablice rzymskie III kw 2014 | J11: Aktualność danych (godzina)
C14: Filter

Sheet Tabl. I 
A1: TABL. I. EWIDENCJA SPRAW WEDŁUG DZIAŁÓW PRAWA W SĄDACH POWSZECHNYCH
A2: za III kwartały 2014 i III kwartały 2015 roku
A3: RODZAJE SPRAW WEDŁUG DZIAŁÓW PRAWA I RODZAJÓW SĄDÓW | B3: WPŁYW | E3: ZAŁATWIENIA | H3: POZOSTAŁOŚĆ
B4: III kwartały 2014 | C4: III kwartały 2015 | E4: III kwartały 2014 | F4: III kwartały 2015 | H4: III kwartały 2014 | I4: III kwartały 2015
B5: w liczbach bezwzględnych | D5: III kw. 2014 = 100 | E5: w liczbach bezwzględnych | G5: III kw. 2014 = 100 | H5: w liczbach bezwzględnych | J5: III kw. 2014 = 100
A6: OGÓŁEM | B6: =SUM(B7,B11,B15,B18,B22,B26) -> 10895373 | C6: =SUM(C7,C11,C15,C18,C22,C26) -> 11406993 | D6: =C6*100/B6 -> 104.69575 | E6: =SUM(E7,E11,E15,E18,E22,E26) -> 10790635 | F6: =SUM(F7,F11,F15,F18,F22,F26) -> 11056754 | G6: =F6*100/E6 -> 102.4662 | H6: =SUM(H7,H11,H15,H18,H22,H26) -> 2548939 | I6: =SUM(I7,I11,I15,I18,I22,I26) -> 2595131 | J6: =I6*100/H6 -> 101.8122
A7: SPRAWY KARNEa) | B7: =SUM(B8:B10) -> 2073073 | C7: =SUM(C8:C10) -> 2058721 | D7: =C7*100/B7 -> 99.307694 | E7: =SUM(E8:E10) -> 2016779 | F7: =SUM(F8:F10) -> 2013357 | G7: =F7*100/E7 -> 99.830324 | H7: =SUM(H8:H10) -> 507655 | I7: =SUM(I8:I10) -> 485945 | J7: =I7*100/H7 -> 95.723474
A8: W sądach: - apelacyjnych | B8: ='Tabl. II'!B9 -> 26026 | C8: ='Tabl. II'!C9 -> 25565 | D8: =C8*100/B8 -> 98.228694 | E8: ='Tabl. II'!E9 -> 25046 | F8: ='Tabl. II'!F9 -> 25076 | G8: =F8*100/E8 -> 100.11978 | H8: ='Tabl. II'!H9 -> 3526 | I8: ='Tabl. II'!I9 -> 3301 | J8: =I8*100/H8 -> 93.618832
A9: - okręgowych | B9: ='Tabl. II'!B53 -> 288976 | C9: ='Tabl. II'!C53 -> 283530 | D9: =C9*100/B9 -> 98.115414 | E9: ='Tabl. II'!E53 -> 282803 | F9: ='Tabl. II'!F53 -> 278507 | G9: =F9*100/E9 -> 98.480921 | H9: ='Tabl. II'!H53 -> 47769 | I9: ='Tabl. II'!I53 -> 44809 | J9: =I9*100/H9 -> 93.803513
A10: - rejonowych | B10: ='Tabl. II'!B135 -> 1758071 | C10: ='Tabl. II'!C135 -> 1749626 | D10: =C10*100/B10 -> 99.519644 | E10: ='Tabl. II'!E135 -> 1708930 | F10: ='Tabl. II'!F135 -> 1709774 | G10: =F10*100/E10 -> 100.04939 | H10: ='Tabl. II'!H135 -> 456360 | I10: ='Tabl. II'!I135 -> 437835 | J10: =I10*100/H10 -> 95.940705
A11: SPRAWY CYWILNE | B11: =SUM(B12:B14) -> 6236911 | C11: =SUM(C12:C14) -> 6728682 | D11: =C11*100/B11 -> 107.88485 | E11: =SUM(E12:E14) -> 6231971 | F11: =SUM(F12:F14) -> 6526022 | G11: =F11*100/E11 -> 104.71843 | H11: =SUM(H12:H14) -> 1396699 | I11: =SUM(I12:I14) -> 1433064 | J11: =I11*100/H11 -> 102.60364
A12: W sądach: - apelacyjnychb) | B12: ='Tabl. II'!B23 -> 31036 | C12: ='Tabl. II'!C23 -> 33250 | D12: =C12*100/B12 -> 107.13365 | E12: ='Tabl. II'!E23 -> 27308 | F12: ='Tabl. II'!F23 -> 29604 | G12: =F12*100/E12 -> 108.40779 | H12: ='Tabl. II'!H23 -> 10911 | I12: ='Tabl. II'!I23 -> 13039 | J12: =I12*100/H12 -> 119.50325
A13: - okręgowychb) | B13: ='Tabl. II'!B67 -> 247770 | C13: ='Tabl. II'!C67 -> 250743 | D13: =C13*100/B13 -> 101.1999 | E13: ='Tabl. II'!E67 -> 230287 | F13: ='Tabl. II'!F67 -> 238040 | G13: =F13*100/E13 -> 103.36667 | H13: ='Tabl. II'!H67 -> 141890 | I13: ='Tabl. II'!I67 -> 143390 | J13: =I13*100/H13 -> 101.05716
A14: - rejonowychc) | B14: ='Tabl. II'!B146 -> 5958105 | C14: ='Tabl. II'!C146 -> 6444689 | D14: =C14*100/B14 -> 108.16676 | E14: ='Tabl. II'!E146 -> 5974376 | F14: ='Tabl. II'!F146 -> 6258378 | G14: =F14*100/E14 -> 104.75367 | H14: ='Tabl. II'!H146 -> 1243898 | I14: ='Tabl. II'!I146 -> 1276635 | J14: =I14*100/H14 -> 102.63181
A15: SPRAWY RODZINNE | B15: =B17 -> 1042805 | C15: =C17 -> 1048110 | D15: =C15*100/B15 -> 100.50872 | E15: =E17 -> 1023359 | F15: =F17 -> 1018592 | G15: =F15*100/E15 -> 99.534181 | H15: =H17 -> 209626 | I15: =I17 -> 207535 | J15: =I15*100/H15 -> 99.002509
A16: W sądach: - okręgowychd) | B16: 71480 | C16: 68759 | D16: 96.193341 | E16: 66111 | F16: 66080 | G16: 99.953109 | H16: 55038 | I16: 53488 | J16: 97.183764
A17: - rejonowych | B17: ='Tabl. II'!B158 -> 1042805 | C17: ='Tabl. II'!C158 -> 1048110 | D17: =C17*100/B17 -> 100.50872 | E17: ='Tabl. II'!E158 -> 1023359 | F17: ='Tabl. II'!F158 -> 1018592 | G17: =F17*100/E17 -> 99.534181 | H17: ='Tabl. II'!H158 -> 209626 | I17: ='Tabl. II'!I158 -> 207535 | J17: =I17*100/H17 -> 99.002509
A18: SPRAWY Z ZAKRESU PRAWA PRACY | B18: =SUM(B19:B21) -> 98629 | C18: =SUM(C19:C21) -> 82982 | D18: =C18*100/B18 -> 84.135498 | E18: =SUM(E19:E21) -> 92792 | F18: =SUM(F19:F21) -> 95193 | G18: =F18*100/E18 -> 102.58751 | H18: =SUM(H19:H21) -> 49326 | I18: =SUM(I19:I21) -> 46851 | J18: =I18*100/H18 -> 94.982362
A19: W sądach: - apelacyjnych | B19: ='Tabl. II'!B30 -> 787 | C19: ='Tabl. II'!C30 -> 784 | D19: =C19*100/B19 -> 99.618806 | E19: ='Tabl. II'!E30 -> 725 | F19: ='Tabl. II'!F30 -> 761 | G19: =F19*100/E19 -> 104.96552 | H19: ='Tabl. II'!H30 -> 292 | I19: ='Tabl. II'!I30 -> 320 | J19: =I19*100/H19 -> 109.58904
A20: - okręgowych | B20: ='Tabl. II'!B88 -> 12761 | C20: ='Tabl. II'!C88 -> 11711 | D20: =C20*100/B20 -> 91.771805 | E20: ='Tabl. II'!E88 -> 11405 | F20: ='Tabl. II'!F88 -> 10753 | G20: =F20*100/E20 -> 94.283209 | H20: ='Tabl. II'!H88 -> 5345 | I20: ='Tabl. II'!I88 -> 5109 | J20: =I20*100/H20 -> 95.584659
A21: - rejonowychc) | B21: ='Tabl. II'!B180 -> 85081 | C21: ='Tabl. II'!C180 -> 70487 | D21: =C21*100/B21 -> 82.846934 | E21: ='Tabl. II'!E180 -> 80662 | F21: ='Tabl. II'!F180 -> 83679 | G21: =F21*100/E21 -> 103.7403 | H21: ='Tabl. II'!H180 -> 43689 | I21: ='Tabl. II'!I180 -> 41422 | J21: =I21*100/H21 -> 94.811051
A22: SPRAWY Z ZAKRESU UBEZPIECZEŃ SPOŁECZNYCH | B22: =SUM(B23:B25) -> 162659 | C22: =SUM(C23:C25) -> 147881 | D22: =C22*100/B22 -> 90.914736 | E22: =SUM(E23:E25) -> 145865 | F22: =SUM(F23:F25) -> 147395 | G22: =F22*100/E22 -> 101.04892 | H22: =SUM(H23:H25) -> 131530 | I22: =SUM(I23:I25) -> 124352 | J22: =I22*100/H22 -> 94.54269
A23: W sądach: - apelacyjnych | B23: ='Tabl. II'!B37 -> 19641 | C23: ='Tabl. II'!C37 -> 20338 | D23: =C23*100/B23 -> 103.5487 | E23: ='Tabl. II'!E37 -> 22130 | F23: ='Tabl. II'!F37 -> 17793 | G23: =F23*100/E23 -> 80.402169 | H23: ='Tabl. II'!H37 -> 16804 | I23: ='Tabl. II'!I37 -> 17750 | J23: =I23*100/H23 -> 105.62961
A24: - okręgowych | B24: ='Tabl. II'!B100 -> 114621 | C24: ='Tabl. II'!C100 -> 95364 | D24: =C24*100/B24 -> 83.199414 | E24: ='Tabl. II'!E100 -> 98975 | F24: ='Tabl. II'!F100 -> 103736 | G24: =F24*100/E24 -> 104.81031 | H24: ='Tabl. II'!H100 -> 91429 | I24: ='Tabl. II'!I100 -> 78774 | J24: =I24*100/H24 -> 86.158659
A25: - rejonowych | B25: ='Tabl. II'!B186 -> 28397 | C25: ='Tabl. II'!C186 -> 32179 | D25: =C25*100/B25 -> 113.31831 | E25: ='Tabl. II'!E186 -> 24760 | F25: ='Tabl. II'!F186 -> 25866 | G25: =F25*100/E25 -> 104.46688 | H25: ='Tabl. II'!H186 -> 23297 | I25: ='Tabl. II'!I186 -> 27828 | J25: =I25*100/H25 -> 119.44886
A26: SPRAWY GOSPODARCZE | B26: =SUM(B27:B31) -> 1281296 | C26: =SUM(C27:C31) -> 1340617 | D26: =C26*100/B26 -> 104.62977 | E26: =SUM(E27:E31) -> 1279869 | F26: =SUM(F27:F31) -> 1256195 | G26: =F26*100/E26 -> 98.150279 | H26: =SUM(H27:H31) -> 254103 | I26: =SUM(I27:I31) -> 297384 | J26: =I26*100/H26 -> 117.03286
A27: W sądach: - apelacyjnych | B27: ='Tabl. II'!B45 -> 11654 | C27: ='Tabl. II'!C45 -> 8038 | D27: =C27*100/B27 -> 68.972027 | E27: ='Tabl. II'!E45 -> 8204 | F27: ='Tabl. II'!F45 -> 8197 | G27: =F27*100/E27 -> 99.914676 | H27: ='Tabl. II'!H45 -> 6347 | I27: ='Tabl. II'!I45 -> 5380 | J27: =I27*100/H27 -> 84.764456
A28: - okręgowych | B28: ='Tabl. II'!B111 -> 45331 | C28: ='Tabl. II'!C111 -> 44801 | D28: =C28*100/B28 -> 98.830822 | E28: ='Tabl. II'!E111 -> 41866 | F28: ='Tabl. II'!F111 -> 42525 | G28: =F28*100/E28 -> 101.57407 | H28: ='Tabl. II'!H111 -> 22544 | I28: ='Tabl. II'!I111 -> 23817 | J28: =I28*100/H28 -> 105.64674
A29: - rejonowychc) | B29: ='Tabl. II'!B190 -> 1220773 | C29: ='Tabl. II'!C190 -> 1285405 | D29: =C29*100/B29 -> 105.29435 | E29: ='Tabl. II'!E190 -> 1199301 | F29: ='Tabl. II'!F190 -> 1203098 | G29: =F29*100/E29 -> 100.3166 | H29: ='Tabl. II'!H190 -> 221327 | I29: ='Tabl. II'!I190 -> 265103 | J29: =I29*100/H29 -> 119.77888
A30: - w Sądzie Ochrony Konkurencji i Konsumentów | B30: ='Tabl. II'!B124 -> 3399 | C30: ='Tabl. II'!C124 -> 2232 | D30: =C30*100/B30 -> 65.666372 | E30: ='Tabl. II'!E124 -> 30379 | F30: ='Tabl. II'!F124 -> 2242 | G30: =F30*100/E30 -> 7.3800981 | H30: ='Tabl. II'!H124 -> 3822 | I30: ='Tabl. II'!I124 -> 3021 | J30: =I30*100/H30 -> 79.042386
A31: - w Sądzie Wspólnotowych Znaków Towarowych i Wzorów Przemysłowych | B31: ='Tabl. II'!B133 -> 139 | C31: ='Tabl. II'!C133 -> 141 | D31: =C31*100/B31 -> 101.43885 | E31: ='Tabl. II'!E133 -> 119 | F31: ='Tabl. II'!F133 -> 133 | G31: =F31*100/E31 -> 111.76471 | H31: ='Tabl. II'!H133 -> 63 | I31: ='Tabl. II'!I133 -> 63 | J31: =I31*100/H31 -> 100
A33: a) W sądach rejonowych łącznie ze sprawami wykroczeniowymi.
A34: b) W liczbie spraw cywilnych zawarte są informacje o sprawach rodzinnych.
A35: c) W liczbie spraw cywilnych, z zakresu prawa pracy oraz gospodarczych w sądach rejonowych zawarte są dane statystyczne o ewidencji spraw z zakresu Elektronicznego Postępowania Upominawczego EPU.
A36: Wyszczególnienie | B36: WPŁYW | E36: ZAŁATWIENIA | H36: POZOSTAŁOŚĆ
B37: III kw. 2014 | C37: IIII kw. 2015 | E37: III kw. 2014 | F37: IIII kw. 2015 | H37: III kw. 2014 | I37: IIII kw. 2015
B38: w liczbach bezwzględnych | D38: III kw. 2014 = 100 | E38: w liczbach bezwzględnych | G38: III kw. 2014 = 100 | H38: w liczbach bezwzględnych | J38: III kw. 2014 = 100
A40: ELEKTRONICZNE POSTĘPOWANIE UPOMINAWCZE (EPU) - RAZEM | B40: 1418674 | C40: 1896545 | D40: 133.68434 | E40: 1613355 | F40: 1810000 | G40: 112.18858 | H40: 143084 | I40: 182370 | J40: 127.4566
A41: SPRAWY CYWILNE | B41: 1181019 | C41: 1648378 | D41: 139.57252 | E41: 1349533 | F41: 1579268 | G41: 117.0233 | H41: 123912 | I41: 157835 | J41: 127.37669
A42: SPRAWY Z ZAKRESU PRAWA PRACY | B42: 170 | C42: 214 | D42: 125.88235 | E42: 221 | F42: 148 | G42: 66.968326 | H42: 21 | I42: 69 | J42: 328.57143
...

Sheet Tabl. II
A2: TABL. II. EWIDENCJA SPRAW W SĄDACH POWSZECHNYCH WEDŁUG DZIAŁÓW PRAWA I INSTANCYJNOŚCI
A3: za III kwartały 2014 i III kwartały 2015 roku
A4: RODZAJE SPRAW WEDŁUG KSIĄG EWIDENCYJNYCH | B4: WPŁYW | E4: ZAŁATWIENIA | H4: POZOSTAŁOŚĆ
B5: III kwartały 2014 | C5: III kwartały 2015 | E5: III kwartały 2014 | F5: III kwartały 2015 | H5: III kwartały 2014 | I5: III kwartały 2015
B6: w liczbach bezwzględnych | D6: III kw. 2014 = 100 | E6: w liczbach bezwzględnych | G6: III kw. 2014 = 100 | H6: w liczbach bezwzględnych | J6: III kw. 2014 = 100
A7: OGÓŁEM SPRAW W SĄDACH POWSZECHNYCH | B7: 10895373 | C7: 11406993 | D7: 104.69575 | E7: 10790635 | F7: 11056754 | G7: 102.4662 | H7: 2548939 | I7: 2595131 | J7: 101.8122
A8: W SĄDACH APELACYJNYCH - OGÓŁEM | B8: 89144 | C8: 87975 | D8: 98.688639 | E8: 83413 | F8: 81431 | G8: 97.623872 | H8: 37880 | I8: 39790 | J8: 105.04224
A9: Sprawy karne - razem | B9: 26026 | C9: 25565 | D9: 98.228694 | E9: 25046 | F9: 25076 | G9: 100.11978 | H9: 3526 | I9: 3301 | J9: 93.618832
A10: II instancji - apelacje (A Ka) | B10: 2955 | C10: 2732 | D10: 92.453469 | E10: 2481 | F10: 2492 | G10: 100.44337 | H10: 894 | I10: 742 | J10: 82.997763
A11: w tym: o odszkodowanie (A Ka) | B11: 312 | C11: 269 | D11: 86.217949 | E11: 264 | F11: 254 | G11: 96.212121 | H11: 73 | I11: 52 | J11: 71.232877
A12: w tym: -z ust. z dn. 23.02.1991 r. o uznaniu za nieważne orzeczeń wydanych wobec osób represjonowanych za działalność na rzecz niepodległego bytu Państwa Polskiego (Dz.U. Nr 34, poz. 149) | B12: 69 | C12: 72 | D12: 104.34783 | E12: 59 | F12: 66 | G12: 111.86441 | H12: 16 | I12: 17 | J12: 106.25
A13: - w trybie a.552 kpk | B13: 243 | C13: 197 | D13: 81.069959 | E13: 205 | F13: 188 | G13: 91.707317 | H13: 57 | I13: 35 | J13: 61.403509
A14: - zażalenia (A Kz) | B14: 5039 | C14: 4931 | D14: 97.856718 | E14: 4986 | F14: 4965 | G14: 99.578821 | H14: 271 | I14: 253 | J14: 93.357934
A15: ogólne (A Ko) | B15: 1509 | C15: 1601 | D15: 106.09675 | E15: 1462 | F15: 1558 | G15: 106.56635 | H15: 270 | I15: 279 | J15: 103.33333
A16: w tym:
A17: sprawy w trybie art.11a pwkpk | B17: - | C17: 12 | D17: X | E17: 1 | F17: 12 | G17: 1200 | H17: - | I17: - | J17: X
A18: nadzór sądowy nad postępowaniem przygotowawczym (A Kp) | B18: 380 | C18: 338 | D18: 88.947368 | E18: 379 | F18: 343 | G18: 90.501319 | H18: 8 | I18: 6 | J18: 75
A19: zażalenia na postanowienia w postępowaniu wykonawczym (A Kzw) | B19: 15326 | C19: 15093 | D19: 98.479708 | E19: 14917 | F19: 14847 | G19: 99.530737 | H19: 1939 | I19: 1841 | J19: 94.945848
A20: kasacje (WKK) | B20: 451 | C20: 539 | D20: 119.5122 | E20: 452 | F20: 544 | G20: 120.35398 | H20: 111 | I20: 138 | J20: 124.32432
A21: skargi na postępowanie sądowe i prokuratorskie (S) | B21: 366 | C21: 331 | D21: 90.437158 | E21: 369 | F21: 327 | G21: 88.617886 | H21: 33 | I21: 42 | J21: 127.27273
A22: W SĄDACH APELACYJNYCH (c.d.)
A23: Sprawy cywilne - razem | B23: 31036 | C23: 33250 | D23: 107.13365 | E23: 27308 | F23: 29604 | G23: 108.40779 | H23: 10911 | I23: 13039 | J23: 119.50325
A24: II instancji - apelacje (A Ca)a) | B24: 12247 | C24: 13038 | D24: 106.45872 | E24: 9664 | F24: 10522 | G24: 108.87831 | H24: 7656 | I24: 9394 | J24: 122.70115
A25: - zażalenia (A Cz)a) | B25: 14589 | C25: 15376 | D25: 105.39448 | E25: 13566 | F25: 14401 | G25: 106.15509 | H25: 2599 | I25: 2904 | J25: 111.73528
A26: ogólne (A Co) | B26: 582 | C26: 633 | D26: 108.76289 | E26: 578 | F26: 636 | G26: 110.0346 | H26: 74 | I26: 73 | J26: 98.648649
A27: skarga kasacyjna (WSC) | B27: 1419 | C27: 1279 | D27: 90.133897 | E27: 1357 | F27: 1228 | G27: 90.493736 | H27: 301 | I27: 289 | J27: 96.013289
A28: skarga o stwierdzenie niezgodności z prawem (WSC)b) | B28: 22 | C28: 55 | D28: 250 | E28: 20 | F28: 55 | G28: 275 | H28: 8 | I28: 7 | J28: 87.5
A29: skargi na postępowanie sądowe (S) | B29: 2177 | C29: 2869 | D29: 131.78686 | E29: 2123 | F29: 2762 | G29: 130.09892 | H29: 273 | I29: 372 | J29: 136.26374
A30: Sprawy z zakresu prawa pracy - razem | B30: 787 | C30: 784 | D30: 99.618806 | E30: 725 | F30: 761 | G30: 104.96552 | H30: 292 | I30: 320 | J30: 109.58904
A31: II instancji - apelacje (A Pa) | B31: 323 | C31: 271 | D31: 83.900929 | E31: 254 | F31: 241 | G31: 94.88189 | H31: 210 | I31: 211 | J31: 100.47619
A32: - zażalenia (A Pz) | B32: 264 | C32: 332 | D32: 125.75758 | E32: 267 | F32: 346 | G32: 129.58801 | H32: 42 | I32: 50 | J32: 119.04762
A33: - ogólne (A Po) | B33: 82 | C33: 83 | D33: 101.21951 | E33: 82 | F33: 80 | G33: 97.560976 | H33: 18 | I33: 35 | J33: 194.44444
A34: skarga kasacyjna (WSC-pracy) | B34: 69 | C34: 63 | D34: 91.304348 | E34: 74 | F34: 63 | G34: 85.135135 | H34: 17 | I34: 17 | J34: 100
A35: skarga o stwierdzenie niezgodności z prawem (WSC-pracy) | B35: - | C35: 1 | D35: X | E35: - | F35: 2 | G35: X | H35: - | I35: - | J35: X
A36: skargi na postępowanie sądowe (S) | B36: 49 | C36: 34 | D36: 69.387755 | E36: 48 | F36: 29 | G36: 60.416667 | H36: 5 | I36: 7 | J36: 140
A37: Sprawy z zakresu ubezpieczeń społecznych - razem | B37: 19641 | C37: 20338 | D37: 103.5487 | E37: 22130 | F37: 17793 | G37: 80.402169 | H37: 16804 | I37: 17750 | J37: 105.62961
A38: II instancji - apelacje (A Ua) | B38: 16160 | C38: 16569 | D38: 102.53094 | E38: 18840 | F38: 14113 | G38: 74.909766 | H38: 16183 | I38: 17130 | J38: 105.85182
A39: - zażalenia (A Uz) | B39: 2261 | C39: 2403 | D39: 106.28041 | E39: 2076 | F39: 2402 | G39: 115.70328 | H39: 422 | I39: 331 | J39: 78.436019
A40: ogólne (A Uo) | B40: 21 | C40: 14 | D40: 66.666667 | E40: 21 | F40: 17 | G40: 80.952381 | H40: 2 | I40: - | J40: 0
A41: skarga kasacyjna (WSC-ubezp.) | B41: 1071 | C41: 1237 | D41: 115.49953 | E41: 1063 | F41: 1143 | G41: 107.52587 | H41: 184 | I41: 281 | J41: 152.71739
...

Sheet Tabl. III
A2: TABL. III. WSKAŹNIKI DOTYCZĄCE SPRAW W SĄDACH POWSZECHNYCH WEDŁUG DZIAŁÓW PRAWA I INSTANCYJNOŚCI
A3: za III kwartały 2014 i III kwartały 2015 roku
A4: RODZAJE SPRAW WEDŁUG KSIĄG EWIDENCYJNYCH | B4: WSKAŹNIK OPANOWANIA WPŁYWU | E4: WSKAŹNIK CZASU TRWANIA POSTĘPOWANIA (według metodologii CEPEJ) (w dniach) | H4: WSKAŹNIK POZOSTAŁOŚCI (w miesiącach)
B5: III kwartały 2014 | C5: III kwartały 2015 | E5: III kwartały 2014 | F5: III kwartały 2015 | H5: III kwartały 2014 | I5: III kwartały 2015
B6: w liczbach bezwzględnych | D6: III kw. 2014 = 100 | E6: w liczbach bezwzględnych | G6: III kw. 2014 = 100 | H6: w liczbach bezwzględnych | J6: III kw. 2014 = 100
A7: OGÓŁEM SPRAW W SĄDACH POWSZECHNYCH | B7: =IF('Tabl. II'!B7>0,'Tabl. II'!E7/'Tabl. II'!B7*100,"X") -> 99.038693 | C7: =IF('Tabl. II'!C7>0,'Tabl. II'!F7/'Tabl. II'!C7*100,"X") -> 96.929612 | D7: =C7*100/B7 -> 97.870447 | E7: =IF('Tabl. II'!E7>0,'Tabl. II'!H7/('Tabl. II'!E7/273.8),"X") -> 64.676407 | F7: =IF('Tabl. II'!F7>0,'Tabl. II'!I7/('Tabl. II'!F7/273.8),"X") -> 64.263605 | G7: =F7*100/E7 -> 99.361742 | H7: =IF('Tabl. II'!B7>0,'Tabl. II'!H7*9/'Tabl. II'!B7,"X") -> 2.1055223 | I7: =IF('Tabl. II'!C7>0,'Tabl. II'!I7*9/'Tabl. II'!C7,"X") -> 2.0475316 | J7: =I7*100/H7 -> 97.245782
A8: W SĄDACH APELACYJNYCH - OGÓŁEM | B8: =IF('Tabl. II'!B8>0,'Tabl. II'!E8/'Tabl. II'!B8*100,"X") -> 93.571076 | C8: =IF('Tabl. II'!C8>0,'Tabl. II'!F8/'Tabl. II'!C8*100,"X") -> 92.561523 | D8: =C8*100/B8 -> 98.921084 | E8: =IF('Tabl. II'!E8>0,'Tabl. II'!H8/('Tabl. II'!E8/273.8),"X") -> 124.33966 | F8: =IF('Tabl. II'!F8>0,'Tabl. II'!I8/('Tabl. II'!F8/273.8),"X") -> 133.78814 | G8: =F8*100/E8 -> 107.59893 | H8: =IF('Tabl. II'!B8>0,'Tabl. II'!H8*9/'Tabl. II'!B8,"X") -> 3.824374 | I8: =IF('Tabl. II'!C8>0,'Tabl. II'!I8*9/'Tabl. II'!C8,"X") -> 4.0705882 | J8: =I8*100/H8 -> 106.43803
A9: Sprawy karne - razem | B9: =IF('Tabl. II'!B9>0,'Tabl. II'!E9/'Tabl. II'!B9*100,"X") -> 96.234535 | C9: =IF('Tabl. II'!C9>0,'Tabl. II'!F9/'Tabl. II'!C9*100,"X") -> 98.087229 | D9: =C9*100/B9 -> 101.92519 | E9: =IF('Tabl. II'!E9>0,'Tabl. II'!H9/('Tabl. II'!E9/273.8),"X") -> 38.545828 | F9: =IF('Tabl. II'!F9>0,'Tabl. II'!I9/('Tabl. II'!F9/273.8),"X") -> 36.042981 | G9: =F9*100/E9 -> 93.506829 | H9: =IF('Tabl. II'!B9>0,'Tabl. II'!H9*9/'Tabl. II'!B9,"X") -> 1.2193191 | I9: =IF('Tabl. II'!C9>0,'Tabl. II'!I9*9/'Tabl. II'!C9,"X") -> 1.1620966 | J9: =I9*100/H9 -> 95.30701
A10: II instancji - apelacje (A Ka) | B10: =IF('Tabl. II'!B10>0,'Tabl. II'!E10/'Tabl. II'!B10*100,"X") -> 83.959391 | C10: =IF('Tabl. II'!C10>0,'Tabl. II'!F10/'Tabl. II'!C10*100,"X") -> 91.215227 | D10: =C10*100/B10 -> 108.64208 | E10: =IF('Tabl. II'!E10>0,'Tabl. II'!H10/('Tabl. II'!E10/273.8),"X") -> 98.660701 | F10: =IF('Tabl. II'!F10>0,'Tabl. II'!I10/('Tabl. II'!F10/273.8),"X") -> 81.524719 | G10: =F10*100/E10 -> 82.6314 | H10: =IF('Tabl. II'!B10>0,'Tabl. II'!H10*9/'Tabl. II'!B10,"X") -> 2.7228426 | I10: =IF('Tabl. II'!C10>0,'Tabl. II'!I10*9/'Tabl. II'!C10,"X") -> 2.4443631 | J10: =I10*100/H10 -> 89.77247
A11: w tym: o odszkodowanie (A Ka) | B11: =IF('Tabl. II'!B11>0,'Tabl. II'!E11/'Tabl. II'!B11*100,"X") -> 84.615385 | C11: =IF('Tabl. II'!C11>0,'Tabl. II'!F11/'Tabl. II'!C11*100,"X") -> 94.423792 | D11: =C11*100/B11 -> 111.59175 | E11: =IF('Tabl. II'!E11>0,'Tabl. II'!H11/('Tabl. II'!E11/273.8),"X") -> 75.709848 | F11: =IF('Tabl. II'!F11>0,'Tabl. II'!I11/('Tabl. II'!F11/273.8),"X") -> 56.053543 | G11: =F11*100/E11 -> 74.037321 | H11: =IF('Tabl. II'!B11>0,'Tabl. II'!H11*9/'Tabl. II'!B11,"X") -> 2.1057692 | I11: =IF('Tabl. II'!C11>0,'Tabl. II'!I11*9/'Tabl. II'!C11,"X") -> 1.739777 | J11: =I11*100/H11 -> 82.619545
A12: w tym: -z ust. z dn. 23.02.1991 r. o uznaniu za nieważne orzeczeń wydanych wobec osób represjonowanych za działalność na rzecz niepodległego bytu Państwa Polskiego (Dz.U. Nr 34, poz. 149) | B12: =IF('Tabl. II'!B12>0,'Tabl. II'!E12/'Tabl. II'!B12*100,"X") -> 85.507246 | C12: =IF('Tabl. II'!C12>0,'Tabl. II'!F12/'Tabl. II'!C12*100,"X") -> 91.666667 | D12: =C12*100/B12 -> 107.20339 | E12: =IF('Tabl. II'!E12>0,'Tabl. II'!H12/('Tabl. II'!E12/273.8),"X") -> 74.250847 | F12: =IF('Tabl. II'!F12>0,'Tabl. II'!I12/('Tabl. II'!F12/273.8),"X") -> 70.524242 | G12: =F12*100/E12 -> 94.981061 | H12: =IF('Tabl. II'!B12>0,'Tabl. II'!H12*9/'Tabl. II'!B12,"X") -> 2.0869565 | I12: =IF('Tabl. II'!C12>0,'Tabl. II'!I12*9/'Tabl. II'!C12,"X") -> 2.125 | J12: =I12*100/H12 -> 101.82292
A13: - w trybie a.552 kpk | B13: =IF('Tabl. II'!B13>0,'Tabl. II'!E13/'Tabl. II'!B13*100,"X") -> 84.36214 | C13: =IF('Tabl. II'!C13>0,'Tabl. II'!F13/'Tabl. II'!C13*100,"X") -> 95.431472 | D13: =C13*100/B13 -> 113.12121 | E13: =IF('Tabl. II'!E13>0,'Tabl. II'!H13/('Tabl. II'!E13/273.8),"X") -> 76.129756 | F13: =IF('Tabl. II'!F13>0,'Tabl. II'!I13/('Tabl. II'!F13/273.8),"X") -> 50.973404 | G13: X | H13: =IF('Tabl. II'!B13>0,'Tabl. II'!H13*9/'Tabl. II'!B13,"X") -> 2.1111111 | I13: =IF('Tabl. II'!C13>0,'Tabl. II'!I13*9/'Tabl. II'!C13,"X") -> 1.5989848 | J13: =I13*100/H13 -> 75.741384
A14: - zażalenia (A Kz) | B14: =IF('Tabl. II'!B14>0,'Tabl. II'!E14/'Tabl. II'!B14*100,"X") -> 98.948204 | C14: =IF('Tabl. II'!C14>0,'Tabl. II'!F14/'Tabl. II'!C14*100,"X") -> 100.68952 | D14: =C14*100/B14 -> 101.75982 | E14: =IF('Tabl. II'!E14>0,'Tabl. II'!H14/('Tabl. II'!E14/273.8),"X") -> 14.881629 | F14: =IF('Tabl. II'!F14>0,'Tabl. II'!I14/('Tabl. II'!F14/273.8),"X") -> 13.951944 | G14: =F14*100/E14 -> 93.752801 | H14: =IF('Tabl. II'!B14>0,'Tabl. II'!H14*9/'Tabl. II'!B14,"X") -> 0.48402461 | I14: =IF('Tabl. II'!C14>0,'Tabl. II'!I14*9/'Tabl. II'!C14,"X") -> 0.46177246 | J14: =I14*100/H14 -> 95.402682
A15: ogólne (A Ko) | B15: =IF('Tabl. II'!B15>0,'Tabl. II'!E15/'Tabl. II'!B15*100,"X") -> 96.885355 | C15: =IF('Tabl. II'!C15>0,'Tabl. II'!F15/'Tabl. II'!C15*100,"X") -> 97.314179 | D15: =C15*100/B15 -> 100.44261 | E15: =IF('Tabl. II'!E15>0,'Tabl. II'!H15/('Tabl. II'!E15/273.8),"X") -> 50.564979 | F15: =IF('Tabl. II'!F15>0,'Tabl. II'!I15/('Tabl. II'!F15/273.8),"X") -> 49.030937 | G15: =F15*100/E15 -> 96.966196 | H15: =IF('Tabl. II'!B15>0,'Tabl. II'!H15*9/'Tabl. II'!B15,"X") -> 1.610338 | I15: =IF('Tabl. II'!C15>0,'Tabl. II'!I15*9/'Tabl. II'!C15,"X") -> 1.5683948 | J15: =I15*100/H15 -> 97.395378
A16: w tym:
A17: sprawy w trybie art.11a pwkpk | B17: X | C17: =IF('Tabl. II'!C17>0,'Tabl. II'!F17/'Tabl. II'!C17*100,"X") -> 100 | D17: X | E17: X | F17: X | G17: X | H17: X | I17: X | J17: X
A18: nadzór sądowy nad postępowaniem przygotowawczym (A Kp) | B18: =IF('Tabl. II'!B18>0,'Tabl. II'!E18/'Tabl. II'!B18*100,"X") -> 99.736842 | C18: =IF('Tabl. II'!C18>0,'Tabl. II'!F18/'Tabl. II'!C18*100,"X") -> 101.47929 | D18: =C18*100/B18 -> 101.74705 | E18: =IF('Tabl. II'!E18>0,'Tabl. II'!H18/('Tabl. II'!E18/273.8),"X") -> 5.7794195 | F18: =IF('Tabl. II'!F18>0,'Tabl. II'!I18/('Tabl. II'!F18/273.8),"X") -> 4.7895044 | G18: =F18*100/E18 -> 82.87172 | H18: =IF('Tabl. II'!B18>0,'Tabl. II'!H18*9/'Tabl. II'!B18,"X") -> 0.18947368 | I18: =IF('Tabl. II'!C18>0,'Tabl. II'!I18*9/'Tabl. II'!C18,"X") -> 0.15976331 | J18: =I18*100/H18 -> 84.319527
A19: zażalenia na postanowienia w postępowaniu wykonawczym (A Kzw) | B19: =IF('Tabl. II'!B19>0,'Tabl. II'!E19/'Tabl. II'!B19*100,"X") -> 97.331332 | C19: =IF('Tabl. II'!C19>0,'Tabl. II'!F19/'Tabl. II'!C19*100,"X") -> 98.370105 | D19: =C19*100/B19 -> 101.06725 | E19: =IF('Tabl. II'!E19>0,'Tabl. II'!H19/('Tabl. II'!E19/273.8),"X") -> 35.590145 | F19: =IF('Tabl. II'!F19>0,'Tabl. II'!I19/('Tabl. II'!F19/273.8),"X") -> 33.950684 | G19: =F19*100/E19 -> 95.393495 | H19: =IF('Tabl. II'!B19>0,'Tabl. II'!H19*9/'Tabl. II'!B19,"X") -> 1.1386533 | I19: =IF('Tabl. II'!C19>0,'Tabl. II'!I19*9/'Tabl. II'!C19,"X") -> 1.0977937 | J19: =I19*100/H19 -> 96.411586
A20: kasacje (WKK) | B20: =IF('Tabl. II'!B20>0,'Tabl. II'!E20/'Tabl. II'!B20*100,"X") -> 100.22173 | C20: =IF('Tabl. II'!C20>0,'Tabl. II'!F20/'Tabl. II'!C20*100,"X") -> 100.92764 | D20: =C20*100/B20 -> 100.70435 | E20: =IF('Tabl. II'!E20>0,'Tabl. II'!H20/('Tabl. II'!E20/273.8),"X") -> 67.238496 | F20: =IF('Tabl. II'!F20>0,'Tabl. II'!I20/('Tabl. II'!F20/273.8),"X") -> 69.456618 | G20: =F20*100/E20 -> 103.29889 | H20: =IF('Tabl. II'!B20>0,'Tabl. II'!H20*9/'Tabl. II'!B20,"X") -> 2.2150776 | I20: =IF('Tabl. II'!C20>0,'Tabl. II'!I20*9/'Tabl. II'!C20,"X") -> 2.3042672 | J20: =I20*100/H20 -> 104.02648
A21: skargi na postępowanie sądowe i prokuratorskie (S) | B21: =IF('Tabl. II'!B21>0,'Tabl. II'!E21/'Tabl. II'!B21*100,"X") -> 100.81967 | C21: =IF('Tabl. II'!C21>0,'Tabl. II'!F21/'Tabl. II'!C21*100,"X") -> 98.791541 | D21: =C21*100/B21 -> 97.988358 | E21: =IF('Tabl. II'!E21>0,'Tabl. II'!H21/('Tabl. II'!E21/273.8),"X") -> 24.486179 | F21: =IF('Tabl. II'!F21>0,'Tabl. II'!I21/('Tabl. II'!F21/273.8),"X") -> 35.166972 | G21: =F21*100/E21 -> 143.61968 | H21: =IF('Tabl. II'!B21>0,'Tabl. II'!H21*9/'Tabl. II'!B21,"X") -> 0.81147541 | I21: =IF('Tabl. II'!C21>0,'Tabl. II'!I21*9/'Tabl. II'!C21,"X") -> 1.141994 | J21: =I21*100/H21 -> 140.73057
A22: W SĄDACH APELACYJNYCH (c.d.)
A23: Sprawy cywilne - razem | B23: =IF('Tabl. II'!B23>0,'Tabl. II'!E23/'Tabl. II'!B23*100,"X") -> 87.988143 | C23: =IF('Tabl. II'!C23>0,'Tabl. II'!F23/'Tabl. II'!C23*100,"X") -> 89.034586 | D23: =C23*100/B23 -> 101.1893 | E23: =IF('Tabl. II'!E23>0,'Tabl. II'!H23/('Tabl. II'!E23/273.8),"X") -> 109.39768 | F23: =IF('Tabl. II'!F23>0,'Tabl. II'!I23/('Tabl. II'!F23/273.8),"X") -> 120.59445 | G23: =F23*100/E23 -> 110.23493 | H23: =IF('Tabl. II'!B23>0,'Tabl. II'!H23*9/'Tabl. II'!B23,"X") -> 3.1640353 | I23: =IF('Tabl. II'!C23>0,'Tabl. II'!I23*9/'Tabl. II'!C23,"X") -> 3.5293534 | J23: =I23*100/H23 -> 111.54595
A24: II instancji - apelacje (A Ca)a) | B24: =IF('Tabl. II'!B24>0,'Tabl. II'!E24/'Tabl. II'!B24*100,"X") -> 78.909121 | C24: =IF('Tabl. II'!C24>0,'Tabl. II'!F24/'Tabl. II'!C24*100,"X") -> 80.702562 | D24: =C24*100/B24 -> 102.27279 | E24: =IF('Tabl. II'!E24>0,'Tabl. II'!H24/('Tabl. II'!E24/273.8),"X") -> 216.90944 | F24: =IF('Tabl. II'!F24>0,'Tabl. II'!I24/('Tabl. II'!F24/273.8),"X") -> 244.44756 | G24: =F24*100/E24 -> 112.69568 | H24: =IF('Tabl. II'!B24>0,'Tabl. II'!H24*9/'Tabl. II'!B24,"X") -> 5.6261942 | I24: =IF('Tabl. II'!C24>0,'Tabl. II'!I24*9/'Tabl. II'!C24,"X") -> 6.4845835 | J24: =I24*100/H24 -> 115.25702
A25: - zażalenia (A Cz)a) | B25: =IF('Tabl. II'!B25>0,'Tabl. II'!E25/'Tabl. II'!B25*100,"X") -> 92.987868 | C25: =IF('Tabl. II'!C25>0,'Tabl. II'!F25/'Tabl. II'!C25*100,"X") -> 93.658949 | D25: =C25*100/B25 -> 100.72169 | E25: =IF('Tabl. II'!E25>0,'Tabl. II'!H25/('Tabl. II'!E25/273.8),"X") -> 52.455123 | F25: =IF('Tabl. II'!F25>0,'Tabl. II'!I25/('Tabl. II'!F25/273.8),"X") -> 55.212499 | G25: =F25*100/E25 -> 105.25664 | H25: =IF('Tabl. II'!B25>0,'Tabl. II'!H25*9/'Tabl. II'!B25,"X") -> 1.6033313 | I25: =IF('Tabl. II'!C25>0,'Tabl. II'!I25*9/'Tabl. II'!C25,"X") -> 1.6997919 | J25: =I25*100/H25 -> 106.01626
A26: ogólne (A Co) | B26: =IF('Tabl. II'!B26>0,'Tabl. II'!E26/'Tabl. II'!B26*100,"X") -> 99.312715 | C26: =IF('Tabl. II'!C26>0,'Tabl. II'!F26/'Tabl. II'!C26*100,"X") -> 100.47393 | D26: =C26*100/B26 -> 101.16925 | E26: =IF('Tabl. II'!E26>0,'Tabl. II'!H26/('Tabl. II'!E26/273.8),"X") -> 35.053979 | F26: =IF('Tabl. II'!F26>0,'Tabl. II'!I26/('Tabl. II'!F26/273.8),"X") -> 31.42673 | G26: =F26*100/E26 -> 89.652388 | H26: =IF('Tabl. II'!B26>0,'Tabl. II'!H26*9/'Tabl. II'!B26,"X") -> 1.1443299 | I26: =IF('Tabl. II'!C26>0,'Tabl. II'!I26*9/'Tabl. II'!C26,"X") -> 1.0379147 | J26: =I26*100/H26 -> 90.700653
A27: skarga kasacyjna (WSC) | B27: =IF('Tabl. II'!B27>0,'Tabl. II'!E27/'Tabl. II'!B27*100,"X") -> 95.630726 | C27: =IF('Tabl. II'!C27>0,'Tabl. II'!F27/'Tabl. II'!C27*100,"X") -> 96.01251 | D27: =C27*100/B27 -> 100.39923 | E27: =IF('Tabl. II'!E27>0,'Tabl. II'!H27/('Tabl. II'!E27/273.8),"X") -> 60.732351 | F27: =IF('Tabl. II'!F27>0,'Tabl. II'!I27/('Tabl. II'!F27/273.8),"X") -> 64.436645 | G27: =F27*100/E27 -> 106.09938 | H27: =IF('Tabl. II'!B27>0,'Tabl. II'!H27*9/'Tabl. II'!B27,"X") -> 1.9090909 | I27: =IF('Tabl. II'!C27>0,'Tabl. II'!I27*9/'Tabl. II'!C27,"X") -> 2.03362 | J27: =I27*100/H27 -> 106.52295
A28: skarga o stwierdzenie niezgodności z prawem (WSC)b) | B28: =IF('Tabl. II'!B28>0,'Tabl. II'!E28/'Tabl. II'!B28*100,"X") -> 90.909091 | C28: =IF('Tabl. II'!C28>0,'Tabl. II'!F28/'Tabl. II'!C28*100,"X") -> 100 | D28: =C28*100/B28 -> 110 | E28: =IF('Tabl. II'!E28>0,'Tabl. II'!H28/('Tabl. II'!E28/273.8),"X") -> 109.52 | F28: =IF('Tabl. II'!F28>0,'Tabl. II'!I28/('Tabl. II'!F28/273.8),"X") -> 34.847273 | G28: =F28*100/E28 -> 31.818182 | H28: =IF('Tabl. II'!B28>0,'Tabl. II'!H28*9/'Tabl. II'!B28,"X") -> 3.2727273 | I28: =IF('Tabl. II'!C28>0,'Tabl. II'!I28*9/'Tabl. II'!C28,"X") -> 1.1454545 | J28: =I28*100/H28 -> 35
A29: skargi na postępowanie sądowe (S) | B29: =IF('Tabl. II'!B29>0,'Tabl. II'!E29/'Tabl. II'!B29*100,"X") -> 97.519522 | C29: =IF('Tabl. II'!C29>0,'Tabl. II'!F29/'Tabl. II'!C29*100,"X") -> 96.270478 | D29: =C29*100/B29 -> 98.719185 | E29: =IF('Tabl. II'!E29>0,'Tabl. II'!H29/('Tabl. II'!E29/273.8),"X") -> 35.208384 | F29: =IF('Tabl. II'!F29>0,'Tabl. II'!I29/('Tabl. II'!F29/273.8),"X") -> 36.876756 | G29: =F29*100/E29 -> 104.73856 | H29: =IF('Tabl. II'!B29>0,'Tabl. II'!H29*9/'Tabl. II'!B29,"X") -> 1.1286174 | I29: =IF('Tabl. II'!C29>0,'Tabl. II'!I29*9/'Tabl. II'!C29,"X") -> 1.1669571 | J29: =I29*100/H29 -> 103.39706
A30: Sprawy z zakresu prawa pracy - razem | B30: =IF('Tabl. II'!B30>0,'Tabl. II'!E30/'Tabl. II'!B30*100,"X") -> 92.121982 | C30: =IF('Tabl. II'!C30>0,'Tabl. II'!F30/'Tabl. II'!C30*100,"X") -> 97.066327 | D30: =C30*100/B30 -> 105.36717 | E30: =IF('Tabl. II'!E30>0,'Tabl. II'!H30/('Tabl. II'!E30/273.8),"X") -> 110.27531 | F30: =IF('Tabl. II'!F30>0,'Tabl. II'!I30/('Tabl. II'!F30/273.8),"X") -> 115.13272 | G30: =F30*100/E30 -> 104.4048 | H30: =IF('Tabl. II'!B30>0,'Tabl. II'!H30*9/'Tabl. II'!B30,"X") -> 3.339263 | I30: =IF('Tabl. II'!C30>0,'Tabl. II'!I30*9/'Tabl. II'!C30,"X") -> 3.6734694 | J30: =I30*100/H30 -> 110.00839
A31: II instancji - apelacje (A Pa) | B31: =IF('Tabl. II'!B31>0,'Tabl. II'!E31/'Tabl. II'!B31*100,"X") -> 78.637771 | C31: =IF('Tabl. II'!C31>0,'Tabl. II'!F31/'Tabl. II'!C31*100,"X") -> 88.929889 | D31: =C31*100/B31 -> 113.08801 | E31: =IF('Tabl. II'!E31>0,'Tabl. II'!H31/('Tabl. II'!E31/273.8),"X") -> 226.37008 | F31: =IF('Tabl. II'!F31>0,'Tabl. II'!I31/('Tabl. II'!F31/273.8),"X") -> 239.71701 | G31: =F31*100/E31 -> 105.89607 | H31: =IF('Tabl. II'!B31>0,'Tabl. II'!H31*9/'Tabl. II'!B31,"X") -> 5.8513932 | I31: =IF('Tabl. II'!C31>0,'Tabl. II'!I31*9/'Tabl. II'!C31,"X") -> 7.0073801 | J31: =I31*100/H31 -> 119.75575
A32: - zażalenia (A Pz) | B32: =IF('Tabl. II'!B32>0,'Tabl. II'!E32/'Tabl. II'!B32*100,"X") -> 101.13636 | C32: =IF('Tabl. II'!C32>0,'Tabl. II'!F32/'Tabl. II'!C32*100,"X") -> 104.21687 | D32: =C32*100/B32 -> 103.04589 | E32: =IF('Tabl. II'!E32>0,'Tabl. II'!H32/('Tabl. II'!E32/273.8),"X") -> 43.069663 | F32: =IF('Tabl. II'!F32>0,'Tabl. II'!I32/('Tabl. II'!F32/273.8),"X") -> 39.566474 | G32: =F32*100/E32 -> 91.866226 | H32: =IF('Tabl. II'!B32>0,'Tabl. II'!H32*9/'Tabl. II'!B32,"X") -> 1.4318182 | I32: =IF('Tabl. II'!C32>0,'Tabl. II'!I32*9/'Tabl. II'!C32,"X") -> 1.3554217 | J32: =I32*100/H32 -> 94.664372
A33: - ogólne (A Po) | B33: =IF('Tabl. II'!B33>0,'Tabl. II'!E33/'Tabl. II'!B33*100,"X") -> 100 | C33: =IF('Tabl. II'!C33>0,'Tabl. II'!F33/'Tabl. II'!C33*100,"X") -> 96.385542 | D33: =C33*100/B33 -> 96.385542 | E33: =IF('Tabl. II'!E33>0,'Tabl. II'!H33/('Tabl. II'!E33/273.8),"X") -> 60.102439 | F33: =IF('Tabl. II'!F33>0,'Tabl. II'!I33/('Tabl. II'!F33/273.8),"X") -> 119.7875 | G33: =F33*100/E33 -> 199.30556 | H33: =IF('Tabl. II'!B33>0,'Tabl. II'!H33*9/'Tabl. II'!B33,"X") -> 1.9756098 | I33: =IF('Tabl. II'!C33>0,'Tabl. II'!I33*9/'Tabl. II'!C33,"X") -> 3.7951807 | J33: =I33*100/H33 -> 192.10174
A34: skarga kasacyjna (WSC-pracy) | B34: =IF('Tabl. II'!B34>0,'Tabl. II'!E34/'Tabl. II'!B34*100,"X") -> 107.24638 | C34: =IF('Tabl. II'!C34>0,'Tabl. II'!F34/'Tabl. II'!C34*100,"X") -> 100 | D34: =C34*100/B34 -> 93.243243 | E34: =IF('Tabl. II'!E34>0,'Tabl. II'!H34/('Tabl. II'!E34/273.8),"X") -> 62.9 | F34: =IF('Tabl. II'!F34>0,'Tabl. II'!I34/('Tabl. II'!F34/273.8),"X") -> 73.88254 | G34: =F34*100/E34 -> 117.46032 | H34: =IF('Tabl. II'!B34>0,'Tabl. II'!H34*9/'Tabl. II'!B34,"X") -> 2.2173913 | I34: =IF('Tabl. II'!C34>0,'Tabl. II'!I34*9/'Tabl. II'!C34,"X") -> 2.4285714 | J34: =I34*100/H34 -> 109.52381
A35: skarga o stwierdzenie niezgodności z prawem (WSC-pracy) | B35: X | C35: =IF('Tabl. II'!C35>0,'Tabl. II'!F35/'Tabl. II'!C35*100,"X") -> 200 | D35: X | E35: X | F35: X | G35: X | H35: X | I35: X | J35: X
A36: skargi na postępowanie sądowe (S) | B36: =IF('Tabl. II'!B36>0,'Tabl. II'!E36/'Tabl. II'!B36*100,"X") -> 97.959184 | C36: =IF('Tabl. II'!C36>0,'Tabl. II'!F36/'Tabl. II'!C36*100,"X") -> 85.294118 | D36: =C36*100/B36 -> 87.071078 | E36: =IF('Tabl. II'!E36>0,'Tabl. II'!H36/('Tabl. II'!E36/273.8),"X") -> 28.520833 | F36: =IF('Tabl. II'!F36>0,'Tabl. II'!I36/('Tabl. II'!F36/273.8),"X") -> 66.089655 | G36: =F36*100/E36 -> 231.72414 | H36: =IF('Tabl. II'!B36>0,'Tabl. II'!H36*9/'Tabl. II'!B36,"X") -> 0.91836735 | I36: =IF('Tabl. II'!C36>0,'Tabl. II'!I36*9/'Tabl. II'!C36,"X") -> 1.8529412 | J36: =I36*100/H36 -> 201.76471
A37: Sprawy z zakresu ubezpieczeń społecznych - razem | B37: =IF('Tabl. II'!B37>0,'Tabl. II'!E37/'Tabl. II'!B37*100,"X") -> 112.67247 | C37: =IF('Tabl. II'!C37>0,'Tabl. II'!F37/'Tabl. II'!C37*100,"X") -> 87.486479 | D37: =C37*100/B37 -> 77.64672 | E37: =IF('Tabl. II'!E37>0,'Tabl. II'!H37/('Tabl. II'!E37/273.8),"X") -> 207.90489 | F37: =IF('Tabl. II'!F37>0,'Tabl. II'!I37/('Tabl. II'!F37/273.8),"X") -> 273.13831 | G37: =F37*100/E37 -> 131.37657 | H37: =IF('Tabl. II'!B37>0,'Tabl. II'!H37*9/'Tabl. II'!B37,"X") -> 7.7000153 | I37: =IF('Tabl. II'!C37>0,'Tabl. II'!I37*9/'Tabl. II'!C37,"X") -> 7.8547546 | J37: =I37*100/H37 -> 102.0096
A38: II instancji - apelacje (A Ua) | B38: =IF('Tabl. II'!B38>0,'Tabl. II'!E38/'Tabl. II'!B38*100,"X") -> 116.58416 | C38: =IF('Tabl. II'!C38>0,'Tabl. II'!F38/'Tabl. II'!C38*100,"X") -> 85.177138 | D38: =C38*100/B38 -> 73.060645 | E38: =IF('Tabl. II'!E38>0,'Tabl. II'!H38/('Tabl. II'!E38/273.8),"X") -> 235.18606 | F38: =IF('Tabl. II'!F38>0,'Tabl. II'!I38/('Tabl. II'!F38/273.8),"X") -> 332.33147 | G38: =F38*100/E38 -> 141.30577 | H38: =IF('Tabl. II'!B38>0,'Tabl. II'!H38*9/'Tabl. II'!B38,"X") -> 9.0128094 | I38: =IF('Tabl. II'!C38>0,'Tabl. II'!I38*9/'Tabl. II'!C38,"X") -> 9.3047257 | J38: =I38*100/H38 -> 103.2389
A39: - zażalenia (A Uz) | B39: =IF('Tabl. II'!B39>0,'Tabl. II'!E39/'Tabl. II'!B39*100,"X") -> 91.81778 | C39: =IF('Tabl. II'!C39>0,'Tabl. II'!F39/'Tabl. II'!C39*100,"X") -> 99.958385 | D39: =C39*100/B39 -> 108.86604 | E39: =IF('Tabl. II'!E39>0,'Tabl. II'!H39/('Tabl. II'!E39/273.8),"X") -> 55.65684 | F39: =IF('Tabl. II'!F39>0,'Tabl. II'!I39/('Tabl. II'!F39/273.8),"X") -> 37.730142 | G39: =F39*100/E39 -> 67.790664 | H39: =IF('Tabl. II'!B39>0,'Tabl. II'!H39*9/'Tabl. II'!B39,"X") -> 1.6797877 | I39: =IF('Tabl. II'!C39>0,'Tabl. II'!I39*9/'Tabl. II'!C39,"X") -> 1.2397004 | J39: =I39*100/H39 -> 73.801015
A40: ogólne (A Uo) | B40: =IF('Tabl. II'!B40>0,'Tabl. II'!E40/'Tabl. II'!B40*100,"X") -> 100 | C40: =IF('Tabl. II'!C40>0,'Tabl. II'!F40/'Tabl. II'!C40*100,"X") -> 121.42857 | D40: =C40*100/B40 -> 121.42857 | E40: =IF('Tabl. II'!E40>0,'Tabl. II'!H40/('Tabl. II'!E40/273.8),"X") -> 26.07619 | F40: X | G40: X | H40: =IF('Tabl. II'!B40>0,'Tabl. II'!H40*9/'Tabl. II'!B40,"X") -> 0.85714286 | I40: X | J40: X
A41: skarga kasacyjna (WSC-ubezp.) | B41: =IF('Tabl. II'!B41>0,'Tabl. II'!E41/'Tabl. II'!B41*100,"X") -> 99.253035 | C41: =IF('Tabl. II'!C41>0,'Tabl. II'!F41/'Tabl. II'!C41*100,"X") -> 92.40097 | D41: =C41*100/B41 -> 93.096368 | E41: =IF('Tabl. II'!E41>0,'Tabl. II'!H41/('Tabl. II'!E41/273.8),"X") -> 47.393415 | F41: =IF('Tabl. II'!F41>0,'Tabl. II'!I41/('Tabl. II'!F41/273.8),"X") -> 67.312161 | G41: =F41*100/E41 -> 142.02851 | H41: =IF('Tabl. II'!B41>0,'Tabl. II'!H41*9/'Tabl. II'!B41,"X") -> 1.5462185 | I41: =IF('Tabl. II'!C41>0,'Tabl. II'!I41*9/'Tabl. II'!C41,"X") -> 2.0444624 | J41: =I41*100/H41 -> 132.22338
...
