Workbook
Name DF_GRID_1: Wybór [1]sądu!$G$21:$J$217
Name DF_NAVPANEL_13: #REF!
Name DF_NAVPANEL_13: #REF!
Name DF_NAVPANEL_18: #REF!
Name DF_NAVPANEL_18: #REF!

Sheet BExRepositorySheet
A1: 7
C14: Filter

Sheet Graph
C1: Apelacja | H1: FEP8Qry3
C2: Liczby | H2: Autor | I2: PROCAG01M | K2: Aktualność danych (godzina)
C3: Okręg
C4: Sąd
C5: Wiersze | G5: Information
G6: Autor | H6: PROCAG01M | J6: Ostatnie odświeżanie | K6: 2014-10-20 12:13:26
G7: Bieżący użytkownik | H7: PROCAG01M | J7: Dzień | K7: 2014-10-20
G8: Ostatnio zmienione przez | H8: PROCAG01M | J8: Godzina zmiany | K8: 2014-10-20 10:18:56
G9: Dostawca informacji | H9: ST_M001 | J9: Aktualność danych
G10: Tech. nazwa zapytania | H10: S_ST_M001_TABL_20143 | J10: Aktualność danych (data)
G11: Opis zapytania | H11: Tablice rzymskie III kw 2014 | J11: Aktualność danych (godzina)
C14: Filter

Sheet Tabl. I 
A1: TABL. I. EWIDENCJA SPRAW WEDŁUG DZIAŁÓW PRAWA W SĄDACH POWSZECHNYCH
A2: za III kwartały 2014 i III kwartały 2015 roku
A3: RODZAJE SPRAW WEDŁUG DZIAŁÓW PRAWA I RODZAJÓW SĄDÓW | B3: WPŁYW | E3: ZAŁATWIENIA | H3: POZOSTAŁOŚĆ
B4: III kwartały 2014 | C4: III kwartały 2015 | E4: III kwartały 2014 | F4: III kwartały 2015 | H4: III kwartały 2014 | I4: III kwartały 2015
B5: w liczbach bezwzględnych | D5: III kw. 2014 = 100 | E5: w liczbach bezwzględnych | G5: III kw. 2014 = 100 | H5: w liczbach bezwzględnych | J5: III kw. 2014 = 100
A6: OGÓŁEM | B6: =SUM(B7,B11,B15,B18,B22,B26) -> 10895373 | C6: =SUM(C7,C11,C15,C18,C22,C26) -> 11406993 | D6: =C6*100/B6 -> 104.69575 | E6: =SUM(E7,E11,E15,E18,E22,E26) -> 10790635 | F6: =SUM(F7,F11,F15,F18,F22,F26) -> 11056754 | G6: =F6*100/E6 -> 102.4662 | H6: =SUM(H7,H11,H15,H18,H22,H26) -> 2548939 | I6: =SUM(I7,I11,I15,I18,I22,I26) -> 2595131 | J6: =I6*100/H6 -> 101.8122
A7: SPRAWY KARNEa) | B7: =SUM(B8:B10) -> 2073073 | C7: =SUM(C8:C10) -> 2058721 | D7: =C7*100/B7 -> 99.307694 | E7: =SUM(E8:E10) -> 2016779 | F7: =SUM(F8:F10) -> 2013357 | G7: =F7*100/E7 -> 99.830324 | H7: =SUM(H8:H10) -> 507655 | I7: =SUM(I8:I10) -> 485945 | J7: =I7*100/H7 -> 95.723474
A8: W sądach: - apelacyjnych | B8: ='Tabl. II'!B9 -> 26026 | C8: ='Tabl. II'!C9 -> 25565 | D8: =C8*100/B8 -> 98.228694 | E8: ='Tabl. II'!E9 -> 25046 | F8: ='Tabl. II'!F9 -> 25076 | G8: =F8*100/E8 -> 100.11978 | H8: ='Tabl. II'!H9 -> 3526 | I8: ='Tabl. II'!I9 -> 3301 | J8: =I8*100/H8 -> 93.618832
A9: - okręgowych | B9: ='Tabl. II'!B53 -> 288976 | C9: ='Tabl. II'!C53 -> 283530 | D9: =C9*100/B9 -> 98.115414 | E9: ='Tabl. II'!E53 -> 282803 | F9: ='Tabl. II'!F53 -> 278507 | G9: =F9*100/E9 -> 98.480921 | H9: ='Tabl. II'!H53 -> 47769 | I9: ='Tabl. II'!I53 -> 44809 | J9: =I9*100/H9 -> 93.803513
A10: - rejonowych | B10: ='Tabl. II'!B135 -> 1758071 | C10: ='Tabl. II'!C135 -> 1749626 | D10: =C10*100/B10 -> 99.519644 | E10: ='Tabl. II'!E135 -> 1708930 | F10: ='Tabl. II'!F135 -> 1709774 | G10: =F10*100/E10 -> 100.04939 | H10: ='Tabl. II'!H135 -> 456360 | I10: ='Tabl. II'!I135 -> 437835 | J10: =I10*100/H10 -> 95.940705
A11: SPRAWY CYWILNE | B11: =SUM(B12:B14) -> 6236911 | C11: =SUM(C12:C14) -> 6728682 | D11: =C11*100/B11 -> 107.88485 | E11: =SUM(E12:E14) -> 6231971 | F11: =SUM(F12:F14) -> 6526022 | G11: =F11*100/E11 -> 104.71843 | H11: =SUM(H12:H14) -> 1396699 | I11: =SUM(I12:I14) -> 1433064 | J11: =I11*100/H11 -> 102.60364
A12: W sądach: - apelacyjnychb) | B12: ='Tabl. II'!B23 -> 31036 | C12: ='Tabl. II'!C23 -> 33250 | D12: =C12*100/B12 -> 107.13365 | E12: ='Tabl. II'!E23 -> 27308 | F12: ='Tabl. II'!F23 -> 29604 | G12: =F12*100/E12 -> 108.40779 | H12: ='Tabl. II'!H23 -> 10911 | I12: ='Tabl. II'!I23 -> 13039 | J12: =I12*100/H12 -> 119.50325
A13: - okręgowychb) | B13: ='Tabl. II'!B67 -> 247770 | C13: ='Tabl. II'!C67 -> 250743 | D13: =C13*100/B13 -> 101.1999 | E13: ='Tabl. II'!E67 -> 230287 | F13: ='Tabl. II'!F67 -> 238040 | G13: =F13*100/E13 -> 103.36667 | H13: ='Tabl. II'!H67 -> 141890 | I13: ='Tabl. II'!I67 -> 143390 | J13: =I13*100/H13 -> 101.05716
A14: - rejonowychc) | B14: ='Tabl. II'!B146 -> 5958105 | C14: ='Tabl. II'!C146 -> 6444689 | D14: =C14*100/B14 -> 108.16676 | E14: ='Tabl. II'!E146 -> 5974376 | F14: ='Tabl. II'!F146 -> 6258378 | G14: =F14*100/E14 -> 104.75367 | H14: ='Tabl. II'!H146 -> 1243898 | I14: ='Tabl. II'!I146 -> 1276635 | J14: =I14*100/H14 -> 102.63181
A15: SPRAWY RODZINNE | B15: =B17 -> 1042805 | C15: =C17 -> 1048110 | D15: =C15*100/B15 -> 100.50872 | E15: =E17 -> 1023359 | F15: =F17 -> 1018592 | G15: =F15*100/E15 -> 99.534181 | H15: =H17 -> 209626 | I15: =I17 -> 207535 | J15: =I15*100/H15 -> 99.002509
A16: W sądach: - okręgowychd) | B16: 71480 | C16: 68759 | D16: 96.193341 | E16: 66111 | F16: 66080 | G16: 99.953109 | H16: 55038 | I16: 53488 | J16: 97.183764
A17: - rejonowych | B17: ='Tabl. II'!B158 -> 1042805 | C17: ='Tabl. II'!C158 -> 1048110 | D17: =C17*100/B17 -> 100.50872 | E17: ='Tabl. II'!E158 -> 1023359 | F17: ='Tabl. II'!F158 -> 1018592 | G17: =F17*100/E17 -> 99.534181 | H17: ='Tabl. II'!H158 -> 209626 | I17: ='Tabl. II'!I158 -> 207535 | J17: =I17*100/H17 -> 99.002509
A18: SPRAWY Z ZAKRESU PRAWA PRACY | B18: =SUM(B19:B21) -> 98629 | C18: =SUM(C19:C21) -> 82982 | D18: =C18*100/B18 -> 84.135498 | E18: =SUM(E19:E21) -> 92792 | F18: =SUM(F19:F21) -> 95193 | G18: =F18*100/E18 -> 102.58751 | H18: =SUM(H19:H21) -> 49326 | I18: =SUM(I19:I21) -> 46851 | J18: =I18*100/H18 -> 94.982362
A19: W sądach: - apelacyjnych | B19: ='Tabl. II'!B30 -> 787 | C19: ='Tabl. II'!C30 -> 784 | D19: =C19*100/B19 -> 99.618806 | E19: ='Tabl. II'!E30 -> 725 | F19: ='Tabl. II'!F30 -> 761 | G19: =F19*100/E19 -> 104.96552 | H19: ='Tabl. II'!H30 -> 292 | I19: ='Tabl. II'!I30 -> 320 | J19: =I19*100/H19 -> 109.58904
A20: - okręgowych | B20: ='Tabl. II'!B88 -> 12761 | C20: ='Tabl. II'!C88 -> 11711 | D20: =C20*100/B20 -> 91.771805 | E20: ='Tabl. II'!E88 -> 11405 | F20: ='Tabl. II'!F88 -> 10753 | G20: =F20*100/E20 -> 94.283209 | H20: ='Tabl. II'!H88 -> 5345 | I20: ='Tabl. II'!I88 -> 5109 | J20: =I20*100/H20 -> 95.584659
A21: - rejonowychc) | B21: ='Tabl. II'!B180 -> 85081 | C21: ='Tabl. II'!C180 -> 70487 | D21: =C21*100/B21 -> 82.846934 | E21: ='Tabl. II'!E180 -> 80662 | F21: ='Tabl. II'!F180 -> 83679 | G21: =F21*100/E21 -> 103.7403 | H21: ='Tabl. II'!H180 -> 43689 | I21: ='Tabl. II'!I180 -> 41422 | J21: =I21*100/H21 -> 94.811051
A22: SPRAWY Z ZAKRESU UBEZPIECZEŃ SPOŁECZNYCH | B22: =SUM(B23:B25) -> 162659 | C22: =SUM(C23:C25) -> 147881 | D22: =C22*100/B22 -> 90.914736 | E22: =SUM(E23:E25) -> 145865 | F22: =SUM(F23:F25) -> 147395 | G22: =F22*100/E22 -> 101.04892 | H22: =SUM(H23:H25) -> 131530 | I22: =SUM(I23:I25) -> 124352 | J22: =I22*100/H22 -> 94.54269
A23: W sądach: - apelacyjnych | B23: ='Tabl. II'!B37 -> 19641 | C23: ='Tabl. II'!C37 -> 20338 | D23: =C23*100/B23 -> 103.5487 | E23: ='Tabl. II'!E37 -> 22130 | F23: ='Tabl. II'!F37 -> 17793 | G23: =F23*100/E23 -> 80.402169 | H23: ='Tabl. II'!H37 -> 16804 | I23: ='Tabl. II'!I37 -> 17750 | J23: =I23*100/H23 -> 105.62961
A24: - okręgowych | B24: ='Tabl. II'!B100 -> 114621 | C24: ='Tabl. II'!C100 -> 95364 | D24: =C24*100/B24 -> 83.199414 | E24: ='Tabl. II'!E100 -> 98975 | F24: ='Tabl. II'!F100 -> 103736 | G24: =F24*100/E24 -> 104.81031 | H24: ='Tabl. II'!H100 -> 91429 | I24: ='Tabl. II'!I100 -> 78774 | J24: =I24*100/H24 -> 86.158659
A25: - rejonowych | B25: ='Tabl. II'!B186 -> 28397 | C25: ='Tabl. II'!C186 -> 32179 | D25: =C25*100/B25 -> 113.31831 | E25: ='Tabl. II'!E186 -> 24760 | F25: ='Tabl. II'!F186 -> 25866 | G25: =F25*100/E25 -> 104.46688 | H25: ='Tabl. II'!H186 -> 23297 | I25: ='Tabl. II'!I186 -> 27828 | J25: =I25*100/H25 -> 119.44886
A26: SPRAWY GOSPODARCZE | B26: =SUM(B27:B31) -> 1281296 | C26: =SUM(C27:C31) -> 1340617 | D26: =C26*100/B26 -> 104.62977 | E26: =SUM(E27:E31) -> 1279869 | F26: =SUM(F27:F31) -> 1256195 | G26: =F26*100/E26 -> 98.150279 | H26: =SUM(H27:H31) -> 254103 | I26: =SUM(I27:I31) -> 297384 | J26: =I26*100/H26 -> 117.03286
A27: W sądach: - apelacyjnych | B27: ='Tabl. II'!B45 -> 11654 | C27: ='Tabl. II'!C45 -> 8038 | D27: =C27*100/B27 -> 68.972027 | E27: ='Tabl. II'!E45 -> 8204 | F27: ='Tabl. II'!F45 -> 8197 | G27: =F27*100/E27 -> 99.914676 | H27: ='Tabl. II'!H45 -> 6347 | I27: ='Tabl. II'!I45 -> 5380 | J27: =I27*100/H27 -> 84.764456
A28: - okręgowych | B28: ='Tabl. II'!B111 -> 45331 | C28: ='Tabl. II'!C111 -> 44801 | D28: =C28*100/B28 -> 98.830822 | E28: ='Tabl. II'!E111 -> 41866 | F28: ='Tabl. II'!F111 -> 42525 | G28: =F28*100/E28 -> 101.57407 | H28: ='Tabl. II'!H111 -> 22544 | I28: ='Tabl. II'!I111 -> 23817 | J28: =I28*100/H28 -> 105.64674
A29: - rejonowychc) | B29: ='Tabl. II'!B190 -> 1220773 | C29: ='Tabl. II'!C190 -> 1285405 | D29: =C29*100/B29 -> 105.29435 | E29: ='Tabl. II'!E190 -> 1199301 | F29: ='Tabl. II'!F190 -> 1203098 | G29: =F29*100/E29 -> 100.3166 | H29: ='Tabl. II'!H190 -> 221327 | I29: ='Tabl. II'!I190 -> 265103 | J29: =I29*100/H29 -> 119.77888
A30: - w Sądzie Ochrony Konkurencji i Konsumentów | B30: ='Tabl. II'!B124 -> 3399 | C30: ='Tabl. II'!C124 -> 2232 | D30: =C30*100/B30 -> 65.666372 | E30: ='Tabl. II'!E124 -> 30379 | F30: ='Tabl. II'!F124 -> 2242 | G30: =F30*100/E30 -> 7.3800981 | H30: ='Tabl. II'!H124 -> 3822 | I30: ='Tabl. II'!I124 -> 3021 | J30: =I30*100/H30 -> 79.042386
A31: - w Sądzie Wspólnotowych Znaków Towarowych i Wzorów Przemysłowych | B31: ='Tabl. II'!B133 -> 139 | C31: ='Tabl. II'!C133 -> 141 | D31: =C31*100/B31 -> 101.43885 | E31: ='Tabl. II'!E133 -> 119 | F31: ='Tabl. II'!F133 -> 133 | G31: =F31*100/E31 -> 111.76471 | H31: ='Tabl. II'!H133 -> 63 | I31: ='Tabl. II'!I133 -> 63 | J31: =I31*100/H31 -> 100
A33: a) W sądach rejonowych łącznie ze sprawami wykroczeniowymi.
A34: b) W liczbie spraw cywilnych zawarte są informacje o sprawach rodzinnych.
A35: c) W liczbie spraw cywilnych, z zakresu prawa pracy oraz gospodarczych w sądach rejonowych zawarte są dane statystyczne o ewidencji spraw z zakresu Elektronicznego Postępowania Upominawczego EPU.
A36: Wyszczególnienie | B36: WPŁYW | E36: ZAŁATWIENIA | H36: POZOSTAŁOŚĆ
B37: III kw. 2014 | C37: IIII kw. 2015 | E37: III kw. 2014 | F37: IIII kw. 2015 | H37: III kw. 2014 | I37: IIII kw. 2015
B38: w liczbach bezwzględnych | D38: III kw. 2014 = 100 | E38: w liczbach bezwzględnych | G38: III kw. 2014 = 100 | H38: w liczbach bezwzględnych | J38: III kw. 2014 = 100
A40: ELEKTRONICZNE POSTĘPOWANIE UPOMINAWCZE (EPU) - RAZEM | B40: 1418674 | C40: 1896545 | D40: 133.68434 | E40: 1613355 | F40: 1810000 | G40: 112.18858 | H40: 143084 | I40: 182370 | J40: 127.4566
A41: SPRAWY CYWILNE | B41: 1181019 | C41: 1648378 | D41: 139.57252 | E41: 1349533 | F41: 1579268 | G41: 117.0233 | H41: 123912 | I41: 157835 | J41: 127.37669
A42: SPRAWY Z ZAKRESU PRAWA PRACY | B42: 170 | C42: 214 | D42: 125.88235 | E42: 221 | F42: 148 | G42: 66.968326 | H42: 21 | I42: 69 | J42: 328.57143
A43: SPRAWY GOSPODARCZE | B43: 237485 | C43: 247953 | D43: 104.40786 | E43: 263601 | F43: 230584 | G43: 87.47463 | H43: 19151 | I43: 24466 | J43: 127.75312
A46: d) W sądach okręgowych w sprawozdaniach wykazywane są tylko sprawy o rozwód i separację.
A48: Opracowanie: /-/ Agnieszka Proczek Starszy Specjalista | F48: Naczelnik Wydziału Statystycznej Informacji Zarządczej /-/ Justyna Kowalczyk

Sheet Tabl. II
A2: TABL. II. EWIDENCJA SPRAW W SĄDACH POWSZECHNYCH WEDŁUG DZIAŁÓW PRAWA I INSTANCYJNOŚCI
A3: za III kwartały 2014 i III kwartały 2015 roku
A4: RODZAJE SPRAW WEDŁUG KSIĄG EWIDENCYJNYCH | B4: WPŁYW | E4: ZAŁATWIENIA | H4: POZOSTAŁOŚĆ
B5: III kwartały 2014 | C5: III kwartały 2015 | E5: III kwartały 2014 | F5: III kwartały 2015 | H5: III kwartały 2014 | I5: III kwartały 2015
B6: w liczbach bezwzględnych | D6: III kw. 2014 = 100 | E6: w liczbach bezwzględnych | G6: III kw. 2014 = 100 | H6: w liczbach bezwzględnych | J6: III kw. 2014 = 100
A7: OGÓŁEM SPRAW W SĄDACH POWSZECHNYCH | B7: 10895373 | C7: 11406993 | D7: 104.69575 | E7: 10790635 | F7: 11056754 | G7: 102.4662 | H7: 2548939 | I7: 2595131 | J7: 101.8122
A8: W SĄDACH APELACYJNYCH - OGÓŁEM | B8: 89144 | C8: 87975 | D8: 98.688639 | E8: 83413 | F8: 81431 | G8: 97.623872 | H8: 37880 | I8: 39790 | J8: 105.04224
A9: Sprawy karne - razem | B9: 26026 | C9: 25565 | D9: 98.228694 | E9: 25046 | F9: 25076 | G9: 100.11978 | H9: 3526 | I9: 3301 | J9: 93.618832
A10: II instancji - apelacje (A Ka) | B10: 2955 | C10: 2732 | D10: 92.453469 | E10: 2481 | F10: 2492 | G10: 100.44337 | H10: 894 | I10: 742 | J10: 82.997763
A11: w tym: o odszkodowanie (A Ka) | B11: 312 | C11: 269 | D11: 86.217949 | E11: 264 | F11: 254 | G11: 96.212121 | H11: 73 | I11: 52 | J11: 71.232877
A12: w tym: -z ust. z dn. 23.02.1991 r. o uznaniu za nieważne orzeczeń wydanych wobec osób represjonowanych za działalność na rzecz niepodległego bytu Państwa Polskiego (Dz.U. Nr 34, poz. 149) | B12: 69 | C12: 72 | D12: 104.34783 | E12: 59 | F12: 66 | G12: 111.86441 | H12: 16 | I12: 17 | J12: 106.25
A13: - w trybie a.552 kpk | B13: 243 | C13: 197 | D13: 81.069959 | E13: 205 | F13: 188 | G13: 91.707317 | H13: 57 | I13: 35 | J13: 61.403509
A14: - zażalenia (A Kz) | B14: 5039 | C14: 4931 | D14: 97.856718 | E14: 4986 | F14: 4965 | G14: 99.578821 | H14: 271 | I14: 253 | J14: 93.357934
A15: ogólne (A Ko) | B15: 1509 | C15: 1601 | D15: 106.09675 | E15: 1462 | F15: 1558 | G15: 106.56635 | H15: 270 | I15: 279 | J15: 103.33333
A16: w tym:
A17: sprawy w trybie art.11a pwkpk | B17: - | C17: 12 | D17: X | E17: 1 | F17: 12 | G17: 1200 | H17: - | I17: - | J17: X
A18: nadzór sądowy nad postępowaniem przygotowawczym (A Kp) | B18: 380 | C18: 338 | D18: 88.947368 | E18: 379 | F18: 343 | G18: 90.501319 | H18: 8 | I18: 6 | J18: 75
A19: zażalenia na postanowienia w postępowaniu wykonawczym (A Kzw) | B19: 15326 | C19: 15093 | D19: 98.479708 | E19: 14917 | F19: 14847 | G19: 99.530737 | H19: 1939 | I19: 1841 | J19: 94.945848
A20: kasacje (WKK) | B20: 451 | C20: 539 | D20: 119.5122 | E20: 452 | F20: 544 | G20: 120.35398 | H20: 111 | I20: 138 | J20: 124.32432
A21: skargi na postępowanie sądowe i prokuratorskie (S) | B21: 366 | C21: 331 | D21: 90.437158 | E21: 369 | F21: 327 | G21: 88.617886 | H21: 33 | I21: 42 | J21: 127.27273
A22: W SĄDACH APELACYJNYCH (c.d.)
A23: Sprawy cywilne - razem | B23: 31036 | C23: 33250 | D23: 107.13365 | E23: 27308 | F23: 29604 | G23: 108.40779 | H23: 10911 | I23: 13039 | J23: 119.50325
A24: II instancji - apelacje (A Ca)a) | B24: 12247 | C24: 13038 | D24: 106.45872 | E24: 9664 | F24: 10522 | G24: 108.87831 | H24: 7656 | I24: 9394 | J24: 122.70115
A25: - zażalenia (A Cz)a) | B25: 14589 | C25: 15376 | D25: 105.39448 | E25: 13566 | F25: 14401 | G25: 106.15509 | H25: 2599 | I25: 2904 | J25: 111.73528
A26: ogólne (A Co) | B26: 582 | C26: 633 | D26: 108.76289 | E26: 578 | F26: 636 | G26: 110.0346 | H26: 74 | I26: 73 | J26: 98.648649
A27: skarga kasacyjna (WSC) | B27: 1419 | C27: 1279 | D27: 90.133897 | E27: 1357 | F27: 1228 | G27: 90.493736 | H27: 301 | I27: 289 | J27: 96.013289
A28: skarga o stwierdzenie niezgodności z prawem (WSC)b) | B28: 22 | C28: 55 | D28: 250 | E28: 20 | F28: 55 | G28: 275 | H28: 8 | I28: 7 | J28: 87.5
A29: skargi na postępowanie sądowe (S) | B29: 2177 | C29: 2869 | D29: 131.78686 | E29: 2123 | F29: 2762 | G29: 130.09892 | H29: 273 | I29: 372 | J29: 136.26374
A30: Sprawy z zakresu prawa pracy - razem | B30: 787 | C30: 784 | D30: 99.618806 | E30: 725 | F30: 761 | G30: 104.96552 | H30: 292 | I30: 320 | J30: 109.58904
A31: II instancji - apelacje (A Pa) | B31: 323 | C31: 271 | D31: 83.900929 | E31: 254 | F31: 241 | G31: 94.88189 | H31: 210 | I31: 211 | J31: 100.47619
A32: - zażalenia (A Pz) | B32: 264 | C32: 332 | D32: 125.75758 | E32: 267 | F32: 346 | G32: 129.58801 | H32: 42 | I32: 50 | J32: 119.04762
A33: - ogólne (A Po) | B33: 82 | C33: 83 | D33: 101.21951 | E33: 82 | F33: 80 | G33: 97.560976 | H33: 18 | I33: 35 | J33: 194.44444
A34: skarga kasacyjna (WSC-pracy) | B34: 69 | C34: 63 | D34: 91.304348 | E34: 74 | F34: 63 | G34: 85.135135 | H34: 17 | I34: 17 | J34: 100
A35: skarga o stwierdzenie niezgodności z prawem (WSC-pracy) | B35: - | C35: 1 | D35: X | E35: - | F35: 2 | G35: X | H35: - | I35: - | J35: X
A36: skargi na postępowanie sądowe (S) | B36: 49 | C36: 34 | D36: 69.387755 | E36: 48 | F36: 29 | G36: 60.416667 | H36: 5 | I36: 7 | J36: 140
A37: Sprawy z zakresu ubezpieczeń społecznych - razem | B37: 19641 | C37: 20338 | D37: 103.5487 | E37: 22130 | F37: 17793 | G37: 80.402169 | H37: 16804 | I37: 17750 | J37: 105.62961
A38: II instancji - apelacje (A Ua) | B38: 16160 | C38: 16569 | D38: 102.53094 | E38: 18840 | F38: 14113 | G38: 74.909766 | H38: 16183 | I38: 17130 | J38: 105.85182
A39: - zażalenia (A Uz) | B39: 2261 | C39: 2403 | D39: 106.28041 | E39: 2076 | F39: 2402 | G39: 115.70328 | H39: 422 | I39: 331 | J39: 78.436019
A40: ogólne (A Uo) | B40: 21 | C40: 14 | D40: 66.666667 | E40: 21 | F40: 17 | G40: 80.952381 | H40: 2 | I40: - | J40: 0
A41: skarga kasacyjna (WSC-ubezp.) | B41: 1071 | C41: 1237 | D41: 115.49953 | E41: 1063 | F41: 1143 | G41: 107.52587 | H41: 184 | I41: 281 | J41: 152.71739
A42: skarga o stwierdzenie niezgodności z prawem (WSC-ubezp.) | B42: 11 | C42: 9 | D42: 81.818182 | E42: 13 | F42: 9 | G42: 69.230769 | H42: 2 | I42: 1 | J42: 50
A43: skargi na postępowanie sądowe (S) | B43: 117 | C43: 106 | D43: 90.598291 | E43: 117 | F43: 109 | G43: 93.162393 | H43: 11 | I43: 7 | J43: 63.636364
A44: W SĄDACH APELACYJNYCH (dok.)
A45: Sprawy gospodarcze - razem | B45: 11654 | C45: 8038 | D45: 68.972027 | E45: 8204 | F45: 8197 | G45: 99.914676 | H45: 6347 | I45: 5380 | J45: 84.764456
A46: II instancji - apelacje (A Ca-gosp.) | B46: 2608 | C46: 2797 | D46: 107.24693 | E46: 1998 | F46: 2159 | G46: 108.05806 | H46: 1930 | I46: 2338 | J46: 121.1399
A47: - zażalenia (A Cz-gosp.) | B47: 7961 | C47: 4382 | D47: 55.043336 | E47: 5168 | F47: 5181 | G47: 100.25155 | H47: 4215 | I47: 2879 | J47: 68.303677
A48: ogólne (A Co-gosp.) | B48: 30 | C48: 70 | D48: 233.33333 | E48: 35 | F48: 74 | G48: 211.42857 | H48: 1 | I48: 5 | J48: 500
A49: skarga kasacyjna (WSC-gosp.) | B49: 831 | C49: 518 | D49: 62.334537 | E49: 764 | F49: 530 | G49: 69.371728 | H49: 166 | I49: 105 | J49: 63.253012
A50: skarga o stwierdzenie niezgodności z prawem (WSC-gosp.) | B50: 3 | C50: 6 | D50: 200 | E50: 4 | F50: 6 | G50: 150 | H50: 1 | I50: 2 | J50: 200
A51: skargi na postępowanie sądowe (S) | B51: 221 | C51: 265 | D51: 119.9095 | E51: 235 | F51: 247 | G51: 105.10638 | H51: 34 | I51: 51 | J51: 150
A52: W SĄDACH OKRĘGOWYCH - OGÓŁEM | B52: 712997 | C52: 688522 | D52: 96.567307 | E52: 695834 | F52: 675936 | G52: 97.14041 | H52: 312862 | I52: 298983 | J52: 95.563859
A53: Sprawy karne i wykroczeniowe - razem | B53: 288976 | C53: 283530 | D53: 98.115414 | E53: 282803 | F53: 278507 | G53: 98.480921 | H53: 47769 | I53: 44809 | J53: 93.803513
A54: I instancji (K) | B54: 6823 | C54: 7571 | D54: 110.96292 | E54: 6783 | F54: 6965 | G54: 102.68318 | H54: 5988 | I54: 6293 | J54: 105.09352
A55: w tym odpowiedzialność podmiotów zbiorowych | B55: - | C55: - | D55: X | E55: - | F55: - | G55: X | H55: - | I55: - | J55: X
A56: penitencjarne: - sprawy dotyczące wkonywania kary pozbawienia wolności; np.: przerw, odwołania warunkowego zwolnienia, zmiany określonego wyroku i typu zakładu karnego (Kow) | B56: 103069 | C56: 97850 | D56: 94.936402 | E56: 102314 | F56: 97302 | G56: 95.101355 | H56: 15368 | I56: 13909 | J56: 90.506247
A57: - sprawy dotyczące wykonywania nadzoru sędziego penitencjarnego nad tymczasowym aresztowaniem lub karą pozbawienia wolności (Pen) | B57: 23408 | C57: 22274 | D57: 95.155502 | E57: 23324 | F57: 21903 | G57: 93.907563 | H57: 1176 | I57: 1276 | J57: 108.5034
A58: nadzór sądowy nad postępowaniem przygotowawczym (Kp) | B58: 30443 | C58: 36052 | D58: 118.4246 | E58: 30135 | F58: 35705 | G58: 118.48349 | H58: 1357 | I58: 1427 | J58: 105.15844
A59: Kop | B59: 3676 | C59: 3365 | D59: 91.539717 | E59: 3557 | F59: 3323 | G59: 93.421423 | H59: 485 | I59: 503 | J59: 103.71134
A60: II instancji - apelacje w sprawach karnych (Ka) | B60: 37898 | C60: 38982 | D60: 102.86031 | E60: 34500 | F60: 36439 | G60: 105.62029 | H60: 12345 | I60: 11623 | J60: 94.151478
A61: - zażalenia w sprawach karnych (Kz) | B61: 27022 | C61: 21806 | D61: 80.69721 | E61: 26376 | F61: 21737 | G61: 82.412041 | H61: 2771 | I61: 2068 | J61: 74.630097
A62: zażalenia na postanowienia w postępowaniu wykonawczym (Kzw) | B62: 25581 | C62: 22485 | D62: 87.897268 | E62: 25223 | F62: 22926 | G62: 90.893232 | H62: 4089 | I62: 3248 | J62: 79.432624
A63: ogólne (Ko) | B63: 28082 | C63: 30787 | D63: 109.6325 | E63: 27675 | F63: 29820 | G63: 107.75068 | H63: 3685 | I63: 4021 | J63: 109.11805
A64: kasacje (WKK) | B64: 881 | C64: 834 | D64: 94.665153 | E64: 889 | F64: 881 | G64: 99.100112 | H64: 272 | I64: 254 | J64: 93.382353
A65: skargi na postępowanie sądowe i prokuratorskie (S) | B65: 2093 | C65: 1524 | D65: 72.814142 | E65: 2027 | F65: 1506 | G65: 74.296991 | H65: 233 | I65: 187 | J65: 80.257511
A66: W SĄDACH OKRĘGOWYCH (c.d.)
A67: Sprawy cywilne - razem | B67: 247770 | C67: 250743 | D67: 101.1999 | E67: 230287 | F67: 238040 | G67: 103.36667 | H67: 141890 | I67: 143390 | J67: 101.05716
A68: I instancji - procesowe (C i RC)a) | B68: 105422 | C68: 101182 | D68: 95.978069 | E68: 96906 | F68: 97057 | G68: 100.15582 | H68: 99310 | I68: 97405 | J68: 98.081764
A69: - szkody geologiczne i górnicze (CG-G) | B69: 144 | C69: 108 | D69: 75 | E69: 99 | F69: 125 | G69: 126.26263 | H69: 278 | I69: 256 | J69: 92.086331
A70: - nieprocesowe (Ns)a) (z wył. rej.) | B70: 11949 | C70: 12244 | D70: 102.46883 | E70: 10692 | F70: 12044 | G70: 112.64497 | H70: 7165 | I70: 7419 | J70: 103.54501
A71: - rejestrowe | B71: 6728 | C71: 6751 | D71: 100.34185 | E71: 6885 | F71: 6869 | G71: 99.767611 | H71: 361 | I71: 544 | J71: 150.69252
A72: w tym:
A73: z zakresu rejestru dzienników i czasopism (Ns.Rej.Pr) | B73: 3683 | C73: 3988 | D73: 108.28129 | E73: 3749 | F73: 4081 | G73: 108.85569 | H73: 273 | I73: 331 | J73: 121.24542
A74: Partie | B74: 63 | C74: 86 | D74: 136.50794 | E74: 51 | F74: 91 | G74: 178.43137 | H74: 25 | I74: 25 | J74: 100
A75: Fundusze emerytalne | B75: 79 | C75: 26 | D75: 32.911392 | E75: 83 | F75: 29 | G75: 34.939759 | H75: 5 | I75: 1 | J75: 20
A76: Fundusze inwestycyjne | B76: 2903 | C76: 2651 | D76: 91.319325 | E76: 3002 | F76: 2668 | G76: 88.874084 | H76: 58 | I76: 187 | J76: 322.41379
A77: - nakazowe i upominawcze (Nc) | B77: 10532 | C77: 11234 | D77: 106.6654 | E77: 10455 | F77: 11436 | G77: 109.38307 | H77: 1303 | I77: 1246 | J77: 95.62548
A78: ogólne (Co I inst.) | B78: 9385 | C78: 9522 | D78: 101.45978 | E78: 9215 | F78: 9317 | G78: 101.10689 | H78: 1965 | I78: 1973 | J78: 100.40712
A79: skarga o stwierdzenie niezgodności z prawem (WSC) | B79: 39 | C79: 19 | D79: 48.717949 | E79: 40 | F79: 18 | G79: 45 | H79: 6 | I79: 4 | J79: 66.666667
A80: II instancji - apelacje (Ca)a) | B80: 43421 | C80: 46394 | D80: 106.84692 | E80: 38361 | F80: 41292 | G80: 107.64057 | H80: 21183 | I80: 22936 | J80: 108.2755
A81: - zażalenia (Cz)a) | B81: 51339 | C81: 53352 | D81: 103.921 | E81: 48851 | F81: 50180 | G81: 102.72052 | H81: 9237 | I81: 10406 | J81: 112.65562
A82: ogólne (Co II inst.) | B82: 307 | C82: 468 | D82: 152.443 | E82: 306 | F82: 447 | G82: 146.07843 | H82: 23 | I82: 71 | J82: 308.69565
A83: skarga kasacyjna (WSC) | B83: 1262 | C83: 1321 | D83: 104.67512 | E83: 1249 | F83: 1238 | G83: 99.119295 | H83: 327 | I83: 364 | J83: 111.31498
A84: skarga o stwierdzenie niezgodności z prawem (WSC II inst.) | B84: 203 | C84: 201 | D84: 99.014778 | E84: 190 | F84: 191 | G84: 100.52632 | H84: 55 | I84: 49 | J84: 89.090909
A85: skargi na postępowanie sądowe (S) | B85: 7039 | C85: 7947 | D85: 112.89956 | E85: 7038 | F85: 7826 | G85: 111.19636 | H85: 677 | I85: 717 | J85: 105.90842
A87: W SĄDACH OKRĘGOWYCH (c.d.)
A88: Sprawy z zakresu prawa pracy - razem | B88: 12761 | C88: 11711 | D88: 91.771805 | E88: 11405 | F88: 10753 | G88: 94.283209 | H88: 5345 | I88: 5109 | J88: 95.584659
A89: I instancji - ze stosunku pracy (P) | B89: 1216 | C89: 1295 | D89: 106.49671 | E89: 1217 | F89: 1159 | G89: 95.234182 | H89: 1469 | I89: 1577 | J89: 107.35194
A90: - nakazowe (Np) | B90: 52 | C90: 90 | D90: 173.07692 | E90: 52 | F90: 64 | G90: 123.07692 | H90: 7 | I90: 38 | J90: 542.85714
A91: ogólne (Po) | B91: 924 | C91: 378 | D91: 40.909091 | E91: 849 | F91: 401 | G91: 47.232038 | H91: 109 | I91: 39 | J91: 35.779817
A92: wykaz Kas-z | B92: 4 | C92: 3 | D92: 75 | E92: 1 | F92: 4 | G92: 400 | H92: 4 | I92: 1 | J92: 25
A93: skarga o stwierdzenie niezgodności z prawem (WSC I inst.) | B93: - | C93: - | D93: X | E93: - | F93: - | G93: X | H93: - | I93: - | J93: X
A94: II instancji - apelacje (Pa) | B94: 7242 | C94: 6456 | D94: 89.146645 | E94: 6073 | F94: 6085 | G94: 100.1976 | H94: 3307 | I94: 2686 | J94: 81.221651
A95: - zażalenia (Pz) | B95: 2313 | C95: 2709 | D95: 117.12062 | E95: 2178 | F95: 2309 | G95: 106.01469 | H95: 340 | I95: 614 | J95: 180.58824
A96: ogólne (Po II inst.) | B96: 254 | C96: 8 | D96: 3.1496063 | E96: 255 | F96: 10 | G96: 3.9215686 | H96: 1 | I96: - | J96: 0
A97: skarga kasacyjna (WSC-pracy) | B97: 627 | C97: 659 | D97: 105.10367 | E97: 646 | F97: 610 | G97: 94.427245 | H97: 93 | I97: 137 | J97: 147.31183
A98: skarga o stwierdzenie niezgodności z prawem (WSC II inst.) | B98: 20 | C98: 21 | D98: 105 | E98: 21 | F98: 17 | G98: 80.952381 | H98: 4 | I98: 7 | J98: 175
A99: skargi na postępowanie sądowe (S) | B99: 109 | C99: 92 | D99: 84.40367 | E99: 113 | F99: 94 | G99: 83.185841 | H99: 11 | I99: 10 | J99: 90.909091
A100: Sprawy z zakresu ubezpieczeń społecznych - razem | B100: 114621 | C100: 95364 | D100: 83.199414 | E100: 98975 | F100: 103736 | G100: 104.81031 | H100: 91429 | I100: 78774 | J100: 86.158659
A101: I instancji (U) | B101: 107019 | C101: 86882 | D101: 81.183715 | E101: 92152 | F101: 95975 | G101: 104.14858 | H101: 88827 | I101: 75703 | J101: 85.225213
A102: ogólne (Uo I inst.) | B102: 5099 | C102: 5917 | D102: 116.04236 | E102: 4698 | F102: 5431 | G102: 115.60238 | H102: 1670 | I102: 2153 | J102: 128.92216
...

Sheet Tabl. III
A2: TABL. III. WSKAŹNIKI DOTYCZĄCE SPRAW W SĄDACH POWSZECHNYCH WEDŁUG DZIAŁÓW PRAWA I INSTANCYJNOŚCI
A3: za III kwartały 2014 i III kwartały 2015 roku
A4: RODZAJE SPRAW WEDŁUG KSIĄG EWIDENCYJNYCH | B4: WSKAŹNIK OPANOWANIA WPŁYWU | E4: WSKAŹNIK CZASU TRWANIA POSTĘPOWANIA (według metodologii CEPEJ) (w dniach) | H4: WSKAŹNIK POZOSTAŁOŚCI (w miesiącach)
B5: III kwartały 2014 | C5: III kwartały 2015 | E5: III kwartały 2014 | F5: III kwartały 2015 | H5: III kwartały 2014 | I5: III kwartały 2015
B6: w liczbach bezwzględnych | D6: III kw. 2014 = 100 | E6: w liczbach bezwzględnych | G6: III kw. 2014 = 100 | H6: w liczbach bezwzględnych | J6: III kw. 2014 = 100
A7: OGÓŁEM SPRAW W SĄDACH POWSZECHNYCH | B7: =IF('Tabl. II'!B7>0,'Tabl. II'!E7/'Tabl. II'!B7*100,"X") -> 99.038693 | C7: =IF('Tabl. II'!C7>0,'Tabl. II'!F7/'Tabl. II'!C7*100,"X") -> 96.929612 | D7: =C7*100/B7 -> 97.870447 | E7: =IF('Tabl. II'!E7>0,'Tabl. II'!H7/('Tabl. II'!E7/273.8),"X") -> 64.676407 | F7: =IF('Tabl. II'!F7>0,'Tabl. II'!I7/('Tabl. II'!F7/273.8),"X") -> 64.263605 | G7: =F7*100/E7 -> 99.361742 | H7: =IF('Tabl. II'!B7>0,'Tabl. II'!H7*9/'Tabl. II'!B7,"X") -> 2.1055223 | I7: =IF('Tabl. II'!C7>0,'Tabl. II'!I7*9/'Tabl. II'!C7,"X") -> 2.0475316 | J7: =I7*100/H7 -> 97.245782
A8: W SĄDACH APELACYJNYCH - OGÓŁEM | B8: =IF('Tabl. II'!B8>0,'Tabl. II'!E8/'Tabl. II'!B8*100,"X") -> 93.571076 | C8: =IF('Tabl. II'!C8>0,'Tabl. II'!F8/'Tabl. II'!C8*100,"X") -> 92.561523 | D8: =C8*100/B8 -> 98.921084 | E8: =IF('Tabl. II'!E8>0,'Tabl. II'!H8/('Tabl. II'!E8/273.8),"X") -> 124.33966 | F8: =IF('Tabl. II'!F8>0,'Tabl. II'!I8/('Tabl. II'!F8/273.8),"X") -> 133.78814 | G8: =F8*100/E8 -> 107.59893 | H8: =IF('Tabl. II'!B8>0,'Tabl. II'!H8*9/'Tabl. II'!B8,"X") -> 3.824374 | I8: =IF('Tabl. II'!C8>0,'Tabl. II'!I8*9/'Tabl. II'!C8,"X") -> 4.0705882 | J8: =I8*100/H8 -> 106.43803
A9: Sprawy karne - razem | B9: =IF('Tabl. II'!B9>0,'Tabl. II'!E9/'Tabl. II'!B9*100,"X") -> 96.234535 | C9: =IF('Tabl. II'!C9>0,'Tabl. II'!F9/'Tabl. II'!C9*100,"X") -> 98.087229 | D9: =C9*100/B9 -> 101.92519 | E9: =IF('Tabl. II'!E9>0,'Tabl. II'!H9/('Tabl. II'!E9/273.8),"X") -> 38.545828 | F9: =IF('Tabl. II'!F9>0,'Tabl. II'!I9/('Tabl. II'!F9/273.8),"X") -> 36.042981 | G9: =F9*100/E9 -> 93.506829 | H9: =IF('Tabl. II'!B9>0,'Tabl. II'!H9*9/'Tabl. II'!B9,"X") -> 1.2193191 | I9: =IF('Tabl. II'!C9>0,'Tabl. II'!I9*9/'Tabl. II'!C9,"X") -> 1.1620966 | J9: =I9*100/H9 -> 95.30701
A10: II instancji - apelacje (A Ka) | B10: =IF('Tabl. II'!B10>0,'Tabl. II'!E10/'Tabl. II'!B10*100,"X") -> 83.959391 | C10: =IF('Tabl. II'!C10>0,'Tabl. II'!F10/'Tabl. II'!C10*100,"X") -> 91.215227 | D10: =C10*100/B10 -> 108.64208 | E10: =IF('Tabl. II'!E10>0,'Tabl. II'!H10/('Tabl. II'!E10/273.8),"X") -> 98.660701 | F10: =IF('Tabl. II'!F10>0,'Tabl. II'!I10/('Tabl. II'!F10/273.8),"X") -> 81.524719 | G10: =F10*100/E10 -> 82.6314 | H10: =IF('Tabl. II'!B10>0,'Tabl. II'!H10*9/'Tabl. II'!B10,"X") -> 2.7228426 | I10: =IF('Tabl. II'!C10>0,'Tabl. II'!I10*9/'Tabl. II'!C10,"X") -> 2.4443631 | J10: =I10*100/H10 -> 89.77247
A11: w tym: o odszkodowanie (A Ka) | B11: =IF('Tabl. II'!B11>0,'Tabl. II'!E11/'Tabl. II'!B11*100,"X") -> 84.615385 | C11: =IF('Tabl. II'!C11>0,'Tabl. II'!F11/'Tabl. II'!C11*100,"X") -> 94.423792 | D11: =C11*100/B11 -> 111.59175 | E11: =IF('Tabl. II'!E11>0,'Tabl. II'!H11/('Tabl. II'!E11/273.8),"X") -> 75.709848 | F11: =IF('Tabl. II'!F11>0,'Tabl. II'!I11/('Tabl. II'!F11/273.8),"X") -> 56.053543 | G11: =F11*100/E11 -> 74.037321 | H11: =IF('Tabl. II'!B11>0,'Tabl. II'!H11*9/'Tabl. II'!B11,"X") -> 2.1057692 | I11: =IF('Tabl. II'!C11>0,'Tabl. II'!I11*9/'Tabl. II'!C11,"X") -> 1.739777 | J11: =I11*100/H11 -> 82.619545
A12: w tym: -z ust. z dn. 23.02.1991 r. o uznaniu za nieważne orzeczeń wydanych wobec osób represjonowanych za działalność na rzecz niepodległego bytu Państwa Polskiego (Dz.U. Nr 34, poz. 149) | B12: =IF('Tabl. II'!B12>0,'Tabl. II'!E12/'Tabl. II'!B12*100,"X") -> 85.507246 | C12: =IF('Tabl. II'!C12>0,'Tabl. II'!F12/'Tabl. II'!C12*100,"X") -> 91.666667 | D12: =C12*100/B12 -> 107.20339 | E12: =IF('Tabl. II'!E12>0,'Tabl. II'!H12/('Tabl. II'!E12/273.8),"X") -> 74.250847 | F12: =IF('Tabl. II'!F12>0,'Tabl. II'!I12/('Tabl. II'!F12/273.8),"X") -> 70.524242 | G12: =F12*100/E12 -> 94.981061 | H12: =IF('Tabl. II'!B12>0,'Tabl. II'!H12*9/'Tabl. II'!B12,"X") -> 2.0869565 | I12: =IF('Tabl. II'!C12>0,'Tabl. II'!I12*9/'Tabl. II'!C12,"X") -> 2.125 | J12: =I12*100/H12 -> 101.82292
A13: - w trybie a.552 kpk | B13: =IF('Tabl. II'!B13>0,'Tabl. II'!E13/'Tabl. II'!B13*100,"X") -> 84.36214 | C13: =IF('Tabl. II'!C13>0,'Tabl. II'!F13/'Tabl. II'!C13*100,"X") -> 95.431472 | D13: =C13*100/B13 -> 113.12121 | E13: =IF('Tabl. II'!E13>0,'Tabl. II'!H13/('Tabl. II'!E13/273.8),"X") -> 76.129756 | F13: =IF('Tabl. II'!F13>0,'Tabl. II'!I13/('Tabl. II'!F13/273.8),"X") -> 50.973404 | G13: X | H13: =IF('Tabl. II'!B13>0,'Tabl. II'!H13*9/'Tabl. II'!B13,"X") -> 2.1111111 | I13: =IF('Tabl. II'!C13>0,'Tabl. II'!I13*9/'Tabl. II'!C13,"X") -> 1.5989848 | J13: =I13*100/H13 -> 75.741384
A14: - zażalenia (A Kz) | B14: =IF('Tabl. II'!B14>0,'Tabl. II'!E14/'Tabl. II'!B14*100,"X") -> 98.948204 | C14: =IF('Tabl. II'!C14>0,'Tabl. II'!F14/'Tabl. II'!C14*100,"X") -> 100.68952 | D14: =C14*100/B14 -> 101.75982 | E14: =IF('Tabl. II'!E14>0,'Tabl. II'!H14/('Tabl. II'!E14/273.8),"X") -> 14.881629 | F14: =IF('Tabl. II'!F14>0,'Tabl. II'!I14/('Tabl. II'!F14/273.8),"X") -> 13.951944 | G14: =F14*100/E14 -> 93.752801 | H14: =IF('Tabl. II'!B14>0,'Tabl. II'!H14*9/'Tabl. II'!B14,"X") -> 0.48402461 | I14: =IF('Tabl. II'!C14>0,'Tabl. II'!I14*9/'Tabl. II'!C14,"X") -> 0.46177246 | J14: =I14*100/H14 -> 95.402682
A15: ogólne (A Ko) | B15: =IF('Tabl. II'!B15>0,'Tabl. II'!E15/'Tabl. II'!B15*100,"X") -> 96.885355 | C15: =IF('Tabl. II'!C15>0,'Tabl. II'!F15/'Tabl. II'!C15*100,"X") -> 97.314179 | D15: =C15*100/B15 -> 100.44261 | E15: =IF('Tabl. II'!E15>0,'Tabl. II'!H15/('Tabl. II'!E15/273.8),"X") -> 50.564979 | F15: =IF('Tabl. II'!F15>0,'Tabl. II'!I15/('Tabl. II'!F15/273.8),"X") -> 49.030937 | G15: =F15*100/E15 -> 96.966196 | H15: =IF('Tabl. II'!B15>0,'Tabl. II'!H15*9/'Tabl. II'!B15,"X") -> 1.610338 | I15: =IF('Tabl. II'!C15>0,'Tabl. II'!I15*9/'Tabl. II'!C15,"X") -> 1.5683948 | J15: =I15*100/H15 -> 97.395378
A16: w tym:
A17: sprawy w trybie art.11a pwkpk | B17: X | C17: =IF('Tabl. II'!C17>0,'Tabl. II'!F17/'Tabl. II'!C17*100,"X") -> 100 | D17: X | E17: X | F17: X | G17: X | H17: X | I17: X | J17: X
A18: nadzór sądowy nad postępowaniem przygotowawczym (A Kp) | B18: =IF('Tabl. II'!B18>0,'Tabl. II'!E18/'Tabl. II'!B18*100,"X") -> 99.736842 | C18: =IF('Tabl. II'!C18>0,'Tabl. II'!F18/'Tabl. II'!C18*100,"X") -> 101.47929 | D18: =C18*100/B18 -> 101.74705 | E18: =IF('Tabl. II'!E18>0,'Tabl. II'!H18/('Tabl. II'!E18/273.8),"X") -> 5.7794195 | F18: =IF('Tabl. II'!F18>0,'Tabl. II'!I18/('Tabl. II'!F18/273.8),"X") -> 4.7895044 | G18: =F18*100/E18 -> 82.87172 | H18: =IF('Tabl. II'!B18>0,'Tabl. II'!H18*9/'Tabl. II'!B18,"X") -> 0.18947368 | I18: =IF('Tabl. II'!C18>0,'Tabl. II'!I18*9/'Tabl. II'!C18,"X") -> 0.15976331 | J18: =I18*100/H18 -> 84.319527
A19: zażalenia na postanowienia w postępowaniu wykonawczym (A Kzw) | B19: =IF('Tabl. II'!B19>0,'Tabl. II'!E19/'Tabl. II'!B19*100,"X") -> 97.331332 | C19: =IF('Tabl. II'!C19>0,'Tabl. II'!F19/'Tabl. II'!C19*100,"X") -> 98.370105 | D19: =C19*100/B19 -> 101.06725 | E19: =IF('Tabl. II'!E19>0,'Tabl. II'!H19/('Tabl. II'!E19/273.8),"X") -> 35.590145 | F19: =IF('Tabl. II'!F19>0,'Tabl. II'!I19/('Tabl. II'!F19/273.8),"X") -> 33.950684 | G19: =F19*100/E19 -> 95.393495 | H19: =IF('Tabl. II'!B19>0,'Tabl. II'!H19*9/'Tabl. II'!B19,"X") -> 1.1386533 | I19: =IF('Tabl. II'!C19>0,'Tabl. II'!I19*9/'Tabl. II'!C19,"X") -> 1.0977937 | J19: =I19*100/H19 -> 96.411586
A20: kasacje (WKK) | B20: =IF('Tabl. II'!B20>0,'Tabl. II'!E20/'Tabl. II'!B20*100,"X") -> 100.22173 | C20: =IF('Tabl. II'!C20>0,'Tabl. II'!F20/'Tabl. II'!C20*100,"X") -> 100.92764 | D20: =C20*100/B20 -> 100.70435 | E20: =IF('Tabl. II'!E20>0,'Tabl. II'!H20/('Tabl. II'!E20/273.8),"X") -> 67.238496 | F20: =IF('Tabl. II'!F20>0,'Tabl. II'!I20/('Tabl. II'!F20/273.8),"X") -> 69.456618 | G20: =F20*100/E20 -> 103.29889 | H20: =IF('Tabl. II'!B20>0,'Tabl. II'!H20*9/'Tabl. II'!B20,"X") -> 2.2150776 | I20: =IF('Tabl. II'!C20>0,'Tabl. II'!I20*9/'Tabl. II'!C20,"X") -> 2.3042672 | J20: =I20*100/H20 -> 104.02648
A21: skargi na postępowanie sądowe i prokuratorskie (S) | B21: =IF('Tabl. II'!B21>0,'Tabl. II'!E21/'Tabl. II'!B21*100,"X") -> 100.81967 | C21: =IF('Tabl. II'!C21>0,'Tabl. II'!F21/'Tabl. II'!C21*100,"X") -> 98.791541 | D21: =C21*100/B21 -> 97.988358 | E21: =IF('Tabl. II'!E21>0,'Tabl. II'!H21/('Tabl. II'!E21/273.8),"X") -> 24.486179 | F21: =IF('Tabl. II'!F21>0,'Tabl. II'!I21/('Tabl. II'!F21/273.8),"X") -> 35.166972 | G21: =F21*100/E21 -> 143.61968 | H21: =IF('Tabl. II'!B21>0,'Tabl. II'!H21*9/'Tabl. II'!B21,"X") -> 0.81147541 | I21: =IF('Tabl. II'!C21>0,'Tabl. II'!I21*9/'Tabl. II'!C21,"X") -> 1.141994 | J21: =I21*100/H21 -> 140.73057
A22: W SĄDACH APELACYJNYCH (c.d.)
A23: Sprawy cywilne - razem | B23: =IF('Tabl. II'!B23>0,'Tabl. II'!E23/'Tabl. II'!B23*100,"X") -> 87.988143 | C23: =IF('Tabl. II'!C23>0,'Tabl. II'!F23/'Tabl. II'!C23*100,"X") -> 89.034586 | D23: =C23*100/B23 -> 101.1893 | E23: =IF('Tabl. II'!E23>0,'Tabl. II'!H23/('Tabl. II'!E23/273.8),"X") -> 109.39768 | F23: =IF('Tabl. II'!F23>0,'Tabl. II'!I23/('Tabl. II'!F23/273.8),"X") -> 120.59445 | G23: =F23*100/E23 -> 110.23493 | H23: =IF('Tabl. II'!B23>0,'Tabl. II'!H23*9/'Tabl. II'!B23,"X") -> 3.1640353 | I23: =IF('Tabl. II'!C23>0,'Tabl. II'!I23*9/'Tabl. II'!C23,"X") -> 3.5293534 | J23: =I23*100/H23 -> 111.54595
A24: II instancji - apelacje (A Ca)a) | B24: =IF('Tabl. II'!B24>0,'Tabl. II'!E24/'Tabl. II'!B24*100,"X") -> 78.909121 | C24: =IF('Tabl. II'!C24>0,'Tabl. II'!F24/'Tabl. II'!C24*100,"X") -> 80.702562 | D24: =C24*100/B24 -> 102.27279 | E24: =IF('Tabl. II'!E24>0,'Tabl. II'!H24/('Tabl. II'!E24/273.8),"X") -> 216.90944 | F24: =IF('Tabl. II'!F24>0,'Tabl. II'!I24/('Tabl. II'!F24/273.8),"X") -> 244.44756 | G24: =F24*100/E24 -> 112.69568 | H24: =IF('Tabl. II'!B24>0,'Tabl. II'!H24*9/'Tabl. II'!B24,"X") -> 5.6261942 | I24: =IF('Tabl. II'!C24>0,'Tabl. II'!I24*9/'Tabl. II'!C24,"X") -> 6.4845835 | J24: =I24*100/H24 -> 115.25702
A25: - zażalenia (A Cz)a) | B25: =IF('Tabl. II'!B25>0,'Tabl. II'!E25/'Tabl. II'!B25*100,"X") -> 92.987868 | C25: =IF('Tabl. II'!C25>0,'Tabl. II'!F25/'Tabl. II'!C25*100,"X") -> 93.658949 | D25: =C25*100/B25 -> 100.72169 | E25: =IF('Tabl. II'!E25>0,'Tabl. II'!H25/('Tabl. II'!E25/273.8),"X") -> 52.455123 | F25: =IF('Tabl. II'!F25>0,'Tabl. II'!I25/('Tabl. II'!F25/273.8),"X") -> 55.212499 | G25: =F25*100/E25 -> 105.25664 | H25: =IF('Tabl. II'!B25>0,'Tabl. II'!H25*9/'Tabl. II'!B25,"X") -> 1.6033313 | I25: =IF('Tabl. II'!C25>0,'Tabl. II'!I25*9/'Tabl. II'!C25,"X") -> 1.6997919 | J25: =I25*100/H25 -> 106.01626
A26: ogólne (A Co) | B26: =IF('Tabl. II'!B26>0,'Tabl. II'!E26/'Tabl. II'!B26*100,"X") -> 99.312715 | C26: =IF('Tabl. II'!C26>0,'Tabl. II'!F26/'Tabl. II'!C26*100,"X") -> 100.47393 | D26: =C26*100/B26 -> 101.16925 | E26: =IF('Tabl. II'!E26>0,'Tabl. II'!H26/('Tabl. II'!E26/273.8),"X") -> 35.053979 | F26: =IF('Tabl. II'!F26>0,'Tabl. II'!I26/('Tabl. II'!F26/273.8),"X") -> 31.42673 | G26: =F26*100/E26 -> 89.652388 | H26: =IF('Tabl. II'!B26>0,'Tabl. II'!H26*9/'Tabl. II'!B26,"X") -> 1.1443299 | I26: =IF('Tabl. II'!C26>0,'Tabl. II'!I26*9/'Tabl. II'!C26,"X") -> 1.0379147 | J26: =I26*100/H26 -> 90.700653
A27: skarga kasacyjna (WSC) | B27: =IF('Tabl. II'!B27>0,'Tabl. II'!E27/'Tabl. II'!B27*100,"X") -> 95.630726 | C27: =IF('Tabl. II'!C27>0,'Tabl. II'!F27/'Tabl. II'!C27*100,"X") -> 96.01251 | D27: =C27*100/B27 -> 100.39923 | E27: =IF('Tabl. II'!E27>0,'Tabl. II'!H27/('Tabl. II'!E27/273.8),"X") -> 60.732351 | F27: =IF('Tabl. II'!F27>0,'Tabl. II'!I27/('Tabl. II'!F27/273.8),"X") -> 64.436645 | G27: =F27*100/E27 -> 106.09938 | H27: =IF('Tabl. II'!B27>0,'Tabl. II'!H27*9/'Tabl. II'!B27,"X") -> 1.9090909 | I27: =IF('Tabl. II'!C27>0,'Tabl. II'!I27*9/'Tabl. II'!C27,"X") -> 2.03362 | J27: =I27*100/H27 -> 106.52295
A28: skarga o stwierdzenie niezgodności z prawem (WSC)b) | B28: =IF('Tabl. II'!B28>0,'Tabl. II'!E28/'Tabl. II'!B28*100,"X") -> 90.909091 | C28: =IF('Tabl. II'!C28>0,'Tabl. II'!F28/'Tabl. II'!C28*100,"X") -> 100 | D28: =C28*100/B28 -> 110 | E28: =IF('Tabl. II'!E28>0,'Tabl. II'!H28/('Tabl. II'!E28/273.8),"X") -> 109.52 | F28: =IF('Tabl. II'!F28>0,'Tabl. II'!I28/('Tabl. II'!F28/273.8),"X") -> 34.847273 | G28: =F28*100/E28 -> 31.818182 | H28: =IF('Tabl. II'!B28>0,'Tabl. II'!H28*9/'Tabl. II'!B28,"X") -> 3.2727273 | I28: =IF('Tabl. II'!C28>0,'Tabl. II'!I28*9/'Tabl. II'!C28,"X") -> 1.1454545 | J28: =I28*100/H28 -> 35
A29: skargi na postępowanie sądowe (S) | B29: =IF('Tabl. II'!B29>0,'Tabl. II'!E29/'Tabl. II'!B29*100,"X") -> 97.519522 | C29: =IF('Tabl. II'!C29>0,'Tabl. II'!F29/'Tabl. II'!C29*100,"X") -> 96.270478 | D29: =C29*100/B29 -> 98.719185 | E29: =IF('Tabl. II'!E29>0,'Tabl. II'!H29/('Tabl. II'!E29/273.8),"X") -> 35.208384 | F29: =IF('Tabl. II'!F29>0,'Tabl. II'!I29/('Tabl. II'!F29/273.8),"X") -> 36.876756 | G29: =F29*100/E29 -> 104.73856 | H29: =IF('Tabl. II'!B29>0,'Tabl. II'!H29*9/'Tabl. II'!B29,"X") -> 1.1286174 | I29: =IF('Tabl. II'!C29>0,'Tabl. II'!I29*9/'Tabl. II'!C29,"X") -> 1.1669571 | J29: =I29*100/H29 -> 103.39706
A30: Sprawy z zakresu prawa pracy - razem | B30: =IF('Tabl. II'!B30>0,'Tabl. II'!E30/'Tabl. II'!B30*100,"X") -> 92.121982 | C30: =IF('Tabl. II'!C30>0,'Tabl. II'!F30/'Tabl. II'!C30*100,"X") -> 97.066327 | D30: =C30*100/B30 -> 105.36717 | E30: =IF('Tabl. II'!E30>0,'Tabl. II'!H30/('Tabl. II'!E30/273.8),"X") -> 110.27531 | F30: =IF('Tabl. II'!F30>0,'Tabl. II'!I30/('Tabl. II'!F30/273.8),"X") -> 115.13272 | G30: =F30*100/E30 -> 104.4048 | H30: =IF('Tabl. II'!B30>0,'Tabl. II'!H30*9/'Tabl. II'!B30,"X") -> 3.339263 | I30: =IF('Tabl. II'!C30>0,'Tabl. II'!I30*9/'Tabl. II'!C30,"X") -> 3.6734694 | J30: =I30*100/H30 -> 110.00839
A31: II instancji - apelacje (A Pa) | B31: =IF('Tabl. II'!B31>0,'Tabl. II'!E31/'Tabl. II'!B31*100,"X") -> 78.637771 | C31: =IF('Tabl. II'!C31>0,'Tabl. II'!F31/'Tabl. II'!C31*100,"X") -> 88.929889 | D31: =C31*100/B31 -> 113.08801 | E31: =IF('Tabl. II'!E31>0,'Tabl. II'!H31/('Tabl. II'!E31/273.8),"X") -> 226.37008 | F31: =IF('Tabl. II'!F31>0,'Tabl. II'!I31/('Tabl. II'!F31/273.8),"X") -> 239.71701 | G31: =F31*100/E31 -> 105.89607 | H31: =IF('Tabl. II'!B31>0,'Tabl. II'!H31*9/'Tabl. II'!B31,"X") -> 5.8513932 | I31: =IF('Tabl. II'!C31>0,'Tabl. II'!I31*9/'Tabl. II'!C31,"X") -> 7.0073801 | J31: =I31*100/H31 -> 119.75575
A32: - zażalenia (A Pz) | B32: =IF('Tabl. II'!B32>0,'Tabl. II'!E32/'Tabl. II'!B32*100,"X") -> 101.13636 | C32: =IF('Tabl. II'!C32>0,'Tabl. II'!F32/'Tabl. II'!C32*100,"X") -> 104.21687 | D32: =C32*100/B32 -> 103.04589 | E32: =IF('Tabl. II'!E32>0,'Tabl. II'!H32/('Tabl. II'!E32/273.8),"X") -> 43.069663 | F32: =IF('Tabl. II'!F32>0,'Tabl. II'!I32/('Tabl. II'!F32/273.8),"X") -> 39.566474 | G32: =F32*100/E32 -> 91.866226 | H32: =IF('Tabl. II'!B32>0,'Tabl. II'!H32*9/'Tabl. II'!B32,"X") -> 1.4318182 | I32: =IF('Tabl. II'!C32>0,'Tabl. II'!I32*9/'Tabl. II'!C32,"X") -> 1.3554217 | J32: =I32*100/H32 -> 94.664372
A33: - ogólne (A Po) | B33: =IF('Tabl. II'!B33>0,'Tabl. II'!E33/'Tabl. II'!B33*100,"X") -> 100 | C33: =IF('Tabl. II'!C33>0,'Tabl. II'!F33/'Tabl. II'!C33*100,"X") -> 96.385542 | D33: =C33*100/B33 -> 96.385542 | E33: =IF('Tabl. II'!E33>0,'Tabl. II'!H33/('Tabl. II'!E33/273.8),"X") -> 60.102439 | F33: =IF('Tabl. II'!F33>0,'Tabl. II'!I33/('Tabl. II'!F33/273.8),"X") -> 119.7875 | G33: =F33*100/E33 -> 199.30556 | H33: =IF('Tabl. II'!B33>0,'Tabl. II'!H33*9/'Tabl. II'!B33,"X") -> 1.9756098 | I33: =IF('Tabl. II'!C33>0,'Tabl. II'!I33*9/'Tabl. II'!C33,"X") -> 3.7951807 | J33: =I33*100/H33 -> 192.10174
A34: skarga kasacyjna (WSC-pracy) | B34: =IF('Tabl. II'!B34>0,'Tabl. II'!E34/'Tabl. II'!B34*100,"X") -> 107.24638 | C34: =IF('Tabl. II'!C34>0,'Tabl. II'!F34/'Tabl. II'!C34*100,"X") -> 100 | D34: =C34*100/B34 -> 93.243243 | E34: =IF('Tabl. II'!E34>0,'Tabl. II'!H34/('Tabl. II'!E34/273.8),"X") -> 62.9 | F34: =IF('Tabl. II'!F34>0,'Tabl. II'!I34/('Tabl. II'!F34/273.8),"X") -> 73.88254 | G34: =F34*100/E34 -> 117.46032 | H34: =IF('Tabl. II'!B34>0,'Tabl. II'!H34*9/'Tabl. II'!B34,"X") -> 2.2173913 | I34: =IF('Tabl. II'!C34>0,'Tabl. II'!I34*9/'Tabl. II'!C34,"X") -> 2.4285714 | J34: =I34*100/H34 -> 109.52381
A35: skarga o stwierdzenie niezgodności z prawem (WSC-pracy) | B35: X | C35: =IF('Tabl. II'!C35>0,'Tabl. II'!F35/'Tabl. II'!C35*100,"X") -> 200 | D35: X | E35: X | F35: X | G35: X | H35: X | I35: X | J35: X
A36: skargi na postępowanie sądowe (S) | B36: =IF('Tabl. II'!B36>0,'Tabl. II'!E36/'Tabl. II'!B36*100,"X") -> 97.959184 | C36: =IF('Tabl. II'!C36>0,'Tabl. II'!F36/'Tabl. II'!C36*100,"X") -> 85.294118 | D36: =C36*100/B36 -> 87.071078 | E36: =IF('Tabl. II'!E36>0,'Tabl. II'!H36/('Tabl. II'!E36/273.8),"X") -> 28.520833 | F36: =IF('Tabl. II'!F36>0,'Tabl. II'!I36/('Tabl. II'!F36/273.8),"X") -> 66.089655 | G36: =F36*100/E36 -> 231.72414 | H36: =IF('Tabl. II'!B36>0,'Tabl. II'!H36*9/'Tabl. II'!B36,"X") -> 0.91836735 | I36: =IF('Tabl. II'!C36>0,'Tabl. II'!I36*9/'Tabl. II'!C36,"X") -> 1.8529412 | J36: =I36*100/H36 -> 201.76471
A37: Sprawy z zakresu ubezpieczeń społecznych - razem | B37: =IF('Tabl. II'!B37>0,'Tabl. II'!E37/'Tabl. II'!B37*100,"X") -> 112.67247 | C37: =IF('Tabl. II'!C37>0,'Tabl. II'!F37/'Tabl. II'!C37*100,"X") -> 87.486479 | D37: =C37*100/B37 -> 77.64672 | E37: =IF('Tabl. II'!E37>0,'Tabl. II'!H37/('Tabl. II'!E37/273.8),"X") -> 207.90489 | F37: =IF('Tabl. II'!F37>0,'Tabl. II'!I37/('Tabl. II'!F37/273.8),"X") -> 273.13831 | G37: =F37*100/E37 -> 131.37657 | H37: =IF('Tabl. II'!B37>0,'Tabl. II'!H37*9/'Tabl. II'!B37,"X") -> 7.7000153 | I37: =IF('Tabl. II'!C37>0,'Tabl. II'!I37*9/'Tabl. II'!C37,"X") -> 7.8547546 | J37: =I37*100/H37 -> 102.0096
A38: II instancji - apelacje (A Ua) | B38: =IF('Tabl. II'!B38>0,'Tabl. II'!E38/'Tabl. II'!B38*100,"X") -> 116.58416 | C38: =IF('Tabl. II'!C38>0,'Tabl. II'!F38/'Tabl. II'!C38*100,"X") -> 85.177138 | D38: =C38*100/B38 -> 73.060645 | E38: =IF('Tabl. II'!E38>0,'Tabl. II'!H38/('Tabl. II'!E38/273.8),"X") -> 235.18606 | F38: =IF('Tabl. II'!F38>0,'Tabl. II'!I38/('Tabl. II'!F38/273.8),"X") -> 332.33147 | G38: =F38*100/E38 -> 141.30577 | H38: =IF('Tabl. II'!B38>0,'Tabl. II'!H38*9/'Tabl. II'!B38,"X") -> 9.0128094 | I38: =IF('Tabl. II'!C38>0,'Tabl. II'!I38*9/'Tabl. II'!C38,"X") -> 9.3047257 | J38: =I38*100/H38 -> 103.2389
A39: - zażalenia (A Uz) | B39: =IF('Tabl. II'!B39>0,'Tabl. II'!E39/'Tabl. II'!B39*100,"X") -> 91.81778 | C39: =IF('Tabl. II'!C39>0,'Tabl. II'!F39/'Tabl. II'!C39*100,"X") -> 99.958385 | D39: =C39*100/B39 -> 108.86604 | E39: =IF('Tabl. II'!E39>0,'Tabl. II'!H39/('Tabl. II'!E39/273.8),"X") -> 55.65684 | F39: =IF('Tabl. II'!F39>0,'Tabl. II'!I39/('Tabl. II'!F39/273.8),"X") -> 37.730142 | G39: =F39*100/E39 -> 67.790664 | H39: =IF('Tabl. II'!B39>0,'Tabl. II'!H39*9/'Tabl. II'!B39,"X") -> 1.6797877 | I39: =IF('Tabl. II'!C39>0,'Tabl. II'!I39*9/'Tabl. II'!C39,"X") -> 1.2397004 | J39: =I39*100/H39 -> 73.801015
A40: ogólne (A Uo) | B40: =IF('Tabl. II'!B40>0,'Tabl. II'!E40/'Tabl. II'!B40*100,"X") -> 100 | C40: =IF('Tabl. II'!C40>0,'Tabl. II'!F40/'Tabl. II'!C40*100,"X") -> 121.42857 | D40: =C40*100/B40 -> 121.42857 | E40: =IF('Tabl. II'!E40>0,'Tabl. II'!H40/('Tabl. II'!E40/273.8),"X") -> 26.07619 | F40: X | G40: X | H40: =IF('Tabl. II'!B40>0,'Tabl. II'!H40*9/'Tabl. II'!B40,"X") -> 0.85714286 | I40: X | J40: X
A41: skarga kasacyjna (WSC-ubezp.) | B41: =IF('Tabl. II'!B41>0,'Tabl. II'!E41/'Tabl. II'!B41*100,"X") -> 99.253035 | C41: =IF('Tabl. II'!C41>0,'Tabl. II'!F41/'Tabl. II'!C41*100,"X") -> 92.40097 | D41: =C41*100/B41 -> 93.096368 | E41: =IF('Tabl. II'!E41>0,'Tabl. II'!H41/('Tabl. II'!E41/273.8),"X") -> 47.393415 | F41: =IF('Tabl. II'!F41>0,'Tabl. II'!I41/('Tabl. II'!F41/273.8),"X") -> 67.312161 | G41: =F41*100/E41 -> 142.02851 | H41: =IF('Tabl. II'!B41>0,'Tabl. II'!H41*9/'Tabl. II'!B41,"X") -> 1.5462185 | I41: =IF('Tabl. II'!C41>0,'Tabl. II'!I41*9/'Tabl. II'!C41,"X") -> 2.0444624 | J41: =I41*100/H41 -> 132.22338
A42: skarga o stwierdzenie niezgodności z prawem (WSC-ubezp.) | B42: =IF('Tabl. II'!B42>0,'Tabl. II'!E42/'Tabl. II'!B42*100,"X") -> 118.18182 | C42: =IF('Tabl. II'!C42>0,'Tabl. II'!F42/'Tabl. II'!C42*100,"X") -> 100 | D42: =C42*100/B42 -> 84.615385 | E42: =IF('Tabl. II'!E42>0,'Tabl. II'!H42/('Tabl. II'!E42/273.8),"X") -> 42.123077 | F42: =IF('Tabl. II'!F42>0,'Tabl. II'!I42/('Tabl. II'!F42/273.8),"X") -> 30.422222 | G42: =F42*100/E42 -> 72.222222 | H42: =IF('Tabl. II'!B42>0,'Tabl. II'!H42*9/'Tabl. II'!B42,"X") -> 1.6363636 | I42: =IF('Tabl. II'!C42>0,'Tabl. II'!I42*9/'Tabl. II'!C42,"X") -> 1 | J42: =I42*100/H42 -> 61.111111
A43: skargi na postępowanie sądowe (S) | B43: =IF('Tabl. II'!B43>0,'Tabl. II'!E43/'Tabl. II'!B43*100,"X") -> 100 | C43: =IF('Tabl. II'!C43>0,'Tabl. II'!F43/'Tabl. II'!C43*100,"X") -> 102.83019 | D43: =C43*100/B43 -> 102.83019 | E43: =IF('Tabl. II'!E43>0,'Tabl. II'!H43/('Tabl. II'!E43/273.8),"X") -> 25.74188 | F43: =IF('Tabl. II'!F43>0,'Tabl. II'!I43/('Tabl. II'!F43/273.8),"X") -> 17.583486 | G43: =F43*100/E43 -> 68.306922 | H43: =IF('Tabl. II'!B43>0,'Tabl. II'!H43*9/'Tabl. II'!B43,"X") -> 0.84615385 | I43: =IF('Tabl. II'!C43>0,'Tabl. II'!I43*9/'Tabl. II'!C43,"X") -> 0.59433962 | J43: =I43*100/H43 -> 70.240137
A44: W SĄDACH APELACYJNYCH (dok.)
A45: Sprawy gospodarcze - razem | B45: =IF('Tabl. II'!B45>0,'Tabl. II'!E45/'Tabl. II'!B45*100,"X") -> 70.39643 | C45: =IF('Tabl. II'!C45>0,'Tabl. II'!F45/'Tabl. II'!C45*100,"X") -> 101.9781 | D45: =C45*100/B45 -> 144.86261 | E45: =IF('Tabl. II'!E45>0,'Tabl. II'!H45/('Tabl. II'!E45/273.8),"X") -> 211.82455 | F45: =IF('Tabl. II'!F45>0,'Tabl. II'!I45/('Tabl. II'!F45/273.8),"X") -> 179.70526 | G45: =F45*100/E45 -> 84.836842 | H45: =IF('Tabl. II'!B45>0,'Tabl. II'!H45*9/'Tabl. II'!B45,"X") -> 4.9015789 | I45: =IF('Tabl. II'!C45>0,'Tabl. II'!I45*9/'Tabl. II'!C45,"X") -> 6.0238865 | J45: =I45*100/H45 -> 122.89686
A46: II instancji - apelacje (A Ca-gosp.) | B46: =IF('Tabl. II'!B46>0,'Tabl. II'!E46/'Tabl. II'!B46*100,"X") -> 76.610429 | C46: =IF('Tabl. II'!C46>0,'Tabl. II'!F46/'Tabl. II'!C46*100,"X") -> 77.189846 | D46: =C46*100/B46 -> 100.75632 | E46: =IF('Tabl. II'!E46>0,'Tabl. II'!H46/('Tabl. II'!E46/273.8),"X") -> 264.48148 | F46: =IF('Tabl. II'!F46>0,'Tabl. II'!I46/('Tabl. II'!F46/273.8),"X") -> 296.50042 | G46: =F46*100/E46 -> 112.10631 | H46: =IF('Tabl. II'!B46>0,'Tabl. II'!H46*9/'Tabl. II'!B46,"X") -> 6.6602761 | I46: =IF('Tabl. II'!C46>0,'Tabl. II'!I46*9/'Tabl. II'!C46,"X") -> 7.5230604 | J46: =I46*100/H46 -> 112.95418
A47: - zażalenia (A Cz-gosp.) | B47: =IF('Tabl. II'!B47>0,'Tabl. II'!E47/'Tabl. II'!B47*100,"X") -> 64.916468 | C47: =IF('Tabl. II'!C47>0,'Tabl. II'!F47/'Tabl. II'!C47*100,"X") -> 118.23368 | D47: =C47*100/B47 -> 182.13203 | E47: =IF('Tabl. II'!E47>0,'Tabl. II'!H47/('Tabl. II'!E47/273.8),"X") -> 223.31018 | F47: =IF('Tabl. II'!F47>0,'Tabl. II'!I47/('Tabl. II'!F47/273.8),"X") -> 152.14634 | G47: =F47*100/E47 -> 68.132292 | H47: =IF('Tabl. II'!B47>0,'Tabl. II'!H47*9/'Tabl. II'!B47,"X") -> 4.7651049 | I47: =IF('Tabl. II'!C47>0,'Tabl. II'!I47*9/'Tabl. II'!C47,"X") -> 5.9130534 | J47: =I47*100/H47 -> 124.09073
A48: ogólne (A Co-gosp.) | B48: =IF('Tabl. II'!B48>0,'Tabl. II'!E48/'Tabl. II'!B48*100,"X") -> 116.66667 | C48: =IF('Tabl. II'!C48>0,'Tabl. II'!F48/'Tabl. II'!C48*100,"X") -> 105.71429 | D48: =C48*100/B48 -> 90.612245 | E48: =IF('Tabl. II'!E48>0,'Tabl. II'!H48/('Tabl. II'!E48/273.8),"X") -> 7.8228571 | F48: =IF('Tabl. II'!F48>0,'Tabl. II'!I48/('Tabl. II'!F48/273.8),"X") -> 18.5 | G48: X | H48: =IF('Tabl. II'!B48>0,'Tabl. II'!H48*9/'Tabl. II'!B48,"X") -> 0.3 | I48: =IF('Tabl. II'!C48>0,'Tabl. II'!I48*9/'Tabl. II'!C48,"X") -> 0.64285714 | J48: X
A49: skarga kasacyjna (WSC-gosp.) | B49: =IF('Tabl. II'!B49>0,'Tabl. II'!E49/'Tabl. II'!B49*100,"X") -> 91.937425 | C49: =IF('Tabl. II'!C49>0,'Tabl. II'!F49/'Tabl. II'!C49*100,"X") -> 102.3166 | D49: =C49*100/B49 -> 111.28939 | E49: =IF('Tabl. II'!E49>0,'Tabl. II'!H49/('Tabl. II'!E49/273.8),"X") -> 59.490576 | F49: =IF('Tabl. II'!F49>0,'Tabl. II'!I49/('Tabl. II'!F49/273.8),"X") -> 54.243396 | G49: =F49*100/E49 -> 91.179814 | H49: =IF('Tabl. II'!B49>0,'Tabl. II'!H49*9/'Tabl. II'!B49,"X") -> 1.7978339 | I49: =IF('Tabl. II'!C49>0,'Tabl. II'!I49*9/'Tabl. II'!C49,"X") -> 1.8243243 | J49: =I49*100/H49 -> 101.47346
A50: skarga o stwierdzenie niezgodności z prawem (WSC-gosp.) | B50: =IF('Tabl. II'!B50>0,'Tabl. II'!E50/'Tabl. II'!B50*100,"X") -> 133.33333 | C50: =IF('Tabl. II'!C50>0,'Tabl. II'!F50/'Tabl. II'!C50*100,"X") -> 100 | D50: X | E50: =IF('Tabl. II'!E50>0,'Tabl. II'!H50/('Tabl. II'!E50/273.8),"X") -> 68.45 | F50: =IF('Tabl. II'!F50>0,'Tabl. II'!I50/('Tabl. II'!F50/273.8),"X") -> 91.266667 | G50: X | H50: =IF('Tabl. II'!B50>0,'Tabl. II'!H50*9/'Tabl. II'!B50,"X") -> 3 | I50: =IF('Tabl. II'!C50>0,'Tabl. II'!I50*9/'Tabl. II'!C50,"X") -> 3 | J50: X
A51: skargi na postępowanie sądowe (S) | B51: =IF('Tabl. II'!B51>0,'Tabl. II'!E51/'Tabl. II'!B51*100,"X") -> 106.33484 | C51: =IF('Tabl. II'!C51>0,'Tabl. II'!F51/'Tabl. II'!C51*100,"X") -> 93.207547 | D51: =C51*100/B51 -> 87.654757 | E51: =IF('Tabl. II'!E51>0,'Tabl. II'!H51/('Tabl. II'!E51/273.8),"X") -> 39.613617 | F51: =IF('Tabl. II'!F51>0,'Tabl. II'!I51/('Tabl. II'!F51/273.8),"X") -> 56.533603 | G51: =F51*100/E51 -> 142.71255 | H51: =IF('Tabl. II'!B51>0,'Tabl. II'!H51*9/'Tabl. II'!B51,"X") -> 1.3846154 | I51: =IF('Tabl. II'!C51>0,'Tabl. II'!I51*9/'Tabl. II'!C51,"X") -> 1.7320755 | J51: =I51*100/H51 -> 125.09434
A52: W SĄDACH OKRĘGOWYCH - OGÓŁEM | B52: =IF('Tabl. II'!B52>0,'Tabl. II'!E52/'Tabl. II'!B52*100,"X") -> 97.592837 | C52: =IF('Tabl. II'!C52>0,'Tabl. II'!F52/'Tabl. II'!C52*100,"X") -> 98.172026 | D52: =C52*100/B52 -> 100.59348 | E52: =IF('Tabl. II'!E52>0,'Tabl. II'!H52/('Tabl. II'!E52/273.8),"X") -> 123.1064 | F52: =IF('Tabl. II'!F52>0,'Tabl. II'!I52/('Tabl. II'!F52/273.8),"X") -> 121.10843 | G52: =F52*100/E52 -> 98.377039 | H52: =IF('Tabl. II'!B52>0,'Tabl. II'!H52*9/'Tabl. II'!B52,"X") -> 3.9491863 | I52: =IF('Tabl. II'!C52>0,'Tabl. II'!I52*9/'Tabl. II'!C52,"X") -> 3.9081496 | J52: =I52*100/H52 -> 98.960882
A53: Sprawy karne i wykroczeniowe - razem | B53: =IF('Tabl. II'!B53>0,'Tabl. II'!E53/'Tabl. II'!B53*100,"X") -> 97.863836 | C53: =IF('Tabl. II'!C53>0,'Tabl. II'!F53/'Tabl. II'!C53*100,"X") -> 98.228406 | D53: =C53*100/B53 -> 100.37253 | E53: =IF('Tabl. II'!E53>0,'Tabl. II'!H53/('Tabl. II'!E53/273.8),"X") -> 46.24828 | F53: =IF('Tabl. II'!F53>0,'Tabl. II'!I53/('Tabl. II'!F53/273.8),"X") -> 44.051691 | G53: =F53*100/E53 -> 95.250442 | H53: =IF('Tabl. II'!B53>0,'Tabl. II'!H53*9/'Tabl. II'!B53,"X") -> 1.4877395 | I53: =IF('Tabl. II'!C53>0,'Tabl. II'!I53*9/'Tabl. II'!C53,"X") -> 1.4223574 | J53: =I53*100/H53 -> 95.605276
A54: I instancji (K) | B54: =IF('Tabl. II'!B54>0,'Tabl. II'!E54/'Tabl. II'!B54*100,"X") -> 99.413748 | C54: =IF('Tabl. II'!C54>0,'Tabl. II'!F54/'Tabl. II'!C54*100,"X") -> 91.995773 | D54: =C54*100/B54 -> 92.538281 | E54: =IF('Tabl. II'!E54>0,'Tabl. II'!H54/('Tabl. II'!E54/273.8),"X") -> 241.70933 | F54: =IF('Tabl. II'!F54>0,'Tabl. II'!I54/('Tabl. II'!F54/273.8),"X") -> 247.38312 | G54: =F54*100/E54 -> 102.34736 | H54: =IF('Tabl. II'!B54>0,'Tabl. II'!H54*9/'Tabl. II'!B54,"X") -> 7.8985783 | I54: =IF('Tabl. II'!C54>0,'Tabl. II'!I54*9/'Tabl. II'!C54,"X") -> 7.4807819 | J54: =I54*100/H54 -> 94.710486
A55: w tym odpowiedzialność podmiotów zbiorowych | B55: X | C55: X | D55: X | E55: X | F55: X | G55: X | H55: X | I55: X | J55: X
A56: penitencjarne: - sprawy dotyczące wkonywania kary pozbawienia wolności; np.: przerw, odwołania warunkowego zwolnienia, zmiany określonego wyroku i typu zakładu karnego (Kow) | B56: =IF('Tabl. II'!B56>0,'Tabl. II'!E56/'Tabl. II'!B56*100,"X") -> 99.267481 | C56: =IF('Tabl. II'!C56>0,'Tabl. II'!F56/'Tabl. II'!C56*100,"X") -> 99.439959 | D56: =C56*100/B56 -> 100.17375 | E56: =IF('Tabl. II'!E56>0,'Tabl. II'!H56/('Tabl. II'!E56/273.8),"X") -> 41.12593 | F56: =IF('Tabl. II'!F56>0,'Tabl. II'!I56/('Tabl. II'!F56/273.8),"X") -> 39.138807 | G56: =F56*100/E56 -> 95.168199 | H56: =IF('Tabl. II'!B56>0,'Tabl. II'!H56*9/'Tabl. II'!B56,"X") -> 1.341936 | I56: =IF('Tabl. II'!C56>0,'Tabl. II'!I56*9/'Tabl. II'!C56,"X") -> 1.2793153 | J56: =I56*100/H56 -> 95.333555
A57: - sprawy dotyczące wykonywania nadzoru sędziego penitencjarnego nad tymczasowym aresztowaniem lub karą pozbawienia wolności (Pen) | B57: =IF('Tabl. II'!B57>0,'Tabl. II'!E57/'Tabl. II'!B57*100,"X") -> 99.641148 | C57: =IF('Tabl. II'!C57>0,'Tabl. II'!F57/'Tabl. II'!C57*100,"X") -> 98.334381 | D57: =C57*100/B57 -> 98.688526 | E57: =IF('Tabl. II'!E57>0,'Tabl. II'!H57/('Tabl. II'!E57/273.8),"X") -> 13.805042 | F57: =IF('Tabl. II'!F57>0,'Tabl. II'!I57/('Tabl. II'!F57/273.8),"X") -> 15.950728 | G57: =F57*100/E57 -> 115.54277 | H57: =IF('Tabl. II'!B57>0,'Tabl. II'!H57*9/'Tabl. II'!B57,"X") -> 0.45215311 | I57: =IF('Tabl. II'!C57>0,'Tabl. II'!I57*9/'Tabl. II'!C57,"X") -> 0.5155787 | J57: =I57*100/H57 -> 114.02746
A58: nadzór sądowy nad postępowaniem przygotowawczym (Kp) | B58: =IF('Tabl. II'!B58>0,'Tabl. II'!E58/'Tabl. II'!B58*100,"X") -> 98.988273 | C58: =IF('Tabl. II'!C58>0,'Tabl. II'!F58/'Tabl. II'!C58*100,"X") -> 99.037501 | D58: =C58*100/B58 -> 100.04973 | E58: =IF('Tabl. II'!E58>0,'Tabl. II'!H58/('Tabl. II'!E58/273.8),"X") -> 12.329404 | F58: =IF('Tabl. II'!F58>0,'Tabl. II'!I58/('Tabl. II'!F58/273.8),"X") -> 10.942798 | G58: =F58*100/E58 -> 88.753663 | H58: =IF('Tabl. II'!B58>0,'Tabl. II'!H58*9/'Tabl. II'!B58,"X") -> 0.40117597 | I58: =IF('Tabl. II'!C58>0,'Tabl. II'!I58*9/'Tabl. II'!C58,"X") -> 0.35623544 | J58: =I58*100/H58 -> 88.797801
A59: Kop | B59: =IF('Tabl. II'!B59>0,'Tabl. II'!E59/'Tabl. II'!B59*100,"X") -> 96.762786 | C59: =IF('Tabl. II'!C59>0,'Tabl. II'!F59/'Tabl. II'!C59*100,"X") -> 98.751857 | D59: =C59*100/B59 -> 102.05562 | E59: =IF('Tabl. II'!E59>0,'Tabl. II'!H59/('Tabl. II'!E59/273.8),"X") -> 37.332865 | F59: =IF('Tabl. II'!F59>0,'Tabl. II'!I59/('Tabl. II'!F59/273.8),"X") -> 41.444899 | G59: =F59*100/E59 -> 111.01452 | H59: =IF('Tabl. II'!B59>0,'Tabl. II'!H59*9/'Tabl. II'!B59,"X") -> 1.187432 | I59: =IF('Tabl. II'!C59>0,'Tabl. II'!I59*9/'Tabl. II'!C59,"X") -> 1.3453195 | J59: =I59*100/H59 -> 113.29655
A60: II instancji - apelacje w sprawach karnych (Ka) | B60: =IF('Tabl. II'!B60>0,'Tabl. II'!E60/'Tabl. II'!B60*100,"X") -> 91.033828 | C60: =IF('Tabl. II'!C60>0,'Tabl. II'!F60/'Tabl. II'!C60*100,"X") -> 93.476476 | D60: =C60*100/B60 -> 102.68323 | E60: =IF('Tabl. II'!E60>0,'Tabl. II'!H60/('Tabl. II'!E60/273.8),"X") -> 97.972783 | F60: =IF('Tabl. II'!F60>0,'Tabl. II'!I60/('Tabl. II'!F60/273.8),"X") -> 87.334378 | G60: =F60*100/E60 -> 89.141469 | H60: =IF('Tabl. II'!B60>0,'Tabl. II'!H60*9/'Tabl. II'!B60,"X") -> 2.931685 | I60: =IF('Tabl. II'!C60>0,'Tabl. II'!I60*9/'Tabl. II'!C60,"X") -> 2.6834693 | J60: =I60*100/H60 -> 91.533342
A61: - zażalenia w sprawach karnych (Kz) | B61: =IF('Tabl. II'!B61>0,'Tabl. II'!E61/'Tabl. II'!B61*100,"X") -> 97.609355 | C61: =IF('Tabl. II'!C61>0,'Tabl. II'!F61/'Tabl. II'!C61*100,"X") -> 99.683573 | D61: =C61*100/B61 -> 102.12502 | E61: =IF('Tabl. II'!E61>0,'Tabl. II'!H61/('Tabl. II'!E61/273.8),"X") -> 28.764779 | F61: =IF('Tabl. II'!F61>0,'Tabl. II'!I61/('Tabl. II'!F61/273.8),"X") -> 26.048599 | G61: =F61*100/E61 -> 90.557273 | H61: =IF('Tabl. II'!B61>0,'Tabl. II'!H61*9/'Tabl. II'!B61,"X") -> 0.92291466 | I61: =IF('Tabl. II'!C61>0,'Tabl. II'!I61*9/'Tabl. II'!C61,"X") -> 0.85352655 | J61: =I61*100/H61 -> 92.481633
A62: zażalenia na postanowienia w postępowaniu wykonawczym (Kzw) | B62: =IF('Tabl. II'!B62>0,'Tabl. II'!E62/'Tabl. II'!B62*100,"X") -> 98.600524 | C62: =IF('Tabl. II'!C62>0,'Tabl. II'!F62/'Tabl. II'!C62*100,"X") -> 101.96131 | D62: =C62*100/B62 -> 103.40848 | E62: =IF('Tabl. II'!E62>0,'Tabl. II'!H62/('Tabl. II'!E62/273.8),"X") -> 44.386798 | F62: =IF('Tabl. II'!F62>0,'Tabl. II'!I62/('Tabl. II'!F62/273.8),"X") -> 38.790125 | G62: =F62*100/E62 -> 87.391131 | H62: =IF('Tabl. II'!B62>0,'Tabl. II'!H62*9/'Tabl. II'!B62,"X") -> 1.4386068 | I62: =IF('Tabl. II'!C62>0,'Tabl. II'!I62*9/'Tabl. II'!C62,"X") -> 1.3000667 | J62: =I62*100/H62 -> 90.369845
A63: ogólne (Ko) | B63: =IF('Tabl. II'!B63>0,'Tabl. II'!E63/'Tabl. II'!B63*100,"X") -> 98.550673 | C63: =IF('Tabl. II'!C63>0,'Tabl. II'!F63/'Tabl. II'!C63*100,"X") -> 96.859064 | D63: =C63*100/B63 -> 98.283513 | E63: =IF('Tabl. II'!E63>0,'Tabl. II'!H63/('Tabl. II'!E63/273.8),"X") -> 36.4572 | F63: =IF('Tabl. II'!F63>0,'Tabl. II'!I63/('Tabl. II'!F63/273.8),"X") -> 36.919846 | G63: =F63*100/E63 -> 101.26901 | H63: =IF('Tabl. II'!B63>0,'Tabl. II'!H63*9/'Tabl. II'!B63,"X") -> 1.1810056 | I63: =IF('Tabl. II'!C63>0,'Tabl. II'!I63*9/'Tabl. II'!C63,"X") -> 1.1754637 | J63: =I63*100/H63 -> 99.530743
A64: kasacje (WKK) | B64: =IF('Tabl. II'!B64>0,'Tabl. II'!E64/'Tabl. II'!B64*100,"X") -> 100.90806 | C64: =IF('Tabl. II'!C64>0,'Tabl. II'!F64/'Tabl. II'!C64*100,"X") -> 105.63549 | D64: =C64*100/B64 -> 104.68489 | E64: =IF('Tabl. II'!E64>0,'Tabl. II'!H64/('Tabl. II'!E64/273.8),"X") -> 83.772328 | F64: =IF('Tabl. II'!F64>0,'Tabl. II'!I64/('Tabl. II'!F64/273.8),"X") -> 78.938933 | G64: =F64*100/E64 -> 94.23032 | H64: =IF('Tabl. II'!B64>0,'Tabl. II'!H64*9/'Tabl. II'!B64,"X") -> 2.7786606 | I64: =IF('Tabl. II'!C64>0,'Tabl. II'!I64*9/'Tabl. II'!C64,"X") -> 2.7410072 | J64: =I64*100/H64 -> 98.644908
A65: skargi na postępowanie sądowe i prokuratorskie (S) | B65: =IF('Tabl. II'!B65>0,'Tabl. II'!E65/'Tabl. II'!B65*100,"X") -> 96.846632 | C65: =IF('Tabl. II'!C65>0,'Tabl. II'!F65/'Tabl. II'!C65*100,"X") -> 98.818898 | D65: =C65*100/B65 -> 102.03648 | E65: =IF('Tabl. II'!E65>0,'Tabl. II'!H65/('Tabl. II'!E65/273.8),"X") -> 31.472817 | F65: =IF('Tabl. II'!F65>0,'Tabl. II'!I65/('Tabl. II'!F65/273.8),"X") -> 33.997742 | G65: =F65*100/E65 -> 108.02256 | H65: =IF('Tabl. II'!B65>0,'Tabl. II'!H65*9/'Tabl. II'!B65,"X") -> 1.0019111 | I65: =IF('Tabl. II'!C65>0,'Tabl. II'!I65*9/'Tabl. II'!C65,"X") -> 1.1043307 | J65: =I65*100/H65 -> 110.22242
A66: W SĄDACH OKRĘGOWYCH (c.d.)
A67: Sprawy cywilne - razem | B67: =IF('Tabl. II'!B67>0,'Tabl. II'!E67/'Tabl. II'!B67*100,"X") -> 92.943859 | C67: =IF('Tabl. II'!C67>0,'Tabl. II'!F67/'Tabl. II'!C67*100,"X") -> 94.933857 | D67: =C67*100/B67 -> 102.14107 | E67: =IF('Tabl. II'!E67>0,'Tabl. II'!H67/('Tabl. II'!E67/273.8),"X") -> 168.70028 | F67: =IF('Tabl. II'!F67>0,'Tabl. II'!I67/('Tabl. II'!F67/273.8),"X") -> 164.93103 | G67: =F67*100/E67 -> 97.76571 | H67: =IF('Tabl. II'!B67>0,'Tabl. II'!H67*9/'Tabl. II'!B67,"X") -> 5.1540138 | I67: =IF('Tabl. II'!C67>0,'Tabl. II'!I67*9/'Tabl. II'!C67,"X") -> 5.1467439 | J67: =I67*100/H67 -> 99.858946
A68: I instancji - procesowe (C i RC)a) | B68: =IF('Tabl. II'!B68>0,'Tabl. II'!E68/'Tabl. II'!B68*100,"X") -> 91.92199 | C68: =IF('Tabl. II'!C68>0,'Tabl. II'!F68/'Tabl. II'!C68*100,"X") -> 95.923188 | D68: =C68*100/B68 -> 104.35282 | E68: =IF('Tabl. II'!E68>0,'Tabl. II'!H68/('Tabl. II'!E68/273.8),"X") -> 280.59231 | F68: =IF('Tabl. II'!F68>0,'Tabl. II'!I68/('Tabl. II'!F68/273.8),"X") -> 274.78172 | G68: =F68*100/E68 -> 97.92917 | H68: =IF('Tabl. II'!B68>0,'Tabl. II'!H68*9/'Tabl. II'!B68,"X") -> 8.4782114 | I68: =IF('Tabl. II'!C68>0,'Tabl. II'!I68*9/'Tabl. II'!C68,"X") -> 8.664041 | J68: =I68*100/H68 -> 102.19185
A69: - szkody geologiczne i górnicze (CG-G) | B69: =IF('Tabl. II'!B69>0,'Tabl. II'!E69/'Tabl. II'!B69*100,"X") -> 68.75 | C69: =IF('Tabl. II'!C69>0,'Tabl. II'!F69/'Tabl. II'!C69*100,"X") -> 115.74074 | D69: =C69*100/B69 -> 168.35017 | E69: =IF('Tabl. II'!E69>0,'Tabl. II'!H69/('Tabl. II'!E69/273.8),"X") -> 768.85253 | F69: =IF('Tabl. II'!F69>0,'Tabl. II'!I69/('Tabl. II'!F69/273.8),"X") -> 560.7424 | G69: =F69*100/E69 -> 72.932374 | H69: =IF('Tabl. II'!B69>0,'Tabl. II'!H69*9/'Tabl. II'!B69,"X") -> 17.375 | I69: =IF('Tabl. II'!C69>0,'Tabl. II'!I69*9/'Tabl. II'!C69,"X") -> 21.333333 | J69: =I69*100/H69 -> 122.78177
A70: - nieprocesowe (Ns)a) (z wył. rej.) | B70: =IF('Tabl. II'!B70>0,'Tabl. II'!E70/'Tabl. II'!B70*100,"X") -> 89.480291 | C70: =IF('Tabl. II'!C70>0,'Tabl. II'!F70/'Tabl. II'!C70*100,"X") -> 98.366547 | D70: =C70*100/B70 -> 109.93096 | E70: =IF('Tabl. II'!E70>0,'Tabl. II'!H70/('Tabl. II'!E70/273.8),"X") -> 183.48083 | F70: =IF('Tabl. II'!F70>0,'Tabl. II'!I70/('Tabl. II'!F70/273.8),"X") -> 168.65844 | G70: =F70*100/E70 -> 91.921559 | H70: =IF('Tabl. II'!B70>0,'Tabl. II'!H70*9/'Tabl. II'!B70,"X") -> 5.3966859 | I70: =IF('Tabl. II'!C70>0,'Tabl. II'!I70*9/'Tabl. II'!C70,"X") -> 5.4533649 | J70: =I70*100/H70 -> 101.05026
A71: - rejestrowe | B71: =IF('Tabl. II'!B71>0,'Tabl. II'!E71/'Tabl. II'!B71*100,"X") -> 102.33353 | C71: =IF('Tabl. II'!C71>0,'Tabl. II'!F71/'Tabl. II'!C71*100,"X") -> 101.74789 | D71: =C71*100/B71 -> 99.427712 | E71: =IF('Tabl. II'!E71>0,'Tabl. II'!H71/('Tabl. II'!E71/273.8),"X") -> 14.356107 | F71: =IF('Tabl. II'!F71>0,'Tabl. II'!I71/('Tabl. II'!F71/273.8),"X") -> 21.683971 | G71: =F71*100/E71 -> 151.04353 | H71: =IF('Tabl. II'!B71>0,'Tabl. II'!H71*9/'Tabl. II'!B71,"X") -> 0.48290725 | I71: =IF('Tabl. II'!C71>0,'Tabl. II'!I71*9/'Tabl. II'!C71,"X") -> 0.72522589 | J71: =I71*100/H71 -> 150.17913
A72: w tym:
A73: z zakresu rejestru dzienników i czasopism (Ns.Rej.Pr) | B73: =IF('Tabl. II'!B73>0,'Tabl. II'!E73/'Tabl. II'!B73*100,"X") -> 101.79202 | C73: =IF('Tabl. II'!C73>0,'Tabl. II'!F73/'Tabl. II'!C73*100,"X") -> 102.332 | D73: =C73*100/B73 -> 100.53047 | E73: =IF('Tabl. II'!E73>0,'Tabl. II'!H73/('Tabl. II'!E73/273.8),"X") -> 19.937957 | F73: =IF('Tabl. II'!F73>0,'Tabl. II'!I73/('Tabl. II'!F73/273.8),"X") -> 22.207253 | G73: =F73*100/E73 -> 111.38179 | H73: =IF('Tabl. II'!B73>0,'Tabl. II'!H73*9/'Tabl. II'!B73,"X") -> 0.6671192 | I73: =IF('Tabl. II'!C73>0,'Tabl. II'!I73*9/'Tabl. II'!C73,"X") -> 0.74699097 | J73: =I73*100/H73 -> 111.97264
A74: Partie | B74: =IF('Tabl. II'!B74>0,'Tabl. II'!E74/'Tabl. II'!B74*100,"X") -> 80.952381 | C74: =IF('Tabl. II'!C74>0,'Tabl. II'!F74/'Tabl. II'!C74*100,"X") -> 105.81395 | D74: =C74*100/B74 -> 130.71135 | E74: =IF('Tabl. II'!E74>0,'Tabl. II'!H74/('Tabl. II'!E74/273.8),"X") -> 134.21569 | F74: =IF('Tabl. II'!F74>0,'Tabl. II'!I74/('Tabl. II'!F74/273.8),"X") -> 75.21978 | G74: =F74*100/E74 -> 56.043956 | H74: =IF('Tabl. II'!B74>0,'Tabl. II'!H74*9/'Tabl. II'!B74,"X") -> 3.5714286 | I74: =IF('Tabl. II'!C74>0,'Tabl. II'!I74*9/'Tabl. II'!C74,"X") -> 2.6162791 | J74: =I74*100/H74 -> 73.255814
A75: Fundusze emerytalne | B75: =IF('Tabl. II'!B75>0,'Tabl. II'!E75/'Tabl. II'!B75*100,"X") -> 105.06329 | C75: =IF('Tabl. II'!C75>0,'Tabl. II'!F75/'Tabl. II'!C75*100,"X") -> 111.53846 | D75: =C75*100/B75 -> 106.16311 | E75: =IF('Tabl. II'!E75>0,'Tabl. II'!H75/('Tabl. II'!E75/273.8),"X") -> 16.493976 | F75: =IF('Tabl. II'!F75>0,'Tabl. II'!I75/('Tabl. II'!F75/273.8),"X") -> 9.4413793 | G75: =F75*100/E75 -> 57.241379 | H75: =IF('Tabl. II'!B75>0,'Tabl. II'!H75*9/'Tabl. II'!B75,"X") -> 0.56962025 | I75: =IF('Tabl. II'!C75>0,'Tabl. II'!I75*9/'Tabl. II'!C75,"X") -> 0.34615385 | J75: =I75*100/H75 -> 60.769231
A76: Fundusze inwestycyjne | B76: =IF('Tabl. II'!B76>0,'Tabl. II'!E76/'Tabl. II'!B76*100,"X") -> 103.41027 | C76: =IF('Tabl. II'!C76>0,'Tabl. II'!F76/'Tabl. II'!C76*100,"X") -> 100.64127 | D76: =C76*100/B76 -> 97.322318 | E76: =IF('Tabl. II'!E76>0,'Tabl. II'!H76/('Tabl. II'!E76/273.8),"X") -> 5.28994 | F76: =IF('Tabl. II'!F76>0,'Tabl. II'!I76/('Tabl. II'!F76/273.8),"X") -> 19.19063 | G76: =F76*100/E76 -> 362.77594 | H76: =IF('Tabl. II'!B76>0,'Tabl. II'!H76*9/'Tabl. II'!B76,"X") -> 0.17981399 | I76: =IF('Tabl. II'!C76>0,'Tabl. II'!I76*9/'Tabl. II'!C76,"X") -> 0.63485477 | J76: =I76*100/H76 -> 353.06195
A77: - nakazowe i upominawcze (Nc) | B77: =IF('Tabl. II'!B77>0,'Tabl. II'!E77/'Tabl. II'!B77*100,"X") -> 99.268895 | C77: =IF('Tabl. II'!C77>0,'Tabl. II'!F77/'Tabl. II'!C77*100,"X") -> 101.79811 | D77: =C77*100/B77 -> 102.54785 | E77: =IF('Tabl. II'!E77>0,'Tabl. II'!H77/('Tabl. II'!E77/273.8),"X") -> 34.12352 | F77: =IF('Tabl. II'!F77>0,'Tabl. II'!I77/('Tabl. II'!F77/273.8),"X") -> 29.831654 | G77: =F77*100/E77 -> 87.422559 | H77: =IF('Tabl. II'!B77>0,'Tabl. II'!H77*9/'Tabl. II'!B77,"X") -> 1.1134637 | I77: =IF('Tabl. II'!C77>0,'Tabl. II'!I77*9/'Tabl. II'!C77,"X") -> 0.99821969 | J77: =I77*100/H77 -> 89.649951
A78: ogólne (Co I inst.) | B78: =IF('Tabl. II'!B78>0,'Tabl. II'!E78/'Tabl. II'!B78*100,"X") -> 98.188599 | C78: =IF('Tabl. II'!C78>0,'Tabl. II'!F78/'Tabl. II'!C78*100,"X") -> 97.847091 | D78: =C78*100/B78 -> 99.652192 | E78: =IF('Tabl. II'!E78>0,'Tabl. II'!H78/('Tabl. II'!E78/273.8),"X") -> 58.384916 | F78: =IF('Tabl. II'!F78>0,'Tabl. II'!I78/('Tabl. II'!F78/273.8),"X") -> 57.980831 | G78: =F78*100/E78 -> 99.307895 | H78: =IF('Tabl. II'!B78>0,'Tabl. II'!H78*9/'Tabl. II'!B78,"X") -> 1.88439 | I78: =IF('Tabl. II'!C78>0,'Tabl. II'!I78*9/'Tabl. II'!C78,"X") -> 1.8648393 | J78: =I78*100/H78 -> 98.962494
A79: skarga o stwierdzenie niezgodności z prawem (WSC) | B79: =IF('Tabl. II'!B79>0,'Tabl. II'!E79/'Tabl. II'!B79*100,"X") -> 102.5641 | C79: =IF('Tabl. II'!C79>0,'Tabl. II'!F79/'Tabl. II'!C79*100,"X") -> 94.736842 | D79: =C79*100/B79 -> 92.368421 | E79: =IF('Tabl. II'!E79>0,'Tabl. II'!H79/('Tabl. II'!E79/273.8),"X") -> 41.07 | F79: =IF('Tabl. II'!F79>0,'Tabl. II'!I79/('Tabl. II'!F79/273.8),"X") -> 60.844444 | G79: =F79*100/E79 -> 148.14815 | H79: =IF('Tabl. II'!B79>0,'Tabl. II'!H79*9/'Tabl. II'!B79,"X") -> 1.3846154 | I79: =IF('Tabl. II'!C79>0,'Tabl. II'!I79*9/'Tabl. II'!C79,"X") -> 1.8947368 | J79: =I79*100/H79 -> 136.84211
A80: II instancji - apelacje (Ca)a) | B80: =IF('Tabl. II'!B80>0,'Tabl. II'!E80/'Tabl. II'!B80*100,"X") -> 88.346653 | C80: =IF('Tabl. II'!C80>0,'Tabl. II'!F80/'Tabl. II'!C80*100,"X") -> 89.002888 | D80: =C80*100/B80 -> 100.7428 | E80: =IF('Tabl. II'!E80>0,'Tabl. II'!H80/('Tabl. II'!E80/273.8),"X") -> 151.19276 | F80: =IF('Tabl. II'!F80>0,'Tabl. II'!I80/('Tabl. II'!F80/273.8),"X") -> 152.08459 | G80: =F80*100/E80 -> 100.58986 | H80: =IF('Tabl. II'!B80>0,'Tabl. II'!H80*9/'Tabl. II'!B80,"X") -> 4.3906635 | I80: =IF('Tabl. II'!C80>0,'Tabl. II'!I80*9/'Tabl. II'!C80,"X") -> 4.4493685 | J80: =I80*100/H80 -> 101.33704
A81: - zażalenia (Cz)a) | B81: =IF('Tabl. II'!B81>0,'Tabl. II'!E81/'Tabl. II'!B81*100,"X") -> 95.153782 | C81: =IF('Tabl. II'!C81>0,'Tabl. II'!F81/'Tabl. II'!C81*100,"X") -> 94.054581 | D81: =C81*100/B81 -> 98.844816 | E81: =IF('Tabl. II'!E81>0,'Tabl. II'!H81/('Tabl. II'!E81/273.8),"X") -> 51.771522 | F81: =IF('Tabl. II'!F81>0,'Tabl. II'!I81/('Tabl. II'!F81/273.8),"X") -> 56.778852 | G81: =F81*100/E81 -> 109.67198 | H81: =IF('Tabl. II'!B81>0,'Tabl. II'!H81*9/'Tabl. II'!B81,"X") -> 1.6192953 | I81: =IF('Tabl. II'!C81>0,'Tabl. II'!I81*9/'Tabl. II'!C81,"X") -> 1.7553981 | J81: =I81*100/H81 -> 108.40507
A82: ogólne (Co II inst.) | B82: =IF('Tabl. II'!B82>0,'Tabl. II'!E82/'Tabl. II'!B82*100,"X") -> 99.674267 | C82: =IF('Tabl. II'!C82>0,'Tabl. II'!F82/'Tabl. II'!C82*100,"X") -> 95.512821 | D82: =C82*100/B82 -> 95.824954 | E82: =IF('Tabl. II'!E82>0,'Tabl. II'!H82/('Tabl. II'!E82/273.8),"X") -> 20.579739 | F82: =IF('Tabl. II'!F82>0,'Tabl. II'!I82/('Tabl. II'!F82/273.8),"X") -> 43.489485 | G82: =F82*100/E82 -> 211.32186 | H82: =IF('Tabl. II'!B82>0,'Tabl. II'!H82*9/'Tabl. II'!B82,"X") -> 0.6742671 | I82: =IF('Tabl. II'!C82>0,'Tabl. II'!I82*9/'Tabl. II'!C82,"X") -> 1.3653846 | J82: =I82*100/H82 -> 202.49907
A83: skarga kasacyjna (WSC) | B83: =IF('Tabl. II'!B83>0,'Tabl. II'!E83/'Tabl. II'!B83*100,"X") -> 98.969889 | C83: =IF('Tabl. II'!C83>0,'Tabl. II'!F83/'Tabl. II'!C83*100,"X") -> 93.716881 | D83: =C83*100/B83 -> 94.692317 | E83: =IF('Tabl. II'!E83>0,'Tabl. II'!H83/('Tabl. II'!E83/273.8),"X") -> 71.683427 | F83: =IF('Tabl. II'!F83>0,'Tabl. II'!I83/('Tabl. II'!F83/273.8),"X") -> 80.503393 | G83: =F83*100/E83 -> 112.30405 | H83: =IF('Tabl. II'!B83>0,'Tabl. II'!H83*9/'Tabl. II'!B83,"X") -> 2.3320127 | I83: =IF('Tabl. II'!C83>0,'Tabl. II'!I83*9/'Tabl. II'!C83,"X") -> 2.4799394 | J83: =I83*100/H83 -> 106.34331
A84: skarga o stwierdzenie niezgodności z prawem (WSC II inst.) | B84: =IF('Tabl. II'!B84>0,'Tabl. II'!E84/'Tabl. II'!B84*100,"X") -> 93.596059 | C84: =IF('Tabl. II'!C84>0,'Tabl. II'!F84/'Tabl. II'!C84*100,"X") -> 95.024876 | D84: =C84*100/B84 -> 101.52658 | E84: =IF('Tabl. II'!E84>0,'Tabl. II'!H84/('Tabl. II'!E84/273.8),"X") -> 79.257895 | F84: =IF('Tabl. II'!F84>0,'Tabl. II'!I84/('Tabl. II'!F84/273.8),"X") -> 70.241885 | G84: =F84*100/E84 -> 88.624465 | H84: =IF('Tabl. II'!B84>0,'Tabl. II'!H84*9/'Tabl. II'!B84,"X") -> 2.4384236 | I84: =IF('Tabl. II'!C84>0,'Tabl. II'!I84*9/'Tabl. II'!C84,"X") -> 2.1940299 | J84: =I84*100/H84 -> 89.977386
A85: skargi na postępowanie sądowe (S) | B85: =IF('Tabl. II'!B85>0,'Tabl. II'!E85/'Tabl. II'!B85*100,"X") -> 99.985793 | C85: =IF('Tabl. II'!C85>0,'Tabl. II'!F85/'Tabl. II'!C85*100,"X") -> 98.477413 | D85: =C85*100/B85 -> 98.491405 | E85: =IF('Tabl. II'!E85>0,'Tabl. II'!H85/('Tabl. II'!E85/273.8),"X") -> 26.337397 | F85: =IF('Tabl. II'!F85>0,'Tabl. II'!I85/('Tabl. II'!F85/273.8),"X") -> 25.084922 | G85: =F85*100/E85 -> 95.2445 | H85: =IF('Tabl. II'!B85>0,'Tabl. II'!H85*9/'Tabl. II'!B85,"X") -> 0.86560591 | I85: =IF('Tabl. II'!C85>0,'Tabl. II'!I85*9/'Tabl. II'!C85,"X") -> 0.81200453 | J85: =I85*100/H85 -> 93.807646
A87: W SĄDACH OKRĘGOWYCH (c.d.)
A88: Sprawy z zakresu prawa pracy - razem | B88: =IF('Tabl. II'!B88>0,'Tabl. II'!E88/'Tabl. II'!B88*100,"X") -> 89.373874 | C88: =IF('Tabl. II'!C88>0,'Tabl. II'!F88/'Tabl. II'!C88*100,"X") -> 91.819657 | D88: =C88*100/B88 -> 102.73658 | E88: =IF('Tabl. II'!E88>0,'Tabl. II'!H88/('Tabl. II'!E88/273.8),"X") -> 128.31749 | F88: =IF('Tabl. II'!F88>0,'Tabl. II'!I88/('Tabl. II'!F88/273.8),"X") -> 130.08874 | G88: =F88*100/E88 -> 101.38036 | H88: =IF('Tabl. II'!B88>0,'Tabl. II'!H88*9/'Tabl. II'!B88,"X") -> 3.7696889 | I88: =IF('Tabl. II'!C88>0,'Tabl. II'!I88*9/'Tabl. II'!C88,"X") -> 3.9263086 | J88: =I88*100/H88 -> 104.15471
A89: I instancji - ze stosunku pracy (P) | B89: =IF('Tabl. II'!B89>0,'Tabl. II'!E89/'Tabl. II'!B89*100,"X") -> 100.08224 | C89: =IF('Tabl. II'!C89>0,'Tabl. II'!F89/'Tabl. II'!C89*100,"X") -> 89.498069 | D89: =C89*100/B89 -> 89.42453 | E89: =IF('Tabl. II'!E89>0,'Tabl. II'!H89/('Tabl. II'!E89/273.8),"X") -> 330.49482 | F89: =IF('Tabl. II'!F89>0,'Tabl. II'!I89/('Tabl. II'!F89/273.8),"X") -> 372.54754 | G89: =F89*100/E89 -> 112.72417 | H89: =IF('Tabl. II'!B89>0,'Tabl. II'!H89*9/'Tabl. II'!B89,"X") -> 10.872533 | I89: =IF('Tabl. II'!C89>0,'Tabl. II'!I89*9/'Tabl. II'!C89,"X") -> 10.959846 | J89: =I89*100/H89 -> 100.80306
A90: - nakazowe (Np) | B90: =IF('Tabl. II'!B90>0,'Tabl. II'!E90/'Tabl. II'!B90*100,"X") -> 100 | C90: =IF('Tabl. II'!C90>0,'Tabl. II'!F90/'Tabl. II'!C90*100,"X") -> 71.111111 | D90: =C90*100/B90 -> 71.111111 | E90: =IF('Tabl. II'!E90>0,'Tabl. II'!H90/('Tabl. II'!E90/273.8),"X") -> 36.857692 | F90: =IF('Tabl. II'!F90>0,'Tabl. II'!I90/('Tabl. II'!F90/273.8),"X") -> 162.56875 | G90: =F90*100/E90 -> 441.07143 | H90: =IF('Tabl. II'!B90>0,'Tabl. II'!H90*9/'Tabl. II'!B90,"X") -> 1.2115385 | I90: =IF('Tabl. II'!C90>0,'Tabl. II'!I90*9/'Tabl. II'!C90,"X") -> 3.8 | J90: =I90*100/H90 -> 313.65079
A91: ogólne (Po) | B91: =IF('Tabl. II'!B91>0,'Tabl. II'!E91/'Tabl. II'!B91*100,"X") -> 91.883117 | C91: =IF('Tabl. II'!C91>0,'Tabl. II'!F91/'Tabl. II'!C91*100,"X") -> 106.08466 | D91: =C91*100/B91 -> 115.45609 | E91: =IF('Tabl. II'!E91>0,'Tabl. II'!H91/('Tabl. II'!E91/273.8),"X") -> 35.152179 | F91: =IF('Tabl. II'!F91>0,'Tabl. II'!I91/('Tabl. II'!F91/273.8),"X") -> 26.628928 | G91: =F91*100/E91 -> 75.753277 | H91: =IF('Tabl. II'!B91>0,'Tabl. II'!H91*9/'Tabl. II'!B91,"X") -> 1.0616883 | I91: =IF('Tabl. II'!C91>0,'Tabl. II'!I91*9/'Tabl. II'!C91,"X") -> 0.92857143 | J91: =I91*100/H91 -> 87.461774
A92: wykaz Kas-z | B92: =IF('Tabl. II'!B92>0,'Tabl. II'!E92/'Tabl. II'!B92*100,"X") -> 25 | C92: =IF('Tabl. II'!C92>0,'Tabl. II'!F92/'Tabl. II'!C92*100,"X") -> 133.33333 | D92: =C92*100/B92 -> 533.33333 | E92: =IF('Tabl. II'!E92>0,'Tabl. II'!H92/('Tabl. II'!E92/273.8),"X") -> 1095.2 | F92: =IF('Tabl. II'!F92>0,'Tabl. II'!I92/('Tabl. II'!F92/273.8),"X") -> 68.45 | G92: =F92*100/E92 -> 6.25 | H92: =IF('Tabl. II'!B92>0,'Tabl. II'!H92*9/'Tabl. II'!B92,"X") -> 9 | I92: =IF('Tabl. II'!C92>0,'Tabl. II'!I92*9/'Tabl. II'!C92,"X") -> 3 | J92: =I92*100/H92 -> 33.333333
A93: skarga o stwierdzenie niezgodności z prawem (WSC I inst.) | B93: X | C93: X | D93: X | E93: X | F93: X | G93: X | H93: X | I93: X | J93: X
A94: II instancji - apelacje (Pa) | B94: =IF('Tabl. II'!B94>0,'Tabl. II'!E94/'Tabl. II'!B94*100,"X") -> 83.85805 | C94: =IF('Tabl. II'!C94>0,'Tabl. II'!F94/'Tabl. II'!C94*100,"X") -> 94.253408 | D94: =C94*100/B94 -> 112.39637 | E94: =IF('Tabl. II'!E94>0,'Tabl. II'!H94/('Tabl. II'!E94/273.8),"X") -> 149.09544 | F94: =IF('Tabl. II'!F94>0,'Tabl. II'!I94/('Tabl. II'!F94/273.8),"X") -> 120.85896 | G94: =F94*100/E94 -> 81.061477 | H94: =IF('Tabl. II'!B94>0,'Tabl. II'!H94*9/'Tabl. II'!B94,"X") -> 4.1097763 | I94: =IF('Tabl. II'!C94>0,'Tabl. II'!I94*9/'Tabl. II'!C94,"X") -> 3.7444238 | J94: =I94*100/H94 -> 91.110161
A95: - zażalenia (Pz) | B95: =IF('Tabl. II'!B95>0,'Tabl. II'!E95/'Tabl. II'!B95*100,"X") -> 94.163424 | C95: =IF('Tabl. II'!C95>0,'Tabl. II'!F95/'Tabl. II'!C95*100,"X") -> 85.234404 | D95: X | E95: =IF('Tabl. II'!E95>0,'Tabl. II'!H95/('Tabl. II'!E95/273.8),"X") -> 42.741965 | F95: =IF('Tabl. II'!F95>0,'Tabl. II'!I95/('Tabl. II'!F95/273.8),"X") -> 72.807796 | G95: =F95*100/E95 -> 170.34265 | H95: =IF('Tabl. II'!B95>0,'Tabl. II'!H95*9/'Tabl. II'!B95,"X") -> 1.3229572 | I95: =IF('Tabl. II'!C95>0,'Tabl. II'!I95*9/'Tabl. II'!C95,"X") -> 2.0398671 | J95: =I95*100/H95 -> 154.18996
A96: ogólne (Po II inst.) | B96: =IF('Tabl. II'!B96>0,'Tabl. II'!E96/'Tabl. II'!B96*100,"X") -> 100.3937 | C96: =IF('Tabl. II'!C96>0,'Tabl. II'!F96/'Tabl. II'!C96*100,"X") -> 125 | D96: =C96*100/B96 -> 124.5098 | E96: =IF('Tabl. II'!E96>0,'Tabl. II'!H96/('Tabl. II'!E96/273.8),"X") -> 1.0737255 | F96: X | G96: X | H96: =IF('Tabl. II'!B96>0,'Tabl. II'!H96*9/'Tabl. II'!B96,"X") -> 0.035433071 | I96: X | J96: X
A97: skarga kasacyjna (WSC-pracy) | B97: =IF('Tabl. II'!B97>0,'Tabl. II'!E97/'Tabl. II'!B97*100,"X") -> 103.0303 | C97: =IF('Tabl. II'!C97>0,'Tabl. II'!F97/'Tabl. II'!C97*100,"X") -> 92.564492 | D97: X | E97: =IF('Tabl. II'!E97>0,'Tabl. II'!H97/('Tabl. II'!E97/273.8),"X") -> 39.417028 | F97: =IF('Tabl. II'!F97>0,'Tabl. II'!I97/('Tabl. II'!F97/273.8),"X") -> 61.492787 | G97: =F97*100/E97 -> 156.00564 | H97: =IF('Tabl. II'!B97>0,'Tabl. II'!H97*9/'Tabl. II'!B97,"X") -> 1.3349282 | I97: =IF('Tabl. II'!C97>0,'Tabl. II'!I97*9/'Tabl. II'!C97,"X") -> 1.8710167 | J97: =I97*100/H97 -> 140.1586
A98: skarga o stwierdzenie niezgodności z prawem (WSC II inst.) | B98: =IF('Tabl. II'!B98>0,'Tabl. II'!E98/'Tabl. II'!B98*100,"X") -> 105 | C98: =IF('Tabl. II'!C98>0,'Tabl. II'!F98/'Tabl. II'!C98*100,"X") -> 80.952381 | D98: =C98*100/B98 -> 77.097506 | E98: =IF('Tabl. II'!E98>0,'Tabl. II'!H98/('Tabl. II'!E98/273.8),"X") -> 52.152381 | F98: =IF('Tabl. II'!F98>0,'Tabl. II'!I98/('Tabl. II'!F98/273.8),"X") -> 112.74118 | G98: =F98*100/E98 -> 216.17647 | H98: =IF('Tabl. II'!B98>0,'Tabl. II'!H98*9/'Tabl. II'!B98,"X") -> 1.8 | I98: =IF('Tabl. II'!C98>0,'Tabl. II'!I98*9/'Tabl. II'!C98,"X") -> 3 | J98: =I98*100/H98 -> 166.66667
A99: skargi na postępowanie sądowe (S) | B99: =IF('Tabl. II'!B99>0,'Tabl. II'!E99/'Tabl. II'!B99*100,"X") -> 103.66972 | C99: =IF('Tabl. II'!C99>0,'Tabl. II'!F99/'Tabl. II'!C99*100,"X") -> 102.17391 | D99: =C99*100/B99 -> 98.557137 | E99: =IF('Tabl. II'!E99>0,'Tabl. II'!H99/('Tabl. II'!E99/273.8),"X") -> 26.653097 | F99: =IF('Tabl. II'!F99>0,'Tabl. II'!I99/('Tabl. II'!F99/273.8),"X") -> 29.12766 | G99: =F99*100/E99 -> 109.28433 | H99: =IF('Tabl. II'!B99>0,'Tabl. II'!H99*9/'Tabl. II'!B99,"X") -> 0.90825688 | I99: =IF('Tabl. II'!C99>0,'Tabl. II'!I99*9/'Tabl. II'!C99,"X") -> 0.97826087 | J99: =I99*100/H99 -> 107.70751
A100: Sprawy z zakresu ubezpieczeń społecznych - razem | B100: =IF('Tabl. II'!B100>0,'Tabl. II'!E100/'Tabl. II'!B100*100,"X") -> 86.349796 | C100: =IF('Tabl. II'!C100>0,'Tabl. II'!F100/'Tabl. II'!C100*100,"X") -> 108.77899 | D100: =C100*100/B100 -> 125.97481 | E100: =IF('Tabl. II'!E100>0,'Tabl. II'!H100/('Tabl. II'!E100/273.8),"X") -> 252.92508 | F100: =IF('Tabl. II'!F100>0,'Tabl. II'!I100/('Tabl. II'!F100/273.8),"X") -> 207.91549 | G100: =F100*100/E100 -> 82.204377 | H100: =IF('Tabl. II'!B100>0,'Tabl. II'!H100*9/'Tabl. II'!B100,"X") -> 7.1789724 | I100: =IF('Tabl. II'!C100>0,'Tabl. II'!I100*9/'Tabl. II'!C100,"X") -> 7.4343148 | J100: =I100*100/H100 -> 103.55681
A101: I instancji (U) | B101: =IF('Tabl. II'!B101>0,'Tabl. II'!E101/'Tabl. II'!B101*100,"X") -> 86.108074 | C101: =IF('Tabl. II'!C101>0,'Tabl. II'!F101/'Tabl. II'!C101*100,"X") -> 110.46592 | D101: =C101*100/B101 -> 128.28753 | E101: =IF('Tabl. II'!E101>0,'Tabl. II'!H101/('Tabl. II'!E101/273.8),"X") -> 263.92083 | F101: =IF('Tabl. II'!F101>0,'Tabl. II'!I101/('Tabl. II'!F101/273.8),"X") -> 215.96751 | G101: =F101*100/E101 -> 81.830412 | H101: =IF('Tabl. II'!B101>0,'Tabl. II'!H101*9/'Tabl. II'!B101,"X") -> 7.4701034 | I101: =IF('Tabl. II'!C101>0,'Tabl. II'!I101*9/'Tabl. II'!C101,"X") -> 7.8419811 | J101: =I101*100/H101 -> 104.97821
A102: ogólne (Uo I inst.) | B102: =IF('Tabl. II'!B102>0,'Tabl. II'!E102/'Tabl. II'!B102*100,"X") -> 92.135713 | C102: =IF('Tabl. II'!C102>0,'Tabl. II'!F102/'Tabl. II'!C102*100,"X") -> 91.786378 | D102: =C102*100/B102 -> 99.620848 | E102: =IF('Tabl. II'!E102>0,'Tabl. II'!H102/('Tabl. II'!E102/273.8),"X") -> 97.327799 | F102: =IF('Tabl. II'!F102>0,'Tabl. II'!I102/('Tabl. II'!F102/273.8),"X") -> 108.54196 | G102: =F102*100/E102 -> 111.52206 | H102: =IF('Tabl. II'!B102>0,'Tabl. II'!H102*9/'Tabl. II'!B102,"X") -> 2.9476368 | I102: =IF('Tabl. II'!C102>0,'Tabl. II'!I102*9/'Tabl. II'!C102,"X") -> 3.2748014 | J102: =I102*100/H102 -> 111.09922
...
