Workbook
Name DF_GRID_1: Wybór [1]sądu!$G$21:$J$217
Name DF_NAVPANEL_13: #REF!
Name DF_NAVPANEL_13: #REF!
Name DF_NAVPANEL_18: #REF!
Name DF_NAVPANEL_18: #REF!

Sheet BExRepositorySheet
A1: 7
C14: Filter

Sheet Tabl. I 
A1: TABL. I. EWIDENCJA SPRAW WEDŁUG DZIAŁÓW PRAWA W SĄDACH POWSZECHNYCH
A2: w I kwartale 2014 i I kwartale 2015
A3: RODZAJE SPRAW WEDŁUG DZIAŁÓW PRAWA I RODZAJÓW SĄDÓW | B3: WPŁYW | E3: ZAŁATWIENIA | H3: POZOSTAŁOŚĆ
B4: I kwartał 2014 | C4: I kwartał 2015 | E4: I kwartał 2014 | F4: I kwartał 2015 | H4: I kwartał 2014 | I4: I kwartał 2015
B5: w liczbach bezwzględnych | D5: I kw. 2014 = 100 | E5: w liczbach bezwzględnych | G5: I kw. 2014 = 100 | H5: w liczbach bezwzględnych | J5: I kw. 2014 = 100
A6: OGÓŁEM | B6: =SUM(B7,B11,B15,B18,B22,B26) -> 3610621 | C6: =SUM(C7,C11,C15,C18,C22,C26) -> 3812451 | D6: =C6*100/B6 -> 105.5899 | E6: =SUM(E7,E11,E15,E18,E22,E26) -> 3733141 | F6: =SUM(F7,F11,F15,F18,F22,F26) -> 3757625 | G6: =F6*100/E6 -> 100.65586 | H6: =SUM(H7,H11,H15,H18,H22,H26) -> 2321650 | I6: =SUM(I7,I11,I15,I18,I22,I26) -> 2299729 | J6: =I6*100/H6 -> 99.055801
A7: SPRAWY KARNEa) | B7: =SUM(B8:B10) -> 700853 | C7: =SUM(C8:C10) -> 729731 | D7: =C7*100/B7 -> 104.12041 | E7: =SUM(E8:E10) -> 677370 | F7: =SUM(F8:F10) -> 695810 | G7: =F7*100/E7 -> 102.72229 | H7: =SUM(H8:H10) -> 474843 | I7: =SUM(I8:I10) -> 474502 | J7: =I7*100/H7 -> 99.928187
A8: W sądach: - apelacyjnych | B8: ='Tabl. II '!B9 -> 8651 | C8: ='Tabl. II '!C9 -> 8736 | D8: =C8*100/B8 -> 100.98255 | E8: ='Tabl. II '!E9 -> 7983 | F8: ='Tabl. II '!F9 -> 8161 | G8: =F8*100/E8 -> 102.22974 | H8: ='Tabl. II '!H9 -> 3214 | I8: ='Tabl. II '!I9 -> 3388 | J8: =I8*100/H8 -> 105.41381
A9: - okręgowych | B9: ='Tabl. II '!B53 -> 97414 | C9: ='Tabl. II '!C53 -> 96890 | D9: =C9*100/B9 -> 99.46209 | E9: ='Tabl. II '!E53 -> 93994 | F9: ='Tabl. II '!F53 -> 94690 | G9: =F9*100/E9 -> 100.74047 | H9: ='Tabl. II '!H53 -> 45016 | I9: ='Tabl. II '!I53 -> 41986 | J9: =I9*100/H9 -> 93.26906
A10: - rejonowych | B10: ='Tabl. II '!B135 -> 594788 | C10: ='Tabl. II '!C135 -> 624105 | D10: =C10*100/B10 -> 104.92898 | E10: ='Tabl. II '!E135 -> 575393 | F10: ='Tabl. II '!F135 -> 592959 | G10: =F10*100/E10 -> 103.05287 | H10: ='Tabl. II '!H135 -> 426613 | I10: ='Tabl. II '!I135 -> 429128 | J10: =I10*100/H10 -> 100.58953
A11: SPRAWY CYWILNE | B11: =SUM(B12:B14) -> 2077926 | C11: =SUM(C12:C14) -> 2253549 | D11: =C11*100/B11 -> 108.45184 | E11: =SUM(E12:E14) -> 2205962 | F11: =SUM(F12:F14) -> 2242088 | G11: =F11*100/E11 -> 101.63765 | H11: =SUM(H12:H14) -> 1263683 | I11: =SUM(I12:I14) -> 1241871 | J11: =I11*100/H11 -> 98.273934
A12: W sądach: - apelacyjnychb) | B12: ='Tabl. II '!B23 -> 9911 | C12: ='Tabl. II '!C23 -> 11273 | D12: =C12*100/B12 -> 113.74231 | E12: ='Tabl. II '!E23 -> 9149 | F12: ='Tabl. II '!F23 -> 10058 | G12: =F12*100/E12 -> 109.93551 | H12: ='Tabl. II '!H23 -> 7945 | I12: ='Tabl. II '!I23 -> 10609 | J12: =I12*100/H12 -> 133.53052
A13: - okręgowychb) | B13: ='Tabl. II '!B67 -> 82497 | C13: ='Tabl. II '!C67 -> 83802 | D13: =C13*100/B13 -> 101.58188 | E13: ='Tabl. II '!E67 -> 78004 | F13: ='Tabl. II '!F67 -> 83058 | G13: =F13*100/E13 -> 106.47915 | H13: ='Tabl. II '!H67 -> 128899 | I13: ='Tabl. II '!I67 -> 131430 | J13: =I13*100/H13 -> 101.96355
A14: - rejonowychc) | B14: ='Tabl. II '!B146 -> 1985518 | C14: ='Tabl. II '!C146 -> 2158474 | D14: =C14*100/B14 -> 108.71088 | E14: ='Tabl. II '!E146 -> 2118809 | F14: ='Tabl. II '!F146 -> 2148972 | G14: =F14*100/E14 -> 101.42358 | H14: ='Tabl. II '!H146 -> 1126839 | I14: ='Tabl. II '!I146 -> 1099832 | J14: =I14*100/H14 -> 97.603296
A15: SPRAWY RODZINNE | B15: =B17 -> 367464 | C15: =C17 -> 371740 | D15: =C15*100/B15 -> 101.16365 | E15: =E17 -> 358743 | F15: =F17 -> 354865 | G15: =F15*100/E15 -> 98.919003 | H15: =H17 -> 198901 | I15: =I17 -> 194892 | J15: =I15*100/H15 -> 97.984424
A16: W sądach: - okręgowychd) | B16: 25120 | C16: 23456 | D16: 93.375796 | E16: 23112 | F16: 23645 | G16: 102.30616 | H16: 51677 | I16: 50620 | J16: 97.954603
A17: - rejonowych | B17: ='Tabl. II '!B158 -> 367464 | C17: ='Tabl. II '!C158 -> 371740 | D17: ='Tabl. II '!D158 -> 101.16365 | E17: ='Tabl. II '!E158 -> 358743 | F17: ='Tabl. II '!F158 -> 354865 | G17: ='Tabl. II '!G158 -> 98.919003 | H17: ='Tabl. II '!H158 -> 198901 | I17: ='Tabl. II '!I158 -> 194892 | J17: ='Tabl. II '!J158 -> 97.984424
A18: SPRAWY Z ZAKRESU PRAWA PRACY | B18: =SUM(B19:B21) -> 30411 | C18: =SUM(C19:C21) -> 30043 | D18: =C18*100/B18 -> 98.789912 | E18: =SUM(E19:E21) -> 27373 | F18: =SUM(F19:F21) -> 37628 | G18: =F18*100/E18 -> 137.46392 | H18: =SUM(H19:H21) -> 46527 | I18: =SUM(I19:I21) -> 51477 | J18: =I18*100/H18 -> 110.63898
A19: W sądach: - apelacyjnych | B19: ='Tabl. II '!B30 -> 262 | C19: ='Tabl. II '!C30 -> 266 | D19: =C19*100/B19 -> 101.52672 | E19: ='Tabl. II '!E30 -> 240 | F19: ='Tabl. II '!F30 -> 297 | G19: =F19*100/E19 -> 123.75 | H19: ='Tabl. II '!H30 -> 252 | I19: ='Tabl. II '!I30 -> 266 | J19: =I19*100/H19 -> 105.55556
A20: - okręgowych | B20: ='Tabl. II '!B88 -> 4058 | C20: ='Tabl. II '!C88 -> 3910 | D20: =C20*100/B20 -> 96.352883 | E20: ='Tabl. II '!E88 -> 3482 | F20: ='Tabl. II '!F88 -> 3625 | G20: =F20*100/E20 -> 104.10684 | H20: ='Tabl. II '!H88 -> 4565 | I20: ='Tabl. II '!I88 -> 4436 | J20: =I20*100/H20 -> 97.174151
A21: - rejonowychc) | B21: ='Tabl. II '!B180 -> 26091 | C21: ='Tabl. II '!C180 -> 25867 | D21: =C21*100/B21 -> 99.141466 | E21: ='Tabl. II '!E180 -> 23651 | F21: ='Tabl. II '!F180 -> 33706 | G21: =F21*100/E21 -> 142.51406 | H21: ='Tabl. II '!H180 -> 41710 | I21: ='Tabl. II '!I180 -> 46775 | J21: =I21*100/H21 -> 112.14337
A22: SPRAWY Z ZAKRESU UBEZPIECZEŃ SPOŁECZNYCH | B22: =SUM(B23:B25) -> 56687 | C22: =SUM(C23:C25) -> 47371 | D22: =C22*100/B22 -> 83.565897 | E22: =SUM(E23:E25) -> 51161 | F22: =SUM(F23:F25) -> 49707 | G22: =F22*100/E22 -> 97.157991 | H22: =SUM(H23:H25) -> 120262 | I22: =SUM(I23:I25) -> 121529 | J22: =I22*100/H22 -> 101.05353
A23: W sądach: - apelacyjnych | B23: ='Tabl. II '!B37 -> 6581 | C23: ='Tabl. II '!C37 -> 7169 | D23: =C23*100/B23 -> 108.93481 | E23: ='Tabl. II '!E37 -> 8180 | F23: ='Tabl. II '!F37 -> 6340 | G23: =F23*100/E23 -> 77.506112 | H23: ='Tabl. II '!H37 -> 17694 | I23: ='Tabl. II '!I37 -> 16034 | J23: =I23*100/H23 -> 90.618289
A24: - okręgowych | B24: ='Tabl. II '!B100 -> 40801 | C24: ='Tabl. II '!C100 -> 27660 | D24: =C24*100/B24 -> 67.792456 | E24: ='Tabl. II '!E100 -> 34829 | F24: ='Tabl. II '!F100 -> 34443 | G24: =F24*100/E24 -> 98.891728 | H24: ='Tabl. II '!H100 -> 81755 | I24: ='Tabl. II '!I100 -> 80362 | J24: =I24*100/H24 -> 98.296129
A25: - rejonowych | B25: ='Tabl. II '!B186 -> 9305 | C25: ='Tabl. II '!C186 -> 12542 | D25: =C25*100/B25 -> 134.78775 | E25: ='Tabl. II '!E186 -> 8152 | F25: ='Tabl. II '!F186 -> 8924 | G25: =F25*100/E25 -> 109.47007 | H25: ='Tabl. II '!H186 -> 20813 | I25: ='Tabl. II '!I186 -> 25133 | J25: =I25*100/H25 -> 120.75626
A26: SPRAWY GOSPODARCZE | B26: =SUM(B27:B31) -> 377280 | C26: =SUM(C27:C31) -> 380017 | D26: =C26*100/B26 -> 100.72546 | E26: =SUM(E27:E31) -> 412532 | F26: =SUM(F27:F31) -> 377527 | G26: =F26*100/E26 -> 91.514598 | H26: =SUM(H27:H31) -> 217434 | I26: =SUM(I27:I31) -> 215458 | J26: =I26*100/H26 -> 99.091218
A27: W sądach: - apelacyjnych | B27: ='Tabl. II '!B45 -> 3592 | C27: ='Tabl. II '!C45 -> 2768 | D27: =C27*100/B27 -> 77.060134 | E27: ='Tabl. II '!E45 -> 2715 | F27: ='Tabl. II '!F45 -> 2841 | G27: =F27*100/E27 -> 104.64088 | H27: ='Tabl. II '!H45 -> 3774 | I27: ='Tabl. II '!I45 -> 5466 | J27: =I27*100/H27 -> 144.83307
A28: - okręgowych | B28: ='Tabl. II '!B111 -> 14582 | C28: ='Tabl. II '!C111 -> 14960 | D28: =C28*100/B28 -> 102.59224 | E28: ='Tabl. II '!E111 -> 13837 | F28: ='Tabl. II '!F111 -> 14456 | G28: =F28*100/E28 -> 104.47351 | H28: ='Tabl. II '!H111 -> 19823 | I28: ='Tabl. II '!I111 -> 22044 | J28: =I28*100/H28 -> 111.20416
A29: - rejonowychc) | B29: ='Tabl. II '!B190 -> 357054 | C29: ='Tabl. II '!C190 -> 362045 | D29: =C29*100/B29 -> 101.39783 | E29: ='Tabl. II '!E190 -> 379791 | F29: ='Tabl. II '!F190 -> 359439 | G29: =F29*100/E29 -> 94.641263 | H29: ='Tabl. II '!H190 -> 177129 | I29: ='Tabl. II '!I190 -> 185409 | J29: =I29*100/H29 -> 104.67456
A30: - w Sądzie Ochrony Konkurencji i Konsumentów | B30: ='Tabl. II '!B124 -> 2010 | C30: ='Tabl. II '!C124 -> 196 | D30: =C30*100/B30 -> 9.7512438 | E30: ='Tabl. II '!E124 -> 16154 | F30: ='Tabl. II '!F124 -> 743 | G30: =F30*100/E30 -> 4.59948 | H30: ='Tabl. II '!H124 -> 16658 | I30: ='Tabl. II '!I124 -> 2484 | J30: =I30*100/H30 -> 14.911754
A31: - w Sądzie Wspólnotowych Znaków Towarowych i Wzorów Przemysłowych | B31: ='Tabl. II '!B133 -> 42 | C31: ='Tabl. II '!C133 -> 48 | D31: =C31*100/B31 -> 114.28571 | E31: ='Tabl. II '!E133 -> 35 | F31: ='Tabl. II '!F133 -> 48 | G31: =F31*100/E31 -> 137.14286 | H31: ='Tabl. II '!H133 -> 50 | I31: ='Tabl. II '!I133 -> 55 | J31: =I31*100/H31 -> 110
A33: a) W sądach rejonowych łącznie ze sprawami wykroczeniowymi.
A34: b) W liczbie spraw cywilnych zawarte są informacje o sprawach rodzinnych.
A35: c) W liczbie spraw cywilnych, z zakresu prawa pracy oraz gospodarczych w sądach rejonowych zawarte są dane statystyczne o ewidencji spraw z zakresu Elektronicznego Postępowania Upominawczego EPU.
A36: Wyszczególnienie | B36: WPŁYW | E36: ZAŁATWIENIA | H36: POZOSTAŁOŚĆ
B37: I kwartał 2014 | C37: I kwartał 2015 | E37: I kwartał 2014 | F37: I kwartał 2015 | H37: I kwartał 2014 | I37: I kwartał 2015
B38: w liczbach bezwzględnych | D38: I kw. 2014 = 100 | E38: w liczbach bezwzględnych | G38: I kw. 2014 = 100 | H38: w liczbach bezwzględnych | J38: I kw. 2014 = 100
A40: ELEKTRONICZNE POSTĘPOWANIE UPOMINAWCZE (EPU) - RAZEM | B40: =SUM(B41:B43) -> 437597 | C40: =SUM(C41:C43) -> 561990 | D40: =C40*100/B40 -> 128.42638 | E40: =SUM(E41:E43) -> 626378 | F40: =SUM(F41:F43) -> 593137 | G40: =F40*100/E40 -> 94.693141 | H40: =SUM(H41:H43) -> 148987 | I40: =SUM(I41:I43) -> 64685 | J40: =I40*100/H40 -> 43.41654
A41: SPRAWY CYWILNE | B41: ='Tabl. II '!B151 -> 373372 | C41: ='Tabl. II '!C151 -> 509343 | D41: ='Tabl. II '!D151 -> 136.41703 | E41: ='Tabl. II '!E151 -> 538987 | F41: ='Tabl. II '!F151 -> 540850 | G41: ='Tabl. II '!G151 -> 100.34565 | H41: ='Tabl. II '!H151 -> 126803 | I41: ='Tabl. II '!I151 -> 57225 | J41: ='Tabl. II '!J151 -> 45.129058
A42: SPRAWY Z ZAKRESU PRAWA PRACY | B42: ='Tabl. II '!B183 -> 37 | C42: ='Tabl. II '!C183 -> 40 | D42: ='Tabl. II '!D183 -> 108.10811 | E42: ='Tabl. II '!E183 -> 86 | F42: ='Tabl. II '!F183 -> 38 | G42: ='Tabl. II '!G183 -> 44.186047 | H42: ='Tabl. II '!H183 -> 23 | I42: ='Tabl. II '!I183 -> 5 | J42: ='Tabl. II '!J183 -> 21.73913
...

Sheet Tabl. II 
A2: TABL. II. EWIDENCJA SPRAW W SĄDACH POWSZECHNYCH WEDŁUG DZIAŁÓW PRAWA I INSTANCYJNOŚCI
A3: w I kwartale 2014 i I kwartale 2015
A4: RODZAJE SPRAW WEDŁUG KSIĄG EWIDENCYJNYCH | B4: WPŁYW | E4: ZAŁATWIENIA | H4: POZOSTAŁOŚĆ
B5: I kwartał 2014 | C5: I kwartał 2015 | E5: I kwartał 2014 | F5: I kwartał 2015 | H5: I kwartał 2014 | I5: I kwartał 2015
B6: w liczbach bezwzględnych | D6: I kw. 2014 = 100 | E6: w liczbach bezwzględnych | G6: I kw. 2014 = 100 | H6: w liczbach bezwzględnych | J6: I kw. 2014 = 100
A7: OGÓŁEM SPRAW W SĄDACH POWSZECHNYCH | B7: 3610621 | C7: 3812451 | D7: 105.5899 | E7: 3733141 | F7: 3757625 | G7: 100.65586 | H7: 2321650 | I7: 2299729 | J7: 99.055801
A8: W SĄDACH APELACYJNYCH - OGÓŁEM | B8: 28997 | C8: 30212 | D8: 104.19009 | E8: 28267 | F8: 27697 | G8: 97.983514 | H8: 32879 | I8: 35763 | J8: 108.77156
A9: Sprawy karne - razem | B9: 8651 | C9: 8736 | D9: 100.98255 | E9: 7983 | F9: 8161 | G9: 102.22974 | H9: 3214 | I9: 3388 | J9: 105.41381
A10: II instancji - apelacje (A Ka) | B10: 950 | C10: 939 | D10: 98.842105 | E10: 780 | F10: 843 | G10: 108.07692 | H10: 590 | I10: 598 | J10: 101.35593
A11: w tym: o odszkodowanie (A Ka) | B11: 114 | C11: 96 | D11: 84.210526 | E11: 82 | F11: 89 | G11: 108.53659 | H11: 57 | I11: 44 | J11: 77.192982
A12: w tym: -z ust. z dn. 23.02.1991 r. o uznaniu za nieważne orzeczeń wydanych wobec osób represjonowanych za działalność na rzecz niepodległego bytu Państwa Polskiego (Dz.U. Nr 34, poz. 149) | B12: 24 | C12: 23 | D12: 95.833333 | E12: 17 | F12: 26 | G12: 152.94118 | H12: 13 | I12: 8 | J12: 61.538462
A13: - w trybie a.552 kpk | B13: 90 | C13: 73 | D13: 81.111111 | E13: 65 | F13: 63 | G13: 96.923077 | H13: 44 | I13: 36 | J13: 81.818182
A14: - zażalenia (A Kz) | B14: 1695 | C14: 1694 | D14: 99.941003 | E14: 1603 | F14: 1693 | G14: 105.61447 | H14: 310 | I14: 288 | J14: 92.903226
A15: ogólne (A Ko) | B15: 478 | C15: 509 | D15: 106.48536 | E15: 437 | F15: 453 | G15: 103.66133 | H15: 264 | I15: 292 | J15: 110.60606
A16: w tym:
A17: sprawy w trybie art.11a pwkpk | B17: 0 | C17: 11 | D17: X | E17: 1 | F17: 11 | G17: 1100 | H17: 0 | I17: 0 | J17: X
A18: nadzór sądowy nad postępowaniem przygotowawczym (A Kp) | B18: 138 | C18: 124 | D18: 89.855072 | E18: 126 | F18: 117 | G18: 92.857143 | H18: 19 | I18: 18 | J18: 94.736842
A19: zażalenia na postanowienia w postępowaniu wykonawczym (A Kzw) | B19: 5085 | C19: 5182 | D19: 101.90757 | E19: 4789 | F19: 4793 | G19: 100.08352 | H19: 1826 | I19: 1985 | J19: 108.70756
A20: kasacje (WKK) | B20: 165 | C20: 173 | D20: 104.84848 | E20: 124 | F20: 153 | G20: 123.3871 | H20: 153 | I20: 163 | J20: 106.53595
A21: skargi na postępowanie sądowe i prokuratorskie (S) | B21: 140 | C21: 115 | D21: 82.142857 | E21: 124 | F21: 109 | G21: 87.903226 | H21: 52 | I21: 44 | J21: 84.615385
A22: W SĄDACH APELACYJNYCH (c.d.)
A23: Sprawy cywilne - razem | B23: 9911 | C23: 11273 | D23: 113.74231 | E23: 9149 | F23: 10058 | G23: 109.93551 | H23: 7945 | I23: 10609 | J23: 133.53052
A24: II instancji - apelacje (A Ca)a) | B24: 3923 | C24: 4414 | D24: 112.51593 | E24: 3457 | F24: 3726 | G24: 107.78131 | H24: 5539 | I24: 7566 | J24: 136.59505
A25: - zażalenia (A Cz)a) | B25: 4549 | C25: 5227 | D25: 114.90437 | E25: 4394 | F25: 4882 | G25: 111.10605 | H25: 1731 | I25: 2274 | J25: 131.36915
A26: ogólne (A Co) | B26: 178 | C26: 244 | D26: 137.07865 | E26: 196 | F26: 249 | G26: 127.04082 | H26: 52 | I26: 71 | J26: 136.53846
A27: skarga kasacyjna (WSC) | B27: 457 | C27: 405 | D27: 88.621444 | E27: 371 | F27: 335 | G27: 90.296496 | H27: 325 | I27: 309 | J27: 95.076923
A28: skarga o stwierdzenie niezgodności z prawem (WSC)b) | B28: 4 | C28: 15 | D28: 375 | E28: 5 | F28: 10 | G28: 200 | H28: 5 | I28: 12 | J28: 240
A29: skargi na postępowanie sądowe (S) | B29: 800 | C29: 968 | D29: 121 | E29: 726 | F29: 856 | G29: 117.90634 | H29: 293 | I29: 377 | J29: 128.66894
A30: Sprawy z zakresu prawa pracy - razem | B30: 262 | C30: 266 | D30: 101.52672 | E30: 240 | F30: 297 | G30: 123.75 | H30: 252 | I30: 266 | J30: 105.55556
A31: II instancji - apelacje (A Pa) | B31: 103 | C31: 90 | D31: 87.378641 | E31: 84 | F31: 103 | G31: 122.61905 | H31: 160 | I31: 168 | J31: 105
A32: - zażalenia (A Pz) | B32: 91 | C32: 113 | D32: 124.17582 | E32: 95 | F32: 120 | G32: 126.31579 | H32: 41 | I32: 57 | J32: 139.02439
A33: - ogólne (A Po) | B33: 27 | C33: 28 | D33: 103.7037 | E33: 23 | F33: 42 | G33: 182.6087 | H33: 22 | I33: 18 | J33: 81.818182
A34: skarga kasacyjna (WSC-pracy) | B34: 25 | C34: 20 | D34: 80 | E34: 27 | F34: 20 | G34: 74.074074 | H34: 20 | I34: 17 | J34: 85
A35: skarga o stwierdzenie niezgodności z prawem (WSC-pracy) | B35: 0 | C35: 0 | D35: X | E35: 0 | F35: 1 | G35: X | H35: 0 | I35: 0 | J35: X
A36: skargi na postępowanie sądowe (S) | B36: 16 | C36: 15 | D36: 93.75 | E36: 11 | F36: 11 | G36: 100 | H36: 9 | I36: 6 | J36: 66.666667
A37: Sprawy z zakresu ubezpieczeń społecznych - razem | B37: 6581 | C37: 7169 | D37: 108.93481 | E37: 8180 | F37: 6340 | G37: 77.506112 | H37: 17694 | I37: 16034 | J37: 90.618289
A38: II instancji - apelacje (A Ua) | B38: 5419 | C38: 5973 | D38: 110.22329 | E38: 7155 | F38: 5236 | G38: 73.179595 | H38: 17127 | I38: 15411 | J38: 89.980732
A39: - zażalenia (A Uz) | B39: 746 | C39: 791 | D39: 106.03217 | E39: 648 | F39: 762 | G39: 117.59259 | H39: 335 | I39: 359 | J39: 107.16418
A40: ogólne (A Uo) | B40: 3 | C40: 4 | D40: 133.33333 | E40: 3 | F40: 5 | G40: 166.66667 | H40: 2 | I40: 2 | J40: 100
A41: skarga kasacyjna (WSC-ubezp.) | B41: 367 | C41: 368 | D41: 100.27248 | E41: 329 | F41: 305 | G41: 92.705167 | H41: 214 | I41: 250 | J41: 116.82243
...

Sheet Tabl. III 
A2: TABL. III. WSKAŹNIKI DOTYCZĄCE SPRAW W SĄDACH POWSZECHNYCH WEDŁUG DZIAŁÓW PRAWA I INSTANCYJNOŚCI
A3: w I kwartale 2014 i I kwartale 2015
A4: RODZAJE SPRAW WEDŁUG KSIĄG EWIDENCYJNYCH | B4: WSKAŹNIK OPANOWANIA WPŁYWU | E4: WSKAŹNIK CZASU TRWANIA POSTĘPOWANIA (według metodologii CEPEJ) (w dniach) | H4: WSKAŹNIK POZOSTAŁOŚCI (w miesiącach)
B5: I kwartał 2014 | C5: I kwartał 2015 | D5: I kw. 2014 = 100 | E5: I kwartał 2014 | F5: I kwartał 2015 | G5: I kw. 2014 = 100 | H5: I kwartał 2014 | I5: I kwartał 2015 | J5: I kw. 2014 = 100
A7: OGÓŁEM SPRAW W SĄDACH POWSZECHNYCH | B7: =IF('Tabl. II '!B7>0,'Tabl. II '!E7/'Tabl. II '!B7*100,"X") -> 103.39332 | C7: =IF('Tabl. II '!C7>0,'Tabl. II '!F7/'Tabl. II '!C7*100,"X") -> 98.561923 | D7: =C7*100/B7 -> 95.327165 | E7: =IF('Tabl. II '!E7>0,'Tabl. II '!H7/('Tabl. II '!E7/91.25),"X") -> 56.74861 | F7: =IF('Tabl. II '!F7>0,'Tabl. II '!I7/('Tabl. II '!F7/91.25),"X") -> 55.846518 | G7: =F7*100/E7 -> 98.410371 | H7: =IF('Tabl. II '!B7>0,'Tabl. II '!H7*3/'Tabl. II '!B7,"X") -> 1.9290172 | I7: =IF('Tabl. II '!C7>0,'Tabl. II '!I7*3/'Tabl. II '!C7,"X") -> 1.8096461 | J7: =I7*100/H7 -> 93.811817
A8: W SĄDACH APELACYJNYCH - OGÓŁEM | B8: =IF('Tabl. II '!B8>0,'Tabl. II '!E8/'Tabl. II '!B8*100,"X") -> 97.482498 | C8: =IF('Tabl. II '!C8>0,'Tabl. II '!F8/'Tabl. II '!C8*100,"X") -> 91.675493 | D8: =C8*100/B8 -> 94.043028 | E8: =IF('Tabl. II '!E8>0,'Tabl. II '!H8/('Tabl. II '!E8/91.25),"X") -> 106.13821 | F8: =IF('Tabl. II '!F8>0,'Tabl. II '!I8/('Tabl. II '!F8/91.25),"X") -> 117.82409 | G8: =F8*100/E8 -> 111.01006 | H8: =IF('Tabl. II '!B8>0,'Tabl. II '!H8*3/'Tabl. II '!B8,"X") -> 3.4016278 | I8: =IF('Tabl. II '!C8>0,'Tabl. II '!I8*3/'Tabl. II '!C8,"X") -> 3.5512048 | J8: =I8*100/H8 -> 104.39722
A9: Sprawy karne - razem | B9: =IF('Tabl. II '!B9>0,'Tabl. II '!E9/'Tabl. II '!B9*100,"X") -> 92.278349 | C9: =IF('Tabl. II '!C9>0,'Tabl. II '!F9/'Tabl. II '!C9*100,"X") -> 93.41804 | D9: =C9*100/B9 -> 101.23506 | E9: =IF('Tabl. II '!E9>0,'Tabl. II '!H9/('Tabl. II '!E9/91.25),"X") -> 36.737755 | F9: =IF('Tabl. II '!F9>0,'Tabl. II '!I9/('Tabl. II '!F9/91.25),"X") -> 37.882 | G9: =F9*100/E9 -> 103.11463 | H9: =IF('Tabl. II '!B9>0,'Tabl. II '!H9*3/'Tabl. II '!B9,"X") -> 1.1145532 | I9: =IF('Tabl. II '!C9>0,'Tabl. II '!I9*3/'Tabl. II '!C9,"X") -> 1.1634615 | J9: =I9*100/H9 -> 104.38815
A10: II instancji - apelacje (A Ka) | B10: =IF('Tabl. II '!B10>0,'Tabl. II '!E10/'Tabl. II '!B10*100,"X") -> 82.105263 | C10: =IF('Tabl. II '!C10>0,'Tabl. II '!F10/'Tabl. II '!C10*100,"X") -> 89.776358 | D10: =C10*100/B10 -> 109.343 | E10: =IF('Tabl. II '!E10>0,'Tabl. II '!H10/('Tabl. II '!E10/91.25),"X") -> 69.022436 | F10: =IF('Tabl. II '!F10>0,'Tabl. II '!I10/('Tabl. II '!F10/91.25),"X") -> 64.73013 | G10: =F10*100/E10 -> 93.78129 | H10: =IF('Tabl. II '!B10>0,'Tabl. II '!H10*3/'Tabl. II '!B10,"X") -> 1.8631579 | I10: =IF('Tabl. II '!C10>0,'Tabl. II '!I10*3/'Tabl. II '!C10,"X") -> 1.9105431 | J10: =I10*100/H10 -> 102.54328
A11: w tym: o odszkodowanie (A Ka) | B11: =IF('Tabl. II '!B11>0,'Tabl. II '!E11/'Tabl. II '!B11*100,"X") -> 71.929825 | C11: =IF('Tabl. II '!C11>0,'Tabl. II '!F11/'Tabl. II '!C11*100,"X") -> 92.708333 | D11: =C11*100/B11 -> 128.8872 | E11: =IF('Tabl. II '!E11>0,'Tabl. II '!H11/('Tabl. II '!E11/91.25),"X") -> 63.429878 | F11: =IF('Tabl. II '!F11>0,'Tabl. II '!I11/('Tabl. II '!F11/91.25),"X") -> 45.11236 | G11: =F11*100/E11 -> 71.121624 | H11: =IF('Tabl. II '!B11>0,'Tabl. II '!H11*3/'Tabl. II '!B11,"X") -> 1.5 | I11: =IF('Tabl. II '!C11>0,'Tabl. II '!I11*3/'Tabl. II '!C11,"X") -> 1.375 | J11: =I11*100/H11 -> 91.666667
A12: w tym: -z ust. z dn. 23.02.1991 r. o uznaniu za nieważne orzeczeń wydanych wobec osób represjonowanych za działalność na rzecz niepodległego bytu Państwa Polskiego (Dz.U. Nr 34, poz. 149) | B12: =IF('Tabl. II '!B12>0,'Tabl. II '!E12/'Tabl. II '!B12*100,"X") -> 70.833333 | C12: =IF('Tabl. II '!C12>0,'Tabl. II '!F12/'Tabl. II '!C12*100,"X") -> 113.04348 | D12: =C12*100/B12 -> 159.59079 | E12: =IF('Tabl. II '!E12>0,'Tabl. II '!H12/('Tabl. II '!E12/91.25),"X") -> 69.779412 | F12: =IF('Tabl. II '!F12>0,'Tabl. II '!I12/('Tabl. II '!F12/91.25),"X") -> 28.076923 | G12: =F12*100/E12 -> 40.236686 | H12: =IF('Tabl. II '!B12>0,'Tabl. II '!H12*3/'Tabl. II '!B12,"X") -> 1.625 | I12: =IF('Tabl. II '!C12>0,'Tabl. II '!I12*3/'Tabl. II '!C12,"X") -> 1.0434783 | J12: =I12*100/H12 -> 64.214047
A13: - w trybie a.552 kpk | B13: =IF('Tabl. II '!B13>0,'Tabl. II '!E13/'Tabl. II '!B13*100,"X") -> 72.222222 | C13: =IF('Tabl. II '!C13>0,'Tabl. II '!F13/'Tabl. II '!C13*100,"X") -> 86.30137 | D13: =C13*100/B13 -> 119.4942 | E13: =IF('Tabl. II '!E13>0,'Tabl. II '!H13/('Tabl. II '!E13/91.25),"X") -> 61.769231 | F13: =IF('Tabl. II '!F13>0,'Tabl. II '!I13/('Tabl. II '!F13/91.25),"X") -> 52.142857 | G13: =F13*100/E13 -> 84.415584 | H13: =IF('Tabl. II '!B13>0,'Tabl. II '!H13*3/'Tabl. II '!B13,"X") -> 1.4666667 | I13: =IF('Tabl. II '!C13>0,'Tabl. II '!I13*3/'Tabl. II '!C13,"X") -> 1.4794521 | J13: =I13*100/H13 -> 100.87173
A14: - zażalenia (A Kz) | B14: =IF('Tabl. II '!B14>0,'Tabl. II '!E14/'Tabl. II '!B14*100,"X") -> 94.572271 | C14: =IF('Tabl. II '!C14>0,'Tabl. II '!F14/'Tabl. II '!C14*100,"X") -> 99.940968 | D14: =C14*100/B14 -> 105.67682 | E14: =IF('Tabl. II '!E14>0,'Tabl. II '!H14/('Tabl. II '!E14/91.25),"X") -> 17.6466 | F14: =IF('Tabl. II '!F14>0,'Tabl. II '!I14/('Tabl. II '!F14/91.25),"X") -> 15.522741 | G14: =F14*100/E14 -> 87.964484 | H14: =IF('Tabl. II '!B14>0,'Tabl. II '!H14*3/'Tabl. II '!B14,"X") -> 0.54867257 | I14: =IF('Tabl. II '!C14>0,'Tabl. II '!I14*3/'Tabl. II '!C14,"X") -> 0.51003542 | J14: =I14*100/H14 -> 92.958068
A15: ogólne (A Ko) | B15: =IF('Tabl. II '!B15>0,'Tabl. II '!E15/'Tabl. II '!B15*100,"X") -> 91.422594 | C15: =IF('Tabl. II '!C15>0,'Tabl. II '!F15/'Tabl. II '!C15*100,"X") -> 88.998035 | D15: =C15*100/B15 -> 97.347965 | E15: =IF('Tabl. II '!E15>0,'Tabl. II '!H15/('Tabl. II '!E15/91.25),"X") -> 55.125858 | F15: =IF('Tabl. II '!F15>0,'Tabl. II '!I15/('Tabl. II '!F15/91.25),"X") -> 58.818985 | G15: =F15*100/E15 -> 106.69944 | H15: =IF('Tabl. II '!B15>0,'Tabl. II '!H15*3/'Tabl. II '!B15,"X") -> 1.6569038 | I15: =IF('Tabl. II '!C15>0,'Tabl. II '!I15*3/'Tabl. II '!C15,"X") -> 1.7210216 | J15: =I15*100/H15 -> 103.86974
A16: w tym:
A17: sprawy w trybie art.11a pwkpk | B17: =IF('Tabl. II '!B17>0,'Tabl. II '!E17/'Tabl. II '!B17*100,"X") -> X | C17: =IF('Tabl. II '!C17>0,'Tabl. II '!F17/'Tabl. II '!C17*100,"X") -> 100 | D17: X | E17: =IF('Tabl. II '!E17>0,'Tabl. II '!H17/('Tabl. II '!E17/91.25),"X") -> 0 | F17: =IF('Tabl. II '!F17>0,'Tabl. II '!I17/('Tabl. II '!F17/91.25),"X") -> 0 | G17: X | H17: =IF('Tabl. II '!B17>0,'Tabl. II '!H17*3/'Tabl. II '!B17,"X") -> X | I17: =IF('Tabl. II '!C17>0,'Tabl. II '!I17*3/'Tabl. II '!C17,"X") -> 0 | J17: X
A18: nadzór sądowy nad postępowaniem przygotowawczym (A Kp) | B18: =IF('Tabl. II '!B18>0,'Tabl. II '!E18/'Tabl. II '!B18*100,"X") -> 91.304348 | C18: =IF('Tabl. II '!C18>0,'Tabl. II '!F18/'Tabl. II '!C18*100,"X") -> 94.354839 | D18: =C18*100/B18 -> 103.34101 | E18: =IF('Tabl. II '!E18>0,'Tabl. II '!H18/('Tabl. II '!E18/91.25),"X") -> 13.759921 | F18: =IF('Tabl. II '!F18>0,'Tabl. II '!I18/('Tabl. II '!F18/91.25),"X") -> 14.038462 | G18: =F18*100/E18 -> 102.02429 | H18: =IF('Tabl. II '!B18>0,'Tabl. II '!H18*3/'Tabl. II '!B18,"X") -> 0.41304348 | I18: =IF('Tabl. II '!C18>0,'Tabl. II '!I18*3/'Tabl. II '!C18,"X") -> 0.43548387 | J18: =I18*100/H18 -> 105.43294
A19: zażalenia na postanowienia w postępowaniu wykonawczym (A Kzw) | B19: =IF('Tabl. II '!B19>0,'Tabl. II '!E19/'Tabl. II '!B19*100,"X") -> 94.178958 | C19: =IF('Tabl. II '!C19>0,'Tabl. II '!F19/'Tabl. II '!C19*100,"X") -> 92.493246 | D19: =C19*100/B19 -> 98.210097 | E19: =IF('Tabl. II '!E19>0,'Tabl. II '!H19/('Tabl. II '!E19/91.25),"X") -> 34.792754 | F19: =IF('Tabl. II '!F19>0,'Tabl. II '!I19/('Tabl. II '!F19/91.25),"X") -> 37.790789 | G19: =F19*100/E19 -> 108.61684 | H19: =IF('Tabl. II '!B19>0,'Tabl. II '!H19*3/'Tabl. II '!B19,"X") -> 1.0772861 | I19: =IF('Tabl. II '!C19>0,'Tabl. II '!I19*3/'Tabl. II '!C19,"X") -> 1.1491702 | J19: =I19*100/H19 -> 106.6727
A20: kasacje (WKK) | B20: =IF('Tabl. II '!B20>0,'Tabl. II '!E20/'Tabl. II '!B20*100,"X") -> 75.151515 | C20: =IF('Tabl. II '!C20>0,'Tabl. II '!F20/'Tabl. II '!C20*100,"X") -> 88.439306 | D20: =C20*100/B20 -> 117.68134 | E20: =IF('Tabl. II '!E20>0,'Tabl. II '!H20/('Tabl. II '!E20/91.25),"X") -> 112.59073 | F20: =IF('Tabl. II '!F20>0,'Tabl. II '!I20/('Tabl. II '!F20/91.25),"X") -> 97.214052 | G20: =F20*100/E20 -> 86.34286 | H20: =IF('Tabl. II '!B20>0,'Tabl. II '!H20*3/'Tabl. II '!B20,"X") -> 2.7818182 | I20: =IF('Tabl. II '!C20>0,'Tabl. II '!I20*3/'Tabl. II '!C20,"X") -> 2.8265896 | J20: =I20*100/H20 -> 101.60943
A21: skargi na postępowanie sądowe i prokuratorskie (S) | B21: =IF('Tabl. II '!B21>0,'Tabl. II '!E21/'Tabl. II '!B21*100,"X") -> 88.571429 | C21: =IF('Tabl. II '!C21>0,'Tabl. II '!F21/'Tabl. II '!C21*100,"X") -> 94.782609 | D21: =C21*100/B21 -> 107.01262 | E21: =IF('Tabl. II '!E21>0,'Tabl. II '!H21/('Tabl. II '!E21/91.25),"X") -> 38.266129 | F21: =IF('Tabl. II '!F21>0,'Tabl. II '!I21/('Tabl. II '!F21/91.25),"X") -> 36.834862 | G21: =F21*100/E21 -> 96.259704 | H21: =IF('Tabl. II '!B21>0,'Tabl. II '!H21*3/'Tabl. II '!B21,"X") -> 1.1142857 | I21: =IF('Tabl. II '!C21>0,'Tabl. II '!I21*3/'Tabl. II '!C21,"X") -> 1.1478261 | J21: =I21*100/H21 -> 103.01003
A22: W SĄDACH APELACYJNYCH (c.d.)
A23: Sprawy cywilne - razem | B23: =IF('Tabl. II '!B23>0,'Tabl. II '!E23/'Tabl. II '!B23*100,"X") -> 92.311573 | C23: =IF('Tabl. II '!C23>0,'Tabl. II '!F23/'Tabl. II '!C23*100,"X") -> 89.222035 | D23: =C23*100/B23 -> 96.653141 | E23: =IF('Tabl. II '!E23>0,'Tabl. II '!H23/('Tabl. II '!E23/91.25),"X") -> 79.241584 | F23: =IF('Tabl. II '!F23>0,'Tabl. II '!I23/('Tabl. II '!F23/91.25),"X") -> 96.248881 | G23: =F23*100/E23 -> 121.46259 | H23: =IF('Tabl. II '!B23>0,'Tabl. II '!H23*3/'Tabl. II '!B23,"X") -> 2.4049036 | I23: =IF('Tabl. II '!C23>0,'Tabl. II '!I23*3/'Tabl. II '!C23,"X") -> 2.8232946 | J23: =I23*100/H23 -> 117.39741
A24: II instancji - apelacje (A Ca)a) | B24: =IF('Tabl. II '!B24>0,'Tabl. II '!E24/'Tabl. II '!B24*100,"X") -> 88.121336 | C24: =IF('Tabl. II '!C24>0,'Tabl. II '!F24/'Tabl. II '!C24*100,"X") -> 84.413231 | D24: =C24*100/B24 -> 95.792046 | E24: =IF('Tabl. II '!E24>0,'Tabl. II '!H24/('Tabl. II '!E24/91.25),"X") -> 146.20589 | F24: =IF('Tabl. II '!F24>0,'Tabl. II '!I24/('Tabl. II '!F24/91.25),"X") -> 185.29187 | G24: =F24*100/E24 -> 126.73352 | H24: =IF('Tabl. II '!B24>0,'Tabl. II '!H24*3/'Tabl. II '!B24,"X") -> 4.2357889 | I24: =IF('Tabl. II '!C24>0,'Tabl. II '!I24*3/'Tabl. II '!C24,"X") -> 5.1422746 | J24: =I24*100/H24 -> 121.40063
A25: - zażalenia (A Cz)a) | B25: =IF('Tabl. II '!B25>0,'Tabl. II '!E25/'Tabl. II '!B25*100,"X") -> 96.592658 | C25: =IF('Tabl. II '!C25>0,'Tabl. II '!F25/'Tabl. II '!C25*100,"X") -> 93.399656 | D25: =C25*100/B25 -> 96.694364 | E25: =IF('Tabl. II '!E25>0,'Tabl. II '!H25/('Tabl. II '!E25/91.25),"X") -> 35.947599 | F25: =IF('Tabl. II '!F25>0,'Tabl. II '!I25/('Tabl. II '!F25/91.25),"X") -> 42.503585 | G25: =F25*100/E25 -> 118.23762 | H25: =IF('Tabl. II '!B25>0,'Tabl. II '!H25*3/'Tabl. II '!B25,"X") -> 1.1415696 | I25: =IF('Tabl. II '!C25>0,'Tabl. II '!I25*3/'Tabl. II '!C25,"X") -> 1.3051464 | J25: =I25*100/H25 -> 114.32911
A26: ogólne (A Co) | B26: =IF('Tabl. II '!B26>0,'Tabl. II '!E26/'Tabl. II '!B26*100,"X") -> 110.11236 | C26: =IF('Tabl. II '!C26>0,'Tabl. II '!F26/'Tabl. II '!C26*100,"X") -> 102.04918 | D26: =C26*100/B26 -> 92.677317 | E26: =IF('Tabl. II '!E26>0,'Tabl. II '!H26/('Tabl. II '!E26/91.25),"X") -> 24.209184 | F26: =IF('Tabl. II '!F26>0,'Tabl. II '!I26/('Tabl. II '!F26/91.25),"X") -> 26.019076 | G26: =F26*100/E26 -> 107.47606 | H26: =IF('Tabl. II '!B26>0,'Tabl. II '!H26*3/'Tabl. II '!B26,"X") -> 0.87640449 | I26: =IF('Tabl. II '!C26>0,'Tabl. II '!I26*3/'Tabl. II '!C26,"X") -> 0.87295082 | J26: =I26*100/H26 -> 99.605927
A27: skarga kasacyjna (WSC) | B27: =IF('Tabl. II '!B27>0,'Tabl. II '!E27/'Tabl. II '!B27*100,"X") -> 81.181619 | C27: =IF('Tabl. II '!C27>0,'Tabl. II '!F27/'Tabl. II '!C27*100,"X") -> 82.716049 | D27: =C27*100/B27 -> 101.89012 | E27: =IF('Tabl. II '!E27>0,'Tabl. II '!H27/('Tabl. II '!E27/91.25),"X") -> 79.935984 | F27: =IF('Tabl. II '!F27>0,'Tabl. II '!I27/('Tabl. II '!F27/91.25),"X") -> 84.16791 | G27: =F27*100/E27 -> 105.29414 | H27: =IF('Tabl. II '!B27>0,'Tabl. II '!H27*3/'Tabl. II '!B27,"X") -> 2.1334792 | I27: =IF('Tabl. II '!C27>0,'Tabl. II '!I27*3/'Tabl. II '!C27,"X") -> 2.2888889 | J27: =I27*100/H27 -> 107.28433
A28: skarga o stwierdzenie niezgodności z prawem (WSC)b) | B28: =IF('Tabl. II '!B28>0,'Tabl. II '!E28/'Tabl. II '!B28*100,"X") -> 125 | C28: =IF('Tabl. II '!C28>0,'Tabl. II '!F28/'Tabl. II '!C28*100,"X") -> 66.666667 | D28: =C28*100/B28 -> 53.333333 | E28: =IF('Tabl. II '!E28>0,'Tabl. II '!H28/('Tabl. II '!E28/91.25),"X") -> 91.25 | F28: =IF('Tabl. II '!F28>0,'Tabl. II '!I28/('Tabl. II '!F28/91.25),"X") -> 109.5 | G28: =F28*100/E28 -> 120 | H28: =IF('Tabl. II '!B28>0,'Tabl. II '!H28*3/'Tabl. II '!B28,"X") -> 3.75 | I28: =IF('Tabl. II '!C28>0,'Tabl. II '!I28*3/'Tabl. II '!C28,"X") -> 2.4 | J28: =I28*100/H28 -> 64
A29: skargi na postępowanie sądowe (S) | B29: =IF('Tabl. II '!B29>0,'Tabl. II '!E29/'Tabl. II '!B29*100,"X") -> 90.75 | C29: =IF('Tabl. II '!C29>0,'Tabl. II '!F29/'Tabl. II '!C29*100,"X") -> 88.429752 | D29: =C29*100/B29 -> 97.443253 | E29: =IF('Tabl. II '!E29>0,'Tabl. II '!H29/('Tabl. II '!E29/91.25),"X") -> 36.826791 | F29: =IF('Tabl. II '!F29>0,'Tabl. II '!I29/('Tabl. II '!F29/91.25),"X") -> 40.188376 | G29: =F29*100/E29 -> 109.1281 | H29: =IF('Tabl. II '!B29>0,'Tabl. II '!H29*3/'Tabl. II '!B29,"X") -> 1.09875 | I29: =IF('Tabl. II '!C29>0,'Tabl. II '!I29*3/'Tabl. II '!C29,"X") -> 1.1683884 | J29: =I29*100/H29 -> 106.33797
A30: Sprawy z zakresu prawa pracy - razem | B30: =IF('Tabl. II '!B30>0,'Tabl. II '!E30/'Tabl. II '!B30*100,"X") -> 91.603053 | C30: =IF('Tabl. II '!C30>0,'Tabl. II '!F30/'Tabl. II '!C30*100,"X") -> 111.65414 | D30: =C30*100/B30 -> 121.8891 | E30: =IF('Tabl. II '!E30>0,'Tabl. II '!H30/('Tabl. II '!E30/91.25),"X") -> 95.8125 | F30: =IF('Tabl. II '!F30>0,'Tabl. II '!I30/('Tabl. II '!F30/91.25),"X") -> 81.725589 | G30: =F30*100/E30 -> 85.297419 | H30: =IF('Tabl. II '!B30>0,'Tabl. II '!H30*3/'Tabl. II '!B30,"X") -> 2.8854962 | I30: =IF('Tabl. II '!C30>0,'Tabl. II '!I30*3/'Tabl. II '!C30,"X") -> 3 | J30: =I30*100/H30 -> 103.96825
A31: II instancji - apelacje (A Pa) | B31: =IF('Tabl. II '!B31>0,'Tabl. II '!E31/'Tabl. II '!B31*100,"X") -> 81.553398 | C31: =IF('Tabl. II '!C31>0,'Tabl. II '!F31/'Tabl. II '!C31*100,"X") -> 114.44444 | D31: =C31*100/B31 -> 140.33069 | E31: =IF('Tabl. II '!E31>0,'Tabl. II '!H31/('Tabl. II '!E31/91.25),"X") -> 173.80952 | F31: =IF('Tabl. II '!F31>0,'Tabl. II '!I31/('Tabl. II '!F31/91.25),"X") -> 148.83495 | G31: =F31*100/E31 -> 85.631068 | H31: =IF('Tabl. II '!B31>0,'Tabl. II '!H31*3/'Tabl. II '!B31,"X") -> 4.6601942 | I31: =IF('Tabl. II '!C31>0,'Tabl. II '!I31*3/'Tabl. II '!C31,"X") -> 5.6 | J31: =I31*100/H31 -> 120.16667
A32: - zażalenia (A Pz) | B32: =IF('Tabl. II '!B32>0,'Tabl. II '!E32/'Tabl. II '!B32*100,"X") -> 104.3956 | C32: =IF('Tabl. II '!C32>0,'Tabl. II '!F32/'Tabl. II '!C32*100,"X") -> 106.19469 | D32: =C32*100/B32 -> 101.72333 | E32: =IF('Tabl. II '!E32>0,'Tabl. II '!H32/('Tabl. II '!E32/91.25),"X") -> 39.381579 | F32: =IF('Tabl. II '!F32>0,'Tabl. II '!I32/('Tabl. II '!F32/91.25),"X") -> 43.34375 | G32: =F32*100/E32 -> 110.06098 | H32: =IF('Tabl. II '!B32>0,'Tabl. II '!H32*3/'Tabl. II '!B32,"X") -> 1.3516484 | I32: =IF('Tabl. II '!C32>0,'Tabl. II '!I32*3/'Tabl. II '!C32,"X") -> 1.5132743 | J32: =I32*100/H32 -> 111.95769
A33: - ogólne (A Po) | B33: =IF('Tabl. II '!B33>0,'Tabl. II '!E33/'Tabl. II '!B33*100,"X") -> 85.185185 | C33: =IF('Tabl. II '!C33>0,'Tabl. II '!F33/'Tabl. II '!C33*100,"X") -> 150 | D33: =C33*100/B33 -> 176.08696 | E33: =IF('Tabl. II '!E33>0,'Tabl. II '!H33/('Tabl. II '!E33/91.25),"X") -> 87.282609 | F33: =IF('Tabl. II '!F33>0,'Tabl. II '!I33/('Tabl. II '!F33/91.25),"X") -> 39.107143 | G33: =F33*100/E33 -> 44.805195 | H33: =IF('Tabl. II '!B33>0,'Tabl. II '!H33*3/'Tabl. II '!B33,"X") -> 2.4444444 | I33: =IF('Tabl. II '!C33>0,'Tabl. II '!I33*3/'Tabl. II '!C33,"X") -> 1.9285714 | J33: =I33*100/H33 -> 78.896104
A34: skarga kasacyjna (WSC-pracy) | B34: =IF('Tabl. II '!B34>0,'Tabl. II '!E34/'Tabl. II '!B34*100,"X") -> 108 | C34: =IF('Tabl. II '!C34>0,'Tabl. II '!F34/'Tabl. II '!C34*100,"X") -> 100 | D34: =C34*100/B34 -> 92.592593 | E34: =IF('Tabl. II '!E34>0,'Tabl. II '!H34/('Tabl. II '!E34/91.25),"X") -> 67.592593 | F34: =IF('Tabl. II '!F34>0,'Tabl. II '!I34/('Tabl. II '!F34/91.25),"X") -> 77.5625 | G34: =F34*100/E34 -> 114.75 | H34: =IF('Tabl. II '!B34>0,'Tabl. II '!H34*3/'Tabl. II '!B34,"X") -> 2.4 | I34: =IF('Tabl. II '!C34>0,'Tabl. II '!I34*3/'Tabl. II '!C34,"X") -> 2.55 | J34: =I34*100/H34 -> 106.25
A35: skarga o stwierdzenie niezgodności z prawem (WSC-pracy) | B35: =IF('Tabl. II '!B35>0,'Tabl. II '!E35/'Tabl. II '!B35*100,"X") -> X | C35: =IF('Tabl. II '!C35>0,'Tabl. II '!F35/'Tabl. II '!C35*100,"X") -> X | D35: X | E35: =IF('Tabl. II '!E35>0,'Tabl. II '!H35/('Tabl. II '!E35/91.25),"X") -> X | F35: =IF('Tabl. II '!F35>0,'Tabl. II '!I35/('Tabl. II '!F35/91.25),"X") -> 0 | G35: X | H35: =IF('Tabl. II '!B35>0,'Tabl. II '!H35*3/'Tabl. II '!B35,"X") -> X | I35: =IF('Tabl. II '!C35>0,'Tabl. II '!I35*3/'Tabl. II '!C35,"X") -> X | J35: X
A36: skargi na postępowanie sądowe (S) | B36: =IF('Tabl. II '!B36>0,'Tabl. II '!E36/'Tabl. II '!B36*100,"X") -> 68.75 | C36: =IF('Tabl. II '!C36>0,'Tabl. II '!F36/'Tabl. II '!C36*100,"X") -> 73.333333 | D36: =C36*100/B36 -> 106.66667 | E36: =IF('Tabl. II '!E36>0,'Tabl. II '!H36/('Tabl. II '!E36/91.25),"X") -> 74.659091 | F36: =IF('Tabl. II '!F36>0,'Tabl. II '!I36/('Tabl. II '!F36/91.25),"X") -> 49.772727 | G36: =F36*100/E36 -> 66.666667 | H36: =IF('Tabl. II '!B36>0,'Tabl. II '!H36*3/'Tabl. II '!B36,"X") -> 1.6875 | I36: =IF('Tabl. II '!C36>0,'Tabl. II '!I36*3/'Tabl. II '!C36,"X") -> 1.2 | J36: =I36*100/H36 -> 71.111111
A37: Sprawy z zakresu ubezpieczeń społecznych - razem | B37: =IF('Tabl. II '!B37>0,'Tabl. II '!E37/'Tabl. II '!B37*100,"X") -> 124.29722 | C37: =IF('Tabl. II '!C37>0,'Tabl. II '!F37/'Tabl. II '!C37*100,"X") -> 88.436323 | D37: =C37*100/B37 -> 71.149076 | E37: =IF('Tabl. II '!E37>0,'Tabl. II '!H37/('Tabl. II '!E37/91.25),"X") -> 197.38111 | F37: =IF('Tabl. II '!F37>0,'Tabl. II '!I37/('Tabl. II '!F37/91.25),"X") -> 230.77326 | G37: =F37*100/E37 -> 116.9176 | H37: =IF('Tabl. II '!B37>0,'Tabl. II '!H37*3/'Tabl. II '!B37,"X") -> 8.0659474 | I37: =IF('Tabl. II '!C37>0,'Tabl. II '!I37*3/'Tabl. II '!C37,"X") -> 6.7097224 | J37: =I37*100/H37 -> 83.185794
A38: II instancji - apelacje (A Ua) | B38: =IF('Tabl. II '!B38>0,'Tabl. II '!E38/'Tabl. II '!B38*100,"X") -> 132.03543 | C38: =IF('Tabl. II '!C38>0,'Tabl. II '!F38/'Tabl. II '!C38*100,"X") -> 87.661142 | D38: =C38*100/B38 -> 66.392135 | E38: =IF('Tabl. II '!E38>0,'Tabl. II '!H38/('Tabl. II '!E38/91.25),"X") -> 218.4261 | F38: =IF('Tabl. II '!F38>0,'Tabl. II '!I38/('Tabl. II '!F38/91.25),"X") -> 268.57405 | G38: =F38*100/E38 -> 122.95877 | H38: =IF('Tabl. II '!B38>0,'Tabl. II '!H38*3/'Tabl. II '!B38,"X") -> 9.4816387 | I38: =IF('Tabl. II '!C38>0,'Tabl. II '!I38*3/'Tabl. II '!C38,"X") -> 7.7403315 | J38: =I38*100/H38 -> 81.634955
A39: - zażalenia (A Uz) | B39: =IF('Tabl. II '!B39>0,'Tabl. II '!E39/'Tabl. II '!B39*100,"X") -> 86.863271 | C39: =IF('Tabl. II '!C39>0,'Tabl. II '!F39/'Tabl. II '!C39*100,"X") -> 96.333755 | D39: =C39*100/B39 -> 110.90275 | E39: =IF('Tabl. II '!E39>0,'Tabl. II '!H39/('Tabl. II '!E39/91.25),"X") -> 47.173997 | F39: =IF('Tabl. II '!F39>0,'Tabl. II '!I39/('Tabl. II '!F39/91.25),"X") -> 42.990486 | G39: =F39*100/E39 -> 91.131743 | H39: =IF('Tabl. II '!B39>0,'Tabl. II '!H39*3/'Tabl. II '!B39,"X") -> 1.347185 | I39: =IF('Tabl. II '!C39>0,'Tabl. II '!I39*3/'Tabl. II '!C39,"X") -> 1.3615676 | J39: =I39*100/H39 -> 101.06761
A40: ogólne (A Uo) | B40: =IF('Tabl. II '!B40>0,'Tabl. II '!E40/'Tabl. II '!B40*100,"X") -> 100 | C40: =IF('Tabl. II '!C40>0,'Tabl. II '!F40/'Tabl. II '!C40*100,"X") -> 125 | D40: =C40*100/B40 -> 125 | E40: =IF('Tabl. II '!E40>0,'Tabl. II '!H40/('Tabl. II '!E40/91.25),"X") -> 60.833333 | F40: =IF('Tabl. II '!F40>0,'Tabl. II '!I40/('Tabl. II '!F40/91.25),"X") -> 36.5 | G40: =F40*100/E40 -> 60 | H40: =IF('Tabl. II '!B40>0,'Tabl. II '!H40*3/'Tabl. II '!B40,"X") -> 2 | I40: =IF('Tabl. II '!C40>0,'Tabl. II '!I40*3/'Tabl. II '!C40,"X") -> 1.5 | J40: =I40*100/H40 -> 75
A41: skarga kasacyjna (WSC-ubezp.) | B41: =IF('Tabl. II '!B41>0,'Tabl. II '!E41/'Tabl. II '!B41*100,"X") -> 89.645777 | C41: =IF('Tabl. II '!C41>0,'Tabl. II '!F41/'Tabl. II '!C41*100,"X") -> 82.880435 | D41: =C41*100/B41 -> 92.453251 | E41: =IF('Tabl. II '!E41>0,'Tabl. II '!H41/('Tabl. II '!E41/91.25),"X") -> 59.354103 | F41: =IF('Tabl. II '!F41>0,'Tabl. II '!I41/('Tabl. II '!F41/91.25),"X") -> 74.795082 | G41: =F41*100/E41 -> 126.01501 | H41: =IF('Tabl. II '!B41>0,'Tabl. II '!H41*3/'Tabl. II '!B41,"X") -> 1.7493188 | I41: =IF('Tabl. II '!C41>0,'Tabl. II '!I41*3/'Tabl. II '!C41,"X") -> 2.0380435 | J41: =I41*100/H41 -> 116.50498
A42: skarga o stwierdzenie niezgodności z prawem (WSC-ubezp.) | B42: =IF('Tabl. II '!B42>0,'Tabl. II '!E42/'Tabl. II '!B42*100,"X") -> 125 | C42: =IF('Tabl. II '!C42>0,'Tabl. II '!F42/'Tabl. II '!C42*100,"X") -> 100 | D42: =C42*100/B42 -> 80 | E42: =IF('Tabl. II '!E42>0,'Tabl. II '!H42/('Tabl. II '!E42/91.25),"X") -> 54.75 | F42: =IF('Tabl. II '!F42>0,'Tabl. II '!I42/('Tabl. II '!F42/91.25),"X") -> 91.25 | G42: =F42*100/E42 -> 166.66667 | H42: =IF('Tabl. II '!B42>0,'Tabl. II '!H42*3/'Tabl. II '!B42,"X") -> 2.25 | I42: =IF('Tabl. II '!C42>0,'Tabl. II '!I42*3/'Tabl. II '!C42,"X") -> 3 | J42: =I42*100/H42 -> 133.33333
...
