Workbook
Name DF_GRID_1: Wybór [1]sądu!$G$21:$J$217
Name DF_NAVPANEL_13: #REF!
Name DF_NAVPANEL_13: #REF!
Name DF_NAVPANEL_18: #REF!
Name DF_NAVPANEL_18: #REF!

Sheet BExRepositorySheet
A1: 7
C14: Filter

Sheet Tabl. I 
A1: TABL. I. EWIDENCJA SPRAW WEDŁUG DZIAŁÓW PRAWA W SĄDACH POWSZECHNYCH
A2: w I kwartale 2014 i I kwartale 2015
A3: RODZAJE SPRAW WEDŁUG DZIAŁÓW PRAWA I RODZAJÓW SĄDÓW | B3: WPŁYW | E3: ZAŁATWIENIA | H3: POZOSTAŁOŚĆ
B4: I kwartał 2014 | C4: I kwartał 2015 | E4: I kwartał 2014 | F4: I kwartał 2015 | H4: I kwartał 2014 | I4: I kwartał 2015
B5: w liczbach bezwzględnych | D5: I kw. 2014 = 100 | E5: w liczbach bezwzględnych | G5: I kw. 2014 = 100 | H5: w liczbach bezwzględnych | J5: I kw. 2014 = 100
A6: OGÓŁEM | B6: =SUM(B7,B11,B15,B18,B22,B26) -> 3610621 | C6: =SUM(C7,C11,C15,C18,C22,C26) -> 3812451 | D6: =C6*100/B6 -> 105.5899 | E6: =SUM(E7,E11,E15,E18,E22,E26) -> 3733141 | F6: =SUM(F7,F11,F15,F18,F22,F26) -> 3757625 | G6: =F6*100/E6 -> 100.65586 | H6: =SUM(H7,H11,H15,H18,H22,H26) -> 2321650 | I6: =SUM(I7,I11,I15,I18,I22,I26) -> 2299729 | J6: =I6*100/H6 -> 99.055801
A7: SPRAWY KARNEa) | B7: =SUM(B8:B10) -> 700853 | C7: =SUM(C8:C10) -> 729731 | D7: =C7*100/B7 -> 104.12041 | E7: =SUM(E8:E10) -> 677370 | F7: =SUM(F8:F10) -> 695810 | G7: =F7*100/E7 -> 102.72229 | H7: =SUM(H8:H10) -> 474843 | I7: =SUM(I8:I10) -> 474502 | J7: =I7*100/H7 -> 99.928187
A8: W sądach: - apelacyjnych | B8: ='Tabl. II '!B9 -> 8651 | C8: ='Tabl. II '!C9 -> 8736 | D8: =C8*100/B8 -> 100.98255 | E8: ='Tabl. II '!E9 -> 7983 | F8: ='Tabl. II '!F9 -> 8161 | G8: =F8*100/E8 -> 102.22974 | H8: ='Tabl. II '!H9 -> 3214 | I8: ='Tabl. II '!I9 -> 3388 | J8: =I8*100/H8 -> 105.41381
A9: - okręgowych | B9: ='Tabl. II '!B53 -> 97414 | C9: ='Tabl. II '!C53 -> 96890 | D9: =C9*100/B9 -> 99.46209 | E9: ='Tabl. II '!E53 -> 93994 | F9: ='Tabl. II '!F53 -> 94690 | G9: =F9*100/E9 -> 100.74047 | H9: ='Tabl. II '!H53 -> 45016 | I9: ='Tabl. II '!I53 -> 41986 | J9: =I9*100/H9 -> 93.26906
A10: - rejonowych | B10: ='Tabl. II '!B135 -> 594788 | C10: ='Tabl. II '!C135 -> 624105 | D10: =C10*100/B10 -> 104.92898 | E10: ='Tabl. II '!E135 -> 575393 | F10: ='Tabl. II '!F135 -> 592959 | G10: =F10*100/E10 -> 103.05287 | H10: ='Tabl. II '!H135 -> 426613 | I10: ='Tabl. II '!I135 -> 429128 | J10: =I10*100/H10 -> 100.58953
A11: SPRAWY CYWILNE | B11: =SUM(B12:B14) -> 2077926 | C11: =SUM(C12:C14) -> 2253549 | D11: =C11*100/B11 -> 108.45184 | E11: =SUM(E12:E14) -> 2205962 | F11: =SUM(F12:F14) -> 2242088 | G11: =F11*100/E11 -> 101.63765 | H11: =SUM(H12:H14) -> 1263683 | I11: =SUM(I12:I14) -> 1241871 | J11: =I11*100/H11 -> 98.273934
A12: W sądach: - apelacyjnychb) | B12: ='Tabl. II '!B23 -> 9911 | C12: ='Tabl. II '!C23 -> 11273 | D12: =C12*100/B12 -> 113.74231 | E12: ='Tabl. II '!E23 -> 9149 | F12: ='Tabl. II '!F23 -> 10058 | G12: =F12*100/E12 -> 109.93551 | H12: ='Tabl. II '!H23 -> 7945 | I12: ='Tabl. II '!I23 -> 10609 | J12: =I12*100/H12 -> 133.53052
A13: - okręgowychb) | B13: ='Tabl. II '!B67 -> 82497 | C13: ='Tabl. II '!C67 -> 83802 | D13: =C13*100/B13 -> 101.58188 | E13: ='Tabl. II '!E67 -> 78004 | F13: ='Tabl. II '!F67 -> 83058 | G13: =F13*100/E13 -> 106.47915 | H13: ='Tabl. II '!H67 -> 128899 | I13: ='Tabl. II '!I67 -> 131430 | J13: =I13*100/H13 -> 101.96355
A14: - rejonowychc) | B14: ='Tabl. II '!B146 -> 1985518 | C14: ='Tabl. II '!C146 -> 2158474 | D14: =C14*100/B14 -> 108.71088 | E14: ='Tabl. II '!E146 -> 2118809 | F14: ='Tabl. II '!F146 -> 2148972 | G14: =F14*100/E14 -> 101.42358 | H14: ='Tabl. II '!H146 -> 1126839 | I14: ='Tabl. II '!I146 -> 1099832 | J14: =I14*100/H14 -> 97.603296
A15: SPRAWY RODZINNE | B15: =B17 -> 367464 | C15: =C17 -> 371740 | D15: =C15*100/B15 -> 101.16365 | E15: =E17 -> 358743 | F15: =F17 -> 354865 | G15: =F15*100/E15 -> 98.919003 | H15: =H17 -> 198901 | I15: =I17 -> 194892 | J15: =I15*100/H15 -> 97.984424
A16: W sądach: - okręgowychd) | B16: 25120 | C16: 23456 | D16: 93.375796 | E16: 23112 | F16: 23645 | G16: 102.30616 | H16: 51677 | I16: 50620 | J16: 97.954603
A17: - rejonowych | B17: ='Tabl. II '!B158 -> 367464 | C17: ='Tabl. II '!C158 -> 371740 | D17: ='Tabl. II '!D158 -> 101.16365 | E17: ='Tabl. II '!E158 -> 358743 | F17: ='Tabl. II '!F158 -> 354865 | G17: ='Tabl. II '!G158 -> 98.919003 | H17: ='Tabl. II '!H158 -> 198901 | I17: ='Tabl. II '!I158 -> 194892 | J17: ='Tabl. II '!J158 -> 97.984424
A18: SPRAWY Z ZAKRESU PRAWA PRACY | B18: =SUM(B19:B21) -> 30411 | C18: =SUM(C19:C21) -> 30043 | D18: =C18*100/B18 -> 98.789912 | E18: =SUM(E19:E21) -> 27373 | F18: =SUM(F19:F21) -> 37628 | G18: =F18*100/E18 -> 137.46392 | H18: =SUM(H19:H21) -> 46527 | I18: =SUM(I19:I21) -> 51477 | J18: =I18*100/H18 -> 110.63898
A19: W sądach: - apelacyjnych | B19: ='Tabl. II '!B30 -> 262 | C19: ='Tabl. II '!C30 -> 266 | D19: =C19*100/B19 -> 101.52672 | E19: ='Tabl. II '!E30 -> 240 | F19: ='Tabl. II '!F30 -> 297 | G19: =F19*100/E19 -> 123.75 | H19: ='Tabl. II '!H30 -> 252 | I19: ='Tabl. II '!I30 -> 266 | J19: =I19*100/H19 -> 105.55556
A20: - okręgowych | B20: ='Tabl. II '!B88 -> 4058 | C20: ='Tabl. II '!C88 -> 3910 | D20: =C20*100/B20 -> 96.352883 | E20: ='Tabl. II '!E88 -> 3482 | F20: ='Tabl. II '!F88 -> 3625 | G20: =F20*100/E20 -> 104.10684 | H20: ='Tabl. II '!H88 -> 4565 | I20: ='Tabl. II '!I88 -> 4436 | J20: =I20*100/H20 -> 97.174151
A21: - rejonowychc) | B21: ='Tabl. II '!B180 -> 26091 | C21: ='Tabl. II '!C180 -> 25867 | D21: =C21*100/B21 -> 99.141466 | E21: ='Tabl. II '!E180 -> 23651 | F21: ='Tabl. II '!F180 -> 33706 | G21: =F21*100/E21 -> 142.51406 | H21: ='Tabl. II '!H180 -> 41710 | I21: ='Tabl. II '!I180 -> 46775 | J21: =I21*100/H21 -> 112.14337
A22: SPRAWY Z ZAKRESU UBEZPIECZEŃ SPOŁECZNYCH | B22: =SUM(B23:B25) -> 56687 | C22: =SUM(C23:C25) -> 47371 | D22: =C22*100/B22 -> 83.565897 | E22: =SUM(E23:E25) -> 51161 | F22: =SUM(F23:F25) -> 49707 | G22: =F22*100/E22 -> 97.157991 | H22: =SUM(H23:H25) -> 120262 | I22: =SUM(I23:I25) -> 121529 | J22: =I22*100/H22 -> 101.05353
A23: W sądach: - apelacyjnych | B23: ='Tabl. II '!B37 -> 6581 | C23: ='Tabl. II '!C37 -> 7169 | D23: =C23*100/B23 -> 108.93481 | E23: ='Tabl. II '!E37 -> 8180 | F23: ='Tabl. II '!F37 -> 6340 | G23: =F23*100/E23 -> 77.506112 | H23: ='Tabl. II '!H37 -> 17694 | I23: ='Tabl. II '!I37 -> 16034 | J23: =I23*100/H23 -> 90.618289
A24: - okręgowych | B24: ='Tabl. II '!B100 -> 40801 | C24: ='Tabl. II '!C100 -> 27660 | D24: =C24*100/B24 -> 67.792456 | E24: ='Tabl. II '!E100 -> 34829 | F24: ='Tabl. II '!F100 -> 34443 | G24: =F24*100/E24 -> 98.891728 | H24: ='Tabl. II '!H100 -> 81755 | I24: ='Tabl. II '!I100 -> 80362 | J24: =I24*100/H24 -> 98.296129
A25: - rejonowych | B25: ='Tabl. II '!B186 -> 9305 | C25: ='Tabl. II '!C186 -> 12542 | D25: =C25*100/B25 -> 134.78775 | E25: ='Tabl. II '!E186 -> 8152 | F25: ='Tabl. II '!F186 -> 8924 | G25: =F25*100/E25 -> 109.47007 | H25: ='Tabl. II '!H186 -> 20813 | I25: ='Tabl. II '!I186 -> 25133 | J25: =I25*100/H25 -> 120.75626
A26: SPRAWY GOSPODARCZE | B26: =SUM(B27:B31) -> 377280 | C26: =SUM(C27:C31) -> 380017 | D26: =C26*100/B26 -> 100.72546 | E26: =SUM(E27:E31) -> 412532 | F26: =SUM(F27:F31) -> 377527 | G26: =F26*100/E26 -> 91.514598 | H26: =SUM(H27:H31) -> 217434 | I26: =SUM(I27:I31) -> 215458 | J26: =I26*100/H26 -> 99.091218
A27: W sądach: - apelacyjnych | B27: ='Tabl. II '!B45 -> 3592 | C27: ='Tabl. II '!C45 -> 2768 | D27: =C27*100/B27 -> 77.060134 | E27: ='Tabl. II '!E45 -> 2715 | F27: ='Tabl. II '!F45 -> 2841 | G27: =F27*100/E27 -> 104.64088 | H27: ='Tabl. II '!H45 -> 3774 | I27: ='Tabl. II '!I45 -> 5466 | J27: =I27*100/H27 -> 144.83307
A28: - okręgowych | B28: ='Tabl. II '!B111 -> 14582 | C28: ='Tabl. II '!C111 -> 14960 | D28: =C28*100/B28 -> 102.59224 | E28: ='Tabl. II '!E111 -> 13837 | F28: ='Tabl. II '!F111 -> 14456 | G28: =F28*100/E28 -> 104.47351 | H28: ='Tabl. II '!H111 -> 19823 | I28: ='Tabl. II '!I111 -> 22044 | J28: =I28*100/H28 -> 111.20416
A29: - rejonowychc) | B29: ='Tabl. II '!B190 -> 357054 | C29: ='Tabl. II '!C190 -> 362045 | D29: =C29*100/B29 -> 101.39783 | E29: ='Tabl. II '!E190 -> 379791 | F29: ='Tabl. II '!F190 -> 359439 | G29: =F29*100/E29 -> 94.641263 | H29: ='Tabl. II '!H190 -> 177129 | I29: ='Tabl. II '!I190 -> 185409 | J29: =I29*100/H29 -> 104.67456
A30: - w Sądzie Ochrony Konkurencji i Konsumentów | B30: ='Tabl. II '!B124 -> 2010 | C30: ='Tabl. II '!C124 -> 196 | D30: =C30*100/B30 -> 9.7512438 | E30: ='Tabl. II '!E124 -> 16154 | F30: ='Tabl. II '!F124 -> 743 | G30: =F30*100/E30 -> 4.59948 | H30: ='Tabl. II '!H124 -> 16658 | I30: ='Tabl. II '!I124 -> 2484 | J30: =I30*100/H30 -> 14.911754
A31: - w Sądzie Wspólnotowych Znaków Towarowych i Wzorów Przemysłowych | B31: ='Tabl. II '!B133 -> 42 | C31: ='Tabl. II '!C133 -> 48 | D31: =C31*100/B31 -> 114.28571 | E31: ='Tabl. II '!E133 -> 35 | F31: ='Tabl. II '!F133 -> 48 | G31: =F31*100/E31 -> 137.14286 | H31: ='Tabl. II '!H133 -> 50 | I31: ='Tabl. II '!I133 -> 55 | J31: =I31*100/H31 -> 110
A33: a) W sądach rejonowych łącznie ze sprawami wykroczeniowymi.
A34: b) W liczbie spraw cywilnych zawarte są informacje o sprawach rodzinnych.
A35: c) W liczbie spraw cywilnych, z zakresu prawa pracy oraz gospodarczych w sądach rejonowych zawarte są dane statystyczne o ewidencji spraw z zakresu Elektronicznego Postępowania Upominawczego EPU.
A36: Wyszczególnienie | B36: WPŁYW | E36: ZAŁATWIENIA | H36: POZOSTAŁOŚĆ
B37: I kwartał 2014 | C37: I kwartał 2015 | E37: I kwartał 2014 | F37: I kwartał 2015 | H37: I kwartał 2014 | I37: I kwartał 2015
B38: w liczbach bezwzględnych | D38: I kw. 2014 = 100 | E38: w liczbach bezwzględnych | G38: I kw. 2014 = 100 | H38: w liczbach bezwzględnych | J38: I kw. 2014 = 100
A40: ELEKTRONICZNE POSTĘPOWANIE UPOMINAWCZE (EPU) - RAZEM | B40: =SUM(B41:B43) -> 437597 | C40: =SUM(C41:C43) -> 561990 | D40: =C40*100/B40 -> 128.42638 | E40: =SUM(E41:E43) -> 626378 | F40: =SUM(F41:F43) -> 593137 | G40: =F40*100/E40 -> 94.693141 | H40: =SUM(H41:H43) -> 148987 | I40: =SUM(I41:I43) -> 64685 | J40: =I40*100/H40 -> 43.41654
A41: SPRAWY CYWILNE | B41: ='Tabl. II '!B151 -> 373372 | C41: ='Tabl. II '!C151 -> 509343 | D41: ='Tabl. II '!D151 -> 136.41703 | E41: ='Tabl. II '!E151 -> 538987 | F41: ='Tabl. II '!F151 -> 540850 | G41: ='Tabl. II '!G151 -> 100.34565 | H41: ='Tabl. II '!H151 -> 126803 | I41: ='Tabl. II '!I151 -> 57225 | J41: ='Tabl. II '!J151 -> 45.129058
A42: SPRAWY Z ZAKRESU PRAWA PRACY | B42: ='Tabl. II '!B183 -> 37 | C42: ='Tabl. II '!C183 -> 40 | D42: ='Tabl. II '!D183 -> 108.10811 | E42: ='Tabl. II '!E183 -> 86 | F42: ='Tabl. II '!F183 -> 38 | G42: ='Tabl. II '!G183 -> 44.186047 | H42: ='Tabl. II '!H183 -> 23 | I42: ='Tabl. II '!I183 -> 5 | J42: ='Tabl. II '!J183 -> 21.73913
A43: SPRAWY GOSPODARCZE | B43: ='Tabl. II '!B194 -> 64188 | C43: ='Tabl. II '!C194 -> 52607 | D43: ='Tabl. II '!D194 -> 81.957687 | E43: ='Tabl. II '!E194 -> 87305 | F43: ='Tabl. II '!F194 -> 52249 | G43: ='Tabl. II '!G194 -> 59.846515 | H43: ='Tabl. II '!H194 -> 22161 | I43: ='Tabl. II '!I194 -> 7455 | J43: ='Tabl. II '!J194 -> 33.640179
A46: d) W sądach okręgowych w sprawozdaniach wykazywane są tylko sprawy o rozwód i separację.
A48: Opracowanie: /-/ Agnieszka Proczek Starszy Specjalista | F48: Naczelnik Wydziału Statystycznej Informacji Zarządczej /-/ Justyna Kowalczyk

Sheet Tabl. II 
A2: TABL. II. EWIDENCJA SPRAW W SĄDACH POWSZECHNYCH WEDŁUG DZIAŁÓW PRAWA I INSTANCYJNOŚCI
A3: w I kwartale 2014 i I kwartale 2015
A4: RODZAJE SPRAW WEDŁUG KSIĄG EWIDENCYJNYCH | B4: WPŁYW | E4: ZAŁATWIENIA | H4: POZOSTAŁOŚĆ
B5: I kwartał 2014 | C5: I kwartał 2015 | E5: I kwartał 2014 | F5: I kwartał 2015 | H5: I kwartał 2014 | I5: I kwartał 2015
B6: w liczbach bezwzględnych | D6: I kw. 2014 = 100 | E6: w liczbach bezwzględnych | G6: I kw. 2014 = 100 | H6: w liczbach bezwzględnych | J6: I kw. 2014 = 100
A7: OGÓŁEM SPRAW W SĄDACH POWSZECHNYCH | B7: 3610621 | C7: 3812451 | D7: 105.5899 | E7: 3733141 | F7: 3757625 | G7: 100.65586 | H7: 2321650 | I7: 2299729 | J7: 99.055801
A8: W SĄDACH APELACYJNYCH - OGÓŁEM | B8: 28997 | C8: 30212 | D8: 104.19009 | E8: 28267 | F8: 27697 | G8: 97.983514 | H8: 32879 | I8: 35763 | J8: 108.77156
A9: Sprawy karne - razem | B9: 8651 | C9: 8736 | D9: 100.98255 | E9: 7983 | F9: 8161 | G9: 102.22974 | H9: 3214 | I9: 3388 | J9: 105.41381
A10: II instancji - apelacje (A Ka) | B10: 950 | C10: 939 | D10: 98.842105 | E10: 780 | F10: 843 | G10: 108.07692 | H10: 590 | I10: 598 | J10: 101.35593
A11: w tym: o odszkodowanie (A Ka) | B11: 114 | C11: 96 | D11: 84.210526 | E11: 82 | F11: 89 | G11: 108.53659 | H11: 57 | I11: 44 | J11: 77.192982
A12: w tym: -z ust. z dn. 23.02.1991 r. o uznaniu za nieważne orzeczeń wydanych wobec osób represjonowanych za działalność na rzecz niepodległego bytu Państwa Polskiego (Dz.U. Nr 34, poz. 149) | B12: 24 | C12: 23 | D12: 95.833333 | E12: 17 | F12: 26 | G12: 152.94118 | H12: 13 | I12: 8 | J12: 61.538462
A13: - w trybie a.552 kpk | B13: 90 | C13: 73 | D13: 81.111111 | E13: 65 | F13: 63 | G13: 96.923077 | H13: 44 | I13: 36 | J13: 81.818182
A14: - zażalenia (A Kz) | B14: 1695 | C14: 1694 | D14: 99.941003 | E14: 1603 | F14: 1693 | G14: 105.61447 | H14: 310 | I14: 288 | J14: 92.903226
A15: ogólne (A Ko) | B15: 478 | C15: 509 | D15: 106.48536 | E15: 437 | F15: 453 | G15: 103.66133 | H15: 264 | I15: 292 | J15: 110.60606
A16: w tym:
A17: sprawy w trybie art.11a pwkpk | B17: 0 | C17: 11 | D17: X | E17: 1 | F17: 11 | G17: 1100 | H17: 0 | I17: 0 | J17: X
A18: nadzór sądowy nad postępowaniem przygotowawczym (A Kp) | B18: 138 | C18: 124 | D18: 89.855072 | E18: 126 | F18: 117 | G18: 92.857143 | H18: 19 | I18: 18 | J18: 94.736842
A19: zażalenia na postanowienia w postępowaniu wykonawczym (A Kzw) | B19: 5085 | C19: 5182 | D19: 101.90757 | E19: 4789 | F19: 4793 | G19: 100.08352 | H19: 1826 | I19: 1985 | J19: 108.70756
A20: kasacje (WKK) | B20: 165 | C20: 173 | D20: 104.84848 | E20: 124 | F20: 153 | G20: 123.3871 | H20: 153 | I20: 163 | J20: 106.53595
A21: skargi na postępowanie sądowe i prokuratorskie (S) | B21: 140 | C21: 115 | D21: 82.142857 | E21: 124 | F21: 109 | G21: 87.903226 | H21: 52 | I21: 44 | J21: 84.615385
A22: W SĄDACH APELACYJNYCH (c.d.)
A23: Sprawy cywilne - razem | B23: 9911 | C23: 11273 | D23: 113.74231 | E23: 9149 | F23: 10058 | G23: 109.93551 | H23: 7945 | I23: 10609 | J23: 133.53052
A24: II instancji - apelacje (A Ca)a) | B24: 3923 | C24: 4414 | D24: 112.51593 | E24: 3457 | F24: 3726 | G24: 107.78131 | H24: 5539 | I24: 7566 | J24: 136.59505
A25: - zażalenia (A Cz)a) | B25: 4549 | C25: 5227 | D25: 114.90437 | E25: 4394 | F25: 4882 | G25: 111.10605 | H25: 1731 | I25: 2274 | J25: 131.36915
A26: ogólne (A Co) | B26: 178 | C26: 244 | D26: 137.07865 | E26: 196 | F26: 249 | G26: 127.04082 | H26: 52 | I26: 71 | J26: 136.53846
A27: skarga kasacyjna (WSC) | B27: 457 | C27: 405 | D27: 88.621444 | E27: 371 | F27: 335 | G27: 90.296496 | H27: 325 | I27: 309 | J27: 95.076923
A28: skarga o stwierdzenie niezgodności z prawem (WSC)b) | B28: 4 | C28: 15 | D28: 375 | E28: 5 | F28: 10 | G28: 200 | H28: 5 | I28: 12 | J28: 240
A29: skargi na postępowanie sądowe (S) | B29: 800 | C29: 968 | D29: 121 | E29: 726 | F29: 856 | G29: 117.90634 | H29: 293 | I29: 377 | J29: 128.66894
A30: Sprawy z zakresu prawa pracy - razem | B30: 262 | C30: 266 | D30: 101.52672 | E30: 240 | F30: 297 | G30: 123.75 | H30: 252 | I30: 266 | J30: 105.55556
A31: II instancji - apelacje (A Pa) | B31: 103 | C31: 90 | D31: 87.378641 | E31: 84 | F31: 103 | G31: 122.61905 | H31: 160 | I31: 168 | J31: 105
A32: - zażalenia (A Pz) | B32: 91 | C32: 113 | D32: 124.17582 | E32: 95 | F32: 120 | G32: 126.31579 | H32: 41 | I32: 57 | J32: 139.02439
A33: - ogólne (A Po) | B33: 27 | C33: 28 | D33: 103.7037 | E33: 23 | F33: 42 | G33: 182.6087 | H33: 22 | I33: 18 | J33: 81.818182
A34: skarga kasacyjna (WSC-pracy) | B34: 25 | C34: 20 | D34: 80 | E34: 27 | F34: 20 | G34: 74.074074 | H34: 20 | I34: 17 | J34: 85
A35: skarga o stwierdzenie niezgodności z prawem (WSC-pracy) | B35: 0 | C35: 0 | D35: X | E35: 0 | F35: 1 | G35: X | H35: 0 | I35: 0 | J35: X
A36: skargi na postępowanie sądowe (S) | B36: 16 | C36: 15 | D36: 93.75 | E36: 11 | F36: 11 | G36: 100 | H36: 9 | I36: 6 | J36: 66.666667
A37: Sprawy z zakresu ubezpieczeń społecznych - razem | B37: 6581 | C37: 7169 | D37: 108.93481 | E37: 8180 | F37: 6340 | G37: 77.506112 | H37: 17694 | I37: 16034 | J37: 90.618289
A38: II instancji - apelacje (A Ua) | B38: 5419 | C38: 5973 | D38: 110.22329 | E38: 7155 | F38: 5236 | G38: 73.179595 | H38: 17127 | I38: 15411 | J38: 89.980732
A39: - zażalenia (A Uz) | B39: 746 | C39: 791 | D39: 106.03217 | E39: 648 | F39: 762 | G39: 117.59259 | H39: 335 | I39: 359 | J39: 107.16418
A40: ogólne (A Uo) | B40: 3 | C40: 4 | D40: 133.33333 | E40: 3 | F40: 5 | G40: 166.66667 | H40: 2 | I40: 2 | J40: 100
A41: skarga kasacyjna (WSC-ubezp.) | B41: 367 | C41: 368 | D41: 100.27248 | E41: 329 | F41: 305 | G41: 92.705167 | H41: 214 | I41: 250 | J41: 116.82243
A42: skarga o stwierdzenie niezgodności z prawem (WSC-ubezp.) | B42: 4 | C42: 1 | D42: 25 | E42: 5 | F42: 1 | G42: 20 | H42: 3 | I42: 1 | J42: 33.333333
A43: skargi na postępowanie sądowe (S) | B43: 42 | C43: 32 | D43: 76.190476 | E43: 40 | F43: 31 | G43: 77.5 | H43: 13 | I43: 11 | J43: 84.615385
A44: W SĄDACH APELACYJNYCH (dok.)
A45: Sprawy gospodarcze - razem | B45: 3592 | C45: 2768 | D45: 77.060134 | E45: 2715 | F45: 2841 | G45: 104.64088 | H45: 3774 | I45: 5466 | J45: 144.83307
A46: II instancji - apelacje (A Ca-gosp.) | B46: 782 | C46: 949 | D46: 121.3555 | E46: 715 | F46: 799 | G46: 111.74825 | H46: 1387 | I46: 1850 | J46: 133.3814
A47: - zażalenia (A Cz-gosp.) | B47: 2372 | C47: 1537 | D47: 64.797639 | E47: 1793 | F47: 1758 | G47: 98.047964 | H47: 2001 | I47: 3457 | J47: 172.76362
A48: ogólne (A Co-gosp.) | B48: 10 | C48: 31 | D48: 310 | E48: 13 | F48: 32 | G48: 246.15385 | H48: 3 | I48: 8 | J48: 266.66667
A49: skarga kasacyjna (WSC-gosp.) | B49: 351 | C49: 162 | D49: 46.153846 | E49: 125 | F49: 177 | G49: 141.6 | H49: 325 | I49: 102 | J49: 31.384615
A50: skarga o stwierdzenie niezgodności z prawem (WSC-gosp.) | B50: 3 | C50: 1 | D50: 33.333333 | E50: 3 | F50: 3 | G50: 100 | H50: 2 | I50: 0 | J50: 0
A51: skargi na postępowanie sądowe (S) | B51: 74 | C51: 88 | D51: 118.91892 | E51: 66 | F51: 72 | G51: 109.09091 | H51: 56 | I51: 49 | J51: 87.5
A52: W SĄDACH OKRĘGOWYCH - OGÓŁEM | B52: 241404 | C52: 227466 | D52: 94.226276 | E52: 240335 | F52: 231063 | G52: 96.142052 | H52: 296766 | I52: 282797 | J52: 95.292924
A53: Sprawy karne i wykroczeniowe - razem | B53: 97414 | C53: 96890 | D53: 99.46209 | E53: 93994 | F53: 94690 | G53: 100.74047 | H53: 45016 | I53: 41986 | J53: 93.26906
A54: I instancji (K) | B54: 2333 | C54: 2238 | D54: 95.92799 | E54: 2224 | F54: 2207 | G54: 99.235612 | H54: 6057 | I54: 5718 | J54: 94.40317
A55: w tym odpowiedzialność podmiotów zbiorowych | B55: 0 | C55: 0 | D55: X | E55: 0 | F55: 0 | G55: X | H55: 0 | I55: 0 | J55: X
A56: penitencjarne: - sprawy dotyczące wkonywania kary pozbawienia wolności; np.: przerw, odwołania warunkowego zwolnienia, zmiany określonego wyroku i typu zakładu karnego (Kow) | B56: 35732 | C56: 33849 | D56: 94.730214 | E56: 34622 | F56: 32608 | G56: 94.182889 | H56: 15723 | I56: 14602 | J56: 92.870317
A57: - sprawy dotyczące wykonywania nadzoru sędziego penitencjarnego nad tymczasowym aresztowaniem lub karą pozbawienia wolności (Pen) | B57: 8189 | C57: 7348 | D57: 89.730126 | E57: 8162 | F57: 7164 | G57: 87.772605 | H57: 1119 | I57: 1089 | J57: 97.319035
A58: nadzór sądowy nad postępowaniem przygotowawczym (Kp) | B58: 10156 | C58: 12174 | D58: 119.87003 | E58: 9806 | F58: 11747 | G58: 119.794 | H58: 1399 | I58: 1507 | J58: 107.7198
A59: Kop | B59: 1285 | C59: 1195 | D59: 92.996109 | E59: 1132 | F59: 1199 | G59: 105.91873 | H59: 519 | I59: 457 | J59: 88.05395
A60: II instancji - apelacje w sprawach karnych (Ka) | B60: 12038 | C60: 13487 | D60: 112.03688 | E60: 11185 | F60: 13221 | G60: 118.20295 | H60: 9800 | I60: 9346 | J60: 95.367347
A61: - zażalenia w sprawach karnych (Kz) | B61: 8365 | C61: 7338 | D61: 87.722654 | E61: 8135 | F61: 7454 | G61: 91.628765 | H61: 2355 | I61: 1883 | J61: 79.957537
A62: zażalenia na postanowienia w postępowaniu wykonawczym (Kzw) | B62: 8793 | C62: 7946 | D62: 90.367338 | E62: 8524 | F62: 8116 | G62: 95.213515 | H62: 4000 | I62: 3519 | J62: 87.975
A63: ogólne (Ko) | B63: 9685 | C63: 10486 | D63: 108.27052 | E63: 9442 | F63: 10188 | G63: 107.90087 | H63: 3521 | I63: 3352 | J63: 95.200227
A64: kasacje (WKK) | B64: 309 | C64: 278 | D64: 89.967638 | E64: 276 | F64: 282 | G64: 102.17391 | H64: 313 | I64: 297 | J64: 94.888179
A65: skargi na postępowanie sądowe i prokuratorskie (S) | B65: 529 | C65: 551 | D65: 104.15879 | E65: 486 | F65: 504 | G65: 103.7037 | H65: 210 | I65: 216 | J65: 102.85714
A66: W SĄDACH OKRĘGOWYCH (c.d.)
A67: Sprawy cywilne - razem | B67: 82497 | C67: 83802 | D67: 101.58188 | E67: 78004 | F67: 83058 | G67: 106.47915 | H67: 128899 | I67: 131430 | J67: 101.96355
A68: I instancji - procesowe (C i RC)a) | B68: 36705 | C68: 34118 | D68: 92.951914 | E68: 33364 | F68: 34043 | G68: 102.03513 | H68: 94134 | I68: 93354 | J68: 99.171394
A69: - szkody geologiczne i górnicze (CG-G) | B69: 48 | C69: 30 | D69: 62.5 | E69: 35 | F69: 35 | G69: 100 | H69: 246 | I69: 268 | J69: 108.94309
A70: - nieprocesowe (Ns)a) (z wył. rej.) | B70: 4050 | C70: 4130 | D70: 101.97531 | E70: 3617 | F70: 4484 | G70: 123.97014 | H70: 6341 | I70: 6865 | J70: 108.26368
A71: - rejestrowe | B71: 2240 | C71: 2340 | D71: 104.46429 | E71: 2271 | F71: 2482 | G71: 109.29106 | H71: 487 | I71: 520 | J71: 106.77618
A72: w tym:
A73: z zakresu rejestru dzienników i czasopism (Ns.Rej.Pr) | B73: 1237 | C73: 1400 | D73: 113.17704 | E73: 1209 | F73: 1406 | G73: 116.29446 | H73: 367 | I73: 418 | J73: 113.89646
A74: Partie | B74: 21 | C74: 33 | D74: 157.14286 | E74: 18 | F74: 28 | G74: 155.55556 | H74: 16 | I74: 35 | J74: 218.75
A75: Fundusze emerytalne | B75: 17 | C75: 7 | D75: 41.176471 | E75: 22 | F75: 10 | G75: 45.454545 | H75: 4 | I75: 1 | J75: 25
A76: Fundusze inwestycyjne | B76: 965 | C76: 900 | D76: 93.264249 | E76: 1022 | F76: 1038 | G76: 101.56556 | H76: 100 | I76: 66 | J76: 66
A77: - nakazowe i upominawcze (Nc) | B77: 3306 | C77: 3785 | D77: 114.48881 | E77: 3331 | F77: 3859 | G77: 115.8511 | H77: 1201 | I77: 1374 | J77: 114.40466
A78: ogólne (Co I inst.) | B78: 3040 | C78: 3272 | D78: 107.63158 | E78: 2965 | F78: 3213 | G78: 108.36425 | H78: 1870 | I78: 1827 | J78: 97.700535
A79: skarga o stwierdzenie niezgodności z prawem (WSC) | B79: 14 | C79: 8 | D79: 57.142857 | E79: 11 | F79: 6 | G79: 54.545455 | H79: 10 | I79: 5 | J79: 50
A80: II instancji - apelacje (Ca)a) | B80: 14035 | C80: 15645 | D80: 111.47132 | E80: 13243 | F80: 14710 | G80: 111.07755 | H80: 16915 | I80: 18769 | J80: 110.96069
A81: - zażalenia (Cz)a) | B81: 16053 | C81: 17406 | D81: 108.42833 | E81: 16244 | F81: 17336 | G81: 106.72248 | H81: 6558 | I81: 7304 | J81: 111.37542
A82: ogólne (Co II inst.) | B82: 119 | C82: 184 | D82: 154.62185 | E82: 120 | F82: 207 | G82: 172.5 | H82: 21 | I82: 27 | J82: 128.57143
A83: skarga kasacyjna (WSC) | B83: 448 | C83: 412 | D83: 91.964286 | E83: 416 | F83: 383 | G83: 92.067308 | H83: 346 | I83: 309 | J83: 89.306358
A84: skarga o stwierdzenie niezgodności z prawem (WSC II inst.) | B84: 78 | C84: 76 | D84: 97.435897 | E84: 60 | F84: 66 | G84: 110 | H84: 60 | I84: 50 | J84: 83.333333
A85: skargi na postępowanie sądowe (S) | B85: 2361 | C85: 2396 | D85: 101.48242 | E85: 2327 | F85: 2234 | G85: 96.003438 | H85: 710 | I85: 758 | J85: 106.76056
A87: W SĄDACH OKRĘGOWYCH (c.d.)
A88: Sprawy z zakresu prawa pracy - razem | B88: 4058 | C88: 3910 | D88: 96.352883 | E88: 3482 | F88: 3625 | G88: 104.10684 | H88: 4565 | I88: 4436 | J88: 97.174151
A89: I instancji - ze stosunku pracy (P) | B89: 440 | C89: 400 | D89: 90.909091 | E89: 441 | F89: 382 | G89: 86.621315 | H89: 1469 | I89: 1459 | J89: 99.319265
A90: - nakazowe (Np) | B90: 16 | C90: 22 | D90: 137.5 | E90: 14 | F90: 24 | G90: 171.42857 | H90: 9 | I90: 10 | J90: 111.11111
A91: ogólne (Po) | B91: 145 | C91: 156 | D91: 107.58621 | E91: 131 | F91: 143 | G91: 109.16031 | H91: 48 | I91: 75 | J91: 156.25
A92: wykaz Kas-z | B92: 0 | C92: 2 | D92: X | E92: 1 | F92: 0 | G92: 0 | H92: 0 | I92: 4 | J92: X
A93: skarga o stwierdzenie niezgodności z prawem (WSC I inst.) | B93: 0 | C93: 0 | D93: X | E93: 0 | F93: 0 | G93: X | H93: 0 | I93: 0 | J93: X
A94: II instancji - apelacje (Pa) | B94: 2481 | C94: 2270 | D94: 91.495365 | E94: 1975 | F94: 2099 | G94: 106.27848 | H94: 2644 | I94: 2486 | J94: 94.024206
A95: - zażalenia (Pz) | B95: 689 | C95: 772 | D95: 112.04644 | E95: 652 | F95: 720 | G95: 110.42945 | H95: 242 | I95: 266 | J95: 109.91736
A96: ogólne (Po II inst.) | B96: 23 | C96: 1 | D96: 4.3478261 | E96: 23 | F96: 3 | G96: 13.043478 | H96: 2 | I96: 0 | J96: 0
A97: skarga kasacyjna (WSC-pracy) | B97: 217 | C97: 244 | D97: 112.4424 | E97: 192 | F97: 211 | G97: 109.89583 | H97: 137 | I97: 121 | J97: 88.321168
A98: skarga o stwierdzenie niezgodności z prawem (WSC II inst.) | B98: 5 | C98: 7 | D98: 140 | E98: 6 | F98: 4 | G98: 66.666667 | H98: 4 | I98: 6 | J98: 150
A99: skargi na postępowanie sądowe (S) | B99: 42 | C99: 36 | D99: 85.714286 | E99: 47 | F99: 39 | G99: 82.978723 | H99: 10 | I99: 9 | J99: 90
A100: Sprawy z zakresu ubezpieczeń społecznych - razem | B100: 40801 | C100: 27660 | D100: 67.792456 | E100: 34829 | F100: 34443 | G100: 98.891728 | H100: 81755 | I100: 80362 | J100: 98.296129
A101: I instancji (U) | B101: 38262 | C101: 25038 | D101: 65.438294 | E101: 32593 | F101: 31809 | G101: 97.594576 | H101: 79629 | I101: 78024 | J101: 97.984403
A102: ogólne (Uo I inst.) | B102: 1731 | C102: 1716 | D102: 99.133449 | E102: 1600 | F102: 1861 | G102: 116.3125 | H102: 1400 | I102: 1522 | J102: 108.71429
...

Sheet Tabl. III 
A2: TABL. III. WSKAŹNIKI DOTYCZĄCE SPRAW W SĄDACH POWSZECHNYCH WEDŁUG DZIAŁÓW PRAWA I INSTANCYJNOŚCI
A3: w I kwartale 2014 i I kwartale 2015
A4: RODZAJE SPRAW WEDŁUG KSIĄG EWIDENCYJNYCH | B4: WSKAŹNIK OPANOWANIA WPŁYWU | E4: WSKAŹNIK CZASU TRWANIA POSTĘPOWANIA (według metodologii CEPEJ) (w dniach) | H4: WSKAŹNIK POZOSTAŁOŚCI (w miesiącach)
B5: I kwartał 2014 | C5: I kwartał 2015 | D5: I kw. 2014 = 100 | E5: I kwartał 2014 | F5: I kwartał 2015 | G5: I kw. 2014 = 100 | H5: I kwartał 2014 | I5: I kwartał 2015 | J5: I kw. 2014 = 100
A7: OGÓŁEM SPRAW W SĄDACH POWSZECHNYCH | B7: =IF('Tabl. II '!B7>0,'Tabl. II '!E7/'Tabl. II '!B7*100,"X") -> 103.39332 | C7: =IF('Tabl. II '!C7>0,'Tabl. II '!F7/'Tabl. II '!C7*100,"X") -> 98.561923 | D7: =C7*100/B7 -> 95.327165 | E7: =IF('Tabl. II '!E7>0,'Tabl. II '!H7/('Tabl. II '!E7/91.25),"X") -> 56.74861 | F7: =IF('Tabl. II '!F7>0,'Tabl. II '!I7/('Tabl. II '!F7/91.25),"X") -> 55.846518 | G7: =F7*100/E7 -> 98.410371 | H7: =IF('Tabl. II '!B7>0,'Tabl. II '!H7*3/'Tabl. II '!B7,"X") -> 1.9290172 | I7: =IF('Tabl. II '!C7>0,'Tabl. II '!I7*3/'Tabl. II '!C7,"X") -> 1.8096461 | J7: =I7*100/H7 -> 93.811817
A8: W SĄDACH APELACYJNYCH - OGÓŁEM | B8: =IF('Tabl. II '!B8>0,'Tabl. II '!E8/'Tabl. II '!B8*100,"X") -> 97.482498 | C8: =IF('Tabl. II '!C8>0,'Tabl. II '!F8/'Tabl. II '!C8*100,"X") -> 91.675493 | D8: =C8*100/B8 -> 94.043028 | E8: =IF('Tabl. II '!E8>0,'Tabl. II '!H8/('Tabl. II '!E8/91.25),"X") -> 106.13821 | F8: =IF('Tabl. II '!F8>0,'Tabl. II '!I8/('Tabl. II '!F8/91.25),"X") -> 117.82409 | G8: =F8*100/E8 -> 111.01006 | H8: =IF('Tabl. II '!B8>0,'Tabl. II '!H8*3/'Tabl. II '!B8,"X") -> 3.4016278 | I8: =IF('Tabl. II '!C8>0,'Tabl. II '!I8*3/'Tabl. II '!C8,"X") -> 3.5512048 | J8: =I8*100/H8 -> 104.39722
A9: Sprawy karne - razem | B9: =IF('Tabl. II '!B9>0,'Tabl. II '!E9/'Tabl. II '!B9*100,"X") -> 92.278349 | C9: =IF('Tabl. II '!C9>0,'Tabl. II '!F9/'Tabl. II '!C9*100,"X") -> 93.41804 | D9: =C9*100/B9 -> 101.23506 | E9: =IF('Tabl. II '!E9>0,'Tabl. II '!H9/('Tabl. II '!E9/91.25),"X") -> 36.737755 | F9: =IF('Tabl. II '!F9>0,'Tabl. II '!I9/('Tabl. II '!F9/91.25),"X") -> 37.882 | G9: =F9*100/E9 -> 103.11463 | H9: =IF('Tabl. II '!B9>0,'Tabl. II '!H9*3/'Tabl. II '!B9,"X") -> 1.1145532 | I9: =IF('Tabl. II '!C9>0,'Tabl. II '!I9*3/'Tabl. II '!C9,"X") -> 1.1634615 | J9: =I9*100/H9 -> 104.38815
A10: II instancji - apelacje (A Ka) | B10: =IF('Tabl. II '!B10>0,'Tabl. II '!E10/'Tabl. II '!B10*100,"X") -> 82.105263 | C10: =IF('Tabl. II '!C10>0,'Tabl. II '!F10/'Tabl. II '!C10*100,"X") -> 89.776358 | D10: =C10*100/B10 -> 109.343 | E10: =IF('Tabl. II '!E10>0,'Tabl. II '!H10/('Tabl. II '!E10/91.25),"X") -> 69.022436 | F10: =IF('Tabl. II '!F10>0,'Tabl. II '!I10/('Tabl. II '!F10/91.25),"X") -> 64.73013 | G10: =F10*100/E10 -> 93.78129 | H10: =IF('Tabl. II '!B10>0,'Tabl. II '!H10*3/'Tabl. II '!B10,"X") -> 1.8631579 | I10: =IF('Tabl. II '!C10>0,'Tabl. II '!I10*3/'Tabl. II '!C10,"X") -> 1.9105431 | J10: =I10*100/H10 -> 102.54328
A11: w tym: o odszkodowanie (A Ka) | B11: =IF('Tabl. II '!B11>0,'Tabl. II '!E11/'Tabl. II '!B11*100,"X") -> 71.929825 | C11: =IF('Tabl. II '!C11>0,'Tabl. II '!F11/'Tabl. II '!C11*100,"X") -> 92.708333 | D11: =C11*100/B11 -> 128.8872 | E11: =IF('Tabl. II '!E11>0,'Tabl. II '!H11/('Tabl. II '!E11/91.25),"X") -> 63.429878 | F11: =IF('Tabl. II '!F11>0,'Tabl. II '!I11/('Tabl. II '!F11/91.25),"X") -> 45.11236 | G11: =F11*100/E11 -> 71.121624 | H11: =IF('Tabl. II '!B11>0,'Tabl. II '!H11*3/'Tabl. II '!B11,"X") -> 1.5 | I11: =IF('Tabl. II '!C11>0,'Tabl. II '!I11*3/'Tabl. II '!C11,"X") -> 1.375 | J11: =I11*100/H11 -> 91.666667
A12: w tym: -z ust. z dn. 23.02.1991 r. o uznaniu za nieważne orzeczeń wydanych wobec osób represjonowanych za działalność na rzecz niepodległego bytu Państwa Polskiego (Dz.U. Nr 34, poz. 149) | B12: =IF('Tabl. II '!B12>0,'Tabl. II '!E12/'Tabl. II '!B12*100,"X") -> 70.833333 | C12: =IF('Tabl. II '!C12>0,'Tabl. II '!F12/'Tabl. II '!C12*100,"X") -> 113.04348 | D12: =C12*100/B12 -> 159.59079 | E12: =IF('Tabl. II '!E12>0,'Tabl. II '!H12/('Tabl. II '!E12/91.25),"X") -> 69.779412 | F12: =IF('Tabl. II '!F12>0,'Tabl. II '!I12/('Tabl. II '!F12/91.25),"X") -> 28.076923 | G12: =F12*100/E12 -> 40.236686 | H12: =IF('Tabl. II '!B12>0,'Tabl. II '!H12*3/'Tabl. II '!B12,"X") -> 1.625 | I12: =IF('Tabl. II '!C12>0,'Tabl. II '!I12*3/'Tabl. II '!C12,"X") -> 1.0434783 | J12: =I12*100/H12 -> 64.214047
A13: - w trybie a.552 kpk | B13: =IF('Tabl. II '!B13>0,'Tabl. II '!E13/'Tabl. II '!B13*100,"X") -> 72.222222 | C13: =IF('Tabl. II '!C13>0,'Tabl. II '!F13/'Tabl. II '!C13*100,"X") -> 86.30137 | D13: =C13*100/B13 -> 119.4942 | E13: =IF('Tabl. II '!E13>0,'Tabl. II '!H13/('Tabl. II '!E13/91.25),"X") -> 61.769231 | F13: =IF('Tabl. II '!F13>0,'Tabl. II '!I13/('Tabl. II '!F13/91.25),"X") -> 52.142857 | G13: =F13*100/E13 -> 84.415584 | H13: =IF('Tabl. II '!B13>0,'Tabl. II '!H13*3/'Tabl. II '!B13,"X") -> 1.4666667 | I13: =IF('Tabl. II '!C13>0,'Tabl. II '!I13*3/'Tabl. II '!C13,"X") -> 1.4794521 | J13: =I13*100/H13 -> 100.87173
A14: - zażalenia (A Kz) | B14: =IF('Tabl. II '!B14>0,'Tabl. II '!E14/'Tabl. II '!B14*100,"X") -> 94.572271 | C14: =IF('Tabl. II '!C14>0,'Tabl. II '!F14/'Tabl. II '!C14*100,"X") -> 99.940968 | D14: =C14*100/B14 -> 105.67682 | E14: =IF('Tabl. II '!E14>0,'Tabl. II '!H14/('Tabl. II '!E14/91.25),"X") -> 17.6466 | F14: =IF('Tabl. II '!F14>0,'Tabl. II '!I14/('Tabl. II '!F14/91.25),"X") -> 15.522741 | G14: =F14*100/E14 -> 87.964484 | H14: =IF('Tabl. II '!B14>0,'Tabl. II '!H14*3/'Tabl. II '!B14,"X") -> 0.54867257 | I14: =IF('Tabl. II '!C14>0,'Tabl. II '!I14*3/'Tabl. II '!C14,"X") -> 0.51003542 | J14: =I14*100/H14 -> 92.958068
A15: ogólne (A Ko) | B15: =IF('Tabl. II '!B15>0,'Tabl. II '!E15/'Tabl. II '!B15*100,"X") -> 91.422594 | C15: =IF('Tabl. II '!C15>0,'Tabl. II '!F15/'Tabl. II '!C15*100,"X") -> 88.998035 | D15: =C15*100/B15 -> 97.347965 | E15: =IF('Tabl. II '!E15>0,'Tabl. II '!H15/('Tabl. II '!E15/91.25),"X") -> 55.125858 | F15: =IF('Tabl. II '!F15>0,'Tabl. II '!I15/('Tabl. II '!F15/91.25),"X") -> 58.818985 | G15: =F15*100/E15 -> 106.69944 | H15: =IF('Tabl. II '!B15>0,'Tabl. II '!H15*3/'Tabl. II '!B15,"X") -> 1.6569038 | I15: =IF('Tabl. II '!C15>0,'Tabl. II '!I15*3/'Tabl. II '!C15,"X") -> 1.7210216 | J15: =I15*100/H15 -> 103.86974
A16: w tym:
A17: sprawy w trybie art.11a pwkpk | B17: =IF('Tabl. II '!B17>0,'Tabl. II '!E17/'Tabl. II '!B17*100,"X") -> X | C17: =IF('Tabl. II '!C17>0,'Tabl. II '!F17/'Tabl. II '!C17*100,"X") -> 100 | D17: X | E17: =IF('Tabl. II '!E17>0,'Tabl. II '!H17/('Tabl. II '!E17/91.25),"X") -> 0 | F17: =IF('Tabl. II '!F17>0,'Tabl. II '!I17/('Tabl. II '!F17/91.25),"X") -> 0 | G17: X | H17: =IF('Tabl. II '!B17>0,'Tabl. II '!H17*3/'Tabl. II '!B17,"X") -> X | I17: =IF('Tabl. II '!C17>0,'Tabl. II '!I17*3/'Tabl. II '!C17,"X") -> 0 | J17: X
A18: nadzór sądowy nad postępowaniem przygotowawczym (A Kp) | B18: =IF('Tabl. II '!B18>0,'Tabl. II '!E18/'Tabl. II '!B18*100,"X") -> 91.304348 | C18: =IF('Tabl. II '!C18>0,'Tabl. II '!F18/'Tabl. II '!C18*100,"X") -> 94.354839 | D18: =C18*100/B18 -> 103.34101 | E18: =IF('Tabl. II '!E18>0,'Tabl. II '!H18/('Tabl. II '!E18/91.25),"X") -> 13.759921 | F18: =IF('Tabl. II '!F18>0,'Tabl. II '!I18/('Tabl. II '!F18/91.25),"X") -> 14.038462 | G18: =F18*100/E18 -> 102.02429 | H18: =IF('Tabl. II '!B18>0,'Tabl. II '!H18*3/'Tabl. II '!B18,"X") -> 0.41304348 | I18: =IF('Tabl. II '!C18>0,'Tabl. II '!I18*3/'Tabl. II '!C18,"X") -> 0.43548387 | J18: =I18*100/H18 -> 105.43294
A19: zażalenia na postanowienia w postępowaniu wykonawczym (A Kzw) | B19: =IF('Tabl. II '!B19>0,'Tabl. II '!E19/'Tabl. II '!B19*100,"X") -> 94.178958 | C19: =IF('Tabl. II '!C19>0,'Tabl. II '!F19/'Tabl. II '!C19*100,"X") -> 92.493246 | D19: =C19*100/B19 -> 98.210097 | E19: =IF('Tabl. II '!E19>0,'Tabl. II '!H19/('Tabl. II '!E19/91.25),"X") -> 34.792754 | F19: =IF('Tabl. II '!F19>0,'Tabl. II '!I19/('Tabl. II '!F19/91.25),"X") -> 37.790789 | G19: =F19*100/E19 -> 108.61684 | H19: =IF('Tabl. II '!B19>0,'Tabl. II '!H19*3/'Tabl. II '!B19,"X") -> 1.0772861 | I19: =IF('Tabl. II '!C19>0,'Tabl. II '!I19*3/'Tabl. II '!C19,"X") -> 1.1491702 | J19: =I19*100/H19 -> 106.6727
A20: kasacje (WKK) | B20: =IF('Tabl. II '!B20>0,'Tabl. II '!E20/'Tabl. II '!B20*100,"X") -> 75.151515 | C20: =IF('Tabl. II '!C20>0,'Tabl. II '!F20/'Tabl. II '!C20*100,"X") -> 88.439306 | D20: =C20*100/B20 -> 117.68134 | E20: =IF('Tabl. II '!E20>0,'Tabl. II '!H20/('Tabl. II '!E20/91.25),"X") -> 112.59073 | F20: =IF('Tabl. II '!F20>0,'Tabl. II '!I20/('Tabl. II '!F20/91.25),"X") -> 97.214052 | G20: =F20*100/E20 -> 86.34286 | H20: =IF('Tabl. II '!B20>0,'Tabl. II '!H20*3/'Tabl. II '!B20,"X") -> 2.7818182 | I20: =IF('Tabl. II '!C20>0,'Tabl. II '!I20*3/'Tabl. II '!C20,"X") -> 2.8265896 | J20: =I20*100/H20 -> 101.60943
A21: skargi na postępowanie sądowe i prokuratorskie (S) | B21: =IF('Tabl. II '!B21>0,'Tabl. II '!E21/'Tabl. II '!B21*100,"X") -> 88.571429 | C21: =IF('Tabl. II '!C21>0,'Tabl. II '!F21/'Tabl. II '!C21*100,"X") -> 94.782609 | D21: =C21*100/B21 -> 107.01262 | E21: =IF('Tabl. II '!E21>0,'Tabl. II '!H21/('Tabl. II '!E21/91.25),"X") -> 38.266129 | F21: =IF('Tabl. II '!F21>0,'Tabl. II '!I21/('Tabl. II '!F21/91.25),"X") -> 36.834862 | G21: =F21*100/E21 -> 96.259704 | H21: =IF('Tabl. II '!B21>0,'Tabl. II '!H21*3/'Tabl. II '!B21,"X") -> 1.1142857 | I21: =IF('Tabl. II '!C21>0,'Tabl. II '!I21*3/'Tabl. II '!C21,"X") -> 1.1478261 | J21: =I21*100/H21 -> 103.01003
A22: W SĄDACH APELACYJNYCH (c.d.)
A23: Sprawy cywilne - razem | B23: =IF('Tabl. II '!B23>0,'Tabl. II '!E23/'Tabl. II '!B23*100,"X") -> 92.311573 | C23: =IF('Tabl. II '!C23>0,'Tabl. II '!F23/'Tabl. II '!C23*100,"X") -> 89.222035 | D23: =C23*100/B23 -> 96.653141 | E23: =IF('Tabl. II '!E23>0,'Tabl. II '!H23/('Tabl. II '!E23/91.25),"X") -> 79.241584 | F23: =IF('Tabl. II '!F23>0,'Tabl. II '!I23/('Tabl. II '!F23/91.25),"X") -> 96.248881 | G23: =F23*100/E23 -> 121.46259 | H23: =IF('Tabl. II '!B23>0,'Tabl. II '!H23*3/'Tabl. II '!B23,"X") -> 2.4049036 | I23: =IF('Tabl. II '!C23>0,'Tabl. II '!I23*3/'Tabl. II '!C23,"X") -> 2.8232946 | J23: =I23*100/H23 -> 117.39741
A24: II instancji - apelacje (A Ca)a) | B24: =IF('Tabl. II '!B24>0,'Tabl. II '!E24/'Tabl. II '!B24*100,"X") -> 88.121336 | C24: =IF('Tabl. II '!C24>0,'Tabl. II '!F24/'Tabl. II '!C24*100,"X") -> 84.413231 | D24: =C24*100/B24 -> 95.792046 | E24: =IF('Tabl. II '!E24>0,'Tabl. II '!H24/('Tabl. II '!E24/91.25),"X") -> 146.20589 | F24: =IF('Tabl. II '!F24>0,'Tabl. II '!I24/('Tabl. II '!F24/91.25),"X") -> 185.29187 | G24: =F24*100/E24 -> 126.73352 | H24: =IF('Tabl. II '!B24>0,'Tabl. II '!H24*3/'Tabl. II '!B24,"X") -> 4.2357889 | I24: =IF('Tabl. II '!C24>0,'Tabl. II '!I24*3/'Tabl. II '!C24,"X") -> 5.1422746 | J24: =I24*100/H24 -> 121.40063
A25: - zażalenia (A Cz)a) | B25: =IF('Tabl. II '!B25>0,'Tabl. II '!E25/'Tabl. II '!B25*100,"X") -> 96.592658 | C25: =IF('Tabl. II '!C25>0,'Tabl. II '!F25/'Tabl. II '!C25*100,"X") -> 93.399656 | D25: =C25*100/B25 -> 96.694364 | E25: =IF('Tabl. II '!E25>0,'Tabl. II '!H25/('Tabl. II '!E25/91.25),"X") -> 35.947599 | F25: =IF('Tabl. II '!F25>0,'Tabl. II '!I25/('Tabl. II '!F25/91.25),"X") -> 42.503585 | G25: =F25*100/E25 -> 118.23762 | H25: =IF('Tabl. II '!B25>0,'Tabl. II '!H25*3/'Tabl. II '!B25,"X") -> 1.1415696 | I25: =IF('Tabl. II '!C25>0,'Tabl. II '!I25*3/'Tabl. II '!C25,"X") -> 1.3051464 | J25: =I25*100/H25 -> 114.32911
A26: ogólne (A Co) | B26: =IF('Tabl. II '!B26>0,'Tabl. II '!E26/'Tabl. II '!B26*100,"X") -> 110.11236 | C26: =IF('Tabl. II '!C26>0,'Tabl. II '!F26/'Tabl. II '!C26*100,"X") -> 102.04918 | D26: =C26*100/B26 -> 92.677317 | E26: =IF('Tabl. II '!E26>0,'Tabl. II '!H26/('Tabl. II '!E26/91.25),"X") -> 24.209184 | F26: =IF('Tabl. II '!F26>0,'Tabl. II '!I26/('Tabl. II '!F26/91.25),"X") -> 26.019076 | G26: =F26*100/E26 -> 107.47606 | H26: =IF('Tabl. II '!B26>0,'Tabl. II '!H26*3/'Tabl. II '!B26,"X") -> 0.87640449 | I26: =IF('Tabl. II '!C26>0,'Tabl. II '!I26*3/'Tabl. II '!C26,"X") -> 0.87295082 | J26: =I26*100/H26 -> 99.605927
A27: skarga kasacyjna (WSC) | B27: =IF('Tabl. II '!B27>0,'Tabl. II '!E27/'Tabl. II '!B27*100,"X") -> 81.181619 | C27: =IF('Tabl. II '!C27>0,'Tabl. II '!F27/'Tabl. II '!C27*100,"X") -> 82.716049 | D27: =C27*100/B27 -> 101.89012 | E27: =IF('Tabl. II '!E27>0,'Tabl. II '!H27/('Tabl. II '!E27/91.25),"X") -> 79.935984 | F27: =IF('Tabl. II '!F27>0,'Tabl. II '!I27/('Tabl. II '!F27/91.25),"X") -> 84.16791 | G27: =F27*100/E27 -> 105.29414 | H27: =IF('Tabl. II '!B27>0,'Tabl. II '!H27*3/'Tabl. II '!B27,"X") -> 2.1334792 | I27: =IF('Tabl. II '!C27>0,'Tabl. II '!I27*3/'Tabl. II '!C27,"X") -> 2.2888889 | J27: =I27*100/H27 -> 107.28433
A28: skarga o stwierdzenie niezgodności z prawem (WSC)b) | B28: =IF('Tabl. II '!B28>0,'Tabl. II '!E28/'Tabl. II '!B28*100,"X") -> 125 | C28: =IF('Tabl. II '!C28>0,'Tabl. II '!F28/'Tabl. II '!C28*100,"X") -> 66.666667 | D28: =C28*100/B28 -> 53.333333 | E28: =IF('Tabl. II '!E28>0,'Tabl. II '!H28/('Tabl. II '!E28/91.25),"X") -> 91.25 | F28: =IF('Tabl. II '!F28>0,'Tabl. II '!I28/('Tabl. II '!F28/91.25),"X") -> 109.5 | G28: =F28*100/E28 -> 120 | H28: =IF('Tabl. II '!B28>0,'Tabl. II '!H28*3/'Tabl. II '!B28,"X") -> 3.75 | I28: =IF('Tabl. II '!C28>0,'Tabl. II '!I28*3/'Tabl. II '!C28,"X") -> 2.4 | J28: =I28*100/H28 -> 64
A29: skargi na postępowanie sądowe (S) | B29: =IF('Tabl. II '!B29>0,'Tabl. II '!E29/'Tabl. II '!B29*100,"X") -> 90.75 | C29: =IF('Tabl. II '!C29>0,'Tabl. II '!F29/'Tabl. II '!C29*100,"X") -> 88.429752 | D29: =C29*100/B29 -> 97.443253 | E29: =IF('Tabl. II '!E29>0,'Tabl. II '!H29/('Tabl. II '!E29/91.25),"X") -> 36.826791 | F29: =IF('Tabl. II '!F29>0,'Tabl. II '!I29/('Tabl. II '!F29/91.25),"X") -> 40.188376 | G29: =F29*100/E29 -> 109.1281 | H29: =IF('Tabl. II '!B29>0,'Tabl. II '!H29*3/'Tabl. II '!B29,"X") -> 1.09875 | I29: =IF('Tabl. II '!C29>0,'Tabl. II '!I29*3/'Tabl. II '!C29,"X") -> 1.1683884 | J29: =I29*100/H29 -> 106.33797
A30: Sprawy z zakresu prawa pracy - razem | B30: =IF('Tabl. II '!B30>0,'Tabl. II '!E30/'Tabl. II '!B30*100,"X") -> 91.603053 | C30: =IF('Tabl. II '!C30>0,'Tabl. II '!F30/'Tabl. II '!C30*100,"X") -> 111.65414 | D30: =C30*100/B30 -> 121.8891 | E30: =IF('Tabl. II '!E30>0,'Tabl. II '!H30/('Tabl. II '!E30/91.25),"X") -> 95.8125 | F30: =IF('Tabl. II '!F30>0,'Tabl. II '!I30/('Tabl. II '!F30/91.25),"X") -> 81.725589 | G30: =F30*100/E30 -> 85.297419 | H30: =IF('Tabl. II '!B30>0,'Tabl. II '!H30*3/'Tabl. II '!B30,"X") -> 2.8854962 | I30: =IF('Tabl. II '!C30>0,'Tabl. II '!I30*3/'Tabl. II '!C30,"X") -> 3 | J30: =I30*100/H30 -> 103.96825
A31: II instancji - apelacje (A Pa) | B31: =IF('Tabl. II '!B31>0,'Tabl. II '!E31/'Tabl. II '!B31*100,"X") -> 81.553398 | C31: =IF('Tabl. II '!C31>0,'Tabl. II '!F31/'Tabl. II '!C31*100,"X") -> 114.44444 | D31: =C31*100/B31 -> 140.33069 | E31: =IF('Tabl. II '!E31>0,'Tabl. II '!H31/('Tabl. II '!E31/91.25),"X") -> 173.80952 | F31: =IF('Tabl. II '!F31>0,'Tabl. II '!I31/('Tabl. II '!F31/91.25),"X") -> 148.83495 | G31: =F31*100/E31 -> 85.631068 | H31: =IF('Tabl. II '!B31>0,'Tabl. II '!H31*3/'Tabl. II '!B31,"X") -> 4.6601942 | I31: =IF('Tabl. II '!C31>0,'Tabl. II '!I31*3/'Tabl. II '!C31,"X") -> 5.6 | J31: =I31*100/H31 -> 120.16667
A32: - zażalenia (A Pz) | B32: =IF('Tabl. II '!B32>0,'Tabl. II '!E32/'Tabl. II '!B32*100,"X") -> 104.3956 | C32: =IF('Tabl. II '!C32>0,'Tabl. II '!F32/'Tabl. II '!C32*100,"X") -> 106.19469 | D32: =C32*100/B32 -> 101.72333 | E32: =IF('Tabl. II '!E32>0,'Tabl. II '!H32/('Tabl. II '!E32/91.25),"X") -> 39.381579 | F32: =IF('Tabl. II '!F32>0,'Tabl. II '!I32/('Tabl. II '!F32/91.25),"X") -> 43.34375 | G32: =F32*100/E32 -> 110.06098 | H32: =IF('Tabl. II '!B32>0,'Tabl. II '!H32*3/'Tabl. II '!B32,"X") -> 1.3516484 | I32: =IF('Tabl. II '!C32>0,'Tabl. II '!I32*3/'Tabl. II '!C32,"X") -> 1.5132743 | J32: =I32*100/H32 -> 111.95769
A33: - ogólne (A Po) | B33: =IF('Tabl. II '!B33>0,'Tabl. II '!E33/'Tabl. II '!B33*100,"X") -> 85.185185 | C33: =IF('Tabl. II '!C33>0,'Tabl. II '!F33/'Tabl. II '!C33*100,"X") -> 150 | D33: =C33*100/B33 -> 176.08696 | E33: =IF('Tabl. II '!E33>0,'Tabl. II '!H33/('Tabl. II '!E33/91.25),"X") -> 87.282609 | F33: =IF('Tabl. II '!F33>0,'Tabl. II '!I33/('Tabl. II '!F33/91.25),"X") -> 39.107143 | G33: =F33*100/E33 -> 44.805195 | H33: =IF('Tabl. II '!B33>0,'Tabl. II '!H33*3/'Tabl. II '!B33,"X") -> 2.4444444 | I33: =IF('Tabl. II '!C33>0,'Tabl. II '!I33*3/'Tabl. II '!C33,"X") -> 1.9285714 | J33: =I33*100/H33 -> 78.896104
A34: skarga kasacyjna (WSC-pracy) | B34: =IF('Tabl. II '!B34>0,'Tabl. II '!E34/'Tabl. II '!B34*100,"X") -> 108 | C34: =IF('Tabl. II '!C34>0,'Tabl. II '!F34/'Tabl. II '!C34*100,"X") -> 100 | D34: =C34*100/B34 -> 92.592593 | E34: =IF('Tabl. II '!E34>0,'Tabl. II '!H34/('Tabl. II '!E34/91.25),"X") -> 67.592593 | F34: =IF('Tabl. II '!F34>0,'Tabl. II '!I34/('Tabl. II '!F34/91.25),"X") -> 77.5625 | G34: =F34*100/E34 -> 114.75 | H34: =IF('Tabl. II '!B34>0,'Tabl. II '!H34*3/'Tabl. II '!B34,"X") -> 2.4 | I34: =IF('Tabl. II '!C34>0,'Tabl. II '!I34*3/'Tabl. II '!C34,"X") -> 2.55 | J34: =I34*100/H34 -> 106.25
A35: skarga o stwierdzenie niezgodności z prawem (WSC-pracy) | B35: =IF('Tabl. II '!B35>0,'Tabl. II '!E35/'Tabl. II '!B35*100,"X") -> X | C35: =IF('Tabl. II '!C35>0,'Tabl. II '!F35/'Tabl. II '!C35*100,"X") -> X | D35: X | E35: =IF('Tabl. II '!E35>0,'Tabl. II '!H35/('Tabl. II '!E35/91.25),"X") -> X | F35: =IF('Tabl. II '!F35>0,'Tabl. II '!I35/('Tabl. II '!F35/91.25),"X") -> 0 | G35: X | H35: =IF('Tabl. II '!B35>0,'Tabl. II '!H35*3/'Tabl. II '!B35,"X") -> X | I35: =IF('Tabl. II '!C35>0,'Tabl. II '!I35*3/'Tabl. II '!C35,"X") -> X | J35: X
A36: skargi na postępowanie sądowe (S) | B36: =IF('Tabl. II '!B36>0,'Tabl. II '!E36/'Tabl. II '!B36*100,"X") -> 68.75 | C36: =IF('Tabl. II '!C36>0,'Tabl. II '!F36/'Tabl. II '!C36*100,"X") -> 73.333333 | D36: =C36*100/B36 -> 106.66667 | E36: =IF('Tabl. II '!E36>0,'Tabl. II '!H36/('Tabl. II '!E36/91.25),"X") -> 74.659091 | F36: =IF('Tabl. II '!F36>0,'Tabl. II '!I36/('Tabl. II '!F36/91.25),"X") -> 49.772727 | G36: =F36*100/E36 -> 66.666667 | H36: =IF('Tabl. II '!B36>0,'Tabl. II '!H36*3/'Tabl. II '!B36,"X") -> 1.6875 | I36: =IF('Tabl. II '!C36>0,'Tabl. II '!I36*3/'Tabl. II '!C36,"X") -> 1.2 | J36: =I36*100/H36 -> 71.111111
A37: Sprawy z zakresu ubezpieczeń społecznych - razem | B37: =IF('Tabl. II '!B37>0,'Tabl. II '!E37/'Tabl. II '!B37*100,"X") -> 124.29722 | C37: =IF('Tabl. II '!C37>0,'Tabl. II '!F37/'Tabl. II '!C37*100,"X") -> 88.436323 | D37: =C37*100/B37 -> 71.149076 | E37: =IF('Tabl. II '!E37>0,'Tabl. II '!H37/('Tabl. II '!E37/91.25),"X") -> 197.38111 | F37: =IF('Tabl. II '!F37>0,'Tabl. II '!I37/('Tabl. II '!F37/91.25),"X") -> 230.77326 | G37: =F37*100/E37 -> 116.9176 | H37: =IF('Tabl. II '!B37>0,'Tabl. II '!H37*3/'Tabl. II '!B37,"X") -> 8.0659474 | I37: =IF('Tabl. II '!C37>0,'Tabl. II '!I37*3/'Tabl. II '!C37,"X") -> 6.7097224 | J37: =I37*100/H37 -> 83.185794
A38: II instancji - apelacje (A Ua) | B38: =IF('Tabl. II '!B38>0,'Tabl. II '!E38/'Tabl. II '!B38*100,"X") -> 132.03543 | C38: =IF('Tabl. II '!C38>0,'Tabl. II '!F38/'Tabl. II '!C38*100,"X") -> 87.661142 | D38: =C38*100/B38 -> 66.392135 | E38: =IF('Tabl. II '!E38>0,'Tabl. II '!H38/('Tabl. II '!E38/91.25),"X") -> 218.4261 | F38: =IF('Tabl. II '!F38>0,'Tabl. II '!I38/('Tabl. II '!F38/91.25),"X") -> 268.57405 | G38: =F38*100/E38 -> 122.95877 | H38: =IF('Tabl. II '!B38>0,'Tabl. II '!H38*3/'Tabl. II '!B38,"X") -> 9.4816387 | I38: =IF('Tabl. II '!C38>0,'Tabl. II '!I38*3/'Tabl. II '!C38,"X") -> 7.7403315 | J38: =I38*100/H38 -> 81.634955
A39: - zażalenia (A Uz) | B39: =IF('Tabl. II '!B39>0,'Tabl. II '!E39/'Tabl. II '!B39*100,"X") -> 86.863271 | C39: =IF('Tabl. II '!C39>0,'Tabl. II '!F39/'Tabl. II '!C39*100,"X") -> 96.333755 | D39: =C39*100/B39 -> 110.90275 | E39: =IF('Tabl. II '!E39>0,'Tabl. II '!H39/('Tabl. II '!E39/91.25),"X") -> 47.173997 | F39: =IF('Tabl. II '!F39>0,'Tabl. II '!I39/('Tabl. II '!F39/91.25),"X") -> 42.990486 | G39: =F39*100/E39 -> 91.131743 | H39: =IF('Tabl. II '!B39>0,'Tabl. II '!H39*3/'Tabl. II '!B39,"X") -> 1.347185 | I39: =IF('Tabl. II '!C39>0,'Tabl. II '!I39*3/'Tabl. II '!C39,"X") -> 1.3615676 | J39: =I39*100/H39 -> 101.06761
A40: ogólne (A Uo) | B40: =IF('Tabl. II '!B40>0,'Tabl. II '!E40/'Tabl. II '!B40*100,"X") -> 100 | C40: =IF('Tabl. II '!C40>0,'Tabl. II '!F40/'Tabl. II '!C40*100,"X") -> 125 | D40: =C40*100/B40 -> 125 | E40: =IF('Tabl. II '!E40>0,'Tabl. II '!H40/('Tabl. II '!E40/91.25),"X") -> 60.833333 | F40: =IF('Tabl. II '!F40>0,'Tabl. II '!I40/('Tabl. II '!F40/91.25),"X") -> 36.5 | G40: =F40*100/E40 -> 60 | H40: =IF('Tabl. II '!B40>0,'Tabl. II '!H40*3/'Tabl. II '!B40,"X") -> 2 | I40: =IF('Tabl. II '!C40>0,'Tabl. II '!I40*3/'Tabl. II '!C40,"X") -> 1.5 | J40: =I40*100/H40 -> 75
A41: skarga kasacyjna (WSC-ubezp.) | B41: =IF('Tabl. II '!B41>0,'Tabl. II '!E41/'Tabl. II '!B41*100,"X") -> 89.645777 | C41: =IF('Tabl. II '!C41>0,'Tabl. II '!F41/'Tabl. II '!C41*100,"X") -> 82.880435 | D41: =C41*100/B41 -> 92.453251 | E41: =IF('Tabl. II '!E41>0,'Tabl. II '!H41/('Tabl. II '!E41/91.25),"X") -> 59.354103 | F41: =IF('Tabl. II '!F41>0,'Tabl. II '!I41/('Tabl. II '!F41/91.25),"X") -> 74.795082 | G41: =F41*100/E41 -> 126.01501 | H41: =IF('Tabl. II '!B41>0,'Tabl. II '!H41*3/'Tabl. II '!B41,"X") -> 1.7493188 | I41: =IF('Tabl. II '!C41>0,'Tabl. II '!I41*3/'Tabl. II '!C41,"X") -> 2.0380435 | J41: =I41*100/H41 -> 116.50498
A42: skarga o stwierdzenie niezgodności z prawem (WSC-ubezp.) | B42: =IF('Tabl. II '!B42>0,'Tabl. II '!E42/'Tabl. II '!B42*100,"X") -> 125 | C42: =IF('Tabl. II '!C42>0,'Tabl. II '!F42/'Tabl. II '!C42*100,"X") -> 100 | D42: =C42*100/B42 -> 80 | E42: =IF('Tabl. II '!E42>0,'Tabl. II '!H42/('Tabl. II '!E42/91.25),"X") -> 54.75 | F42: =IF('Tabl. II '!F42>0,'Tabl. II '!I42/('Tabl. II '!F42/91.25),"X") -> 91.25 | G42: =F42*100/E42 -> 166.66667 | H42: =IF('Tabl. II '!B42>0,'Tabl. II '!H42*3/'Tabl. II '!B42,"X") -> 2.25 | I42: =IF('Tabl. II '!C42>0,'Tabl. II '!I42*3/'Tabl. II '!C42,"X") -> 3 | J42: =I42*100/H42 -> 133.33333
A43: skargi na postępowanie sądowe (S) | B43: =IF('Tabl. II '!B43>0,'Tabl. II '!E43/'Tabl. II '!B43*100,"X") -> 95.238095 | C43: =IF('Tabl. II '!C43>0,'Tabl. II '!F43/'Tabl. II '!C43*100,"X") -> 96.875 | D43: =C43*100/B43 -> 101.71875 | E43: =IF('Tabl. II '!E43>0,'Tabl. II '!H43/('Tabl. II '!E43/91.25),"X") -> 29.65625 | F43: =IF('Tabl. II '!F43>0,'Tabl. II '!I43/('Tabl. II '!F43/91.25),"X") -> 32.379032 | G43: =F43*100/E43 -> 109.18114 | H43: =IF('Tabl. II '!B43>0,'Tabl. II '!H43*3/'Tabl. II '!B43,"X") -> 0.92857143 | I43: =IF('Tabl. II '!C43>0,'Tabl. II '!I43*3/'Tabl. II '!C43,"X") -> 1.03125 | J43: =I43*100/H43 -> 111.05769
A44: W SĄDACH APELACYJNYCH (dok.)
A45: Sprawy gospodarcze - razem | B45: =IF('Tabl. II '!B45>0,'Tabl. II '!E45/'Tabl. II '!B45*100,"X") -> 75.584633 | C45: =IF('Tabl. II '!C45>0,'Tabl. II '!F45/'Tabl. II '!C45*100,"X") -> 102.63728 | D45: =C45*100/B45 -> 135.7912 | E45: =IF('Tabl. II '!E45>0,'Tabl. II '!H45/('Tabl. II '!E45/91.25),"X") -> 126.84254 | F45: =IF('Tabl. II '!F45>0,'Tabl. II '!I45/('Tabl. II '!F45/91.25),"X") -> 175.5623 | G45: =F45*100/E45 -> 138.40964 | H45: =IF('Tabl. II '!B45>0,'Tabl. II '!H45*3/'Tabl. II '!B45,"X") -> 3.1520045 | I45: =IF('Tabl. II '!C45>0,'Tabl. II '!I45*3/'Tabl. II '!C45,"X") -> 5.9241329 | J45: =I45*100/H45 -> 187.94811
A46: II instancji - apelacje (A Ca-gosp.) | B46: =IF('Tabl. II '!B46>0,'Tabl. II '!E46/'Tabl. II '!B46*100,"X") -> 91.432225 | C46: =IF('Tabl. II '!C46>0,'Tabl. II '!F46/'Tabl. II '!C46*100,"X") -> 84.193888 | D46: =C46*100/B46 -> 92.083386 | E46: =IF('Tabl. II '!E46>0,'Tabl. II '!H46/('Tabl. II '!E46/91.25),"X") -> 177.01224 | F46: =IF('Tabl. II '!F46>0,'Tabl. II '!I46/('Tabl. II '!F46/91.25),"X") -> 211.27972 | G46: =F46*100/E46 -> 119.35882 | H46: =IF('Tabl. II '!B46>0,'Tabl. II '!H46*3/'Tabl. II '!B46,"X") -> 5.3209719 | I46: =IF('Tabl. II '!C46>0,'Tabl. II '!I46*3/'Tabl. II '!C46,"X") -> 5.8482613 | J46: =I46*100/H46 -> 109.90965
A47: - zażalenia (A Cz-gosp.) | B47: =IF('Tabl. II '!B47>0,'Tabl. II '!E47/'Tabl. II '!B47*100,"X") -> 75.590219 | C47: =IF('Tabl. II '!C47>0,'Tabl. II '!F47/'Tabl. II '!C47*100,"X") -> 114.37866 | D47: =C47*100/B47 -> 151.3141 | E47: =IF('Tabl. II '!E47>0,'Tabl. II '!H47/('Tabl. II '!E47/91.25),"X") -> 101.83561 | F47: =IF('Tabl. II '!F47>0,'Tabl. II '!I47/('Tabl. II '!F47/91.25),"X") -> 179.43757 | G47: =F47*100/E47 -> 176.20317 | H47: =IF('Tabl. II '!B47>0,'Tabl. II '!H47*3/'Tabl. II '!B47,"X") -> 2.5307757 | I47: =IF('Tabl. II '!C47>0,'Tabl. II '!I47*3/'Tabl. II '!C47,"X") -> 6.7475602 | J47: =I47*100/H47 -> 266.62024
A48: ogólne (A Co-gosp.) | B48: =IF('Tabl. II '!B48>0,'Tabl. II '!E48/'Tabl. II '!B48*100,"X") -> 130 | C48: =IF('Tabl. II '!C48>0,'Tabl. II '!F48/'Tabl. II '!C48*100,"X") -> 103.22581 | D48: =C48*100/B48 -> 79.404467 | E48: =IF('Tabl. II '!E48>0,'Tabl. II '!H48/('Tabl. II '!E48/91.25),"X") -> 21.057692 | F48: =IF('Tabl. II '!F48>0,'Tabl. II '!I48/('Tabl. II '!F48/91.25),"X") -> 22.8125 | G48: =F48*100/E48 -> 108.33333 | H48: =IF('Tabl. II '!B48>0,'Tabl. II '!H48*3/'Tabl. II '!B48,"X") -> 0.9 | I48: =IF('Tabl. II '!C48>0,'Tabl. II '!I48*3/'Tabl. II '!C48,"X") -> 0.77419355 | J48: =I48*100/H48 -> 86.021505
A49: skarga kasacyjna (WSC-gosp.) | B49: =IF('Tabl. II '!B49>0,'Tabl. II '!E49/'Tabl. II '!B49*100,"X") -> 35.612536 | C49: =IF('Tabl. II '!C49>0,'Tabl. II '!F49/'Tabl. II '!C49*100,"X") -> 109.25926 | D49: =C49*100/B49 -> 306.8 | E49: =IF('Tabl. II '!E49>0,'Tabl. II '!H49/('Tabl. II '!E49/91.25),"X") -> 237.25 | F49: =IF('Tabl. II '!F49>0,'Tabl. II '!I49/('Tabl. II '!F49/91.25),"X") -> 52.584746 | G49: =F49*100/E49 -> 22.164276 | H49: =IF('Tabl. II '!B49>0,'Tabl. II '!H49*3/'Tabl. II '!B49,"X") -> 2.7777778 | I49: =IF('Tabl. II '!C49>0,'Tabl. II '!I49*3/'Tabl. II '!C49,"X") -> 1.8888889 | J49: =I49*100/H49 -> 68
A50: skarga o stwierdzenie niezgodności z prawem (WSC-gosp.) | B50: =IF('Tabl. II '!B50>0,'Tabl. II '!E50/'Tabl. II '!B50*100,"X") -> 100 | C50: =IF('Tabl. II '!C50>0,'Tabl. II '!F50/'Tabl. II '!C50*100,"X") -> 300 | D50: =C50*100/B50 -> 300 | E50: =IF('Tabl. II '!E50>0,'Tabl. II '!H50/('Tabl. II '!E50/91.25),"X") -> 60.833333 | F50: =IF('Tabl. II '!F50>0,'Tabl. II '!I50/('Tabl. II '!F50/91.25),"X") -> 0 | G50: =F50*100/E50 -> 0 | H50: =IF('Tabl. II '!B50>0,'Tabl. II '!H50*3/'Tabl. II '!B50,"X") -> 2 | I50: =IF('Tabl. II '!C50>0,'Tabl. II '!I50*3/'Tabl. II '!C50,"X") -> 0 | J50: =I50*100/H50 -> 0
A51: skargi na postępowanie sądowe (S) | B51: =IF('Tabl. II '!B51>0,'Tabl. II '!E51/'Tabl. II '!B51*100,"X") -> 89.189189 | C51: =IF('Tabl. II '!C51>0,'Tabl. II '!F51/'Tabl. II '!C51*100,"X") -> 81.818182 | D51: =C51*100/B51 -> 91.735537 | E51: =IF('Tabl. II '!E51>0,'Tabl. II '!H51/('Tabl. II '!E51/91.25),"X") -> 77.424242 | F51: =IF('Tabl. II '!F51>0,'Tabl. II '!I51/('Tabl. II '!F51/91.25),"X") -> 62.100694 | G51: =F51*100/E51 -> 80.208333 | H51: =IF('Tabl. II '!B51>0,'Tabl. II '!H51*3/'Tabl. II '!B51,"X") -> 2.2702703 | I51: =IF('Tabl. II '!C51>0,'Tabl. II '!I51*3/'Tabl. II '!C51,"X") -> 1.6704545 | J51: =I51*100/H51 -> 73.579545
A52: W SĄDACH OKRĘGOWYCH - OGÓŁEM | B52: =IF('Tabl. II '!B52>0,'Tabl. II '!E52/'Tabl. II '!B52*100,"X") -> 99.557174 | C52: =IF('Tabl. II '!C52>0,'Tabl. II '!F52/'Tabl. II '!C52*100,"X") -> 101.58134 | D52: =C52*100/B52 -> 102.03316 | E52: =IF('Tabl. II '!E52>0,'Tabl. II '!H52/('Tabl. II '!E52/91.25),"X") -> 112.67563 | F52: =IF('Tabl. II '!F52>0,'Tabl. II '!I52/('Tabl. II '!F52/91.25),"X") -> 111.68048 | G52: =F52*100/E52 -> 99.116799 | H52: =IF('Tabl. II '!B52>0,'Tabl. II '!H52*3/'Tabl. II '!B52,"X") -> 3.6880002 | I52: =IF('Tabl. II '!C52>0,'Tabl. II '!I52*3/'Tabl. II '!C52,"X") -> 3.7297486 | J52: =I52*100/H52 -> 101.13201
A53: Sprawy karne i wykroczeniowe - razem | B53: =IF('Tabl. II '!B53>0,'Tabl. II '!E53/'Tabl. II '!B53*100,"X") -> 96.489211 | C53: =IF('Tabl. II '!C53>0,'Tabl. II '!F53/'Tabl. II '!C53*100,"X") -> 97.729384 | D53: =C53*100/B53 -> 101.2853 | E53: =IF('Tabl. II '!E53>0,'Tabl. II '!H53/('Tabl. II '!E53/91.25),"X") -> 43.701832 | F53: =IF('Tabl. II '!F53>0,'Tabl. II '!I53/('Tabl. II '!F53/91.25),"X") -> 40.460688 | G53: =F53*100/E53 -> 92.583504 | H53: =IF('Tabl. II '!B53>0,'Tabl. II '!H53*3/'Tabl. II '!B53,"X") -> 1.3863305 | I53: =IF('Tabl. II '!C53>0,'Tabl. II '!I53*3/'Tabl. II '!C53,"X") -> 1.3000103 | J53: =I53*100/H53 -> 93.773477
A54: I instancji (K) | B54: =IF('Tabl. II '!B54>0,'Tabl. II '!E54/'Tabl. II '!B54*100,"X") -> 95.327904 | C54: =IF('Tabl. II '!C54>0,'Tabl. II '!F54/'Tabl. II '!C54*100,"X") -> 98.614835 | D54: =C54*100/B54 -> 103.44803 | E54: =IF('Tabl. II '!E54>0,'Tabl. II '!H54/('Tabl. II '!E54/91.25),"X") -> 248.51675 | F54: =IF('Tabl. II '!F54>0,'Tabl. II '!I54/('Tabl. II '!F54/91.25),"X") -> 236.41482 | G54: =F54*100/E54 -> 95.130335 | H54: =IF('Tabl. II '!B54>0,'Tabl. II '!H54*3/'Tabl. II '!B54,"X") -> 7.7886841 | I54: =IF('Tabl. II '!C54>0,'Tabl. II '!I54*3/'Tabl. II '!C54,"X") -> 7.6648794 | J54: =I54*100/H54 -> 98.410454
A55: w tym odpowiedzialność podmiotów zbiorowych | B55: =IF('Tabl. II '!B55>0,'Tabl. II '!E55/'Tabl. II '!B55*100,"X") -> X | C55: =IF('Tabl. II '!C55>0,'Tabl. II '!F55/'Tabl. II '!C55*100,"X") -> X | D55: X | E55: =IF('Tabl. II '!E55>0,'Tabl. II '!H55/('Tabl. II '!E55/91.25),"X") -> X | F55: =IF('Tabl. II '!F55>0,'Tabl. II '!I55/('Tabl. II '!F55/91.25),"X") -> X | G55: X | H55: =IF('Tabl. II '!B55>0,'Tabl. II '!H55*3/'Tabl. II '!B55,"X") -> X | I55: =IF('Tabl. II '!C55>0,'Tabl. II '!I55*3/'Tabl. II '!C55,"X") -> X | J55: X
A56: penitencjarne: - sprawy dotyczące wkonywania kary pozbawienia wolności; np.: przerw, odwołania warunkowego zwolnienia, zmiany określonego wyroku i typu zakładu karnego (Kow) | B56: =IF('Tabl. II '!B56>0,'Tabl. II '!E56/'Tabl. II '!B56*100,"X") -> 96.893541 | C56: =IF('Tabl. II '!C56>0,'Tabl. II '!F56/'Tabl. II '!C56*100,"X") -> 96.333717 | D56: =C56*100/B56 -> 99.422228 | E56: =IF('Tabl. II '!E56>0,'Tabl. II '!H56/('Tabl. II '!E56/91.25),"X") -> 41.439655 | F56: =IF('Tabl. II '!F56>0,'Tabl. II '!I56/('Tabl. II '!F56/91.25),"X") -> 40.862135 | G56: =F56*100/E56 -> 98.606358 | H56: =IF('Tabl. II '!B56>0,'Tabl. II '!H56*3/'Tabl. II '!B56,"X") -> 1.3200772 | I56: =IF('Tabl. II '!C56>0,'Tabl. II '!I56*3/'Tabl. II '!C56,"X") -> 1.2941594 | J56: =I56*100/H56 -> 98.036639
A57: - sprawy dotyczące wykonywania nadzoru sędziego penitencjarnego nad tymczasowym aresztowaniem lub karą pozbawienia wolności (Pen) | B57: =IF('Tabl. II '!B57>0,'Tabl. II '!E57/'Tabl. II '!B57*100,"X") -> 99.670289 | C57: =IF('Tabl. II '!C57>0,'Tabl. II '!F57/'Tabl. II '!C57*100,"X") -> 97.495917 | D57: =C57*100/B57 -> 97.818435 | E57: =IF('Tabl. II '!E57>0,'Tabl. II '!H57/('Tabl. II '!E57/91.25),"X") -> 12.510261 | F57: =IF('Tabl. II '!F57>0,'Tabl. II '!I57/('Tabl. II '!F57/91.25),"X") -> 13.870917 | G57: =F57*100/E57 -> 110.87632 | H57: =IF('Tabl. II '!B57>0,'Tabl. II '!H57*3/'Tabl. II '!B57,"X") -> 0.40994016 | I57: =IF('Tabl. II '!C57>0,'Tabl. II '!I57*3/'Tabl. II '!C57,"X") -> 0.44461078 | J57: =I57*100/H57 -> 108.45748
A58: nadzór sądowy nad postępowaniem przygotowawczym (Kp) | B58: =IF('Tabl. II '!B58>0,'Tabl. II '!E58/'Tabl. II '!B58*100,"X") -> 96.553761 | C58: =IF('Tabl. II '!C58>0,'Tabl. II '!F58/'Tabl. II '!C58*100,"X") -> 96.492525 | D58: =C58*100/B58 -> 99.936578 | E58: =IF('Tabl. II '!E58>0,'Tabl. II '!H58/('Tabl. II '!E58/91.25),"X") -> 13.018433 | F58: =IF('Tabl. II '!F58>0,'Tabl. II '!I58/('Tabl. II '!F58/91.25),"X") -> 11.706287 | G58: =F58*100/E58 -> 89.920861 | H58: =IF('Tabl. II '!B58>0,'Tabl. II '!H58*3/'Tabl. II '!B58,"X") -> 0.41325325 | I58: =IF('Tabl. II '!C58>0,'Tabl. II '!I58*3/'Tabl. II '!C58,"X") -> 0.3713652 | J58: =I58*100/H58 -> 89.863832
A59: Kop | B59: =IF('Tabl. II '!B59>0,'Tabl. II '!E59/'Tabl. II '!B59*100,"X") -> 88.093385 | C59: =IF('Tabl. II '!C59>0,'Tabl. II '!F59/'Tabl. II '!C59*100,"X") -> 100.33473 | D59: =C59*100/B59 -> 113.89587 | E59: =IF('Tabl. II '!E59>0,'Tabl. II '!H59/('Tabl. II '!E59/91.25),"X") -> 41.836352 | F59: =IF('Tabl. II '!F59>0,'Tabl. II '!I59/('Tabl. II '!F59/91.25),"X") -> 34.780025 | G59: =F59*100/E59 -> 83.133504 | H59: =IF('Tabl. II '!B59>0,'Tabl. II '!H59*3/'Tabl. II '!B59,"X") -> 1.2116732 | I59: =IF('Tabl. II '!C59>0,'Tabl. II '!I59*3/'Tabl. II '!C59,"X") -> 1.1472803 | J59: =I59*100/H59 -> 94.685628
A60: II instancji - apelacje w sprawach karnych (Ka) | B60: =IF('Tabl. II '!B60>0,'Tabl. II '!E60/'Tabl. II '!B60*100,"X") -> 92.914105 | C60: =IF('Tabl. II '!C60>0,'Tabl. II '!F60/'Tabl. II '!C60*100,"X") -> 98.02773 | D60: =C60*100/B60 -> 105.5036 | E60: =IF('Tabl. II '!E60>0,'Tabl. II '!H60/('Tabl. II '!E60/91.25),"X") -> 79.950827 | F60: =IF('Tabl. II '!F60>0,'Tabl. II '!I60/('Tabl. II '!F60/91.25),"X") -> 64.505143 | G60: =F60*100/E60 -> 80.681021 | H60: =IF('Tabl. II '!B60>0,'Tabl. II '!H60*3/'Tabl. II '!B60,"X") -> 2.4422662 | I60: =IF('Tabl. II '!C60>0,'Tabl. II '!I60*3/'Tabl. II '!C60,"X") -> 2.0788908 | J60: =I60*100/H60 -> 85.121385
A61: - zażalenia w sprawach karnych (Kz) | B61: =IF('Tabl. II '!B61>0,'Tabl. II '!E61/'Tabl. II '!B61*100,"X") -> 97.250448 | C61: =IF('Tabl. II '!C61>0,'Tabl. II '!F61/'Tabl. II '!C61*100,"X") -> 101.58081 | D61: =C61*100/B61 -> 104.4528 | E61: =IF('Tabl. II '!E61>0,'Tabl. II '!H61/('Tabl. II '!E61/91.25),"X") -> 26.41595 | F61: =IF('Tabl. II '!F61>0,'Tabl. II '!I61/('Tabl. II '!F61/91.25),"X") -> 23.051214 | G61: =F61*100/E61 -> 87.262485 | H61: =IF('Tabl. II '!B61>0,'Tabl. II '!H61*3/'Tabl. II '!B61,"X") -> 0.84459056 | I61: =IF('Tabl. II '!C61>0,'Tabl. II '!I61*3/'Tabl. II '!C61,"X") -> 0.76982829 | J61: =I61*100/H61 -> 91.148106
A62: zażalenia na postanowienia w postępowaniu wykonawczym (Kzw) | B62: =IF('Tabl. II '!B62>0,'Tabl. II '!E62/'Tabl. II '!B62*100,"X") -> 96.940748 | C62: =IF('Tabl. II '!C62>0,'Tabl. II '!F62/'Tabl. II '!C62*100,"X") -> 102.13944 | D62: =C62*100/B62 -> 105.36275 | E62: =IF('Tabl. II '!E62>0,'Tabl. II '!H62/('Tabl. II '!E62/91.25),"X") -> 42.820272 | F62: =IF('Tabl. II '!F62>0,'Tabl. II '!I62/('Tabl. II '!F62/91.25),"X") -> 39.564903 | G62: =F62*100/E62 -> 92.397597 | H62: =IF('Tabl. II '!B62>0,'Tabl. II '!H62*3/'Tabl. II '!B62,"X") -> 1.3647219 | I62: =IF('Tabl. II '!C62>0,'Tabl. II '!I62*3/'Tabl. II '!C62,"X") -> 1.328593 | J62: =I62*100/H62 -> 97.352652
A63: ogólne (Ko) | B63: =IF('Tabl. II '!B63>0,'Tabl. II '!E63/'Tabl. II '!B63*100,"X") -> 97.490965 | C63: =IF('Tabl. II '!C63>0,'Tabl. II '!F63/'Tabl. II '!C63*100,"X") -> 97.158116 | D63: =C63*100/B63 -> 99.658584 | E63: =IF('Tabl. II '!E63>0,'Tabl. II '!H63/('Tabl. II '!E63/91.25),"X") -> 34.027881 | F63: =IF('Tabl. II '!F63>0,'Tabl. II '!I63/('Tabl. II '!F63/91.25),"X") -> 30.022576 | G63: =F63*100/E63 -> 88.229343 | H63: =IF('Tabl. II '!B63>0,'Tabl. II '!H63*3/'Tabl. II '!B63,"X") -> 1.0906557 | I63: =IF('Tabl. II '!C63>0,'Tabl. II '!I63*3/'Tabl. II '!C63,"X") -> 0.95899294 | J63: =I63*100/H63 -> 87.928114
A64: kasacje (WKK) | B64: =IF('Tabl. II '!B64>0,'Tabl. II '!E64/'Tabl. II '!B64*100,"X") -> 89.320388 | C64: =IF('Tabl. II '!C64>0,'Tabl. II '!F64/'Tabl. II '!C64*100,"X") -> 101.43885 | D64: =C64*100/B64 -> 113.56741 | E64: =IF('Tabl. II '!E64>0,'Tabl. II '!H64/('Tabl. II '!E64/91.25),"X") -> 103.48279 | F64: =IF('Tabl. II '!F64>0,'Tabl. II '!I64/('Tabl. II '!F64/91.25),"X") -> 96.103723 | G64: =F64*100/E64 -> 92.869281 | H64: =IF('Tabl. II '!B64>0,'Tabl. II '!H64*3/'Tabl. II '!B64,"X") -> 3.038835 | I64: =IF('Tabl. II '!C64>0,'Tabl. II '!I64*3/'Tabl. II '!C64,"X") -> 3.205036 | J64: =I64*100/H64 -> 105.46923
A65: skargi na postępowanie sądowe i prokuratorskie (S) | B65: =IF('Tabl. II '!B65>0,'Tabl. II '!E65/'Tabl. II '!B65*100,"X") -> 91.871456 | C65: =IF('Tabl. II '!C65>0,'Tabl. II '!F65/'Tabl. II '!C65*100,"X") -> 91.470054 | D65: =C65*100/B65 -> 99.563084 | E65: =IF('Tabl. II '!E65>0,'Tabl. II '!H65/('Tabl. II '!E65/91.25),"X") -> 39.429012 | F65: =IF('Tabl. II '!F65>0,'Tabl. II '!I65/('Tabl. II '!F65/91.25),"X") -> 39.107143 | G65: =F65*100/E65 -> 99.183673 | H65: =IF('Tabl. II '!B65>0,'Tabl. II '!H65*3/'Tabl. II '!B65,"X") -> 1.1909263 | I65: =IF('Tabl. II '!C65>0,'Tabl. II '!I65*3/'Tabl. II '!C65,"X") -> 1.1760436 | J65: =I65*100/H65 -> 98.750324
A66: W SĄDACH OKRĘGOWYCH (c.d.)
A67: Sprawy cywilne - razem | B67: =IF('Tabl. II '!B67>0,'Tabl. II '!E67/'Tabl. II '!B67*100,"X") -> 94.553741 | C67: =IF('Tabl. II '!C67>0,'Tabl. II '!F67/'Tabl. II '!C67*100,"X") -> 99.112193 | D67: =C67*100/B67 -> 104.82102 | E67: =IF('Tabl. II '!E67>0,'Tabl. II '!H67/('Tabl. II '!E67/91.25),"X") -> 150.78757 | F67: =IF('Tabl. II '!F67>0,'Tabl. II '!I67/('Tabl. II '!F67/91.25),"X") -> 144.39292 | G67: =F67*100/E67 -> 95.759168 | H67: =IF('Tabl. II '!B67>0,'Tabl. II '!H67*3/'Tabl. II '!B67,"X") -> 4.6874068 | I67: =IF('Tabl. II '!C67>0,'Tabl. II '!I67*3/'Tabl. II '!C67,"X") -> 4.705019 | J67: =I67*100/H67 -> 100.37573
A68: I instancji - procesowe (C i RC)a) | B68: =IF('Tabl. II '!B68>0,'Tabl. II '!E68/'Tabl. II '!B68*100,"X") -> 90.897698 | C68: =IF('Tabl. II '!C68>0,'Tabl. II '!F68/'Tabl. II '!C68*100,"X") -> 99.780175 | D68: =C68*100/B68 -> 109.77195 | E68: =IF('Tabl. II '!E68>0,'Tabl. II '!H68/('Tabl. II '!E68/91.25),"X") -> 257.45497 | F68: =IF('Tabl. II '!F68>0,'Tabl. II '!I68/('Tabl. II '!F68/91.25),"X") -> 250.2292 | G68: =F68*100/E68 -> 97.193384 | H68: =IF('Tabl. II '!B68>0,'Tabl. II '!H68*3/'Tabl. II '!B68,"X") -> 7.6938292 | I68: =IF('Tabl. II '!C68>0,'Tabl. II '!I68*3/'Tabl. II '!C68,"X") -> 8.2086289 | J68: =I68*100/H68 -> 106.69107
A69: - szkody geologiczne i górnicze (CG-G) | B69: =IF('Tabl. II '!B69>0,'Tabl. II '!E69/'Tabl. II '!B69*100,"X") -> 72.916667 | C69: =IF('Tabl. II '!C69>0,'Tabl. II '!F69/'Tabl. II '!C69*100,"X") -> 116.66667 | D69: =C69*100/B69 -> 160 | E69: =IF('Tabl. II '!E69>0,'Tabl. II '!H69/('Tabl. II '!E69/91.25),"X") -> 641.35714 | F69: =IF('Tabl. II '!F69>0,'Tabl. II '!I69/('Tabl. II '!F69/91.25),"X") -> 698.71429 | G69: =F69*100/E69 -> 108.94309 | H69: =IF('Tabl. II '!B69>0,'Tabl. II '!H69*3/'Tabl. II '!B69,"X") -> 15.375 | I69: =IF('Tabl. II '!C69>0,'Tabl. II '!I69*3/'Tabl. II '!C69,"X") -> 26.8 | J69: =I69*100/H69 -> 174.30894
A70: - nieprocesowe (Ns)a) (z wył. rej.) | B70: =IF('Tabl. II '!B70>0,'Tabl. II '!E70/'Tabl. II '!B70*100,"X") -> 89.308642 | C70: =IF('Tabl. II '!C70>0,'Tabl. II '!F70/'Tabl. II '!C70*100,"X") -> 108.57143 | D70: =C70*100/B70 -> 121.56878 | E70: =IF('Tabl. II '!E70>0,'Tabl. II '!H70/('Tabl. II '!E70/91.25),"X") -> 159.97132 | F70: =IF('Tabl. II '!F70>0,'Tabl. II '!I70/('Tabl. II '!F70/91.25),"X") -> 139.70367 | G70: =F70*100/E70 -> 87.330449 | H70: =IF('Tabl. II '!B70>0,'Tabl. II '!H70*3/'Tabl. II '!B70,"X") -> 4.697037 | I70: =IF('Tabl. II '!C70>0,'Tabl. II '!I70*3/'Tabl. II '!C70,"X") -> 4.9866828 | J70: =I70*100/H70 -> 106.16656
A71: - rejestrowe | B71: =IF('Tabl. II '!B71>0,'Tabl. II '!E71/'Tabl. II '!B71*100,"X") -> 101.38393 | C71: =IF('Tabl. II '!C71>0,'Tabl. II '!F71/'Tabl. II '!C71*100,"X") -> 106.06838 | D71: =C71*100/B71 -> 104.6205 | E71: =IF('Tabl. II '!E71>0,'Tabl. II '!H71/('Tabl. II '!E71/91.25),"X") -> 19.567922 | F71: =IF('Tabl. II '!F71>0,'Tabl. II '!I71/('Tabl. II '!F71/91.25),"X") -> 19.117647 | G71: =F71*100/E71 -> 97.698915 | H71: =IF('Tabl. II '!B71>0,'Tabl. II '!H71*3/'Tabl. II '!B71,"X") -> 0.65223214 | I71: =IF('Tabl. II '!C71>0,'Tabl. II '!I71*3/'Tabl. II '!C71,"X") -> 0.66666667 | J71: =I71*100/H71 -> 102.2131
A72: w tym:
A73: z zakresu rejestru dzienników i czasopism (Ns.Rej.Pr) | B73: =IF('Tabl. II '!B73>0,'Tabl. II '!E73/'Tabl. II '!B73*100,"X") -> 97.736459 | C73: =IF('Tabl. II '!C73>0,'Tabl. II '!F73/'Tabl. II '!C73*100,"X") -> 100.42857 | D73: =C73*100/B73 -> 102.75446 | E73: =IF('Tabl. II '!E73>0,'Tabl. II '!H73/('Tabl. II '!E73/91.25),"X") -> 27.699545 | F73: =IF('Tabl. II '!F73>0,'Tabl. II '!I73/('Tabl. II '!F73/91.25),"X") -> 27.128378 | G73: =F73*100/E73 -> 97.937992 | H73: =IF('Tabl. II '!B73>0,'Tabl. II '!H73*3/'Tabl. II '!B73,"X") -> 0.89005659 | I73: =IF('Tabl. II '!C73>0,'Tabl. II '!I73*3/'Tabl. II '!C73,"X") -> 0.89571429 | J73: =I73*100/H73 -> 100.63566
A74: Partie | B74: =IF('Tabl. II '!B74>0,'Tabl. II '!E74/'Tabl. II '!B74*100,"X") -> 85.714286 | C74: =IF('Tabl. II '!C74>0,'Tabl. II '!F74/'Tabl. II '!C74*100,"X") -> 84.848485 | D74: =C74*100/B74 -> 98.989899 | E74: =IF('Tabl. II '!E74>0,'Tabl. II '!H74/('Tabl. II '!E74/91.25),"X") -> 81.111111 | F74: =IF('Tabl. II '!F74>0,'Tabl. II '!I74/('Tabl. II '!F74/91.25),"X") -> 114.0625 | G74: =F74*100/E74 -> 140.625 | H74: =IF('Tabl. II '!B74>0,'Tabl. II '!H74*3/'Tabl. II '!B74,"X") -> 2.2857143 | I74: =IF('Tabl. II '!C74>0,'Tabl. II '!I74*3/'Tabl. II '!C74,"X") -> 3.1818182 | J74: =I74*100/H74 -> 139.20455
A75: Fundusze emerytalne | B75: =IF('Tabl. II '!B75>0,'Tabl. II '!E75/'Tabl. II '!B75*100,"X") -> 129.41176 | C75: =IF('Tabl. II '!C75>0,'Tabl. II '!F75/'Tabl. II '!C75*100,"X") -> 142.85714 | D75: =C75*100/B75 -> 110.38961 | E75: =IF('Tabl. II '!E75>0,'Tabl. II '!H75/('Tabl. II '!E75/91.25),"X") -> 16.590909 | F75: =IF('Tabl. II '!F75>0,'Tabl. II '!I75/('Tabl. II '!F75/91.25),"X") -> 9.125 | G75: =F75*100/E75 -> 55 | H75: =IF('Tabl. II '!B75>0,'Tabl. II '!H75*3/'Tabl. II '!B75,"X") -> 0.70588235 | I75: =IF('Tabl. II '!C75>0,'Tabl. II '!I75*3/'Tabl. II '!C75,"X") -> 0.42857143 | J75: =I75*100/H75 -> 60.714286
A76: Fundusze inwestycyjne | B76: =IF('Tabl. II '!B76>0,'Tabl. II '!E76/'Tabl. II '!B76*100,"X") -> 105.90674 | C76: =IF('Tabl. II '!C76>0,'Tabl. II '!F76/'Tabl. II '!C76*100,"X") -> 115.33333 | D76: =C76*100/B76 -> 108.90085 | E76: =IF('Tabl. II '!E76>0,'Tabl. II '!H76/('Tabl. II '!E76/91.25),"X") -> 8.9285714 | F76: =IF('Tabl. II '!F76>0,'Tabl. II '!I76/('Tabl. II '!F76/91.25),"X") -> 5.8020231 | G76: =F76*100/E76 -> 64.982659 | H76: =IF('Tabl. II '!B76>0,'Tabl. II '!H76*3/'Tabl. II '!B76,"X") -> 0.31088083 | I76: =IF('Tabl. II '!C76>0,'Tabl. II '!I76*3/'Tabl. II '!C76,"X") -> 0.22 | J76: =I76*100/H76 -> 70.766667
A77: - nakazowe i upominawcze (Nc) | B77: =IF('Tabl. II '!B77>0,'Tabl. II '!E77/'Tabl. II '!B77*100,"X") -> 100.7562 | C77: =IF('Tabl. II '!C77>0,'Tabl. II '!F77/'Tabl. II '!C77*100,"X") -> 101.95509 | D77: =C77*100/B77 -> 101.18989 | E77: =IF('Tabl. II '!E77>0,'Tabl. II '!H77/('Tabl. II '!E77/91.25),"X") -> 32.900405 | F77: =IF('Tabl. II '!F77>0,'Tabl. II '!I77/('Tabl. II '!F77/91.25),"X") -> 32.489635 | G77: =F77*100/E77 -> 98.751472 | H77: =IF('Tabl. II '!B77>0,'Tabl. II '!H77*3/'Tabl. II '!B77,"X") -> 1.0898367 | I77: =IF('Tabl. II '!C77>0,'Tabl. II '!I77*3/'Tabl. II '!C77,"X") -> 1.0890357 | J77: =I77*100/H77 -> 99.926503
A78: ogólne (Co I inst.) | B78: =IF('Tabl. II '!B78>0,'Tabl. II '!E78/'Tabl. II '!B78*100,"X") -> 97.532895 | C78: =IF('Tabl. II '!C78>0,'Tabl. II '!F78/'Tabl. II '!C78*100,"X") -> 98.196822 | D78: =C78*100/B78 -> 100.68072 | E78: =IF('Tabl. II '!E78>0,'Tabl. II '!H78/('Tabl. II '!E78/91.25),"X") -> 57.55059 | F78: =IF('Tabl. II '!F78>0,'Tabl. II '!I78/('Tabl. II '!F78/91.25),"X") -> 51.887255 | G78: =F78*100/E78 -> 90.159379 | H78: =IF('Tabl. II '!B78>0,'Tabl. II '!H78*3/'Tabl. II '!B78,"X") -> 1.8453947 | I78: =IF('Tabl. II '!C78>0,'Tabl. II '!I78*3/'Tabl. II '!C78,"X") -> 1.6751222 | J78: =I78*100/H78 -> 90.773113
A79: skarga o stwierdzenie niezgodności z prawem (WSC) | B79: =IF('Tabl. II '!B79>0,'Tabl. II '!E79/'Tabl. II '!B79*100,"X") -> 78.571429 | C79: =IF('Tabl. II '!C79>0,'Tabl. II '!F79/'Tabl. II '!C79*100,"X") -> 75 | D79: =C79*100/B79 -> 95.454545 | E79: =IF('Tabl. II '!E79>0,'Tabl. II '!H79/('Tabl. II '!E79/91.25),"X") -> 82.954545 | F79: =IF('Tabl. II '!F79>0,'Tabl. II '!I79/('Tabl. II '!F79/91.25),"X") -> 76.041667 | G79: =F79*100/E79 -> 91.666667 | H79: =IF('Tabl. II '!B79>0,'Tabl. II '!H79*3/'Tabl. II '!B79,"X") -> 2.1428571 | I79: =IF('Tabl. II '!C79>0,'Tabl. II '!I79*3/'Tabl. II '!C79,"X") -> 1.875 | J79: =I79*100/H79 -> 87.5
A80: II instancji - apelacje (Ca)a) | B80: =IF('Tabl. II '!B80>0,'Tabl. II '!E80/'Tabl. II '!B80*100,"X") -> 94.356965 | C80: =IF('Tabl. II '!C80>0,'Tabl. II '!F80/'Tabl. II '!C80*100,"X") -> 94.02365 | D80: =C80*100/B80 -> 99.646751 | E80: =IF('Tabl. II '!E80>0,'Tabl. II '!H80/('Tabl. II '!E80/91.25),"X") -> 116.55167 | F80: =IF('Tabl. II '!F80>0,'Tabl. II '!I80/('Tabl. II '!F80/91.25),"X") -> 116.42904 | G80: =F80*100/E80 -> 99.89479 | H80: =IF('Tabl. II '!B80>0,'Tabl. II '!H80*3/'Tabl. II '!B80,"X") -> 3.6156038 | I80: =IF('Tabl. II '!C80>0,'Tabl. II '!I80*3/'Tabl. II '!C80,"X") -> 3.5990412 | J80: =I80*100/H80 -> 99.541913
A81: - zażalenia (Cz)a) | B81: =IF('Tabl. II '!B81>0,'Tabl. II '!E81/'Tabl. II '!B81*100,"X") -> 101.18981 | C81: =IF('Tabl. II '!C81>0,'Tabl. II '!F81/'Tabl. II '!C81*100,"X") -> 99.59784 | D81: =C81*100/B81 -> 98.42675 | E81: =IF('Tabl. II '!E81>0,'Tabl. II '!H81/('Tabl. II '!E81/91.25),"X") -> 36.839295 | F81: =IF('Tabl. II '!F81>0,'Tabl. II '!I81/('Tabl. II '!F81/91.25),"X") -> 38.445431 | G81: =F81*100/E81 -> 104.35985 | H81: =IF('Tabl. II '!B81>0,'Tabl. II '!H81*3/'Tabl. II '!B81,"X") -> 1.2255653 | I81: =IF('Tabl. II '!C81>0,'Tabl. II '!I81*3/'Tabl. II '!C81,"X") -> 1.2588762 | J81: =I81*100/H81 -> 102.71801
A82: ogólne (Co II inst.) | B82: =IF('Tabl. II '!B82>0,'Tabl. II '!E82/'Tabl. II '!B82*100,"X") -> 100.84034 | C82: =IF('Tabl. II '!C82>0,'Tabl. II '!F82/'Tabl. II '!C82*100,"X") -> 112.5 | D82: =C82*100/B82 -> 111.5625 | E82: =IF('Tabl. II '!E82>0,'Tabl. II '!H82/('Tabl. II '!E82/91.25),"X") -> 15.96875 | F82: =IF('Tabl. II '!F82>0,'Tabl. II '!I82/('Tabl. II '!F82/91.25),"X") -> 11.902174 | G82: =F82*100/E82 -> 74.534161 | H82: =IF('Tabl. II '!B82>0,'Tabl. II '!H82*3/'Tabl. II '!B82,"X") -> 0.52941176 | I82: =IF('Tabl. II '!C82>0,'Tabl. II '!I82*3/'Tabl. II '!C82,"X") -> 0.44021739 | J82: =I82*100/H82 -> 83.152174
A83: skarga kasacyjna (WSC) | B83: =IF('Tabl. II '!B83>0,'Tabl. II '!E83/'Tabl. II '!B83*100,"X") -> 92.857143 | C83: =IF('Tabl. II '!C83>0,'Tabl. II '!F83/'Tabl. II '!C83*100,"X") -> 92.961165 | D83: =C83*100/B83 -> 100.11202 | E83: =IF('Tabl. II '!E83>0,'Tabl. II '!H83/('Tabl. II '!E83/91.25),"X") -> 75.895433 | F83: =IF('Tabl. II '!F83>0,'Tabl. II '!I83/('Tabl. II '!F83/91.25),"X") -> 73.619452 | G83: =F83*100/E83 -> 97.001162 | H83: =IF('Tabl. II '!B83>0,'Tabl. II '!H83*3/'Tabl. II '!B83,"X") -> 2.3169643 | I83: =IF('Tabl. II '!C83>0,'Tabl. II '!I83*3/'Tabl. II '!C83,"X") -> 2.25 | J83: =I83*100/H83 -> 97.109827
A84: skarga o stwierdzenie niezgodności z prawem (WSC II inst.) | B84: =IF('Tabl. II '!B84>0,'Tabl. II '!E84/'Tabl. II '!B84*100,"X") -> 76.923077 | C84: =IF('Tabl. II '!C84>0,'Tabl. II '!F84/'Tabl. II '!C84*100,"X") -> 86.842105 | D84: =C84*100/B84 -> 112.89474 | E84: =IF('Tabl. II '!E84>0,'Tabl. II '!H84/('Tabl. II '!E84/91.25),"X") -> 91.25 | F84: =IF('Tabl. II '!F84>0,'Tabl. II '!I84/('Tabl. II '!F84/91.25),"X") -> 69.128788 | G84: =F84*100/E84 -> 75.757576 | H84: =IF('Tabl. II '!B84>0,'Tabl. II '!H84*3/'Tabl. II '!B84,"X") -> 2.3076923 | I84: =IF('Tabl. II '!C84>0,'Tabl. II '!I84*3/'Tabl. II '!C84,"X") -> 1.9736842 | J84: =I84*100/H84 -> 85.526316
A85: skargi na postępowanie sądowe (S) | B85: =IF('Tabl. II '!B85>0,'Tabl. II '!E85/'Tabl. II '!B85*100,"X") -> 98.559932 | C85: =IF('Tabl. II '!C85>0,'Tabl. II '!F85/'Tabl. II '!C85*100,"X") -> 93.238731 | D85: =C85*100/B85 -> 94.60105 | E85: =IF('Tabl. II '!E85>0,'Tabl. II '!H85/('Tabl. II '!E85/91.25),"X") -> 27.841642 | F85: =IF('Tabl. II '!F85>0,'Tabl. II '!I85/('Tabl. II '!F85/91.25),"X") -> 30.96128 | G85: =F85*100/E85 -> 111.20494 | H85: =IF('Tabl. II '!B85>0,'Tabl. II '!H85*3/'Tabl. II '!B85,"X") -> 0.9021601 | I85: =IF('Tabl. II '!C85>0,'Tabl. II '!I85*3/'Tabl. II '!C85,"X") -> 0.9490818 | J85: =I85*100/H85 -> 105.20104
A87: W SĄDACH OKRĘGOWYCH (c.d.)
A88: Sprawy z zakresu prawa pracy - razem | B88: =IF('Tabl. II '!B88>0,'Tabl. II '!E88/'Tabl. II '!B88*100,"X") -> 85.805816 | C88: =IF('Tabl. II '!C88>0,'Tabl. II '!F88/'Tabl. II '!C88*100,"X") -> 92.710997 | D88: =C88*100/B88 -> 108.04745 | E88: =IF('Tabl. II '!E88>0,'Tabl. II '!H88/('Tabl. II '!E88/91.25),"X") -> 119.63132 | F88: =IF('Tabl. II '!F88>0,'Tabl. II '!I88/('Tabl. II '!F88/91.25),"X") -> 111.66483 | G88: =F88*100/E88 -> 93.340798 | H88: =IF('Tabl. II '!B88>0,'Tabl. II '!H88*3/'Tabl. II '!B88,"X") -> 3.3748152 | I88: =IF('Tabl. II '!C88>0,'Tabl. II '!I88*3/'Tabl. II '!C88,"X") -> 3.4035806 | J88: =I88*100/H88 -> 100.85235
A89: I instancji - ze stosunku pracy (P) | B89: =IF('Tabl. II '!B89>0,'Tabl. II '!E89/'Tabl. II '!B89*100,"X") -> 100.22727 | C89: =IF('Tabl. II '!C89>0,'Tabl. II '!F89/'Tabl. II '!C89*100,"X") -> 95.5 | D89: =C89*100/B89 -> 95.283447 | E89: =IF('Tabl. II '!E89>0,'Tabl. II '!H89/('Tabl. II '!E89/91.25),"X") -> 303.95975 | F89: =IF('Tabl. II '!F89>0,'Tabl. II '!I89/('Tabl. II '!F89/91.25),"X") -> 348.51767 | G89: =F89*100/E89 -> 114.65915 | H89: =IF('Tabl. II '!B89>0,'Tabl. II '!H89*3/'Tabl. II '!B89,"X") -> 10.015909 | I89: =IF('Tabl. II '!C89>0,'Tabl. II '!I89*3/'Tabl. II '!C89,"X") -> 10.9425 | J89: =I89*100/H89 -> 109.25119
A90: - nakazowe (Np) | B90: =IF('Tabl. II '!B90>0,'Tabl. II '!E90/'Tabl. II '!B90*100,"X") -> 87.5 | C90: =IF('Tabl. II '!C90>0,'Tabl. II '!F90/'Tabl. II '!C90*100,"X") -> 109.09091 | D90: =C90*100/B90 -> 124.67532 | E90: =IF('Tabl. II '!E90>0,'Tabl. II '!H90/('Tabl. II '!E90/91.25),"X") -> 58.660714 | F90: =IF('Tabl. II '!F90>0,'Tabl. II '!I90/('Tabl. II '!F90/91.25),"X") -> 38.020833 | G90: =F90*100/E90 -> 64.814815 | H90: =IF('Tabl. II '!B90>0,'Tabl. II '!H90*3/'Tabl. II '!B90,"X") -> 1.6875 | I90: =IF('Tabl. II '!C90>0,'Tabl. II '!I90*3/'Tabl. II '!C90,"X") -> 1.3636364 | J90: =I90*100/H90 -> 80.808081
A91: ogólne (Po) | B91: =IF('Tabl. II '!B91>0,'Tabl. II '!E91/'Tabl. II '!B91*100,"X") -> 90.344828 | C91: =IF('Tabl. II '!C91>0,'Tabl. II '!F91/'Tabl. II '!C91*100,"X") -> 91.666667 | D91: =C91*100/B91 -> 101.4631 | E91: =IF('Tabl. II '!E91>0,'Tabl. II '!H91/('Tabl. II '!E91/91.25),"X") -> 33.435115 | F91: =IF('Tabl. II '!F91>0,'Tabl. II '!I91/('Tabl. II '!F91/91.25),"X") -> 47.858392 | G91: =F91*100/E91 -> 143.13811 | H91: =IF('Tabl. II '!B91>0,'Tabl. II '!H91*3/'Tabl. II '!B91,"X") -> 0.99310345 | I91: =IF('Tabl. II '!C91>0,'Tabl. II '!I91*3/'Tabl. II '!C91,"X") -> 1.4423077 | J91: =I91*100/H91 -> 145.23237
A92: wykaz Kas-z | B92: =IF('Tabl. II '!B92>0,'Tabl. II '!E92/'Tabl. II '!B92*100,"X") -> X | C92: =IF('Tabl. II '!C92>0,'Tabl. II '!F92/'Tabl. II '!C92*100,"X") -> 0 | D92: X | E92: =IF('Tabl. II '!E92>0,'Tabl. II '!H92/('Tabl. II '!E92/91.25),"X") -> 0 | F92: =IF('Tabl. II '!F92>0,'Tabl. II '!I92/('Tabl. II '!F92/91.25),"X") -> X | G92: X | H92: =IF('Tabl. II '!B92>0,'Tabl. II '!H92*3/'Tabl. II '!B92,"X") -> X | I92: =IF('Tabl. II '!C92>0,'Tabl. II '!I92*3/'Tabl. II '!C92,"X") -> 6 | J92: X
A93: skarga o stwierdzenie niezgodności z prawem (WSC I inst.) | B93: =IF('Tabl. II '!B93>0,'Tabl. II '!E93/'Tabl. II '!B93*100,"X") -> X | C93: =IF('Tabl. II '!C93>0,'Tabl. II '!F93/'Tabl. II '!C93*100,"X") -> X | D93: X | E93: =IF('Tabl. II '!E93>0,'Tabl. II '!H93/('Tabl. II '!E93/91.25),"X") -> X | F93: =IF('Tabl. II '!F93>0,'Tabl. II '!I93/('Tabl. II '!F93/91.25),"X") -> X | G93: X | H93: =IF('Tabl. II '!B93>0,'Tabl. II '!H93*3/'Tabl. II '!B93,"X") -> X | I93: =IF('Tabl. II '!C93>0,'Tabl. II '!I93*3/'Tabl. II '!C93,"X") -> X | J93: X
A94: II instancji - apelacje (Pa) | B94: =IF('Tabl. II '!B94>0,'Tabl. II '!E94/'Tabl. II '!B94*100,"X") -> 79.604998 | C94: =IF('Tabl. II '!C94>0,'Tabl. II '!F94/'Tabl. II '!C94*100,"X") -> 92.46696 | D94: =C94*100/B94 -> 116.15723 | E94: =IF('Tabl. II '!E94>0,'Tabl. II '!H94/('Tabl. II '!E94/91.25),"X") -> 122.15949 | F94: =IF('Tabl. II '!F94>0,'Tabl. II '!I94/('Tabl. II '!F94/91.25),"X") -> 108.07408 | G94: =F94*100/E94 -> 88.469655 | H94: =IF('Tabl. II '!B94>0,'Tabl. II '!H94*3/'Tabl. II '!B94,"X") -> 3.1970979 | I94: =IF('Tabl. II '!C94>0,'Tabl. II '!I94*3/'Tabl. II '!C94,"X") -> 3.2854626 | J94: =I94*100/H94 -> 102.7639
A95: - zażalenia (Pz) | B95: =IF('Tabl. II '!B95>0,'Tabl. II '!E95/'Tabl. II '!B95*100,"X") -> 94.629898 | C95: =IF('Tabl. II '!C95>0,'Tabl. II '!F95/'Tabl. II '!C95*100,"X") -> 93.264249 | D95: =C95*100/B95 -> 98.556852 | E95: =IF('Tabl. II '!E95>0,'Tabl. II '!H95/('Tabl. II '!E95/91.25),"X") -> 33.868865 | F95: =IF('Tabl. II '!F95>0,'Tabl. II '!I95/('Tabl. II '!F95/91.25),"X") -> 33.711806 | G95: =F95*100/E95 -> 99.536272 | H95: =IF('Tabl. II '!B95>0,'Tabl. II '!H95*3/'Tabl. II '!B95,"X") -> 1.053701 | I95: =IF('Tabl. II '!C95>0,'Tabl. II '!I95*3/'Tabl. II '!C95,"X") -> 1.0336788 | J95: =I95*100/H95 -> 98.099816
A96: ogólne (Po II inst.) | B96: =IF('Tabl. II '!B96>0,'Tabl. II '!E96/'Tabl. II '!B96*100,"X") -> 100 | C96: =IF('Tabl. II '!C96>0,'Tabl. II '!F96/'Tabl. II '!C96*100,"X") -> 300 | D96: =C96*100/B96 -> 300 | E96: =IF('Tabl. II '!E96>0,'Tabl. II '!H96/('Tabl. II '!E96/91.25),"X") -> 7.9347826 | F96: =IF('Tabl. II '!F96>0,'Tabl. II '!I96/('Tabl. II '!F96/91.25),"X") -> 0 | G96: =F96*100/E96 -> 0 | H96: =IF('Tabl. II '!B96>0,'Tabl. II '!H96*3/'Tabl. II '!B96,"X") -> 0.26086957 | I96: =IF('Tabl. II '!C96>0,'Tabl. II '!I96*3/'Tabl. II '!C96,"X") -> 0 | J96: =I96*100/H96 -> 0
A97: skarga kasacyjna (WSC-pracy) | B97: =IF('Tabl. II '!B97>0,'Tabl. II '!E97/'Tabl. II '!B97*100,"X") -> 88.479263 | C97: =IF('Tabl. II '!C97>0,'Tabl. II '!F97/'Tabl. II '!C97*100,"X") -> 86.47541 | D97: =C97*100/B97 -> 97.735229 | E97: =IF('Tabl. II '!E97>0,'Tabl. II '!H97/('Tabl. II '!E97/91.25),"X") -> 65.110677 | F97: =IF('Tabl. II '!F97>0,'Tabl. II '!I97/('Tabl. II '!F97/91.25),"X") -> 52.328199 | G97: =F97*100/E97 -> 80.368077 | H97: =IF('Tabl. II '!B97>0,'Tabl. II '!H97*3/'Tabl. II '!B97,"X") -> 1.8940092 | I97: =IF('Tabl. II '!C97>0,'Tabl. II '!I97*3/'Tabl. II '!C97,"X") -> 1.4877049 | J97: =I97*100/H97 -> 78.547924
A98: skarga o stwierdzenie niezgodności z prawem (WSC II inst.) | B98: =IF('Tabl. II '!B98>0,'Tabl. II '!E98/'Tabl. II '!B98*100,"X") -> 120 | C98: =IF('Tabl. II '!C98>0,'Tabl. II '!F98/'Tabl. II '!C98*100,"X") -> 57.142857 | D98: =C98*100/B98 -> 47.619048 | E98: =IF('Tabl. II '!E98>0,'Tabl. II '!H98/('Tabl. II '!E98/91.25),"X") -> 60.833333 | F98: =IF('Tabl. II '!F98>0,'Tabl. II '!I98/('Tabl. II '!F98/91.25),"X") -> 136.875 | G98: =F98*100/E98 -> 225 | H98: =IF('Tabl. II '!B98>0,'Tabl. II '!H98*3/'Tabl. II '!B98,"X") -> 2.4 | I98: =IF('Tabl. II '!C98>0,'Tabl. II '!I98*3/'Tabl. II '!C98,"X") -> 2.5714286 | J98: =I98*100/H98 -> 107.14286
A99: skargi na postępowanie sądowe (S) | B99: =IF('Tabl. II '!B99>0,'Tabl. II '!E99/'Tabl. II '!B99*100,"X") -> 111.90476 | C99: =IF('Tabl. II '!C99>0,'Tabl. II '!F99/'Tabl. II '!C99*100,"X") -> 108.33333 | D99: =C99*100/B99 -> 96.808511 | E99: =IF('Tabl. II '!E99>0,'Tabl. II '!H99/('Tabl. II '!E99/91.25),"X") -> 19.414894 | F99: =IF('Tabl. II '!F99>0,'Tabl. II '!I99/('Tabl. II '!F99/91.25),"X") -> 21.057692 | G99: =F99*100/E99 -> 108.46154 | H99: =IF('Tabl. II '!B99>0,'Tabl. II '!H99*3/'Tabl. II '!B99,"X") -> 0.71428571 | I99: =IF('Tabl. II '!C99>0,'Tabl. II '!I99*3/'Tabl. II '!C99,"X") -> 0.75 | J99: =I99*100/H99 -> 105
A100: Sprawy z zakresu ubezpieczeń społecznych - razem | B100: =IF('Tabl. II '!B100>0,'Tabl. II '!E100/'Tabl. II '!B100*100,"X") -> 85.363104 | C100: =IF('Tabl. II '!C100>0,'Tabl. II '!F100/'Tabl. II '!C100*100,"X") -> 124.52278 | D100: =C100*100/B100 -> 145.87424 | E100: =IF('Tabl. II '!E100>0,'Tabl. II '!H100/('Tabl. II '!E100/91.25),"X") -> 214.19345 | F100: =IF('Tabl. II '!F100>0,'Tabl. II '!I100/('Tabl. II '!F100/91.25),"X") -> 212.90342 | G100: =F100*100/E100 -> 99.397726 | H100: =IF('Tabl. II '!B100>0,'Tabl. II '!H100*3/'Tabl. II '!B100,"X") -> 6.0112497 | I100: =IF('Tabl. II '!C100>0,'Tabl. II '!I100*3/'Tabl. II '!C100,"X") -> 8.7160521 | J100: =I100*100/H100 -> 144.99567
A101: I instancji (U) | B101: =IF('Tabl. II '!B101>0,'Tabl. II '!E101/'Tabl. II '!B101*100,"X") -> 85.183733 | C101: =IF('Tabl. II '!C101>0,'Tabl. II '!F101/'Tabl. II '!C101*100,"X") -> 127.04289 | D101: =C101*100/B101 -> 149.13985 | E101: =IF('Tabl. II '!E101>0,'Tabl. II '!H101/('Tabl. II '!E101/91.25),"X") -> 222.93579 | F101: =IF('Tabl. II '!F101>0,'Tabl. II '!I101/('Tabl. II '!F101/91.25),"X") -> 223.82628 | G101: =F101*100/E101 -> 100.39944 | H101: =IF('Tabl. II '!B101>0,'Tabl. II '!H101*3/'Tabl. II '!B101,"X") -> 6.243453 | I101: =IF('Tabl. II '!C101>0,'Tabl. II '!I101*3/'Tabl. II '!C101,"X") -> 9.34867 | J101: =I101*100/H101 -> 149.73557
A102: ogólne (Uo I inst.) | B102: =IF('Tabl. II '!B102>0,'Tabl. II '!E102/'Tabl. II '!B102*100,"X") -> 92.43212 | C102: =IF('Tabl. II '!C102>0,'Tabl. II '!F102/'Tabl. II '!C102*100,"X") -> 108.44988 | D102: =C102*100/B102 -> 117.32922 | E102: =IF('Tabl. II '!E102>0,'Tabl. II '!H102/('Tabl. II '!E102/91.25),"X") -> 79.84375 | F102: =IF('Tabl. II '!F102>0,'Tabl. II '!I102/('Tabl. II '!F102/91.25),"X") -> 74.627888 | G102: =F102*100/E102 -> 93.467414 | H102: =IF('Tabl. II '!B102>0,'Tabl. II '!H102*3/'Tabl. II '!B102,"X") -> 2.4263432 | I102: =IF('Tabl. II '!C102>0,'Tabl. II '!I102*3/'Tabl. II '!C102,"X") -> 2.6608392 | J102: =I102*100/H102 -> 109.66459
A103: skarga o stwierdzenie niezgodności z prawem (WSC I inst.) | B103: =IF('Tabl. II '!B103>0,'Tabl. II '!E103/'Tabl. II '!B103*100,"X") -> X | C103: =IF('Tabl. II '!C103>0,'Tabl. II '!F103/'Tabl. II '!C103*100,"X") -> 100 | D103: X | E103: =IF('Tabl. II '!E103>0,'Tabl. II '!H103/('Tabl. II '!E103/91.25),"X") -> X | F103: =IF('Tabl. II '!F103>0,'Tabl. II '!I103/('Tabl. II '!F103/91.25),"X") -> 0 | G103: X | H103: =IF('Tabl. II '!B103>0,'Tabl. II '!H103*3/'Tabl. II '!B103,"X") -> X | I103: =IF('Tabl. II '!C103>0,'Tabl. II '!I103*3/'Tabl. II '!C103,"X") -> 0 | J103: X
...
