Workbook
Name DF_GRID_1: Ewidencja!$E$25:$S$367
Name DF_GRID_2: Ewidencja SO w [1]Ostrołęce!$E$26:$Q$32
Name DF_GRID_2: Ewidencja SO w [1]Ostrołęce!$E$26:$Q$32
Name DF_GRID_2: Ewidencja SO w [1]Ostrołęce!$E$26:$Q$32
Name DF_GRID_2: Ewidencja SO w [1]Ostrołęce!$E$26:$Q$32
Name DF_GRID_2: Ewidencja SO w [1]Ostrołęce!$E$26:$Q$32
Name DF_GRID_2: Ewidencja SO w [1]Ostrołęce!$E$26:$Q$32
Name DF_GRID_2: Ewidencja SO w [1]Ostrołęce!$E$26:$Q$32
Name DF_GRID_2: Ewidencja SO w [1]Ostrołęce!$E$26:$Q$32
Name DF_GRID_2: Ewidencja SO w [1]Ostrołęce!$E$26:$Q$32
Name DF_GRID_2: Ewidencja SO w [1]Ostrołęce!$E$26:$Q$32
Name DF_GRID_2: Ewidencja SO w [1]Ostrołęce!$E$26:$Q$32
Name DF_GRID_2: Ewidencja SO w [1]Ostrołęce!$E$26:$Q$32
Name DF_GRID_2: Ewidencja SO w [1]Ostrołęce!$E$26:$Q$32
Name DF_GRID_2: Ewidencja SO w [1]Ostrołęce!$E$26:$Q$32
Name DF_GRID_2: Ewidencja SO w [1]Ostrołęce!$E$26:$Q$32
Name DF_GRID_2: Ewidencja SO w [1]Ostrołęce!$E$26:$Q$32
Name DF_GRID_2: Ewidencja SO w [1]Ostrołęce!$E$26:$Q$32
Name DF_GRID_2: Ewidencja SO w [1]Ostrołęce!$E$26:$Q$32
Name DF_GRID_2: Ewidencja SO w [1]Ostrołęce!$E$26:$Q$32
Name DF_GRID_2: Ewidencja SO w [1]Ostrołęce!$E$26:$Q$32
Name DF_GRID_2: Ewidencja SO w [1]Ostrołęce!$E$26:$Q$32
Name DF_GRID_2: Ewidencja SO w [1]Ostrołęce!$E$26:$Q$32
Name DF_GRID_2: Ewidencja SO w [1]Ostrołęce!$E$26:$Q$32
Name DF_GRID_2: Ewidencja SO w [1]Ostrołęce!$E$26:$Q$32
Name DF_GRID_2: Ewidencja SO w [1]Ostrołęce!$E$26:$Q$32
Name DF_GRID_2: Ewidencja SO w [1]Ostrołęce!$E$26:$Q$32
Name DF_GRID_2: Ewidencja SO w [1]Ostrołęce!$E$26:$Q$32
Name DF_GRID_2: Ewidencja SO w [1]Ostrołęce!$E$26:$Q$32
Name DF_GRID_2: Ewidencja SO w [1]Ostrołęce!$E$26:$Q$32
Name DF_GRID_2: Ewidencja SO w [1]Ostrołęce!$E$26:$Q$32
Name DF_GRID_2: Ewidencja SO w [1]Ostrołęce!$E$26:$Q$32
Name DF_GRID_2: Ewidencja SO w [1]Ostrołęce!$E$26:$Q$32
Name DF_GRID_2: Ewidencja SO w [1]Ostrołęce!$E$26:$Q$32
Name DF_GRID_2: Ewidencja SO w [1]Ostrołęce!$E$26:$Q$32
Name DF_GRID_2: Ewidencja SO w [1]Ostrołęce!$E$26:$Q$32
Name DF_GRID_2: Ewidencja SO w [1]Ostrołęce!$E$26:$Q$32
Name DF_GRID_2: Ewidencja SO w [1]Ostrołęce!$E$26:$Q$32
Name DF_GRID_2: Ewidencja SO w [1]Ostrołęce!$E$26:$Q$32
Name DF_GRID_2: Ewidencja SO w [1]Ostrołęce!$E$26:$Q$32
Name DF_GRID_2: Ewidencja SO w [1]Ostrołęce!$E$26:$Q$32
Name DF_GRID_2: Ewidencja SO w [1]Ostrołęce!$E$26:$Q$32
Name DF_GRID_2: Ewidencja SO w [1]Ostrołęce!$E$26:$Q$32
Name DF_GRID_2: Ewidencja SO w [1]Ostrołęce!$E$26:$Q$32
Name DF_GRID_2: Ewidencja SO w [1]Ostrołęce!$E$26:$Q$32
Name DF_GRID_2: Ewidencja SO w [1]Ostrołęce!$E$26:$Q$32
Name DF_GRID_2: Ewidencja SO w [1]Ostrołęce!$E$26:$Q$32
Name DF_GRID_2: Ewidencja SO w [1]Ostrołęce!$E$26:$Q$32
Name DF_GRID_2: Ewidencja SO w [1]Ostrołęce!$E$26:$Q$32
Name DF_GRID_2: Ewidencja SO w [1]Ostrołęce!$E$26:$Q$32
Name DF_GRID_2: Ewidencja SO w [1]Ostrołęce!$E$26:$Q$32
Name DF_GRID_2: Ewidencja SO w [1]Ostrołęce!$E$26:$Q$32
Name DF_GRID_2: Ewidencja SO w [1]Ostrołęce!$E$26:$Q$32
Name DF_GRID_2: Ewidencja SO w [1]Ostrołęce!$E$26:$Q$32
Name DF_GRID_2: Ewidencja SO w [1]Ostrołęce!$E$26:$Q$32
Name DF_GRID_2: Ewidencja SO w [1]Ostrołęce!$E$26:$Q$32
Name DF_GRID_2: Ewidencja SO w [1]Ostrołęce!$E$26:$Q$32
Name DF_GRID_2: Ewidencja SO w [1]Ostrołęce!$E$26:$Q$32
Name DF_GRID_2: Ewidencja SO w [1]Ostrołęce!$E$26:$Q$32

Sheet BExRepositorySheet
A1: 7

Sheet Ewidencja
E1: ST_XIV Ewid. spr. z wyk. S w SO [20134]
E4: Autor | F4: AWEPA
E6: Ostatnio zmienione przez | F6: PROCAG01M
E8: Godzina zmiany | F8: 2014-10-21 10:00:50
E10: Tech. Nazwa zapytania | F10: S_ST_M001_ST_XIV_001
E12: 20143 | F12: 01, 02, 07, 12, 16, 19, 21, 28, 30, 36, 42 | H12: =TRUNC(RIGHT(E12,1)) -> 3 | I12: =TRUNC(LEFT(E12,4)) -> 2014 | J12: =IF(H12=4,CONCATENATE("w ",I12,"r."),IF(H12=2,CONCATENATE("w I półroczu ",I12,"r."),IF(H12=1,CONCATENATE("w I kwartale ",I12,"r."),CONCATENATE("za III kwartały ",I12,"r.")))) -> za III kwartały 2014r.
E15: =CONCATENATE("TABL. ST XIV EWIDENCJA SPRAW Z WYKAZU S W SĄDACH OKRĘGOWYCH ",Ustawienia!I8,) -> TABL. ST XIV EWIDENCJA SPRAW Z WYKAZU S W SĄDACH OKRĘGOWYCH ZA III KWARTAŁY 2014 r.
E17: Apelacja | F17: Sąd | G17: Wyszczególnienie | H17: Wpłynęło | I17: Załatwiono | O17: Pozostało | S17: Ogólna kwota zasądzonych odszkodowań (PLN)
I19: ogółem | J19: w tym | O19: ogółem | P19: w tym od wpływu
J20: uwzględniono w całości lub części | L20: oddalono | M20: odrzucono | N20: w inny sposób | P20: do 2 mies. | Q20: pow. 2 do 4 mies. | R20: ponad 4 mies.
J21: razem | K21: przez zarządzenie kwoty pieniężnej
G22: 0 | H22: 1 | I22: 2 | J22: 3 | K22: 4 | L22: 5 | M22: 6 | N22: 7 | O22: 8 | P22: 9 | Q22: 10 | R22: 11 | S22: 12
E24: Table
E25: Apelacja | F25: Sąd | H25: W2011 | I25: Z2011razem | J25: razem | K25: przez.zarz.kwot.pien. | L25: oddalono | M25: odrzucono | N25: w inny sposob | O25: P2011 | P25: do 2 mies. | Q25: pow 2 do 4 mies. | R25: ponad 4 mies. | S25: Ogol.kw.zarz.odszk.(w.zl)
E26: Apelacja Białostocka | F26: SO w Białymstoku | G26: Ogółem spraw | H26: 136 | I26: 132 | J26: 5 | K26: 5 | L26: 10 | M26: 113 | N26: 4 | O26: 7 | P26: 7 | Q26: 0 | R26: 0 | S26: 12000
G27: Karnych i wykroczeniowych | H27: 80 | I27: 80 | J27: 1 | K27: 1 | L27: 3 | M27: 75 | N27: 1 | O27: 2 | P27: 2 | Q27: 0 | R27: 0 | S27: 2000 | U27: =IF(ROUND(S27,1)=ROUND(T27,1),1,IF(ROUND(S27,1)>ROUND(U25,1),2,IF(ROUND(S27,1)<ROUND(T27,1),3,0))) -> 2
G28: Cywilnych | H28: 50 | I28: 47 | J28: 3 | K28: 3 | L28: 5 | M28: 36 | N28: 3 | O28: 4 | P28: 4 | Q28: 0 | R28: 0 | S28: 10000 | U28: =IF(ROUND(S28,1)=ROUND(T28,1),1,IF(ROUND(S28,1)>ROUND(U26,1),2,IF(ROUND(S28,1)<ROUND(T28,1),3,0))) -> 2
G29: Ubezpieczeniowych | H29: 0 | I29: 0 | J29: 0 | K29: 0 | L29: 0 | M29: 0 | N29: 0 | O29: 0 | P29: 0 | Q29: 0 | R29: 0 | S29: 0 | U29: =IF(ROUND(S29,1)=ROUND(T29,1),1,IF(ROUND(S29,1)>ROUND(U27,1),2,IF(ROUND(S29,1)<ROUND(T29,1),3,0))) -> 1
G30: Pracy | H30: 0 | I30: 0 | J30: 0 | K30: 0 | L30: 0 | M30: 0 | N30: 0 | O30: 0 | P30: 0 | Q30: 0 | R30: 0 | S30: 0 | U30: =IF(ROUND(S30,1)=ROUND(T30,1),1,IF(ROUND(S30,1)>ROUND(U28,1),2,IF(ROUND(S30,1)<ROUND(T30,1),3,0))) -> 1
G31: Gospodarczych | H31: 6 | I31: 5 | J31: 1 | K31: 1 | L31: 2 | M31: 2 | N31: 0 | O31: 1 | P31: 1 | Q31: 0 | R31: 0 | S31: 0 | U31: =IF(ROUND(S31,1)=ROUND(T31,1),1,IF(ROUND(S31,1)>ROUND(U29,1),2,IF(ROUND(S31,1)<ROUND(T31,1),3,0))) -> 1
F32: SO w Łomży | G32: Ogółem spraw | H32: 24 | I32: 24 | J32: 0 | K32: 0 | L32: 3 | M32: 16 | N32: 5 | O32: 0 | P32: 0 | Q32: 0 | R32: 0 | S32: 0 | U32: =IF(ROUND(S32,1)=ROUND(T32,1),1,IF(ROUND(S32,1)>ROUND(U30,1),2,IF(ROUND(S32,1)<ROUND(T32,1),3,0))) -> 1
G33: Karnych i wykroczeniowych | H33: 21 | I33: 21 | J33: 0 | K33: 0 | L33: 0 | M33: 16 | N33: 5 | O33: 0 | P33: 0 | Q33: 0 | R33: 0 | S33: 0 | U33: =IF(ROUND(S33,1)=ROUND(T33,1),1,IF(ROUND(S33,1)>ROUND(U31,1),2,IF(ROUND(S33,1)<ROUND(T33,1),3,0))) -> 1
G34: Cywilnych | H34: 3 | I34: 3 | J34: 0 | K34: 0 | L34: 3 | M34: 0 | N34: 0 | O34: 0 | P34: 0 | Q34: 0 | R34: 0 | S34: 0 | U34: =IF(ROUND(S34,1)=ROUND(T34,1),1,IF(ROUND(S34,1)>ROUND(U32,1),2,IF(ROUND(S34,1)<ROUND(T34,1),3,0))) -> 1
G35: Ubezpieczeniowych | U35: =IF(ROUND(S35,1)=ROUND(T35,1),1,IF(ROUND(S35,1)>ROUND(U33,1),2,IF(ROUND(S35,1)<ROUND(T35,1),3,0))) -> 1
G36: Pracy | U36: =IF(ROUND(S36,1)=ROUND(T36,1),1,IF(ROUND(S36,1)>ROUND(U34,1),2,IF(ROUND(S36,1)<ROUND(T36,1),3,0))) -> 1
G37: Gospodarczych | U37: =IF(ROUND(S37,1)=ROUND(T37,1),1,IF(ROUND(S37,1)>ROUND(U35,1),2,IF(ROUND(S37,1)<ROUND(T37,1),3,0))) -> 1
F38: SO w Olsztynie | G38: Ogółem spraw | H38: 106 | I38: 104 | J38: 15 | K38: 15 | L38: 44 | M38: 17 | N38: 28 | O38: 8 | P38: 8 | Q38: 0 | R38: 0 | S38: 48500
G39: Karnych i wykroczeniowych | H39: 60 | I39: 59 | J39: 3 | K39: 3 | L39: 28 | M39: 5 | N39: 23 | O39: 1 | P39: 1 | Q39: 0 | R39: 0 | S39: 11000
G40: Cywilnych | H40: 41 | I40: 42 | J40: 10 | K40: 10 | L40: 15 | M40: 12 | N40: 5 | O40: 5 | P40: 5 | Q40: 0 | R40: 0 | S40: 33500
G41: Ubezpieczeniowych | H41: 0 | I41: 0 | J41: 0 | K41: 0 | L41: 0 | M41: 0 | N41: 0 | O41: 0 | P41: 0 | Q41: 0 | R41: 0 | S41: 0
G42: Pracy
G43: Gospodarczych | H43: 5 | I43: 3 | J43: 2 | K43: 2 | L43: 1 | M43: 0 | N43: 0 | O43: 2 | P43: 2 | Q43: 0 | R43: 0 | S43: 4000
F44: SO w Ostrołęce | G44: Ogółem spraw | H44: 36 | I44: 40 | J44: 11 | K44: 11 | L44: 15 | M44: 7 | N44: 7 | O44: 2 | P44: 2 | Q44: 0 | R44: 0 | S44: 70100
G45: Karnych i wykroczeniowych | H45: 19 | I45: 21 | J45: 1 | K45: 1 | L45: 13 | M45: 1 | N45: 6 | O45: 1 | P45: 1 | Q45: 0 | R45: 0 | S45: 2000
G46: Cywilnych | H46: 16 | I46: 19 | J46: 10 | K46: 10 | L46: 2 | M46: 6 | N46: 1 | O46: 0 | P46: 0 | Q46: 0 | R46: 0 | S46: 68100
G47: Ubezpieczeniowych | H47: 0 | I47: 0 | J47: 0 | K47: 0 | L47: 0 | M47: 0 | N47: 0 | O47: 0 | P47: 0 | Q47: 0 | R47: 0 | S47: 0
G48: Pracy | H48: 1 | I48: 0 | J48: 0 | K48: 0 | L48: 0 | M48: 0 | N48: 0 | O48: 1 | P48: 1 | Q48: 0 | R48: 0 | S48: 0
G49: Gospodarczych
F50: SO w Suwałkach | G50: Ogółem spraw | H50: 67 | I50: 66 | J50: 3 | K50: 3 | L50: 11 | M50: 50 | N50: 2 | O50: 4 | P50: 3 | Q50: 1 | R50: 0 | S50: 8000
G51: Karnych i wykroczeniowych | H51: 10 | I51: 11 | J51: 2 | K51: 2 | L51: 7 | M51: 0 | N51: 2 | O51: 0 | P51: 0 | Q51: 0 | R51: 0 | S51: 6000
...

Sheet Graph
G1: FEP8Qry3
G2: Autor | H2: AWEPA | J2: Aktualność danych (godzina) | K2: 16:46:47
F5: Information
F6: Autor | G6: AWEPA | I6: Ostatnie odświeżanie | J6: 2014-10-21 10:01:05
F7: Bieżący użytkownik | G7: PROCAG01M | I7: Dzień | J7: 2014-10-21
F8: Ostatnio zmienione przez | G8: PROCAG01M | I8: Godzina zmiany | J8: 2014-10-21 10:00:50
C9: Apelacja | F9: Dostawca informacji | G9: ST_M001 | I9: Aktualność danych | J9: 2013-04-23 16:46:47
C10: Sąd | F10: Tech. nazwa zapytania | G10: S_ST_M001_ST_XIV_001 | I10: Aktualność danych (data) | J10: 2013-04-23
C11: Strukt. | F11: Opis zapytania | G11: ST_XIV Ewid. spr. z wyk. S w SO [20134] | I11: Aktualność danych (godzina) | J11: 16:46:47
C12: Wskaźniki

Sheet Ustawienia
B3: Zmienna | C3: Kwartał | D3: Rok
B4: 20143 | C4: =TRUNC(RIGHT(B4)) -> 3 | D4: =LEFT(B4,4) -> 2014
B6: Opis raportów | E6: I kw | F6: I p | G6: III kw | H6: rok | I6: Funkcja
E7: ZA I KWARTAŁ | F7: ZA I PÓŁROCZE | G7: ZA III KWARTAŁY | H7: ZA ROK
E8: =CONCATENATE(E7&$D$4&" r.") -> ZA I KWARTAŁ 2014 r. | F8: =CONCATENATE(F7&$D$4&" R.") -> ZA I PÓŁROCZE 2014 R. | G8: =CONCATENATE(G7&$D$4&" r.") -> ZA III KWARTAŁY 2014 r. | H8: =CONCATENATE(H7&$D$4) -> ZA ROK 2014 | I8: =IF($C$4=1,E8,IF($C$4=2,F8,IF($C$4=3,G8,H8))) -> ZA III KWARTAŁY 2014 r.
B10: Opis dla zakładki ewidencja | E10: I kw. | F10: I p. | G10: III kw.
C11: R-2 | D11: =D4-2 -> 2012 | E11: =CONCATENATE(E$10,$D11) -> I kw. 2012 | F11: =CONCATENATE(F$10,$D11) -> I p. 2012 | G11: =CONCATENATE(G$10,$D11) -> III kw. 2012 | H11: =CONCATENATE(H$10,$D11) -> 2012 | I11: =IF($C$4=1,E11,IF($C$4=2,F11,IF($C$4=3,G11,H11))) -> III kw. 2012
C12: R-1 | D12: =D4-1 -> 2013 | E12: =CONCATENATE(E$10,$D12) -> I kw. 2013 | F12: =CONCATENATE(F$10,$D12) -> I p. 2013 | G12: =CONCATENATE(G$10,$D12) -> III kw. 2013 | H12: =CONCATENATE(H$10,$D12) -> 2013 | I12: =IF($C$4=1,E12,IF($C$4=2,F12,IF($C$4=3,G12,H12))) -> III kw. 2013
C13: R | D13: =D4 -> 2014 | E13: =CONCATENATE(E$10,$D13) -> I kw. 2014 | F13: =CONCATENATE(F$10,$D13) -> I p. 2014 | G13: =CONCATENATE(G$10,$D13) -> III kw. 2014 | H13: =CONCATENATE(H$10,$D13) -> 2014 | I13: =IF($C$4=1,E13,IF($C$4=2,F13,IF($C$4=3,G13,H13))) -> III kw. 2014

Sheet POLSKA
E1: ST_XIV Ewid. spr. z wyk. S ogol. w S.O
E4: Autor | F4: PROCAG01M
E6: Ostatnio zmienione przez | F6: PROCAG01M
E8: Godzina zmiany | F8: 2014-10-21 10:00:50
E10: Tech. Nazwa zapytania | F10: S_ST_M001_ST_XIV_001
E12: 20112 | F12: 01, 02, 07, 12, 16, 19, 21, 28, 30, 36, 42 | H12: =TRUNC(RIGHT(E12,1)) -> 2 | I12: =TRUNC(LEFT(E12,4)) -> 2011 | J12: =IF(H12=4,CONCATENATE("w ",I12,"r."),IF(H12=2,CONCATENATE("w I półroczu ",I12,"r."),IF(H12=1,CONCATENATE("w I kwartale ",I12,"r."),CONCATENATE("za III kwartały ",I12,"r.")))) -> w I półroczu 2011r.
E15: =CONCATENATE("EWIDENCJA SPRAW Z WYKAZU S W SĄDACH OKRĘGOWYCH ", UPPER("W POLSCE "),Ustawienia!I8) -> EWIDENCJA SPRAW Z WYKAZU S W SĄDACH OKRĘGOWYCH W POLSCE ZA III KWARTAŁY 2014 r.
E17: Wyszczególnienie | F17: Wpłynęło | G17: Załatwiono | M17: Pozostało | Q17: Ogólna kwota zasądzonych odszkodowań (PLN)
G19: ogółem | H19: w tym | M19: ogółem | N19: w tym od wpływu
H20: uwzględniono w całości lub części | J20: oddalono | K20: odrzucono | L20: w inny sposób | N20: do 2 mies. | O20: pow. 2 do 4 mies. | P20: ponad 4 mies.
H21: razem | I21: w tym przez zasądzenie kwoty pieniężnej
E22: 0 | F22: 1 | G22: 2 | H22: 3 | I22: 4 | J22: 5 | K22: 6 | L22: 7 | M22: 8 | N22: 9 | O22: 10 | P22: 11 | Q22: 12
E24: Table
E26: =Ewidencja!G56 -> Ogółem spraw | F26: =Ewidencja!H362 -> 9586 | G26: =Ewidencja!I362 -> 9499 | H26: =Ewidencja!J362 -> 1143 | I26: =Ewidencja!K362 -> 1112 | J26: =Ewidencja!L362 -> 2055 | K26: =Ewidencja!M362 -> 4722 | L26: =Ewidencja!N362 -> 1579 | M26: =Ewidencja!O362 -> 978 | ... Q26: =Ewidencja!S362 -> 3037490
E27: =Ewidencja!G57 -> Karnych i wykroczeniowych | F27: =Ewidencja!H363 -> 2094 | G27: =Ewidencja!I363 -> 2030 | H27: =Ewidencja!J363 -> 271 | I27: =Ewidencja!K363 -> 261 | J27: =Ewidencja!L363 -> 670 | K27: =Ewidencja!M363 -> 344 | L27: =Ewidencja!N363 -> 745 | M27: =Ewidencja!O363 -> 231 | ... Q27: =Ewidencja!S363 -> 658500 | U27: =IF(ROUND(S27,1)=ROUND(T27,1),1,IF(ROUND(S27,1)>ROUND(U25,1),2,IF(ROUND(S27,1)<ROUND(T27,1),3,0))) -> 1
E28: =Ewidencja!G58 -> Cywilnych | F28: =Ewidencja!H364 -> 7039 | G28: =Ewidencja!I364 -> 7038 | H28: =Ewidencja!J364 -> 740 | I28: =Ewidencja!K364 -> 722 | J28: =Ewidencja!L364 -> 1197 | K28: =Ewidencja!M364 -> 4302 | L28: =Ewidencja!N364 -> 799 | M28: =Ewidencja!O364 -> 677 | ... Q28: =Ewidencja!S364 -> 2078190 | U28: =IF(ROUND(S28,1)=ROUND(T28,1),1,IF(ROUND(S28,1)>ROUND(U26,1),2,IF(ROUND(S28,1)<ROUND(T28,1),3,0))) -> 1
E29: =Ewidencja!G59 -> Ubezpieczeniowych | F29: =Ewidencja!H365 -> 24 | G29: =Ewidencja!I365 -> 23 | H29: =Ewidencja!J365 -> 1 | I29: =Ewidencja!K365 -> 1 | J29: =Ewidencja!L365 -> 15 | K29: =Ewidencja!M365 -> 6 | L29: =Ewidencja!N365 -> 1 | M29: =Ewidencja!O365 -> 3 | ... Q29: =Ewidencja!S365 -> 2000 | U29: =IF(ROUND(S29,1)=ROUND(T29,1),1,IF(ROUND(S29,1)>ROUND(U27,1),2,IF(ROUND(S29,1)<ROUND(T29,1),3,0))) -> 1
E30: =Ewidencja!G60 -> Pracy | F30: =Ewidencja!H366 -> 109 | G30: =Ewidencja!I366 -> 114 | H30: =Ewidencja!J366 -> 25 | I30: =Ewidencja!K366 -> 24 | J30: =Ewidencja!L366 -> 61 | K30: =Ewidencja!M366 -> 23 | L30: =Ewidencja!N366 -> 5 | M30: =Ewidencja!O366 -> 10 | ... Q30: =Ewidencja!S366 -> 64000 | U30: =IF(ROUND(S30,1)=ROUND(T30,1),1,IF(ROUND(S30,1)>ROUND(U28,1),2,IF(ROUND(S30,1)<ROUND(T30,1),3,0))) -> 1
E31: =Ewidencja!G61 -> Gospodarczych | F31: =Ewidencja!H367 -> 320 | G31: =Ewidencja!I367 -> 294 | H31: =Ewidencja!J367 -> 106 | I31: =Ewidencja!K367 -> 104 | J31: =Ewidencja!L367 -> 112 | K31: =Ewidencja!M367 -> 47 | L31: =Ewidencja!N367 -> 29 | M31: =Ewidencja!O367 -> 57 | ... Q31: =Ewidencja!S367 -> 234800 | U31: =IF(ROUND(S31,1)=ROUND(T31,1),1,IF(ROUND(S31,1)>ROUND(U29,1),2,IF(ROUND(S31,1)<ROUND(T31,1),3,0))) -> 1
U32: =IF(ROUND(S32,1)=ROUND(T32,1),1,IF(ROUND(S32,1)>ROUND(U30,1),2,IF(ROUND(S32,1)<ROUND(T32,1),3,0))) -> 1
U33: =IF(ROUND(S33,1)=ROUND(T33,1),1,IF(ROUND(S33,1)>ROUND(U31,1),2,IF(ROUND(S33,1)<ROUND(T33,1),3,0))) -> 1
U34: =IF(ROUND(S34,1)=ROUND(T34,1),1,IF(ROUND(S34,1)>ROUND(U32,1),2,IF(ROUND(S34,1)<ROUND(T34,1),3,0))) -> 1
U35: =IF(ROUND(S35,1)=ROUND(T35,1),1,IF(ROUND(S35,1)>ROUND(U33,1),2,IF(ROUND(S35,1)<ROUND(T35,1),3,0))) -> 1
U36: =IF(ROUND(S36,1)=ROUND(T36,1),1,IF(ROUND(S36,1)>ROUND(U34,1),2,IF(ROUND(S36,1)<ROUND(T36,1),3,0))) -> 1
U37: =IF(ROUND(S37,1)=ROUND(T37,1),1,IF(ROUND(S37,1)>ROUND(U35,1),2,IF(ROUND(S37,1)<ROUND(T37,1),3,0))) -> 1

Sheet Apelacja Białostocka
E1: ST_XIV Ewid. spr. z wyk. S w SO [20134]
E12: 20143 | F12: 01, 02, 07, 12, 16, 19, 21, 28, 30, 36, 42 | H12: =TRUNC(RIGHT(E12,1)) -> 3 | I12: =TRUNC(LEFT(E12,4)) -> 2014 | J12: =IF(H12=4,CONCATENATE("w ",I12,"r."),IF(H12=2,CONCATENATE("w I półroczu ",I12,"r."),IF(H12=1,CONCATENATE("w I kwartale ",I12,"r."),CONCATENATE("za III kwartały ",I12,"r.")))) -> za III kwartały 2014r.
E15: =CONCATENATE(" EWIDENCJA SPRAW Z WYKAZU S W SĄDACH OKRĘGOWYCH ",Ustawienia!I8, " - ",UPPER(Ewidencja!E26)) -> EWIDENCJA SPRAW Z WYKAZU S W SĄDACH OKRĘGOWYCH ZA III KWARTAŁY 2014 r. - APELACJA BIAŁOSTOCKA
E17: Wyszczególnienie | F17: Wpłynęło | G17: Załatwiono | M17: Pozostało | Q17: Ogólna kwota zasądzonych odszkodowań (PLN)
G19: ogółem | H19: w tym | M19: ogółem | N19: w tym od wpływu
H20: uwzględniono w całości lub części | J20: oddalono | K20: odrzucono | L20: w inny sposób | N20: do 2 mies. | O20: pow. 2 do 4 mies. | P20: ponad 4 mies.
H21: razem | I21: w tym przez zasądzenie kwoty pieniężnej
E22: 0 | F22: 1 | G22: 2 | H22: 3 | I22: 4 | J22: 5 | K22: 6 | L22: 7 | M22: 8 | N22: 9 | O22: 10 | P22: 11 | Q22: 12
E24: Table
E26: =Ewidencja!G56 -> Ogółem spraw | F26: =Ewidencja!H56 -> 369 | G26: =Ewidencja!I56 -> 366 | H26: =Ewidencja!J56 -> 34 | I26: =Ewidencja!K56 -> 34 | J26: =Ewidencja!L56 -> 83 | K26: =Ewidencja!M56 -> 203 | L26: =Ewidencja!N56 -> 46 | ... Q26: =Ewidencja!S56 -> 138600
E27: =Ewidencja!G57 -> Karnych i wykroczeniowych | F27: =Ewidencja!H57 -> 190 | G27: =Ewidencja!I57 -> 192 | H27: =Ewidencja!J57 -> 7 | I27: =Ewidencja!K57 -> 7 | J27: =Ewidencja!L57 -> 51 | K27: =Ewidencja!M57 -> 97 | L27: =Ewidencja!N57 -> 37 | ... Q27: =Ewidencja!S57 -> 21000 | U27: =IF(ROUND(S27,1)=ROUND(T27,1),1,IF(ROUND(S27,1)>ROUND(U25,1),2,IF(ROUND(S27,1)<ROUND(T27,1),3,0))) -> 1
E28: =Ewidencja!G58 -> Cywilnych | F28: =Ewidencja!H58 -> 167 | G28: =Ewidencja!I58 -> 166 | H28: =Ewidencja!J58 -> 24 | I28: =Ewidencja!K58 -> 24 | J28: =Ewidencja!L58 -> 29 | K28: =Ewidencja!M58 -> 104 | L28: =Ewidencja!N58 -> 9 | ... Q28: =Ewidencja!S58 -> 113600 | U28: =IF(ROUND(S28,1)=ROUND(T28,1),1,IF(ROUND(S28,1)>ROUND(U26,1),2,IF(ROUND(S28,1)<ROUND(T28,1),3,0))) -> 1
E29: =Ewidencja!G59 -> Ubezpieczeniowych | F29: =Ewidencja!H59 -> 0 | G29: =Ewidencja!I59 -> 0 | H29: =Ewidencja!J59 -> 0 | I29: =Ewidencja!K59 -> 0 | J29: =Ewidencja!L59 -> 0 | K29: =Ewidencja!M59 -> 0 | L29: =Ewidencja!N59 -> 0 | ... Q29: =Ewidencja!S59 -> 0 | U29: =IF(ROUND(S29,1)=ROUND(T29,1),1,IF(ROUND(S29,1)>ROUND(U27,1),2,IF(ROUND(S29,1)<ROUND(T29,1),3,0))) -> 1
E30: =Ewidencja!G60 -> Pracy | F30: =Ewidencja!H60 -> 1 | G30: =Ewidencja!I60 -> 0 | H30: =Ewidencja!J60 -> 0 | I30: =Ewidencja!K60 -> 0 | J30: =Ewidencja!L60 -> 0 | K30: =Ewidencja!M60 -> 0 | L30: =Ewidencja!N60 -> 0 | ... Q30: =Ewidencja!S60 -> 0 | U30: =IF(ROUND(S30,1)=ROUND(T30,1),1,IF(ROUND(S30,1)>ROUND(U28,1),2,IF(ROUND(S30,1)<ROUND(T30,1),3,0))) -> 1
E31: =Ewidencja!G61 -> Gospodarczych | F31: =Ewidencja!H61 -> 11 | G31: =Ewidencja!I61 -> 8 | H31: =Ewidencja!J61 -> 3 | I31: =Ewidencja!K61 -> 3 | J31: =Ewidencja!L61 -> 3 | K31: =Ewidencja!M61 -> 2 | L31: =Ewidencja!N61 -> 0 | ... Q31: =Ewidencja!S61 -> 4000 | U31: =IF(ROUND(S31,1)=ROUND(T31,1),1,IF(ROUND(S31,1)>ROUND(U29,1),2,IF(ROUND(S31,1)<ROUND(T31,1),3,0))) -> 1
U32: =IF(ROUND(S32,1)=ROUND(T32,1),1,IF(ROUND(S32,1)>ROUND(U30,1),2,IF(ROUND(S32,1)<ROUND(T32,1),3,0))) -> 1
U33: =IF(ROUND(S33,1)=ROUND(T33,1),1,IF(ROUND(S33,1)>ROUND(U31,1),2,IF(ROUND(S33,1)<ROUND(T33,1),3,0))) -> 1
U34: =IF(ROUND(S34,1)=ROUND(T34,1),1,IF(ROUND(S34,1)>ROUND(U32,1),2,IF(ROUND(S34,1)<ROUND(T34,1),3,0))) -> 1
U35: =IF(ROUND(S35,1)=ROUND(T35,1),1,IF(ROUND(S35,1)>ROUND(U33,1),2,IF(ROUND(S35,1)<ROUND(T35,1),3,0))) -> 1
U36: =IF(ROUND(S36,1)=ROUND(T36,1),1,IF(ROUND(S36,1)>ROUND(U34,1),2,IF(ROUND(S36,1)<ROUND(T36,1),3,0))) -> 1
U37: =IF(ROUND(S37,1)=ROUND(T37,1),1,IF(ROUND(S37,1)>ROUND(U35,1),2,IF(ROUND(S37,1)<ROUND(T37,1),3,0))) -> 1

Sheet SO Białystok
H12: =TRUNC(RIGHT(E12,1)) -> #VALUE! | I12: =TRUNC(LEFT(E12,4)) -> #VALUE! | J12: =IF(H12=4,CONCATENATE("w ",I12,"r."),IF(H12=2,CONCATENATE("w I półroczu ",I12,"r."),IF(H12=1,CONCATENATE("w I kwartale ",I12,"r."),CONCATENATE("za III kwartały ",I12,"r.")))) -> #VALUE!
E15: =CONCATENATE(" EWIDENCJA SPRAW Z WYKAZU S W SĄDACH OKRĘGOWYCH ",Ustawienia!I8, " - ",UPPER(Ewidencja!F26)) -> EWIDENCJA SPRAW Z WYKAZU S W SĄDACH OKRĘGOWYCH ZA III KWARTAŁY 2014 r. - SO W BIAŁYMSTOKU
E17: Wyszczególnienie | F17: Wpłynęło | G17: Załatwiono | M17: Pozostało | Q17: Ogólna kwota zasądzonych odszkodowań (PLN)
G19: ogółem | H19: w tym | M19: ogółem | N19: w tym od wpływu
H20: uwzględniono w całości lub części | J20: oddalono | K20: odrzucono | L20: w inny sposób | N20: do 2 mies. | O20: pow. 2 do 4 mies. | P20: ponad 4 mies.
H21: razem | I21: w tym przez zasądzenie kwoty pieniężnej
E22: 0 | F22: 1 | G22: 2 | H22: 3 | I22: 4 | J22: 5 | K22: 6 | L22: 7 | M22: 8 | N22: 9 | O22: 10 | P22: 11 | Q22: 12
E24: Table
E26: =Ewidencja!G56 -> Ogółem spraw | F26: =Ewidencja!H26 -> 136 | G26: =Ewidencja!I26 -> 132 | H26: =Ewidencja!J26 -> 5 | I26: =Ewidencja!K26 -> 5 | J26: =Ewidencja!L26 -> 10 | K26: =Ewidencja!M26 -> 113 | L26: =Ewidencja!N26 -> 4 | M26: =Ewidencja!O26 -> 7 | ... Q26: =Ewidencja!S26 -> 12000
E27: =Ewidencja!G57 -> Karnych i wykroczeniowych | F27: =Ewidencja!H27 -> 80 | G27: =Ewidencja!I27 -> 80 | H27: =Ewidencja!J27 -> 1 | I27: =Ewidencja!K27 -> 1 | J27: =Ewidencja!L27 -> 3 | K27: =Ewidencja!M27 -> 75 | L27: =Ewidencja!N27 -> 1 | M27: =Ewidencja!O27 -> 2 | ... Q27: =Ewidencja!S27 -> 2000 | U27: =IF(ROUND(S27,1)=ROUND(T27,1),1,IF(ROUND(S27,1)>ROUND(U25,1),2,IF(ROUND(S27,1)<ROUND(T27,1),3,0))) -> 1
E28: =Ewidencja!G58 -> Cywilnych | F28: =Ewidencja!H28 -> 50 | G28: =Ewidencja!I28 -> 47 | H28: =Ewidencja!J28 -> 3 | I28: =Ewidencja!K28 -> 3 | J28: =Ewidencja!L28 -> 5 | K28: =Ewidencja!M28 -> 36 | L28: =Ewidencja!N28 -> 3 | M28: =Ewidencja!O28 -> 4 | ... Q28: =Ewidencja!S28 -> 10000 | U28: =IF(ROUND(S28,1)=ROUND(T28,1),1,IF(ROUND(S28,1)>ROUND(U26,1),2,IF(ROUND(S28,1)<ROUND(T28,1),3,0))) -> 1
E29: =Ewidencja!G59 -> Ubezpieczeniowych | F29: =Ewidencja!H29 -> 0 | G29: =Ewidencja!I29 -> 0 | H29: =Ewidencja!J29 -> 0 | I29: =Ewidencja!K29 -> 0 | J29: =Ewidencja!L29 -> 0 | K29: =Ewidencja!M29 -> 0 | L29: =Ewidencja!N29 -> 0 | M29: =Ewidencja!O29 -> 0 | ... Q29: =Ewidencja!S29 -> 0 | U29: =IF(ROUND(S29,1)=ROUND(T29,1),1,IF(ROUND(S29,1)>ROUND(U27,1),2,IF(ROUND(S29,1)<ROUND(T29,1),3,0))) -> 1
E30: =Ewidencja!G60 -> Pracy | F30: =Ewidencja!H30 -> 0 | G30: =Ewidencja!I30 -> 0 | H30: =Ewidencja!J30 -> 0 | I30: =Ewidencja!K30 -> 0 | J30: =Ewidencja!L30 -> 0 | K30: =Ewidencja!M30 -> 0 | L30: =Ewidencja!N30 -> 0 | M30: =Ewidencja!O30 -> 0 | ... Q30: =Ewidencja!S30 -> 0 | U30: =IF(ROUND(S30,1)=ROUND(T30,1),1,IF(ROUND(S30,1)>ROUND(U28,1),2,IF(ROUND(S30,1)<ROUND(T30,1),3,0))) -> 1
E31: =Ewidencja!G61 -> Gospodarczych | F31: =Ewidencja!H31 -> 6 | G31: =Ewidencja!I31 -> 5 | H31: =Ewidencja!J31 -> 1 | I31: =Ewidencja!K31 -> 1 | J31: =Ewidencja!L31 -> 2 | K31: =Ewidencja!M31 -> 2 | L31: =Ewidencja!N31 -> 0 | M31: =Ewidencja!O31 -> 1 | ... Q31: =Ewidencja!S31 -> 0 | U31: =IF(ROUND(S31,1)=ROUND(T31,1),1,IF(ROUND(S31,1)>ROUND(U29,1),2,IF(ROUND(S31,1)<ROUND(T31,1),3,0))) -> 1
U32: =IF(ROUND(S32,1)=ROUND(T32,1),1,IF(ROUND(S32,1)>ROUND(U30,1),2,IF(ROUND(S32,1)<ROUND(T32,1),3,0))) -> 1
U33: =IF(ROUND(S33,1)=ROUND(T33,1),1,IF(ROUND(S33,1)>ROUND(U31,1),2,IF(ROUND(S33,1)<ROUND(T33,1),3,0))) -> 1
U34: =IF(ROUND(S34,1)=ROUND(T34,1),1,IF(ROUND(S34,1)>ROUND(U32,1),2,IF(ROUND(S34,1)<ROUND(T34,1),3,0))) -> 1
U35: =IF(ROUND(S35,1)=ROUND(T35,1),1,IF(ROUND(S35,1)>ROUND(U33,1),2,IF(ROUND(S35,1)<ROUND(T35,1),3,0))) -> 1
U36: =IF(ROUND(S36,1)=ROUND(T36,1),1,IF(ROUND(S36,1)>ROUND(U34,1),2,IF(ROUND(S36,1)<ROUND(T36,1),3,0))) -> 1
U37: =IF(ROUND(S37,1)=ROUND(T37,1),1,IF(ROUND(S37,1)>ROUND(U35,1),2,IF(ROUND(S37,1)<ROUND(T37,1),3,0))) -> 1

Sheet SO Łomży
H12: =TRUNC(RIGHT(E12,1)) -> #VALUE! | I12: =TRUNC(LEFT(E12,4)) -> #VALUE! | J12: =IF(H12=4,CONCATENATE("w ",I12,"r."),IF(H12=2,CONCATENATE("w I półroczu ",I12,"r."),IF(H12=1,CONCATENATE("w I kwartale ",I12,"r."),CONCATENATE("za III kwartały ",I12,"r.")))) -> #VALUE!
E15: =CONCATENATE(" EWIDENCJA SPRAW Z WYKAZU S W SĄDACH OKRĘGOWYCH ",Ustawienia!I8, " - ",UPPER(Ewidencja!F32)) -> EWIDENCJA SPRAW Z WYKAZU S W SĄDACH OKRĘGOWYCH ZA III KWARTAŁY 2014 r. - SO W ŁOMŻY
E17: Wyszczególnienie | F17: Wpłynęło | G17: Załatwiono | M17: Pozostało | Q17: Ogólna kwota zasądzonych odszkodowań (PLN)
G19: ogółem | H19: w tym | M19: ogółem | N19: w tym od wpływu
H20: uwzględniono w całości lub części | J20: oddalono | K20: odrzucono | L20: w inny sposób | N20: do 2 mies. | O20: pow. 2 do 4 mies. | P20: ponad 4 mies.
H21: razem | I21: przez zarządzenie kwoty pieniężnej
E22: 0 | F22: 1 | G22: 2 | H22: 3 | I22: 4 | J22: 5 | K22: 6 | L22: 7 | M22: 8 | N22: 9 | O22: 10 | P22: 11 | Q22: 12
E24: Table
E26: =Ewidencja!G56 -> Ogółem spraw | F26: =Ewidencja!H32 -> 24 | G26: =Ewidencja!I32 -> 24 | H26: =Ewidencja!J32 -> 0 | I26: =Ewidencja!K32 -> 0 | J26: =Ewidencja!L32 -> 3 | K26: =Ewidencja!M32 -> 16 | L26: =Ewidencja!N32 -> 5 | M26: =Ewidencja!O32 -> 0 | ... Q26: =Ewidencja!S32 -> 0
E27: =Ewidencja!G57 -> Karnych i wykroczeniowych | F27: =Ewidencja!H33 -> 21 | G27: =Ewidencja!I33 -> 21 | H27: =Ewidencja!J33 -> 0 | I27: =Ewidencja!K33 -> 0 | J27: =Ewidencja!L33 -> 0 | K27: =Ewidencja!M33 -> 16 | L27: =Ewidencja!N33 -> 5 | M27: =Ewidencja!O33 -> 0 | ... Q27: =Ewidencja!S33 -> 0 | U27: =IF(ROUND(S27,1)=ROUND(T27,1),1,IF(ROUND(S27,1)>ROUND(U25,1),2,IF(ROUND(S27,1)<ROUND(T27,1),3,0))) -> 1
E28: =Ewidencja!G58 -> Cywilnych | F28: =Ewidencja!H34 -> 3 | G28: =Ewidencja!I34 -> 3 | H28: =Ewidencja!J34 -> 0 | I28: =Ewidencja!K34 -> 0 | J28: =Ewidencja!L34 -> 3 | K28: =Ewidencja!M34 -> 0 | L28: =Ewidencja!N34 -> 0 | M28: =Ewidencja!O34 -> 0 | ... Q28: =Ewidencja!S34 -> 0 | U28: =IF(ROUND(S28,1)=ROUND(T28,1),1,IF(ROUND(S28,1)>ROUND(U26,1),2,IF(ROUND(S28,1)<ROUND(T28,1),3,0))) -> 1
E29: =Ewidencja!G59 -> Ubezpieczeniowych | F29: =Ewidencja!H35 -> 0 | G29: =Ewidencja!I35 -> 0 | H29: =Ewidencja!J35 -> 0 | I29: =Ewidencja!K35 -> 0 | J29: =Ewidencja!L35 -> 0 | K29: =Ewidencja!M35 -> 0 | L29: =Ewidencja!N35 -> 0 | M29: =Ewidencja!O35 -> 0 | ... Q29: =Ewidencja!S35 -> 0 | U29: =IF(ROUND(S29,1)=ROUND(T29,1),1,IF(ROUND(S29,1)>ROUND(U27,1),2,IF(ROUND(S29,1)<ROUND(T29,1),3,0))) -> 1
E30: =Ewidencja!G60 -> Pracy | F30: =Ewidencja!H36 -> 0 | G30: =Ewidencja!I36 -> 0 | H30: =Ewidencja!J36 -> 0 | I30: =Ewidencja!K36 -> 0 | J30: =Ewidencja!L36 -> 0 | K30: =Ewidencja!M36 -> 0 | L30: =Ewidencja!N36 -> 0 | M30: =Ewidencja!O36 -> 0 | ... Q30: =Ewidencja!S36 -> 0 | U30: =IF(ROUND(S30,1)=ROUND(T30,1),1,IF(ROUND(S30,1)>ROUND(U28,1),2,IF(ROUND(S30,1)<ROUND(T30,1),3,0))) -> 1
E31: =Ewidencja!G61 -> Gospodarczych | F31: =Ewidencja!H37 -> 0 | G31: =Ewidencja!I37 -> 0 | H31: =Ewidencja!J37 -> 0 | I31: =Ewidencja!K37 -> 0 | J31: =Ewidencja!L37 -> 0 | K31: =Ewidencja!M37 -> 0 | L31: =Ewidencja!N37 -> 0 | M31: =Ewidencja!O37 -> 0 | ... Q31: =Ewidencja!S37 -> 0 | U31: =IF(ROUND(S31,1)=ROUND(T31,1),1,IF(ROUND(S31,1)>ROUND(U29,1),2,IF(ROUND(S31,1)<ROUND(T31,1),3,0))) -> 1
U32: =IF(ROUND(S32,1)=ROUND(T32,1),1,IF(ROUND(S32,1)>ROUND(U30,1),2,IF(ROUND(S32,1)<ROUND(T32,1),3,0))) -> 1
U33: =IF(ROUND(S33,1)=ROUND(T33,1),1,IF(ROUND(S33,1)>ROUND(U31,1),2,IF(ROUND(S33,1)<ROUND(T33,1),3,0))) -> 1
U34: =IF(ROUND(S34,1)=ROUND(T34,1),1,IF(ROUND(S34,1)>ROUND(U32,1),2,IF(ROUND(S34,1)<ROUND(T34,1),3,0))) -> 1
U35: =IF(ROUND(S35,1)=ROUND(T35,1),1,IF(ROUND(S35,1)>ROUND(U33,1),2,IF(ROUND(S35,1)<ROUND(T35,1),3,0))) -> 1
U36: =IF(ROUND(S36,1)=ROUND(T36,1),1,IF(ROUND(S36,1)>ROUND(U34,1),2,IF(ROUND(S36,1)<ROUND(T36,1),3,0))) -> 1
U37: =IF(ROUND(S37,1)=ROUND(T37,1),1,IF(ROUND(S37,1)>ROUND(U35,1),2,IF(ROUND(S37,1)<ROUND(T37,1),3,0))) -> 1

Sheet SO w Olsztynie
H12: =TRUNC(RIGHT(E12,1)) -> #VALUE! | I12: =TRUNC(LEFT(E12,4)) -> #VALUE! | J12: =IF(H12=4,CONCATENATE("w ",I12,"r."),IF(H12=2,CONCATENATE("w I półroczu ",I12,"r."),IF(H12=1,CONCATENATE("w I kwartale ",I12,"r."),CONCATENATE("za III kwartały ",I12,"r.")))) -> #VALUE!
E15: =CONCATENATE("EWIDENCJA SPRAW Z WYKAZU S W SĄDACH OKRĘGOWYCH ",Ustawienia!I8, " - ",UPPER(Ewidencja!F38)) -> EWIDENCJA SPRAW Z WYKAZU S W SĄDACH OKRĘGOWYCH ZA III KWARTAŁY 2014 r. - SO W OLSZTYNIE
E17: Wyszczególnienie | F17: Wpłynęło | G17: Załatwiono | M17: Pozostało | Q17: Ogólna kwota zasądzonych odszkodowań (PLN)
G19: ogółem | H19: w tym | M19: ogółem | N19: w tym od wpływu
H20: uwzględniono w całości lub części | J20: oddalono | K20: odrzucono | L20: w inny sposób | N20: do 2 mies. | O20: pow. 2 do 4 mies. | P20: ponad 4 mies.
H21: razem | I21: przez zarządzenie kwoty pieniężnej
E22: 0 | F22: 1 | G22: 2 | H22: 3 | I22: 4 | J22: 5 | K22: 6 | L22: 7 | M22: 8 | N22: 9 | O22: 10 | P22: 11 | Q22: 12
E24: Table
E26: =Ewidencja!G56 -> Ogółem spraw | F26: =Ewidencja!H38 -> 106 | G26: =Ewidencja!I38 -> 104 | H26: =Ewidencja!J38 -> 15 | I26: =Ewidencja!K38 -> 15 | J26: =Ewidencja!L38 -> 44 | K26: =Ewidencja!M38 -> 17 | L26: =Ewidencja!N38 -> 28 | M26: =Ewidencja!O38 -> 8 | ... Q26: =Ewidencja!S38 -> 48500
E27: =Ewidencja!G57 -> Karnych i wykroczeniowych | F27: =Ewidencja!H39 -> 60 | G27: =Ewidencja!I39 -> 59 | H27: =Ewidencja!J39 -> 3 | I27: =Ewidencja!K39 -> 3 | J27: =Ewidencja!L39 -> 28 | K27: =Ewidencja!M39 -> 5 | L27: =Ewidencja!N39 -> 23 | M27: =Ewidencja!O39 -> 1 | ... Q27: =Ewidencja!S39 -> 11000 | U27: =IF(ROUND(S27,1)=ROUND(T27,1),1,IF(ROUND(S27,1)>ROUND(U25,1),2,IF(ROUND(S27,1)<ROUND(T27,1),3,0))) -> 1
E28: =Ewidencja!G58 -> Cywilnych | F28: =Ewidencja!H40 -> 41 | G28: =Ewidencja!I40 -> 42 | H28: =Ewidencja!J40 -> 10 | I28: =Ewidencja!K40 -> 10 | J28: =Ewidencja!L40 -> 15 | K28: =Ewidencja!M40 -> 12 | L28: =Ewidencja!N40 -> 5 | M28: =Ewidencja!O40 -> 5 | ... Q28: =Ewidencja!S40 -> 33500 | U28: =IF(ROUND(S28,1)=ROUND(T28,1),1,IF(ROUND(S28,1)>ROUND(U26,1),2,IF(ROUND(S28,1)<ROUND(T28,1),3,0))) -> 1
E29: =Ewidencja!G59 -> Ubezpieczeniowych | F29: =Ewidencja!H41 -> 0 | G29: =Ewidencja!I41 -> 0 | H29: =Ewidencja!J41 -> 0 | I29: =Ewidencja!K41 -> 0 | J29: =Ewidencja!L41 -> 0 | K29: =Ewidencja!M41 -> 0 | L29: =Ewidencja!N41 -> 0 | M29: =Ewidencja!O41 -> 0 | ... Q29: =Ewidencja!S41 -> 0 | U29: =IF(ROUND(S29,1)=ROUND(T29,1),1,IF(ROUND(S29,1)>ROUND(U27,1),2,IF(ROUND(S29,1)<ROUND(T29,1),3,0))) -> 1
E30: =Ewidencja!G60 -> Pracy | F30: =Ewidencja!H42 -> 0 | G30: =Ewidencja!I42 -> 0 | H30: =Ewidencja!J42 -> 0 | I30: =Ewidencja!K42 -> 0 | J30: =Ewidencja!L42 -> 0 | K30: =Ewidencja!M42 -> 0 | L30: =Ewidencja!N42 -> 0 | M30: =Ewidencja!O42 -> 0 | ... Q30: =Ewidencja!S42 -> 0 | U30: =IF(ROUND(S30,1)=ROUND(T30,1),1,IF(ROUND(S30,1)>ROUND(U28,1),2,IF(ROUND(S30,1)<ROUND(T30,1),3,0))) -> 1
E31: =Ewidencja!G61 -> Gospodarczych | F31: =Ewidencja!H43 -> 5 | G31: =Ewidencja!I43 -> 3 | H31: =Ewidencja!J43 -> 2 | I31: =Ewidencja!K43 -> 2 | J31: =Ewidencja!L43 -> 1 | K31: =Ewidencja!M43 -> 0 | L31: =Ewidencja!N43 -> 0 | M31: =Ewidencja!O43 -> 2 | ... Q31: =Ewidencja!S43 -> 4000 | U31: =IF(ROUND(S31,1)=ROUND(T31,1),1,IF(ROUND(S31,1)>ROUND(U29,1),2,IF(ROUND(S31,1)<ROUND(T31,1),3,0))) -> 1
U32: =IF(ROUND(S32,1)=ROUND(T32,1),1,IF(ROUND(S32,1)>ROUND(U30,1),2,IF(ROUND(S32,1)<ROUND(T32,1),3,0))) -> 1
U33: =IF(ROUND(S33,1)=ROUND(T33,1),1,IF(ROUND(S33,1)>ROUND(U31,1),2,IF(ROUND(S33,1)<ROUND(T33,1),3,0))) -> 1
U34: =IF(ROUND(S34,1)=ROUND(T34,1),1,IF(ROUND(S34,1)>ROUND(U32,1),2,IF(ROUND(S34,1)<ROUND(T34,1),3,0))) -> 1
U35: =IF(ROUND(S35,1)=ROUND(T35,1),1,IF(ROUND(S35,1)>ROUND(U33,1),2,IF(ROUND(S35,1)<ROUND(T35,1),3,0))) -> 1
U36: =IF(ROUND(S36,1)=ROUND(T36,1),1,IF(ROUND(S36,1)>ROUND(U34,1),2,IF(ROUND(S36,1)<ROUND(T36,1),3,0))) -> 1
U37: =IF(ROUND(S37,1)=ROUND(T37,1),1,IF(ROUND(S37,1)>ROUND(U35,1),2,IF(ROUND(S37,1)<ROUND(T37,1),3,0))) -> 1

Sheet SO w Ostrołęce
H12: =TRUNC(RIGHT(E12,1)) -> #VALUE! | I12: =TRUNC(LEFT(E12,4)) -> #VALUE! | J12: =IF(H12=4,CONCATENATE("w ",I12,"r."),IF(H12=2,CONCATENATE("w I półroczu ",I12,"r."),IF(H12=1,CONCATENATE("w I kwartale ",I12,"r."),CONCATENATE("za III kwartały ",I12,"r.")))) -> #VALUE!
E15: =CONCATENATE("EWIDENCJA SPRAW Z WYKAZU S W SĄDACH OKRĘGOWYCH ",Ustawienia!I8, " - ",UPPER(Ewidencja!F44)) -> EWIDENCJA SPRAW Z WYKAZU S W SĄDACH OKRĘGOWYCH ZA III KWARTAŁY 2014 r. - SO W OSTROŁĘCE
E17: Wyszczególnienie | F17: Wpłynęło | G17: Załatwiono | M17: Pozostało | Q17: Ogólna kwota zasądzonych odszkodowań (PLN)
G19: ogółem | H19: w tym | M19: ogółem | N19: w tym od wpływu
H20: uwzględniono w całości lub części | J20: oddalono | K20: odrzucono | L20: w inny sposób | N20: do 2 mies. | O20: pow. 2 do 4 mies. | P20: ponad 4 mies.
H21: razem | I21: przez zarządzenie kwoty pieniężnej
E22: 0 | F22: 1 | G22: 2 | H22: 3 | I22: 4 | J22: 5 | K22: 6 | L22: 7 | M22: 8 | N22: 9 | O22: 10 | P22: 11 | Q22: 12
E24: Table
E26: =Ewidencja!G56 -> Ogółem spraw | F26: =Ewidencja!H44 -> 36 | G26: =Ewidencja!I44 -> 40 | H26: =Ewidencja!J44 -> 11 | I26: =Ewidencja!K44 -> 11 | J26: =Ewidencja!L44 -> 15 | K26: =Ewidencja!M44 -> 7 | L26: =Ewidencja!N44 -> 7 | M26: =Ewidencja!O44 -> 2 | ... Q26: =Ewidencja!S44 -> 70100
E27: =Ewidencja!G57 -> Karnych i wykroczeniowych | F27: =Ewidencja!H45 -> 19 | G27: =Ewidencja!I45 -> 21 | H27: =Ewidencja!J45 -> 1 | I27: =Ewidencja!K45 -> 1 | J27: =Ewidencja!L45 -> 13 | K27: =Ewidencja!M45 -> 1 | L27: =Ewidencja!N45 -> 6 | M27: =Ewidencja!O45 -> 1 | ... Q27: =Ewidencja!S45 -> 2000 | U27: =IF(ROUND(S27,1)=ROUND(T27,1),1,IF(ROUND(S27,1)>ROUND(U25,1),2,IF(ROUND(S27,1)<ROUND(T27,1),3,0))) -> 1
E28: =Ewidencja!G58 -> Cywilnych | F28: =Ewidencja!H46 -> 16 | G28: =Ewidencja!I46 -> 19 | H28: =Ewidencja!J46 -> 10 | I28: =Ewidencja!K46 -> 10 | J28: =Ewidencja!L46 -> 2 | K28: =Ewidencja!M46 -> 6 | L28: =Ewidencja!N46 -> 1 | M28: =Ewidencja!O46 -> 0 | ... Q28: =Ewidencja!S46 -> 68100 | U28: =IF(ROUND(S28,1)=ROUND(T28,1),1,IF(ROUND(S28,1)>ROUND(U26,1),2,IF(ROUND(S28,1)<ROUND(T28,1),3,0))) -> 1
E29: =Ewidencja!G59 -> Ubezpieczeniowych | F29: =Ewidencja!H47 -> 0 | G29: =Ewidencja!I47 -> 0 | H29: =Ewidencja!J47 -> 0 | I29: =Ewidencja!K47 -> 0 | J29: =Ewidencja!L47 -> 0 | K29: =Ewidencja!M47 -> 0 | L29: =Ewidencja!N47 -> 0 | M29: =Ewidencja!O47 -> 0 | ... Q29: =Ewidencja!S47 -> 0 | U29: =IF(ROUND(S29,1)=ROUND(T29,1),1,IF(ROUND(S29,1)>ROUND(U27,1),2,IF(ROUND(S29,1)<ROUND(T29,1),3,0))) -> 1
E30: =Ewidencja!G60 -> Pracy | F30: =Ewidencja!H48 -> 1 | G30: =Ewidencja!I48 -> 0 | H30: =Ewidencja!J48 -> 0 | I30: =Ewidencja!K48 -> 0 | J30: =Ewidencja!L48 -> 0 | K30: =Ewidencja!M48 -> 0 | L30: =Ewidencja!N48 -> 0 | M30: =Ewidencja!O48 -> 1 | ... Q30: =Ewidencja!S48 -> 0 | U30: =IF(ROUND(S30,1)=ROUND(T30,1),1,IF(ROUND(S30,1)>ROUND(U28,1),2,IF(ROUND(S30,1)<ROUND(T30,1),3,0))) -> 1
E31: =Ewidencja!G61 -> Gospodarczych | F31: =Ewidencja!H49 -> 0 | G31: =Ewidencja!I49 -> 0 | H31: =Ewidencja!J49 -> 0 | I31: =Ewidencja!K49 -> 0 | J31: =Ewidencja!L49 -> 0 | K31: =Ewidencja!M49 -> 0 | L31: =Ewidencja!N49 -> 0 | M31: =Ewidencja!O49 -> 0 | ... Q31: =Ewidencja!S49 -> 0 | U31: =IF(ROUND(S31,1)=ROUND(T31,1),1,IF(ROUND(S31,1)>ROUND(U29,1),2,IF(ROUND(S31,1)<ROUND(T31,1),3,0))) -> 1
U32: =IF(ROUND(S32,1)=ROUND(T32,1),1,IF(ROUND(S32,1)>ROUND(U30,1),2,IF(ROUND(S32,1)<ROUND(T32,1),3,0))) -> 1
U33: =IF(ROUND(S33,1)=ROUND(T33,1),1,IF(ROUND(S33,1)>ROUND(U31,1),2,IF(ROUND(S33,1)<ROUND(T33,1),3,0))) -> 1
U34: =IF(ROUND(S34,1)=ROUND(T34,1),1,IF(ROUND(S34,1)>ROUND(U32,1),2,IF(ROUND(S34,1)<ROUND(T34,1),3,0))) -> 1
U35: =IF(ROUND(S35,1)=ROUND(T35,1),1,IF(ROUND(S35,1)>ROUND(U33,1),2,IF(ROUND(S35,1)<ROUND(T35,1),3,0))) -> 1
U36: =IF(ROUND(S36,1)=ROUND(T36,1),1,IF(ROUND(S36,1)>ROUND(U34,1),2,IF(ROUND(S36,1)<ROUND(T36,1),3,0))) -> 1
U37: =IF(ROUND(S37,1)=ROUND(T37,1),1,IF(ROUND(S37,1)>ROUND(U35,1),2,IF(ROUND(S37,1)<ROUND(T37,1),3,0))) -> 1

Sheet SO w Suwałkach
H12: =TRUNC(RIGHT(E12,1)) -> #VALUE! | I12: =TRUNC(LEFT(E12,4)) -> #VALUE! | J12: =IF(H12=4,CONCATENATE("w ",I12,"r."),IF(H12=2,CONCATENATE("w I półroczu ",I12,"r."),IF(H12=1,CONCATENATE("w I kwartale ",I12,"r."),CONCATENATE("za III kwartały ",I12,"r.")))) -> #VALUE!
E15: =CONCATENATE("EWIDENCJA SPRAW Z WYKAZU S W SĄDACH OKRĘGOWYCH ",Ustawienia!I8, " - ",UPPER(Ewidencja!F50)) -> EWIDENCJA SPRAW Z WYKAZU S W SĄDACH OKRĘGOWYCH ZA III KWARTAŁY 2014 r. - SO W SUWAŁKACH
E17: Wyszczególnienie | F17: Wpłynęło | G17: Załatwiono | M17: Pozostało | Q17: Ogólna kwota zasądzonych odszkodowań (PLN)
G19: ogółem | H19: w tym | M19: ogółem | N19: w tym od wpływu
H20: uwzględniono w całości lub części | J20: oddalono | K20: odrzucono | L20: w inny sposób | N20: do 2 mies. | O20: pow. 2 do 4 mies. | P20: ponad 4 mies.
H21: razem | I21: przez zarządzenie kwoty pieniężnej
E22: 0 | F22: 1 | G22: 2 | H22: 3 | I22: 4 | J22: 5 | K22: 6 | L22: 7 | M22: 8 | N22: 9 | O22: 10 | P22: 11 | Q22: 12
E24: Table
E26: =Ewidencja!G56 -> Ogółem spraw | F26: =Ewidencja!H50 -> 67 | G26: =Ewidencja!I50 -> 66 | H26: =Ewidencja!J50 -> 3 | I26: =Ewidencja!K50 -> 3 | J26: =Ewidencja!L50 -> 11 | K26: =Ewidencja!M50 -> 50 | L26: =Ewidencja!N50 -> 2 | M26: =Ewidencja!O50 -> 4 | ... Q26: =Ewidencja!S50 -> 8000
E27: =Ewidencja!G57 -> Karnych i wykroczeniowych | F27: =Ewidencja!H51 -> 10 | G27: =Ewidencja!I51 -> 11 | H27: =Ewidencja!J51 -> 2 | I27: =Ewidencja!K51 -> 2 | J27: =Ewidencja!L51 -> 7 | K27: =Ewidencja!M51 -> 0 | L27: =Ewidencja!N51 -> 2 | M27: =Ewidencja!O51 -> 0 | ... Q27: =Ewidencja!S51 -> 6000 | U27: =IF(ROUND(S27,1)=ROUND(T27,1),1,IF(ROUND(S27,1)>ROUND(U25,1),2,IF(ROUND(S27,1)<ROUND(T27,1),3,0))) -> 1
E28: =Ewidencja!G58 -> Cywilnych | F28: =Ewidencja!H52 -> 57 | G28: =Ewidencja!I52 -> 55 | H28: =Ewidencja!J52 -> 1 | I28: =Ewidencja!K52 -> 1 | J28: =Ewidencja!L52 -> 4 | K28: =Ewidencja!M52 -> 50 | L28: =Ewidencja!N52 -> 0 | M28: =Ewidencja!O52 -> 4 | ... Q28: =Ewidencja!S52 -> 2000 | U28: =IF(ROUND(S28,1)=ROUND(T28,1),1,IF(ROUND(S28,1)>ROUND(U26,1),2,IF(ROUND(S28,1)<ROUND(T28,1),3,0))) -> 1
E29: =Ewidencja!G59 -> Ubezpieczeniowych | F29: =Ewidencja!H53 -> 0 | G29: =Ewidencja!I53 -> 0 | H29: =Ewidencja!J53 -> 0 | I29: =Ewidencja!K53 -> 0 | J29: =Ewidencja!L53 -> 0 | K29: =Ewidencja!M53 -> 0 | L29: =Ewidencja!N53 -> 0 | M29: =Ewidencja!O53 -> 0 | ... Q29: =Ewidencja!S53 -> 0 | U29: =IF(ROUND(S29,1)=ROUND(T29,1),1,IF(ROUND(S29,1)>ROUND(U27,1),2,IF(ROUND(S29,1)<ROUND(T29,1),3,0))) -> 1
E30: =Ewidencja!G60 -> Pracy | F30: =Ewidencja!H54 -> 0 | G30: =Ewidencja!I54 -> 0 | H30: =Ewidencja!J54 -> 0 | I30: =Ewidencja!K54 -> 0 | J30: =Ewidencja!L54 -> 0 | K30: =Ewidencja!M54 -> 0 | L30: =Ewidencja!N54 -> 0 | M30: =Ewidencja!O54 -> 0 | ... Q30: =Ewidencja!S54 -> 0 | U30: =IF(ROUND(S30,1)=ROUND(T30,1),1,IF(ROUND(S30,1)>ROUND(U28,1),2,IF(ROUND(S30,1)<ROUND(T30,1),3,0))) -> 1
E31: =Ewidencja!G61 -> Gospodarczych | F31: =Ewidencja!H55 -> 0 | G31: =Ewidencja!I55 -> 0 | H31: =Ewidencja!J55 -> 0 | I31: =Ewidencja!K55 -> 0 | J31: =Ewidencja!L55 -> 0 | K31: =Ewidencja!M55 -> 0 | L31: =Ewidencja!N55 -> 0 | M31: =Ewidencja!O55 -> 0 | ... Q31: =Ewidencja!S55 -> 0 | U31: =IF(ROUND(S31,1)=ROUND(T31,1),1,IF(ROUND(S31,1)>ROUND(U29,1),2,IF(ROUND(S31,1)<ROUND(T31,1),3,0))) -> 1
U32: =IF(ROUND(S32,1)=ROUND(T32,1),1,IF(ROUND(S32,1)>ROUND(U30,1),2,IF(ROUND(S32,1)<ROUND(T32,1),3,0))) -> 1
U33: =IF(ROUND(S33,1)=ROUND(T33,1),1,IF(ROUND(S33,1)>ROUND(U31,1),2,IF(ROUND(S33,1)<ROUND(T33,1),3,0))) -> 1
U34: =IF(ROUND(S34,1)=ROUND(T34,1),1,IF(ROUND(S34,1)>ROUND(U32,1),2,IF(ROUND(S34,1)<ROUND(T34,1),3,0))) -> 1
U35: =IF(ROUND(S35,1)=ROUND(T35,1),1,IF(ROUND(S35,1)>ROUND(U33,1),2,IF(ROUND(S35,1)<ROUND(T35,1),3,0))) -> 1
U36: =IF(ROUND(S36,1)=ROUND(T36,1),1,IF(ROUND(S36,1)>ROUND(U34,1),2,IF(ROUND(S36,1)<ROUND(T36,1),3,0))) -> 1
U37: =IF(ROUND(S37,1)=ROUND(T37,1),1,IF(ROUND(S37,1)>ROUND(U35,1),2,IF(ROUND(S37,1)<ROUND(T37,1),3,0))) -> 1

Sheet Apelacja Gdańska
H12: =TRUNC(RIGHT(E12,1)) -> #VALUE! | I12: =TRUNC(LEFT(E12,4)) -> #VALUE! | J12: =IF(H12=4,CONCATENATE("w ",I12,"r."),IF(H12=2,CONCATENATE("w I półroczu ",I12,"r."),IF(H12=1,CONCATENATE("w I kwartale ",I12,"r."),CONCATENATE("za III kwartały ",I12,"r.")))) -> #VALUE!
E15: =CONCATENATE("EWIDENCJA SPRAW Z WYKAZU S W SĄDACH OKRĘGOWYCH ",Ustawienia!I8, " - ",UPPER(Ewidencja!E62)) -> EWIDENCJA SPRAW Z WYKAZU S W SĄDACH OKRĘGOWYCH ZA III KWARTAŁY 2014 r. - APELACJA GDAŃSKA
E17: Wyszczególnienie | F17: Wpłynęło | G17: Załatwiono | M17: Pozostało | Q17: Ogólna kwota zasądzonych odszkodowań (PLN)
G19: ogółem | H19: w tym | M19: ogółem | N19: w tym od wpływu
H20: uwzględniono w całości lub części | J20: oddalono | K20: odrzucono | L20: w inny sposób | N20: do 2 mies. | O20: pow. 2 do 4 mies. | P20: ponad 4 mies.
H21: razem | I21: przez zarządzenie kwoty pieniężnej
E22: 0 | F22: 1 | G22: 2 | H22: 3 | I22: 4 | J22: 5 | K22: 6 | L22: 7 | M22: 8 | N22: 9 | O22: 10 | P22: 11 | Q22: 12
E24: Table
E26: =Ewidencja!G56 -> Ogółem spraw | F26: =Ewidencja!H98 -> 3815 | G26: =Ewidencja!I98 -> 3823 | H26: =Ewidencja!J98 -> 110 | I26: =Ewidencja!K98 -> 108 | J26: =Ewidencja!L98 -> 302 | K26: =Ewidencja!M98 -> 2704 | L26: =Ewidencja!N98 -> 707 | M26: =Ewidencja!O98 -> 266 | ... Q26: =Ewidencja!S98 -> 353500
E27: =Ewidencja!G57 -> Karnych i wykroczeniowych | F27: =Ewidencja!H99 -> 301 | G27: =Ewidencja!I99 -> 259 | H27: =Ewidencja!J99 -> 16 | I27: =Ewidencja!K99 -> 16 | J27: =Ewidencja!L99 -> 102 | K27: =Ewidencja!M99 -> 35 | L27: =Ewidencja!N99 -> 106 | M27: =Ewidencja!O99 -> 48 | ... Q27: =Ewidencja!S99 -> 51000 | U27: =IF(ROUND(S27,1)=ROUND(T27,1),1,IF(ROUND(S27,1)>ROUND(U25,1),2,IF(ROUND(S27,1)<ROUND(T27,1),3,0))) -> 1
E28: =Ewidencja!G58 -> Cywilnych | F28: =Ewidencja!H100 -> 3485 | G28: =Ewidencja!I100 -> 3529 | H28: =Ewidencja!J100 -> 86 | I28: =Ewidencja!K100 -> 84 | J28: =Ewidencja!L100 -> 187 | K28: =Ewidencja!M100 -> 2657 | L28: =Ewidencja!N100 -> 599 | M28: =Ewidencja!O100 -> 215 | ... Q28: =Ewidencja!S100 -> 284500 | U28: =IF(ROUND(S28,1)=ROUND(T28,1),1,IF(ROUND(S28,1)>ROUND(U26,1),2,IF(ROUND(S28,1)<ROUND(T28,1),3,0))) -> 1
E29: =Ewidencja!G59 -> Ubezpieczeniowych | F29: =Ewidencja!H101 -> 1 | G29: =Ewidencja!I101 -> 3 | H29: =Ewidencja!J101 -> 0 | I29: =Ewidencja!K101 -> 0 | J29: =Ewidencja!L101 -> 3 | K29: =Ewidencja!M101 -> 0 | L29: =Ewidencja!N101 -> 0 | M29: =Ewidencja!O101 -> 0 | ... Q29: =Ewidencja!S101 -> 0 | U29: =IF(ROUND(S29,1)=ROUND(T29,1),1,IF(ROUND(S29,1)>ROUND(U27,1),2,IF(ROUND(S29,1)<ROUND(T29,1),3,0))) -> 1
E30: =Ewidencja!G60 -> Pracy | F30: =Ewidencja!H102 -> 4 | G30: =Ewidencja!I102 -> 7 | H30: =Ewidencja!J102 -> 0 | I30: =Ewidencja!K102 -> 0 | J30: =Ewidencja!L102 -> 4 | K30: =Ewidencja!M102 -> 2 | L30: =Ewidencja!N102 -> 1 | M30: =Ewidencja!O102 -> 1 | ... Q30: =Ewidencja!S102 -> 0 | U30: =IF(ROUND(S30,1)=ROUND(T30,1),1,IF(ROUND(S30,1)>ROUND(U28,1),2,IF(ROUND(S30,1)<ROUND(T30,1),3,0))) -> 1
E31: =Ewidencja!G61 -> Gospodarczych | F31: =Ewidencja!H103 -> 24 | G31: =Ewidencja!I103 -> 25 | H31: =Ewidencja!J103 -> 8 | I31: =Ewidencja!K103 -> 8 | J31: =Ewidencja!L103 -> 6 | K31: =Ewidencja!M103 -> 10 | L31: =Ewidencja!N103 -> 1 | M31: =Ewidencja!O103 -> 2 | ... Q31: =Ewidencja!S103 -> 18000 | U31: =IF(ROUND(S31,1)=ROUND(T31,1),1,IF(ROUND(S31,1)>ROUND(U29,1),2,IF(ROUND(S31,1)<ROUND(T31,1),3,0))) -> 1
U32: =IF(ROUND(S32,1)=ROUND(T32,1),1,IF(ROUND(S32,1)>ROUND(U30,1),2,IF(ROUND(S32,1)<ROUND(T32,1),3,0))) -> 1
U33: =IF(ROUND(S33,1)=ROUND(T33,1),1,IF(ROUND(S33,1)>ROUND(U31,1),2,IF(ROUND(S33,1)<ROUND(T33,1),3,0))) -> 1
U34: =IF(ROUND(S34,1)=ROUND(T34,1),1,IF(ROUND(S34,1)>ROUND(U32,1),2,IF(ROUND(S34,1)<ROUND(T34,1),3,0))) -> 1
U35: =IF(ROUND(S35,1)=ROUND(T35,1),1,IF(ROUND(S35,1)>ROUND(U33,1),2,IF(ROUND(S35,1)<ROUND(T35,1),3,0))) -> 1
U36: =IF(ROUND(S36,1)=ROUND(T36,1),1,IF(ROUND(S36,1)>ROUND(U34,1),2,IF(ROUND(S36,1)<ROUND(T36,1),3,0))) -> 1
U37: =IF(ROUND(S37,1)=ROUND(T37,1),1,IF(ROUND(S37,1)>ROUND(U35,1),2,IF(ROUND(S37,1)<ROUND(T37,1),3,0))) -> 1

Sheet SO w Bydgoszczy
H12: =TRUNC(RIGHT(E12,1)) -> #VALUE! | I12: =TRUNC(LEFT(E12,4)) -> #VALUE! | J12: =IF(H12=4,CONCATENATE("w ",I12,"r."),IF(H12=2,CONCATENATE("w I półroczu ",I12,"r."),IF(H12=1,CONCATENATE("w I kwartale ",I12,"r."),CONCATENATE("za III kwartały ",I12,"r.")))) -> #VALUE!
E15: =CONCATENATE("EWIDENCJA SPRAW Z WYKAZU S W SĄDACH OKRĘGOWYCH ",Ustawienia!I8, " - ",UPPER(Ewidencja!F62)) -> EWIDENCJA SPRAW Z WYKAZU S W SĄDACH OKRĘGOWYCH ZA III KWARTAŁY 2014 r. - SO W BYDGOSZCZY
E17: Wyszczególnienie | F17: Wpłynęło | G17: Załatwiono | M17: Pozostało | Q17: Ogólna kwota zasądzonych odszkodowań (PLN)
G19: ogółem | H19: w tym | M19: ogółem | N19: w tym od wpływu
H20: uwzględniono w całości lub części | J20: oddalono | K20: odrzucono | L20: w inny sposób | N20: do 2 mies. | O20: pow. 2 do 4 mies. | P20: ponad 4 mies.
H21: razem | I21: przez zarządzenie kwoty pieniężnej
E22: 0 | F22: 1 | G22: 2 | H22: 3 | I22: 4 | J22: 5 | K22: 6 | L22: 7 | M22: 8 | N22: 9 | O22: 10 | P22: 11 | Q22: 12
E24: Table
E26: =Ewidencja!G56 -> Ogółem spraw | F26: =Ewidencja!H62 -> 125 | G26: =Ewidencja!I62 -> 117 | H26: =Ewidencja!J62 -> 10 | I26: =Ewidencja!K62 -> 9 | J26: =Ewidencja!L62 -> 60 | K26: =Ewidencja!M62 -> 32 | L26: =Ewidencja!N62 -> 15 | M26: =Ewidencja!O62 -> 16 | ... Q26: =Ewidencja!S62 -> 25000
E27: =Ewidencja!G57 -> Karnych i wykroczeniowych | F27: =Ewidencja!H63 -> 42 | G27: =Ewidencja!I63 -> 36 | H27: =Ewidencja!J63 -> 1 | I27: =Ewidencja!K63 -> 1 | J27: =Ewidencja!L63 -> 20 | K27: =Ewidencja!M63 -> 1 | L27: =Ewidencja!N63 -> 14 | M27: =Ewidencja!O63 -> 8 | ... Q27: =Ewidencja!S63 -> 2000 | U27: =IF(ROUND(S27,1)=ROUND(T27,1),1,IF(ROUND(S27,1)>ROUND(U25,1),2,IF(ROUND(S27,1)<ROUND(T27,1),3,0))) -> 1
E28: =Ewidencja!G58 -> Cywilnych | F28: =Ewidencja!H64 -> 82 | G28: =Ewidencja!I64 -> 81 | H28: =Ewidencja!J64 -> 9 | I28: =Ewidencja!K64 -> 8 | J28: =Ewidencja!L64 -> 40 | K28: =Ewidencja!M64 -> 31 | L28: =Ewidencja!N64 -> 1 | M28: =Ewidencja!O64 -> 7 | ... Q28: =Ewidencja!S64 -> 23000 | U28: =IF(ROUND(S28,1)=ROUND(T28,1),1,IF(ROUND(S28,1)>ROUND(U26,1),2,IF(ROUND(S28,1)<ROUND(T28,1),3,0))) -> 1
E29: =Ewidencja!G59 -> Ubezpieczeniowych | F29: =Ewidencja!H65 -> 0 | G29: =Ewidencja!I65 -> 0 | H29: =Ewidencja!J65 -> 0 | I29: =Ewidencja!K65 -> 0 | J29: =Ewidencja!L65 -> 0 | K29: =Ewidencja!M65 -> 0 | L29: =Ewidencja!N65 -> 0 | M29: =Ewidencja!O65 -> 0 | ... Q29: =Ewidencja!S65 -> 0 | U29: =IF(ROUND(S29,1)=ROUND(T29,1),1,IF(ROUND(S29,1)>ROUND(U27,1),2,IF(ROUND(S29,1)<ROUND(T29,1),3,0))) -> 1
E30: =Ewidencja!G60 -> Pracy | F30: =Ewidencja!H66 -> 0 | G30: =Ewidencja!I66 -> 0 | H30: =Ewidencja!J66 -> 0 | I30: =Ewidencja!K66 -> 0 | J30: =Ewidencja!L66 -> 0 | K30: =Ewidencja!M66 -> 0 | L30: =Ewidencja!N66 -> 0 | M30: =Ewidencja!O66 -> 0 | ... Q30: =Ewidencja!S66 -> 0 | U30: =IF(ROUND(S30,1)=ROUND(T30,1),1,IF(ROUND(S30,1)>ROUND(U28,1),2,IF(ROUND(S30,1)<ROUND(T30,1),3,0))) -> 1
E31: =Ewidencja!G61 -> Gospodarczych | F31: =Ewidencja!H67 -> 1 | G31: =Ewidencja!I67 -> 0 | H31: =Ewidencja!J67 -> 0 | I31: =Ewidencja!K67 -> 0 | J31: =Ewidencja!L67 -> 0 | K31: =Ewidencja!M67 -> 0 | L31: =Ewidencja!N67 -> 0 | M31: =Ewidencja!O67 -> 1 | ... Q31: =Ewidencja!S67 -> 0 | U31: =IF(ROUND(S31,1)=ROUND(T31,1),1,IF(ROUND(S31,1)>ROUND(U29,1),2,IF(ROUND(S31,1)<ROUND(T31,1),3,0))) -> 1
U32: =IF(ROUND(S32,1)=ROUND(T32,1),1,IF(ROUND(S32,1)>ROUND(U30,1),2,IF(ROUND(S32,1)<ROUND(T32,1),3,0))) -> 1
U33: =IF(ROUND(S33,1)=ROUND(T33,1),1,IF(ROUND(S33,1)>ROUND(U31,1),2,IF(ROUND(S33,1)<ROUND(T33,1),3,0))) -> 1
U34: =IF(ROUND(S34,1)=ROUND(T34,1),1,IF(ROUND(S34,1)>ROUND(U32,1),2,IF(ROUND(S34,1)<ROUND(T34,1),3,0))) -> 1
U35: =IF(ROUND(S35,1)=ROUND(T35,1),1,IF(ROUND(S35,1)>ROUND(U33,1),2,IF(ROUND(S35,1)<ROUND(T35,1),3,0))) -> 1
U36: =IF(ROUND(S36,1)=ROUND(T36,1),1,IF(ROUND(S36,1)>ROUND(U34,1),2,IF(ROUND(S36,1)<ROUND(T36,1),3,0))) -> 1
U37: =IF(ROUND(S37,1)=ROUND(T37,1),1,IF(ROUND(S37,1)>ROUND(U35,1),2,IF(ROUND(S37,1)<ROUND(T37,1),3,0))) -> 1

Sheet SO w Elblągu 
H12: =TRUNC(RIGHT(E12,1)) -> #VALUE! | I12: =TRUNC(LEFT(E12,4)) -> #VALUE! | J12: =IF(H12=4,CONCATENATE("w ",I12,"r."),IF(H12=2,CONCATENATE("w I półroczu ",I12,"r."),IF(H12=1,CONCATENATE("w I kwartale ",I12,"r."),CONCATENATE("za III kwartały ",I12,"r.")))) -> #VALUE!
E15: =CONCATENATE("EWIDENCJA SPRAW Z WYKAZU S W SĄDACH OKRĘGOWYCH ",Ustawienia!I8, " - ",UPPER(Ewidencja!F68)) -> EWIDENCJA SPRAW Z WYKAZU S W SĄDACH OKRĘGOWYCH ZA III KWARTAŁY 2014 r. - SO W ELBLĄGU
E17: Wyszczególnienie | F17: Wpłynęło | G17: Załatwiono | M17: Pozostało | Q17: Ogólna kwota zasądzonych odszkodowań (PLN)
G19: ogółem | H19: w tym | M19: ogółem | N19: w tym od wpływu
H20: uwzględniono w całości lub części | J20: oddalono | K20: odrzucono | L20: w inny sposób | N20: do 2 mies. | O20: pow. 2 do 4 mies. | P20: ponad 4 mies.
H21: razem | I21: przez zarządzenie kwoty pieniężnej
E22: 0 | F22: 1 | G22: 2 | H22: 3 | I22: 4 | J22: 5 | K22: 6 | L22: 7 | M22: 8 | N22: 9 | O22: 10 | P22: 11 | Q22: 12
E24: Table
E26: =Ewidencja!G56 -> Ogółem spraw | F26: =Ewidencja!H68 -> 428 | G26: =Ewidencja!I68 -> 430 | H26: =Ewidencja!J68 -> 6 | I26: =Ewidencja!K68 -> 6 | J26: =Ewidencja!L68 -> 33 | K26: =Ewidencja!M68 -> 388 | L26: =Ewidencja!N68 -> 3 | M26: =Ewidencja!O68 -> 4 | ... Q26: =Ewidencja!S68 -> 15000
E27: =Ewidencja!G57 -> Karnych i wykroczeniowych | F27: =Ewidencja!H69 -> 31 | G27: =Ewidencja!I69 -> 30 | H27: =Ewidencja!J69 -> 2 | I27: =Ewidencja!K69 -> 2 | J27: =Ewidencja!L69 -> 28 | K27: =Ewidencja!M69 -> 0 | L27: =Ewidencja!N69 -> 0 | M27: =Ewidencja!O69 -> 1 | ... Q27: =Ewidencja!S69 -> 4000 | U27: =IF(ROUND(S27,1)=ROUND(T27,1),1,IF(ROUND(S27,1)>ROUND(U25,1),2,IF(ROUND(S27,1)<ROUND(T27,1),3,0))) -> 1
E28: =Ewidencja!G58 -> Cywilnych | F28: =Ewidencja!H70 -> 397 | G28: =Ewidencja!I70 -> 398 | H28: =Ewidencja!J70 -> 4 | I28: =Ewidencja!K70 -> 4 | J28: =Ewidencja!L70 -> 3 | K28: =Ewidencja!M70 -> 388 | L28: =Ewidencja!N70 -> 3 | M28: =Ewidencja!O70 -> 3 | ... Q28: =Ewidencja!S70 -> 11000 | U28: =IF(ROUND(S28,1)=ROUND(T28,1),1,IF(ROUND(S28,1)>ROUND(U26,1),2,IF(ROUND(S28,1)<ROUND(T28,1),3,0))) -> 1
E29: =Ewidencja!G59 -> Ubezpieczeniowych | F29: =Ewidencja!H71 -> 0 | G29: =Ewidencja!I71 -> 2 | H29: =Ewidencja!J71 -> 0 | I29: =Ewidencja!K71 -> 0 | J29: =Ewidencja!L71 -> 2 | K29: =Ewidencja!M71 -> 0 | L29: =Ewidencja!N71 -> 0 | M29: =Ewidencja!O71 -> 0 | ... Q29: =Ewidencja!S71 -> 0 | U29: =IF(ROUND(S29,1)=ROUND(T29,1),1,IF(ROUND(S29,1)>ROUND(U27,1),2,IF(ROUND(S29,1)<ROUND(T29,1),3,0))) -> 1
E30: =Ewidencja!G60 -> Pracy | F30: =Ewidencja!H72 -> 0 | G30: =Ewidencja!I72 -> 0 | H30: =Ewidencja!J72 -> 0 | I30: =Ewidencja!K72 -> 0 | J30: =Ewidencja!L72 -> 0 | K30: =Ewidencja!M72 -> 0 | L30: =Ewidencja!N72 -> 0 | M30: =Ewidencja!O72 -> 0 | ... Q30: =Ewidencja!S72 -> 0 | U30: =IF(ROUND(S30,1)=ROUND(T30,1),1,IF(ROUND(S30,1)>ROUND(U28,1),2,IF(ROUND(S30,1)<ROUND(T30,1),3,0))) -> 1
E31: =Ewidencja!G61 -> Gospodarczych | F31: =Ewidencja!H73 -> 0 | G31: =Ewidencja!I73 -> 0 | H31: =Ewidencja!J73 -> 0 | I31: =Ewidencja!K73 -> 0 | J31: =Ewidencja!L73 -> 0 | K31: =Ewidencja!M73 -> 0 | L31: =Ewidencja!N73 -> 0 | M31: =Ewidencja!O73 -> 0 | ... Q31: =Ewidencja!S73 -> 0 | U31: =IF(ROUND(S31,1)=ROUND(T31,1),1,IF(ROUND(S31,1)>ROUND(U29,1),2,IF(ROUND(S31,1)<ROUND(T31,1),3,0))) -> 1
U32: =IF(ROUND(S32,1)=ROUND(T32,1),1,IF(ROUND(S32,1)>ROUND(U30,1),2,IF(ROUND(S32,1)<ROUND(T32,1),3,0))) -> 1
U33: =IF(ROUND(S33,1)=ROUND(T33,1),1,IF(ROUND(S33,1)>ROUND(U31,1),2,IF(ROUND(S33,1)<ROUND(T33,1),3,0))) -> 1
U34: =IF(ROUND(S34,1)=ROUND(T34,1),1,IF(ROUND(S34,1)>ROUND(U32,1),2,IF(ROUND(S34,1)<ROUND(T34,1),3,0))) -> 1
U35: =IF(ROUND(S35,1)=ROUND(T35,1),1,IF(ROUND(S35,1)>ROUND(U33,1),2,IF(ROUND(S35,1)<ROUND(T35,1),3,0))) -> 1
U36: =IF(ROUND(S36,1)=ROUND(T36,1),1,IF(ROUND(S36,1)>ROUND(U34,1),2,IF(ROUND(S36,1)<ROUND(T36,1),3,0))) -> 1
U37: =IF(ROUND(S37,1)=ROUND(T37,1),1,IF(ROUND(S37,1)>ROUND(U35,1),2,IF(ROUND(S37,1)<ROUND(T37,1),3,0))) -> 1

Sheet SO w Gdańsku
H12: =TRUNC(RIGHT(E12,1)) -> #VALUE! | I12: =TRUNC(LEFT(E12,4)) -> #VALUE! | J12: =IF(H12=4,CONCATENATE("w ",I12,"r."),IF(H12=2,CONCATENATE("w I półroczu ",I12,"r."),IF(H12=1,CONCATENATE("w I kwartale ",I12,"r."),CONCATENATE("za III kwartały ",I12,"r.")))) -> #VALUE!
E15: =CONCATENATE("EWIDENCJA SPRAW Z WYKAZU S W SĄDACH OKRĘGOWYCH ",Ustawienia!I8, " - ",UPPER(Ewidencja!F74)) -> EWIDENCJA SPRAW Z WYKAZU S W SĄDACH OKRĘGOWYCH ZA III KWARTAŁY 2014 r. - SO W GDAŃSKU
E17: Wyszczególnienie | F17: Wpłynęło | G17: Załatwiono | M17: Pozostało | Q17: Ogólna kwota zasądzonych odszkodowań (PLN)
G19: ogółem | H19: w tym | M19: ogółem | N19: w tym od wpływu
H20: uwzględniono w całości lub części | J20: oddalono | K20: odrzucono | L20: w inny sposób | N20: do 2 mies. | O20: pow. 2 do 4 mies. | P20: ponad 4 mies.
H21: razem | I21: przez zarządzenie kwoty pieniężnej
E22: 0 | F22: 1 | G22: 2 | H22: 3 | I22: 4 | J22: 5 | K22: 6 | L22: 7 | M22: 8 | N22: 9 | O22: 10 | P22: 11 | Q22: 12
E24: Table
E26: =Ewidencja!G56 -> Ogółem spraw | F26: =Ewidencja!H74 -> 2933 | G26: =Ewidencja!I74 -> 2965 | H26: =Ewidencja!J74 -> 68 | I26: =Ewidencja!K74 -> 68 | J26: =Ewidencja!L74 -> 148 | K26: =Ewidencja!M74 -> 2101 | L26: =Ewidencja!N74 -> 648 | M26: =Ewidencja!O74 -> 212 | ... Q26: =Ewidencja!S74 -> 245500
E27: =Ewidencja!G57 -> Karnych i wykroczeniowych | F27: =Ewidencja!H75 -> 168 | G27: =Ewidencja!I75 -> 141 | H27: =Ewidencja!J75 -> 9 | I27: =Ewidencja!K75 -> 9 | J27: =Ewidencja!L75 -> 32 | K27: =Ewidencja!M75 -> 27 | L27: =Ewidencja!N75 -> 73 | M27: =Ewidencja!O75 -> 30 | ... Q27: =Ewidencja!S75 -> 37000 | U27: =IF(ROUND(S27,1)=ROUND(T27,1),1,IF(ROUND(S27,1)>ROUND(U25,1),2,IF(ROUND(S27,1)<ROUND(T27,1),3,0))) -> 1
E28: =Ewidencja!G58 -> Cywilnych | F28: =Ewidencja!H76 -> 2737 | G28: =Ewidencja!I76 -> 2793 | H28: =Ewidencja!J76 -> 51 | I28: =Ewidencja!K76 -> 51 | J28: =Ewidencja!L76 -> 105 | K28: =Ewidencja!M76 -> 2063 | L28: =Ewidencja!N76 -> 574 | M28: =Ewidencja!O76 -> 180 | ... Q28: =Ewidencja!S76 -> 190500 | U28: =IF(ROUND(S28,1)=ROUND(T28,1),1,IF(ROUND(S28,1)>ROUND(U26,1),2,IF(ROUND(S28,1)<ROUND(T28,1),3,0))) -> 1
E29: =Ewidencja!G59 -> Ubezpieczeniowych | F29: =Ewidencja!H77 -> 1 | G29: =Ewidencja!I77 -> 1 | H29: =Ewidencja!J77 -> 0 | I29: =Ewidencja!K77 -> 0 | J29: =Ewidencja!L77 -> 1 | K29: =Ewidencja!M77 -> 0 | L29: =Ewidencja!N77 -> 0 | M29: =Ewidencja!O77 -> 0 | ... Q29: =Ewidencja!S77 -> 0 | U29: =IF(ROUND(S29,1)=ROUND(T29,1),1,IF(ROUND(S29,1)>ROUND(U27,1),2,IF(ROUND(S29,1)<ROUND(T29,1),3,0))) -> 1
E30: =Ewidencja!G60 -> Pracy | F30: =Ewidencja!H78 -> 4 | G30: =Ewidencja!I78 -> 5 | H30: =Ewidencja!J78 -> 0 | I30: =Ewidencja!K78 -> 0 | J30: =Ewidencja!L78 -> 4 | K30: =Ewidencja!M78 -> 1 | L30: =Ewidencja!N78 -> 0 | M30: =Ewidencja!O78 -> 1 | ... Q30: =Ewidencja!S78 -> 0 | U30: =IF(ROUND(S30,1)=ROUND(T30,1),1,IF(ROUND(S30,1)>ROUND(U28,1),2,IF(ROUND(S30,1)<ROUND(T30,1),3,0))) -> 1
E31: =Ewidencja!G61 -> Gospodarczych | F31: =Ewidencja!H79 -> 23 | G31: =Ewidencja!I79 -> 25 | H31: =Ewidencja!J79 -> 8 | I31: =Ewidencja!K79 -> 8 | J31: =Ewidencja!L79 -> 6 | K31: =Ewidencja!M79 -> 10 | L31: =Ewidencja!N79 -> 1 | M31: =Ewidencja!O79 -> 1 | ... Q31: =Ewidencja!S79 -> 18000 | U31: =IF(ROUND(S31,1)=ROUND(T31,1),1,IF(ROUND(S31,1)>ROUND(U29,1),2,IF(ROUND(S31,1)<ROUND(T31,1),3,0))) -> 1
U32: =IF(ROUND(S32,1)=ROUND(T32,1),1,IF(ROUND(S32,1)>ROUND(U30,1),2,IF(ROUND(S32,1)<ROUND(T32,1),3,0))) -> 1
U33: =IF(ROUND(S33,1)=ROUND(T33,1),1,IF(ROUND(S33,1)>ROUND(U31,1),2,IF(ROUND(S33,1)<ROUND(T33,1),3,0))) -> 1
U34: =IF(ROUND(S34,1)=ROUND(T34,1),1,IF(ROUND(S34,1)>ROUND(U32,1),2,IF(ROUND(S34,1)<ROUND(T34,1),3,0))) -> 1
U35: =IF(ROUND(S35,1)=ROUND(T35,1),1,IF(ROUND(S35,1)>ROUND(U33,1),2,IF(ROUND(S35,1)<ROUND(T35,1),3,0))) -> 1
U36: =IF(ROUND(S36,1)=ROUND(T36,1),1,IF(ROUND(S36,1)>ROUND(U34,1),2,IF(ROUND(S36,1)<ROUND(T36,1),3,0))) -> 1
U37: =IF(ROUND(S37,1)=ROUND(T37,1),1,IF(ROUND(S37,1)>ROUND(U35,1),2,IF(ROUND(S37,1)<ROUND(T37,1),3,0))) -> 1

Sheet SO w Słupsku
H12: =TRUNC(RIGHT(E12,1)) -> #VALUE! | I12: =TRUNC(LEFT(E12,4)) -> #VALUE! | J12: =IF(H12=4,CONCATENATE("w ",I12,"r."),IF(H12=2,CONCATENATE("w I półroczu ",I12,"r."),IF(H12=1,CONCATENATE("w I kwartale ",I12,"r."),CONCATENATE("za III kwartały ",I12,"r.")))) -> #VALUE!
E15: =CONCATENATE("EWIDENCJA SPRAW Z WYKAZU S W SĄDACH OKRĘGOWYCH ",Ustawienia!I8, " - ",UPPER(Ewidencja!F80)) -> EWIDENCJA SPRAW Z WYKAZU S W SĄDACH OKRĘGOWYCH ZA III KWARTAŁY 2014 r. - SO W SŁUPSKU
E17: Wyszczególnienie | F17: Wpłynęło | G17: Załatwiono | M17: Pozostało | Q17: Ogólna kwota zasądzonych odszkodowań (PLN)
G19: ogółem | H19: w tym | M19: ogółem | N19: w tym od wpływu
H20: uwzględniono w całości lub części | J20: oddalono | K20: odrzucono | L20: w inny sposób | N20: do 2 mies. | O20: pow. 2 do 4 mies. | P20: ponad 4 mies.
H21: razem | I21: przez zarządzenie kwoty pieniężnej
E22: 0 | F22: 1 | G22: 2 | H22: 3 | I22: 4 | J22: 5 | K22: 6 | L22: 7 | M22: 8 | N22: 9 | O22: 10 | P22: 11 | Q22: 12
E24: Table
E26: =Ewidencja!G56 -> Ogółem spraw | F26: =Ewidencja!H80 -> 193 | G26: =Ewidencja!I80 -> 187 | H26: =Ewidencja!J80 -> 16 | I26: =Ewidencja!K80 -> 15 | J26: =Ewidencja!L80 -> 26 | K26: =Ewidencja!M80 -> 128 | L26: =Ewidencja!N80 -> 17 | M26: =Ewidencja!O80 -> 12 | ... Q26: =Ewidencja!S80 -> 39000
E27: =Ewidencja!G57 -> Karnych i wykroczeniowych | F27: =Ewidencja!H81 -> 26 | G27: =Ewidencja!I81 -> 24 | H27: =Ewidencja!J81 -> 3 | I27: =Ewidencja!K81 -> 3 | J27: =Ewidencja!L81 -> 9 | K27: =Ewidencja!M81 -> 0 | L27: =Ewidencja!N81 -> 12 | M27: =Ewidencja!O81 -> 2 | ... Q27: =Ewidencja!S81 -> 6000 | U27: =IF(ROUND(S27,1)=ROUND(T27,1),1,IF(ROUND(S27,1)>ROUND(U25,1),2,IF(ROUND(S27,1)<ROUND(T27,1),3,0))) -> 1
E28: =Ewidencja!G58 -> Cywilnych | F28: =Ewidencja!H82 -> 167 | G28: =Ewidencja!I82 -> 163 | H28: =Ewidencja!J82 -> 13 | I28: =Ewidencja!K82 -> 12 | J28: =Ewidencja!L82 -> 17 | K28: =Ewidencja!M82 -> 128 | L28: =Ewidencja!N82 -> 5 | M28: =Ewidencja!O82 -> 10 | ... Q28: =Ewidencja!S82 -> 33000 | U28: =IF(ROUND(S28,1)=ROUND(T28,1),1,IF(ROUND(S28,1)>ROUND(U26,1),2,IF(ROUND(S28,1)<ROUND(T28,1),3,0))) -> 1
E29: =Ewidencja!G59 -> Ubezpieczeniowych | F29: =Ewidencja!H83 -> 0 | G29: =Ewidencja!I83 -> 0 | H29: =Ewidencja!J83 -> 0 | I29: =Ewidencja!K83 -> 0 | J29: =Ewidencja!L83 -> 0 | K29: =Ewidencja!M83 -> 0 | L29: =Ewidencja!N83 -> 0 | M29: =Ewidencja!O83 -> 0 | ... Q29: =Ewidencja!S83 -> 0 | U29: =IF(ROUND(S29,1)=ROUND(T29,1),1,IF(ROUND(S29,1)>ROUND(U27,1),2,IF(ROUND(S29,1)<ROUND(T29,1),3,0))) -> 1
E30: =Ewidencja!G60 -> Pracy | F30: =Ewidencja!H84 -> 0 | G30: =Ewidencja!I84 -> 0 | H30: =Ewidencja!J84 -> 0 | I30: =Ewidencja!K84 -> 0 | J30: =Ewidencja!L84 -> 0 | K30: =Ewidencja!M84 -> 0 | L30: =Ewidencja!N84 -> 0 | M30: =Ewidencja!O84 -> 0 | ... Q30: =Ewidencja!S84 -> 0 | U30: =IF(ROUND(S30,1)=ROUND(T30,1),1,IF(ROUND(S30,1)>ROUND(U28,1),2,IF(ROUND(S30,1)<ROUND(T30,1),3,0))) -> 1
E31: =Ewidencja!G61 -> Gospodarczych | F31: =Ewidencja!H85 -> 0 | G31: =Ewidencja!I85 -> 0 | H31: =Ewidencja!J85 -> 0 | I31: =Ewidencja!K85 -> 0 | J31: =Ewidencja!L85 -> 0 | K31: =Ewidencja!M85 -> 0 | L31: =Ewidencja!N85 -> 0 | M31: =Ewidencja!O85 -> 0 | ... Q31: =Ewidencja!S85 -> 0 | U31: =IF(ROUND(S31,1)=ROUND(T31,1),1,IF(ROUND(S31,1)>ROUND(U29,1),2,IF(ROUND(S31,1)<ROUND(T31,1),3,0))) -> 1
U32: =IF(ROUND(S32,1)=ROUND(T32,1),1,IF(ROUND(S32,1)>ROUND(U30,1),2,IF(ROUND(S32,1)<ROUND(T32,1),3,0))) -> 1
U33: =IF(ROUND(S33,1)=ROUND(T33,1),1,IF(ROUND(S33,1)>ROUND(U31,1),2,IF(ROUND(S33,1)<ROUND(T33,1),3,0))) -> 1
U34: =IF(ROUND(S34,1)=ROUND(T34,1),1,IF(ROUND(S34,1)>ROUND(U32,1),2,IF(ROUND(S34,1)<ROUND(T34,1),3,0))) -> 1
U35: =IF(ROUND(S35,1)=ROUND(T35,1),1,IF(ROUND(S35,1)>ROUND(U33,1),2,IF(ROUND(S35,1)<ROUND(T35,1),3,0))) -> 1
U36: =IF(ROUND(S36,1)=ROUND(T36,1),1,IF(ROUND(S36,1)>ROUND(U34,1),2,IF(ROUND(S36,1)<ROUND(T36,1),3,0))) -> 1
U37: =IF(ROUND(S37,1)=ROUND(T37,1),1,IF(ROUND(S37,1)>ROUND(U35,1),2,IF(ROUND(S37,1)<ROUND(T37,1),3,0))) -> 1

Sheet SO w Toruniu
H12: =TRUNC(RIGHT(E12,1)) -> #VALUE! | I12: =TRUNC(LEFT(E12,4)) -> #VALUE! | J12: =IF(H12=4,CONCATENATE("w ",I12,"r."),IF(H12=2,CONCATENATE("w I półroczu ",I12,"r."),IF(H12=1,CONCATENATE("w I kwartale ",I12,"r."),CONCATENATE("za III kwartały ",I12,"r.")))) -> #VALUE!
E15: =CONCATENATE("EWIDENCJA SPRAW Z WYKAZU S W SĄDACH OKRĘGOWYCH ",Ustawienia!I8, " - ",UPPER(Ewidencja!F86)) -> EWIDENCJA SPRAW Z WYKAZU S W SĄDACH OKRĘGOWYCH ZA III KWARTAŁY 2014 r. - SO W TORUNIU
E17: Wyszczególnienie | F17: Wpłynęło | G17: Załatwiono | M17: Pozostało | Q17: Ogólna kwota zasądzonych odszkodowań (PLN)
G19: ogółem | H19: w tym | M19: ogółem | N19: w tym od wpływu
