Workbook
Name DF_GRID_1: Ewidencja!$E$25:$S$367
Name DF_GRID_2: Ewidencja SO w [1]Ostrołęce!$E$26:$Q$32
Name DF_GRID_2: Ewidencja SO w [1]Ostrołęce!$E$26:$Q$32
Name DF_GRID_2: Ewidencja SO w [1]Ostrołęce!$E$26:$Q$32
Name DF_GRID_2: Ewidencja SO w [1]Ostrołęce!$E$26:$Q$32
Name DF_GRID_2: Ewidencja SO w [1]Ostrołęce!$E$26:$Q$32
Name DF_GRID_2: Ewidencja SO w [1]Ostrołęce!$E$26:$Q$32
Name DF_GRID_2: Ewidencja SO w [1]Ostrołęce!$E$26:$Q$32
Name DF_GRID_2: Ewidencja SO w [1]Ostrołęce!$E$26:$Q$32
Name DF_GRID_2: Ewidencja SO w [1]Ostrołęce!$E$26:$Q$32
Name DF_GRID_2: Ewidencja SO w [1]Ostrołęce!$E$26:$Q$32
Name DF_GRID_2: Ewidencja SO w [1]Ostrołęce!$E$26:$Q$32
Name DF_GRID_2: Ewidencja SO w [1]Ostrołęce!$E$26:$Q$32
Name DF_GRID_2: Ewidencja SO w [1]Ostrołęce!$E$26:$Q$32
Name DF_GRID_2: Ewidencja SO w [1]Ostrołęce!$E$26:$Q$32
Name DF_GRID_2: Ewidencja SO w [1]Ostrołęce!$E$26:$Q$32
Name DF_GRID_2: Ewidencja SO w [1]Ostrołęce!$E$26:$Q$32
Name DF_GRID_2: Ewidencja SO w [1]Ostrołęce!$E$26:$Q$32
Name DF_GRID_2: Ewidencja SO w [1]Ostrołęce!$E$26:$Q$32
Name DF_GRID_2: Ewidencja SO w [1]Ostrołęce!$E$26:$Q$32
Name DF_GRID_2: Ewidencja SO w [1]Ostrołęce!$E$26:$Q$32
Name DF_GRID_2: Ewidencja SO w [1]Ostrołęce!$E$26:$Q$32
Name DF_GRID_2: Ewidencja SO w [1]Ostrołęce!$E$26:$Q$32
Name DF_GRID_2: Ewidencja SO w [1]Ostrołęce!$E$26:$Q$32
Name DF_GRID_2: Ewidencja SO w [1]Ostrołęce!$E$26:$Q$32
Name DF_GRID_2: Ewidencja SO w [1]Ostrołęce!$E$26:$Q$32
Name DF_GRID_2: Ewidencja SO w [1]Ostrołęce!$E$26:$Q$32
Name DF_GRID_2: Ewidencja SO w [1]Ostrołęce!$E$26:$Q$32
Name DF_GRID_2: Ewidencja SO w [1]Ostrołęce!$E$26:$Q$32
Name DF_GRID_2: Ewidencja SO w [1]Ostrołęce!$E$26:$Q$32
Name DF_GRID_2: Ewidencja SO w [1]Ostrołęce!$E$26:$Q$32
Name DF_GRID_2: Ewidencja SO w [1]Ostrołęce!$E$26:$Q$32
Name DF_GRID_2: Ewidencja SO w [1]Ostrołęce!$E$26:$Q$32
Name DF_GRID_2: Ewidencja SO w [1]Ostrołęce!$E$26:$Q$32
Name DF_GRID_2: Ewidencja SO w [1]Ostrołęce!$E$26:$Q$32
Name DF_GRID_2: Ewidencja SO w [1]Ostrołęce!$E$26:$Q$32
Name DF_GRID_2: Ewidencja SO w [1]Ostrołęce!$E$26:$Q$32
Name DF_GRID_2: Ewidencja SO w [1]Ostrołęce!$E$26:$Q$32
Name DF_GRID_2: Ewidencja SO w [1]Ostrołęce!$E$26:$Q$32
Name DF_GRID_2: Ewidencja SO w [1]Ostrołęce!$E$26:$Q$32
Name DF_GRID_2: Ewidencja SO w [1]Ostrołęce!$E$26:$Q$32
Name DF_GRID_2: Ewidencja SO w [1]Ostrołęce!$E$26:$Q$32
Name DF_GRID_2: Ewidencja SO w [1]Ostrołęce!$E$26:$Q$32
Name DF_GRID_2: Ewidencja SO w [1]Ostrołęce!$E$26:$Q$32
Name DF_GRID_2: Ewidencja SO w [1]Ostrołęce!$E$26:$Q$32
Name DF_GRID_2: Ewidencja SO w [1]Ostrołęce!$E$26:$Q$32
Name DF_GRID_2: Ewidencja SO w [1]Ostrołęce!$E$26:$Q$32
Name DF_GRID_2: Ewidencja SO w [1]Ostrołęce!$E$26:$Q$32
Name DF_GRID_2: Ewidencja SO w [1]Ostrołęce!$E$26:$Q$32
Name DF_GRID_2: Ewidencja SO w [1]Ostrołęce!$E$26:$Q$32
Name DF_GRID_2: Ewidencja SO w [1]Ostrołęce!$E$26:$Q$32
Name DF_GRID_2: Ewidencja SO w [1]Ostrołęce!$E$26:$Q$32
Name DF_GRID_2: Ewidencja SO w [1]Ostrołęce!$E$26:$Q$32
Name DF_GRID_2: Ewidencja SO w [1]Ostrołęce!$E$26:$Q$32
Name DF_GRID_2: Ewidencja SO w [1]Ostrołęce!$E$26:$Q$32
Name DF_GRID_2: Ewidencja SO w [1]Ostrołęce!$E$26:$Q$32
Name DF_GRID_2: Ewidencja SO w [1]Ostrołęce!$E$26:$Q$32
Name DF_GRID_2: Ewidencja SO w [1]Ostrołęce!$E$26:$Q$32
Name DF_GRID_2: Ewidencja SO w [1]Ostrołęce!$E$26:$Q$32

Sheet BExRepositorySheet
A1: 7

Sheet Ewidencja
E1: ST_XIV Ewid. spr. z wyk. S w SO [20134]
E4: Autor | F4: AWEPA
E6: Ostatnio zmienione przez | F6: PROCAG01M
E8: Godzina zmiany | F8: 2014-10-21 10:00:50
E10: Tech. Nazwa zapytania | F10: S_ST_M001_ST_XIV_001
E12: 20143 | F12: 01, 02, 07, 12, 16, 19, 21, 28, 30, 36, 42 | H12: =TRUNC(RIGHT(E12,1)) -> 3 | I12: =TRUNC(LEFT(E12,4)) -> 2014 | J12: =IF(H12=4,CONCATENATE("w ",I12,"r."),IF(H12=2,CONCATENATE("w I półroczu ",I12,"r."),IF(H12=1,CONCATENATE("w I kwartale ",I12,"r."),CONCATENATE("za III kwartały ",I12,"r.")))) -> za III kwartały 2014r.
E15: =CONCATENATE("TABL. ST XIV EWIDENCJA SPRAW Z WYKAZU S W SĄDACH OKRĘGOWYCH ",Ustawienia!I8,) -> TABL. ST XIV EWIDENCJA SPRAW Z WYKAZU S W SĄDACH OKRĘGOWYCH ZA III KWARTAŁY 2014 r.
E17: Apelacja | F17: Sąd | G17: Wyszczególnienie | H17: Wpłynęło | I17: Załatwiono | O17: Pozostało | S17: Ogólna kwota zasądzonych odszkodowań (PLN)
I19: ogółem | J19: w tym | O19: ogółem | P19: w tym od wpływu
J20: uwzględniono w całości lub części | L20: oddalono | M20: odrzucono | N20: w inny sposób | P20: do 2 mies. | Q20: pow. 2 do 4 mies. | R20: ponad 4 mies.
J21: razem | K21: przez zarządzenie kwoty pieniężnej
G22: 0 | H22: 1 | I22: 2 | J22: 3 | K22: 4 | L22: 5 | M22: 6 | N22: 7 | O22: 8 | P22: 9 | Q22: 10 | R22: 11 | S22: 12
E24: Table
E25: Apelacja | F25: Sąd | H25: W2011 | I25: Z2011razem | J25: razem | K25: przez.zarz.kwot.pien. | L25: oddalono | M25: odrzucono | N25: w inny sposob | O25: P2011 | P25: do 2 mies. | Q25: pow 2 do 4 mies. | R25: ponad 4 mies. | S25: Ogol.kw.zarz.odszk.(w.zl)
E26: Apelacja Białostocka | F26: SO w Białymstoku | G26: Ogółem spraw | H26: 136 | I26: 132 | J26: 5 | K26: 5 | L26: 10 | M26: 113 | N26: 4 | O26: 7 | P26: 7 | Q26: 0 | R26: 0 | S26: 12000
G27: Karnych i wykroczeniowych | H27: 80 | I27: 80 | J27: 1 | K27: 1 | L27: 3 | M27: 75 | N27: 1 | O27: 2 | P27: 2 | Q27: 0 | R27: 0 | S27: 2000 | U27: =IF(ROUND(S27,1)=ROUND(T27,1),1,IF(ROUND(S27,1)>ROUND(U25,1),2,IF(ROUND(S27,1)<ROUND(T27,1),3,0))) -> 2
G28: Cywilnych | H28: 50 | I28: 47 | J28: 3 | K28: 3 | L28: 5 | M28: 36 | N28: 3 | O28: 4 | P28: 4 | Q28: 0 | R28: 0 | S28: 10000 | U28: =IF(ROUND(S28,1)=ROUND(T28,1),1,IF(ROUND(S28,1)>ROUND(U26,1),2,IF(ROUND(S28,1)<ROUND(T28,1),3,0))) -> 2
G29: Ubezpieczeniowych | H29: 0 | I29: 0 | J29: 0 | K29: 0 | L29: 0 | M29: 0 | N29: 0 | O29: 0 | P29: 0 | Q29: 0 | R29: 0 | S29: 0 | U29: =IF(ROUND(S29,1)=ROUND(T29,1),1,IF(ROUND(S29,1)>ROUND(U27,1),2,IF(ROUND(S29,1)<ROUND(T29,1),3,0))) -> 1
G30: Pracy | H30: 0 | I30: 0 | J30: 0 | K30: 0 | L30: 0 | M30: 0 | N30: 0 | O30: 0 | P30: 0 | Q30: 0 | R30: 0 | S30: 0 | U30: =IF(ROUND(S30,1)=ROUND(T30,1),1,IF(ROUND(S30,1)>ROUND(U28,1),2,IF(ROUND(S30,1)<ROUND(T30,1),3,0))) -> 1
G31: Gospodarczych | H31: 6 | I31: 5 | J31: 1 | K31: 1 | L31: 2 | M31: 2 | N31: 0 | O31: 1 | P31: 1 | Q31: 0 | R31: 0 | S31: 0 | U31: =IF(ROUND(S31,1)=ROUND(T31,1),1,IF(ROUND(S31,1)>ROUND(U29,1),2,IF(ROUND(S31,1)<ROUND(T31,1),3,0))) -> 1
F32: SO w Łomży | G32: Ogółem spraw | H32: 24 | I32: 24 | J32: 0 | K32: 0 | L32: 3 | M32: 16 | N32: 5 | O32: 0 | P32: 0 | Q32: 0 | R32: 0 | S32: 0 | U32: =IF(ROUND(S32,1)=ROUND(T32,1),1,IF(ROUND(S32,1)>ROUND(U30,1),2,IF(ROUND(S32,1)<ROUND(T32,1),3,0))) -> 1
G33: Karnych i wykroczeniowych | H33: 21 | I33: 21 | J33: 0 | K33: 0 | L33: 0 | M33: 16 | N33: 5 | O33: 0 | P33: 0 | Q33: 0 | R33: 0 | S33: 0 | U33: =IF(ROUND(S33,1)=ROUND(T33,1),1,IF(ROUND(S33,1)>ROUND(U31,1),2,IF(ROUND(S33,1)<ROUND(T33,1),3,0))) -> 1
G34: Cywilnych | H34: 3 | I34: 3 | J34: 0 | K34: 0 | L34: 3 | M34: 0 | N34: 0 | O34: 0 | P34: 0 | Q34: 0 | R34: 0 | S34: 0 | U34: =IF(ROUND(S34,1)=ROUND(T34,1),1,IF(ROUND(S34,1)>ROUND(U32,1),2,IF(ROUND(S34,1)<ROUND(T34,1),3,0))) -> 1
G35: Ubezpieczeniowych | U35: =IF(ROUND(S35,1)=ROUND(T35,1),1,IF(ROUND(S35,1)>ROUND(U33,1),2,IF(ROUND(S35,1)<ROUND(T35,1),3,0))) -> 1
G36: Pracy | U36: =IF(ROUND(S36,1)=ROUND(T36,1),1,IF(ROUND(S36,1)>ROUND(U34,1),2,IF(ROUND(S36,1)<ROUND(T36,1),3,0))) -> 1
G37: Gospodarczych | U37: =IF(ROUND(S37,1)=ROUND(T37,1),1,IF(ROUND(S37,1)>ROUND(U35,1),2,IF(ROUND(S37,1)<ROUND(T37,1),3,0))) -> 1
F38: SO w Olsztynie | G38: Ogółem spraw | H38: 106 | I38: 104 | J38: 15 | K38: 15 | L38: 44 | M38: 17 | N38: 28 | O38: 8 | P38: 8 | Q38: 0 | R38: 0 | S38: 48500
G39: Karnych i wykroczeniowych | H39: 60 | I39: 59 | J39: 3 | K39: 3 | L39: 28 | M39: 5 | N39: 23 | O39: 1 | P39: 1 | Q39: 0 | R39: 0 | S39: 11000
G40: Cywilnych | H40: 41 | I40: 42 | J40: 10 | K40: 10 | L40: 15 | M40: 12 | N40: 5 | O40: 5 | P40: 5 | Q40: 0 | R40: 0 | S40: 33500
G41: Ubezpieczeniowych | H41: 0 | I41: 0 | J41: 0 | K41: 0 | L41: 0 | M41: 0 | N41: 0 | O41: 0 | P41: 0 | Q41: 0 | R41: 0 | S41: 0
G42: Pracy
G43: Gospodarczych | H43: 5 | I43: 3 | J43: 2 | K43: 2 | L43: 1 | M43: 0 | N43: 0 | O43: 2 | P43: 2 | Q43: 0 | R43: 0 | S43: 4000
F44: SO w Ostrołęce | G44: Ogółem spraw | H44: 36 | I44: 40 | J44: 11 | K44: 11 | L44: 15 | M44: 7 | N44: 7 | O44: 2 | P44: 2 | Q44: 0 | R44: 0 | S44: 70100
G45: Karnych i wykroczeniowych | H45: 19 | I45: 21 | J45: 1 | K45: 1 | L45: 13 | M45: 1 | N45: 6 | O45: 1 | P45: 1 | Q45: 0 | R45: 0 | S45: 2000
G46: Cywilnych | H46: 16 | I46: 19 | J46: 10 | K46: 10 | L46: 2 | M46: 6 | N46: 1 | O46: 0 | P46: 0 | Q46: 0 | R46: 0 | S46: 68100
G47: Ubezpieczeniowych | H47: 0 | I47: 0 | J47: 0 | K47: 0 | L47: 0 | M47: 0 | N47: 0 | O47: 0 | P47: 0 | Q47: 0 | R47: 0 | S47: 0
G48: Pracy | H48: 1 | I48: 0 | J48: 0 | K48: 0 | L48: 0 | M48: 0 | N48: 0 | O48: 1 | P48: 1 | Q48: 0 | R48: 0 | S48: 0
G49: Gospodarczych
F50: SO w Suwałkach | G50: Ogółem spraw | H50: 67 | I50: 66 | J50: 3 | K50: 3 | L50: 11 | M50: 50 | N50: 2 | O50: 4 | P50: 3 | Q50: 1 | R50: 0 | S50: 8000
G51: Karnych i wykroczeniowych | H51: 10 | I51: 11 | J51: 2 | K51: 2 | L51: 7 | M51: 0 | N51: 2 | O51: 0 | P51: 0 | Q51: 0 | R51: 0 | S51: 6000
G52: Cywilnych | H52: 57 | I52: 55 | J52: 1 | K52: 1 | L52: 4 | M52: 50 | N52: 0 | O52: 4 | P52: 3 | Q52: 1 | R52: 0 | S52: 2000
G53: Ubezpieczeniowych | H53: 0 | I53: 0 | J53: 0 | K53: 0 | L53: 0 | M53: 0 | N53: 0 | O53: 0 | P53: 0 | Q53: 0 | R53: 0 | S53: 0
G54: Pracy
G55: Gospodarczych
F56: Wynik | G56: Ogółem spraw | H56: 369 | I56: 366 | J56: 34 | K56: 34 | L56: 83 | M56: 203 | N56: 46 | O56: 21 | P56: 20 | Q56: 1 | R56: 0 | S56: 138600
G57: Karnych i wykroczeniowych | H57: 190 | I57: 192 | J57: 7 | K57: 7 | L57: 51 | M57: 97 | N57: 37 | O57: 4 | P57: 4 | Q57: 0 | R57: 0 | S57: 21000
G58: Cywilnych | H58: 167 | I58: 166 | J58: 24 | K58: 24 | L58: 29 | M58: 104 | N58: 9 | O58: 13 | P58: 12 | Q58: 1 | R58: 0 | S58: 113600
G59: Ubezpieczeniowych | H59: 0 | I59: 0 | J59: 0 | K59: 0 | L59: 0 | M59: 0 | N59: 0 | O59: 0 | P59: 0 | Q59: 0 | R59: 0 | S59: 0
G60: Pracy | H60: 1 | I60: 0 | J60: 0 | K60: 0 | L60: 0 | M60: 0 | N60: 0 | O60: 1 | P60: 1 | Q60: 0 | R60: 0 | S60: 0
G61: Gospodarczych | H61: 11 | I61: 8 | J61: 3 | K61: 3 | L61: 3 | M61: 2 | N61: 0 | O61: 3 | P61: 3 | Q61: 0 | R61: 0 | S61: 4000
E62: Apelacja Gdańska | F62: SO w Bydgoszczy | G62: Ogółem spraw | H62: 125 | I62: 117 | J62: 10 | K62: 9 | L62: 60 | M62: 32 | N62: 15 | O62: 16 | P62: 15 | Q62: 1 | R62: 0 | S62: 25000
G63: Karnych i wykroczeniowych | H63: 42 | I63: 36 | J63: 1 | K63: 1 | L63: 20 | M63: 1 | N63: 14 | O63: 8 | P63: 7 | Q63: 1 | R63: 0 | S63: 2000
G64: Cywilnych | H64: 82 | I64: 81 | J64: 9 | K64: 8 | L64: 40 | M64: 31 | N64: 1 | O64: 7 | P64: 7 | Q64: 0 | R64: 0 | S64: 23000
G65: Ubezpieczeniowych | H65: 0 | I65: 0 | J65: 0 | K65: 0 | L65: 0 | M65: 0 | N65: 0 | O65: 0 | P65: 0 | Q65: 0 | R65: 0 | S65: 0
G66: Pracy | H66: 0 | I66: 0 | J66: 0 | K66: 0 | L66: 0 | M66: 0 | N66: 0 | O66: 0 | P66: 0 | Q66: 0 | R66: 0 | S66: 0
G67: Gospodarczych | H67: 1 | I67: 0 | J67: 0 | K67: 0 | L67: 0 | M67: 0 | N67: 0 | O67: 1 | P67: 1 | Q67: 0 | R67: 0 | S67: 0
F68: SO w Elblągu | G68: Ogółem spraw | H68: 428 | I68: 430 | J68: 6 | K68: 6 | L68: 33 | M68: 388 | N68: 3 | O68: 4 | P68: 3 | Q68: 0 | R68: 1 | S68: 15000
G69: Karnych i wykroczeniowych | H69: 31 | I69: 30 | J69: 2 | K69: 2 | L69: 28 | M69: 0 | N69: 0 | O69: 1 | P69: 1 | Q69: 0 | R69: 0 | S69: 4000
G70: Cywilnych | H70: 397 | I70: 398 | J70: 4 | K70: 4 | L70: 3 | M70: 388 | N70: 3 | O70: 3 | P70: 2 | Q70: 0 | R70: 1 | S70: 11000
G71: Ubezpieczeniowych | H71: 0 | I71: 2 | J71: 0 | K71: 0 | L71: 2 | M71: 0 | N71: 0 | O71: 0 | P71: 0 | Q71: 0 | R71: 0 | S71: 0
G72: Pracy
G73: Gospodarczych
F74: SO w Gdańsku | G74: Ogółem spraw | H74: 2933 | I74: 2965 | J74: 68 | K74: 68 | L74: 148 | M74: 2101 | N74: 648 | O74: 212 | P74: 193 | Q74: 16 | R74: 3 | S74: 245500
G75: Karnych i wykroczeniowych | H75: 168 | I75: 141 | J75: 9 | K75: 9 | L75: 32 | M75: 27 | N75: 73 | O75: 30 | P75: 30 | Q75: 0 | R75: 0 | S75: 37000
G76: Cywilnych | H76: 2737 | I76: 2793 | J76: 51 | K76: 51 | L76: 105 | M76: 2063 | N76: 574 | O76: 180 | P76: 161 | Q76: 16 | R76: 3 | S76: 190500
G77: Ubezpieczeniowych | H77: 1 | I77: 1 | J77: 0 | K77: 0 | L77: 1 | M77: 0 | N77: 0 | O77: 0 | P77: 0 | Q77: 0 | R77: 0 | S77: 0
G78: Pracy | H78: 4 | I78: 5 | J78: 0 | K78: 0 | L78: 4 | M78: 1 | N78: 0 | O78: 1 | P78: 1 | Q78: 0 | R78: 0 | S78: 0
G79: Gospodarczych | H79: 23 | I79: 25 | J79: 8 | K79: 8 | L79: 6 | M79: 10 | N79: 1 | O79: 1 | P79: 1 | Q79: 0 | R79: 0 | S79: 18000
F80: SO w Słupsku | G80: Ogółem spraw | H80: 193 | I80: 187 | J80: 16 | K80: 15 | L80: 26 | M80: 128 | N80: 17 | O80: 12 | P80: 11 | Q80: 1 | R80: 0 | S80: 39000
G81: Karnych i wykroczeniowych | H81: 26 | I81: 24 | J81: 3 | K81: 3 | L81: 9 | M81: 0 | N81: 12 | O81: 2 | P81: 2 | Q81: 0 | R81: 0 | S81: 6000
G82: Cywilnych | H82: 167 | I82: 163 | J82: 13 | K82: 12 | L82: 17 | M82: 128 | N82: 5 | O82: 10 | P82: 9 | Q82: 1 | R82: 0 | S82: 33000
G83: Ubezpieczeniowych | H83: 0 | I83: 0 | J83: 0 | K83: 0 | L83: 0 | M83: 0 | N83: 0 | O83: 0 | P83: 0 | Q83: 0 | R83: 0 | S83: 0
G84: Pracy | H84: 0 | I84: 0 | J84: 0 | K84: 0 | L84: 0 | M84: 0 | N84: 0 | O84: 0 | P84: 0 | Q84: 0 | R84: 0 | S84: 0
G85: Gospodarczych
F86: SO w Toruniu | G86: Ogółem spraw | H86: 92 | I86: 82 | J86: 1 | K86: 1 | L86: 18 | M86: 44 | N86: 19 | O86: 13 | P86: 13 | Q86: 0 | R86: 0 | S86: 2000
G87: Karnych i wykroczeniowych | H87: 23 | I87: 18 | J87: 0 | K87: 0 | L87: 7 | M87: 5 | N87: 6 | O87: 5 | P87: 5 | Q87: 0 | R87: 0 | S87: 0
G88: Cywilnych | H88: 69 | I88: 64 | J88: 1 | K88: 1 | L88: 11 | M88: 39 | N88: 13 | O88: 8 | P88: 8 | Q88: 0 | R88: 0 | S88: 2000
G89: Ubezpieczeniowych | H89: 0 | I89: 0 | J89: 0 | K89: 0 | L89: 0 | M89: 0 | N89: 0 | O89: 0 | P89: 0 | Q89: 0 | R89: 0 | S89: 0
G90: Pracy | H90: 0 | I90: 0 | J90: 0 | K90: 0 | L90: 0 | M90: 0 | N90: 0 | O90: 0 | P90: 0 | Q90: 0 | R90: 0 | S90: 0
G91: Gospodarczych | H91: 0 | I91: 0 | J91: 0 | K91: 0 | L91: 0 | M91: 0 | N91: 0 | O91: 0 | P91: 0 | Q91: 0 | R91: 0 | S91: 0
F92: SO we Włocławku | G92: Ogółem spraw | H92: 44 | I92: 42 | J92: 9 | K92: 9 | L92: 17 | M92: 11 | N92: 5 | O92: 9 | P92: 6 | Q92: 3 | R92: 0 | S92: 27000
G93: Karnych i wykroczeniowych | H93: 11 | I93: 10 | J93: 1 | K93: 1 | L93: 6 | M93: 2 | N93: 1 | O93: 2 | P93: 2 | Q93: 0 | R93: 0 | S93: 2000
G94: Cywilnych | H94: 33 | I94: 30 | J94: 8 | K94: 8 | L94: 11 | M94: 8 | N94: 3 | O94: 7 | P94: 4 | Q94: 3 | R94: 0 | S94: 25000
G95: Ubezpieczeniowych | H95: 0 | I95: 0 | J95: 0 | K95: 0 | L95: 0 | M95: 0 | N95: 0 | O95: 0 | P95: 0 | Q95: 0 | R95: 0 | S95: 0
G96: Pracy | H96: 0 | I96: 2 | J96: 0 | K96: 0 | L96: 0 | M96: 1 | N96: 1 | O96: 0 | P96: 0 | Q96: 0 | R96: 0 | S96: 0
G97: Gospodarczych
F98: Wynik | G98: Ogółem spraw | H98: 3815 | I98: 3823 | J98: 110 | K98: 108 | L98: 302 | M98: 2704 | N98: 707 | O98: 266 | P98: 241 | Q98: 21 | R98: 4 | S98: 353500
G99: Karnych i wykroczeniowych | H99: 301 | I99: 259 | J99: 16 | K99: 16 | L99: 102 | M99: 35 | N99: 106 | O99: 48 | P99: 47 | Q99: 1 | R99: 0 | S99: 51000
G100: Cywilnych | H100: 3485 | I100: 3529 | J100: 86 | K100: 84 | L100: 187 | M100: 2657 | N100: 599 | O100: 215 | P100: 191 | Q100: 20 | R100: 4 | S100: 284500
G101: Ubezpieczeniowych | H101: 1 | I101: 3 | J101: 0 | K101: 0 | L101: 3 | M101: 0 | N101: 0 | O101: 0 | P101: 0 | Q101: 0 | R101: 0 | S101: 0
G102: Pracy | H102: 4 | I102: 7 | J102: 0 | K102: 0 | L102: 4 | M102: 2 | N102: 1 | O102: 1 | P102: 1 | Q102: 0 | R102: 0 | S102: 0
G103: Gospodarczych | H103: 24 | I103: 25 | J103: 8 | K103: 8 | L103: 6 | M103: 10 | N103: 1 | O103: 2 | P103: 2 | Q103: 0 | R103: 0 | S103: 18000
E104: Apelacja Katowicka | F104: SO w Bielsku Białej | G104: Ogółem spraw | H104: 97 | I104: 98 | J104: 3 | K104: 3 | L104: 31 | M104: 37 | N104: 27 | O104: 10 | P104: 7 | Q104: 1 | R104: 2 | S104: 6000
G105: Karnych i wykroczeniowych | H105: 44 | I105: 46 | J105: 0 | K105: 0 | L105: 12 | M105: 8 | N105: 26 | O105: 3 | P105: 3 | Q105: 0 | R105: 0 | S105: 0
G106: Cywilnych | H106: 50 | I106: 50 | J106: 2 | K106: 2 | L106: 19 | M106: 28 | N106: 1 | O106: 6 | P106: 3 | Q106: 1 | R106: 2 | S106: 4000
G107: Ubezpieczeniowych | H107: 1 | I107: 0 | J107: 0 | K107: 0 | L107: 0 | M107: 0 | N107: 0 | O107: 1 | P107: 1 | Q107: 0 | R107: 0 | S107: 0
G108: Pracy | H108: 2 | I108: 2 | J108: 1 | K108: 1 | L108: 0 | M108: 1 | N108: 0 | O108: 0 | P108: 0 | Q108: 0 | R108: 0 | S108: 2000
G109: Gospodarczych
F110: SO w Częstochowie | G110: Ogółem spraw | H110: 77 | I110: 81 | J110: 23 | K110: 22 | L110: 13 | M110: 38 | N110: 7 | O110: 5 | P110: 4 | Q110: 1 | R110: 0 | S110: 47000
G111: Karnych i wykroczeniowych | H111: 11 | I111: 11 | J111: 3 | K111: 3 | L111: 2 | M111: 1 | N111: 5 | O111: 1 | P111: 0 | Q111: 1 | R111: 0 | S111: 6000
...

Sheet Graph
G1: FEP8Qry3
G2: Autor | H2: AWEPA | J2: Aktualność danych (godzina) | K2: 16:46:47
F5: Information
F6: Autor | G6: AWEPA | I6: Ostatnie odświeżanie | J6: 2014-10-21 10:01:05
F7: Bieżący użytkownik | G7: PROCAG01M | I7: Dzień | J7: 2014-10-21
F8: Ostatnio zmienione przez | G8: PROCAG01M | I8: Godzina zmiany | J8: 2014-10-21 10:00:50
C9: Apelacja | F9: Dostawca informacji | G9: ST_M001 | I9: Aktualność danych | J9: 2013-04-23 16:46:47
C10: Sąd | F10: Tech. nazwa zapytania | G10: S_ST_M001_ST_XIV_001 | I10: Aktualność danych (data) | J10: 2013-04-23
C11: Strukt. | F11: Opis zapytania | G11: ST_XIV Ewid. spr. z wyk. S w SO [20134] | I11: Aktualność danych (godzina) | J11: 16:46:47
C12: Wskaźniki

Sheet Ustawienia
B3: Zmienna | C3: Kwartał | D3: Rok
B4: 20143 | C4: =TRUNC(RIGHT(B4)) -> 3 | D4: =LEFT(B4,4) -> 2014
B6: Opis raportów | E6: I kw | F6: I p | G6: III kw | H6: rok | I6: Funkcja
E7: ZA I KWARTAŁ | F7: ZA I PÓŁROCZE | G7: ZA III KWARTAŁY | H7: ZA ROK
E8: =CONCATENATE(E7&$D$4&" r.") -> ZA I KWARTAŁ 2014 r. | F8: =CONCATENATE(F7&$D$4&" R.") -> ZA I PÓŁROCZE 2014 R. | G8: =CONCATENATE(G7&$D$4&" r.") -> ZA III KWARTAŁY 2014 r. | H8: =CONCATENATE(H7&$D$4) -> ZA ROK 2014 | I8: =IF($C$4=1,E8,IF($C$4=2,F8,IF($C$4=3,G8,H8))) -> ZA III KWARTAŁY 2014 r.
B10: Opis dla zakładki ewidencja | E10: I kw. | F10: I p. | G10: III kw.
C11: R-2 | D11: =D4-2 -> 2012 | E11: =CONCATENATE(E$10,$D11) -> I kw. 2012 | F11: =CONCATENATE(F$10,$D11) -> I p. 2012 | G11: =CONCATENATE(G$10,$D11) -> III kw. 2012 | H11: =CONCATENATE(H$10,$D11) -> 2012 | I11: =IF($C$4=1,E11,IF($C$4=2,F11,IF($C$4=3,G11,H11))) -> III kw. 2012
C12: R-1 | D12: =D4-1 -> 2013 | E12: =CONCATENATE(E$10,$D12) -> I kw. 2013 | F12: =CONCATENATE(F$10,$D12) -> I p. 2013 | G12: =CONCATENATE(G$10,$D12) -> III kw. 2013 | H12: =CONCATENATE(H$10,$D12) -> 2013 | I12: =IF($C$4=1,E12,IF($C$4=2,F12,IF($C$4=3,G12,H12))) -> III kw. 2013
C13: R | D13: =D4 -> 2014 | E13: =CONCATENATE(E$10,$D13) -> I kw. 2014 | F13: =CONCATENATE(F$10,$D13) -> I p. 2014 | G13: =CONCATENATE(G$10,$D13) -> III kw. 2014 | H13: =CONCATENATE(H$10,$D13) -> 2014 | I13: =IF($C$4=1,E13,IF($C$4=2,F13,IF($C$4=3,G13,H13))) -> III kw. 2014

Sheet POLSKA
E1: ST_XIV Ewid. spr. z wyk. S ogol. w S.O
E4: Autor | F4: PROCAG01M
E6: Ostatnio zmienione przez | F6: PROCAG01M
E8: Godzina zmiany | F8: 2014-10-21 10:00:50
E10: Tech. Nazwa zapytania | F10: S_ST_M001_ST_XIV_001
E12: 20112 | F12: 01, 02, 07, 12, 16, 19, 21, 28, 30, 36, 42 | H12: =TRUNC(RIGHT(E12,1)) -> 2 | I12: =TRUNC(LEFT(E12,4)) -> 2011 | J12: =IF(H12=4,CONCATENATE("w ",I12,"r."),IF(H12=2,CONCATENATE("w I półroczu ",I12,"r."),IF(H12=1,CONCATENATE("w I kwartale ",I12,"r."),CONCATENATE("za III kwartały ",I12,"r.")))) -> w I półroczu 2011r.
E15: =CONCATENATE("EWIDENCJA SPRAW Z WYKAZU S W SĄDACH OKRĘGOWYCH ", UPPER("W POLSCE "),Ustawienia!I8) -> EWIDENCJA SPRAW Z WYKAZU S W SĄDACH OKRĘGOWYCH W POLSCE ZA III KWARTAŁY 2014 r.
E17: Wyszczególnienie | F17: Wpłynęło | G17: Załatwiono | M17: Pozostało | Q17: Ogólna kwota zasądzonych odszkodowań (PLN)
G19: ogółem | H19: w tym | M19: ogółem | N19: w tym od wpływu
H20: uwzględniono w całości lub części | J20: oddalono | K20: odrzucono | L20: w inny sposób | N20: do 2 mies. | O20: pow. 2 do 4 mies. | P20: ponad 4 mies.
H21: razem | I21: w tym przez zasądzenie kwoty pieniężnej
E22: 0 | F22: 1 | G22: 2 | H22: 3 | I22: 4 | J22: 5 | K22: 6 | L22: 7 | M22: 8 | N22: 9 | O22: 10 | P22: 11 | Q22: 12
E24: Table
E26: =Ewidencja!G56 -> Ogółem spraw | F26: =Ewidencja!H362 -> 9586 | G26: =Ewidencja!I362 -> 9499 | H26: =Ewidencja!J362 -> 1143 | I26: =Ewidencja!K362 -> 1112 | J26: =Ewidencja!L362 -> 2055 | K26: =Ewidencja!M362 -> 4722 | L26: =Ewidencja!N362 -> 1579 | M26: =Ewidencja!O362 -> 978 | ... Q26: =Ewidencja!S362 -> 3037490
E27: =Ewidencja!G57 -> Karnych i wykroczeniowych | F27: =Ewidencja!H363 -> 2094 | G27: =Ewidencja!I363 -> 2030 | H27: =Ewidencja!J363 -> 271 | I27: =Ewidencja!K363 -> 261 | J27: =Ewidencja!L363 -> 670 | K27: =Ewidencja!M363 -> 344 | L27: =Ewidencja!N363 -> 745 | M27: =Ewidencja!O363 -> 231 | ... Q27: =Ewidencja!S363 -> 658500 | U27: =IF(ROUND(S27,1)=ROUND(T27,1),1,IF(ROUND(S27,1)>ROUND(U25,1),2,IF(ROUND(S27,1)<ROUND(T27,1),3,0))) -> 1
E28: =Ewidencja!G58 -> Cywilnych | F28: =Ewidencja!H364 -> 7039 | G28: =Ewidencja!I364 -> 7038 | H28: =Ewidencja!J364 -> 740 | I28: =Ewidencja!K364 -> 722 | J28: =Ewidencja!L364 -> 1197 | K28: =Ewidencja!M364 -> 4302 | L28: =Ewidencja!N364 -> 799 | M28: =Ewidencja!O364 -> 677 | ... Q28: =Ewidencja!S364 -> 2078190 | U28: =IF(ROUND(S28,1)=ROUND(T28,1),1,IF(ROUND(S28,1)>ROUND(U26,1),2,IF(ROUND(S28,1)<ROUND(T28,1),3,0))) -> 1
E29: =Ewidencja!G59 -> Ubezpieczeniowych | F29: =Ewidencja!H365 -> 24 | G29: =Ewidencja!I365 -> 23 | H29: =Ewidencja!J365 -> 1 | I29: =Ewidencja!K365 -> 1 | J29: =Ewidencja!L365 -> 15 | K29: =Ewidencja!M365 -> 6 | L29: =Ewidencja!N365 -> 1 | M29: =Ewidencja!O365 -> 3 | ... Q29: =Ewidencja!S365 -> 2000 | U29: =IF(ROUND(S29,1)=ROUND(T29,1),1,IF(ROUND(S29,1)>ROUND(U27,1),2,IF(ROUND(S29,1)<ROUND(T29,1),3,0))) -> 1
E30: =Ewidencja!G60 -> Pracy | F30: =Ewidencja!H366 -> 109 | G30: =Ewidencja!I366 -> 114 | H30: =Ewidencja!J366 -> 25 | I30: =Ewidencja!K366 -> 24 | J30: =Ewidencja!L366 -> 61 | K30: =Ewidencja!M366 -> 23 | L30: =Ewidencja!N366 -> 5 | M30: =Ewidencja!O366 -> 10 | ... Q30: =Ewidencja!S366 -> 64000 | U30: =IF(ROUND(S30,1)=ROUND(T30,1),1,IF(ROUND(S30,1)>ROUND(U28,1),2,IF(ROUND(S30,1)<ROUND(T30,1),3,0))) -> 1
E31: =Ewidencja!G61 -> Gospodarczych | F31: =Ewidencja!H367 -> 320 | G31: =Ewidencja!I367 -> 294 | H31: =Ewidencja!J367 -> 106 | I31: =Ewidencja!K367 -> 104 | J31: =Ewidencja!L367 -> 112 | K31: =Ewidencja!M367 -> 47 | L31: =Ewidencja!N367 -> 29 | M31: =Ewidencja!O367 -> 57 | ... Q31: =Ewidencja!S367 -> 234800 | U31: =IF(ROUND(S31,1)=ROUND(T31,1),1,IF(ROUND(S31,1)>ROUND(U29,1),2,IF(ROUND(S31,1)<ROUND(T31,1),3,0))) -> 1
U32: =IF(ROUND(S32,1)=ROUND(T32,1),1,IF(ROUND(S32,1)>ROUND(U30,1),2,IF(ROUND(S32,1)<ROUND(T32,1),3,0))) -> 1
U33: =IF(ROUND(S33,1)=ROUND(T33,1),1,IF(ROUND(S33,1)>ROUND(U31,1),2,IF(ROUND(S33,1)<ROUND(T33,1),3,0))) -> 1
U34: =IF(ROUND(S34,1)=ROUND(T34,1),1,IF(ROUND(S34,1)>ROUND(U32,1),2,IF(ROUND(S34,1)<ROUND(T34,1),3,0))) -> 1
U35: =IF(ROUND(S35,1)=ROUND(T35,1),1,IF(ROUND(S35,1)>ROUND(U33,1),2,IF(ROUND(S35,1)<ROUND(T35,1),3,0))) -> 1
U36: =IF(ROUND(S36,1)=ROUND(T36,1),1,IF(ROUND(S36,1)>ROUND(U34,1),2,IF(ROUND(S36,1)<ROUND(T36,1),3,0))) -> 1
U37: =IF(ROUND(S37,1)=ROUND(T37,1),1,IF(ROUND(S37,1)>ROUND(U35,1),2,IF(ROUND(S37,1)<ROUND(T37,1),3,0))) -> 1

Sheet Apelacja Białostocka
E1: ST_XIV Ewid. spr. z wyk. S w SO [20134]
E12: 20143 | F12: 01, 02, 07, 12, 16, 19, 21, 28, 30, 36, 42 | H12: =TRUNC(RIGHT(E12,1)) -> 3 | I12: =TRUNC(LEFT(E12,4)) -> 2014 | J12: =IF(H12=4,CONCATENATE("w ",I12,"r."),IF(H12=2,CONCATENATE("w I półroczu ",I12,"r."),IF(H12=1,CONCATENATE("w I kwartale ",I12,"r."),CONCATENATE("za III kwartały ",I12,"r.")))) -> za III kwartały 2014r.
E15: =CONCATENATE(" EWIDENCJA SPRAW Z WYKAZU S W SĄDACH OKRĘGOWYCH ",Ustawienia!I8, " - ",UPPER(Ewidencja!E26)) -> EWIDENCJA SPRAW Z WYKAZU S W SĄDACH OKRĘGOWYCH ZA III KWARTAŁY 2014 r. - APELACJA BIAŁOSTOCKA
E17: Wyszczególnienie | F17: Wpłynęło | G17: Załatwiono | M17: Pozostało | Q17: Ogólna kwota zasądzonych odszkodowań (PLN)
G19: ogółem | H19: w tym | M19: ogółem | N19: w tym od wpływu
H20: uwzględniono w całości lub części | J20: oddalono | K20: odrzucono | L20: w inny sposób | N20: do 2 mies. | O20: pow. 2 do 4 mies. | P20: ponad 4 mies.
H21: razem | I21: w tym przez zasądzenie kwoty pieniężnej
E22: 0 | F22: 1 | G22: 2 | H22: 3 | I22: 4 | J22: 5 | K22: 6 | L22: 7 | M22: 8 | N22: 9 | O22: 10 | P22: 11 | Q22: 12
E24: Table
E26: =Ewidencja!G56 -> Ogółem spraw | F26: =Ewidencja!H56 -> 369 | G26: =Ewidencja!I56 -> 366 | H26: =Ewidencja!J56 -> 34 | I26: =Ewidencja!K56 -> 34 | J26: =Ewidencja!L56 -> 83 | K26: =Ewidencja!M56 -> 203 | L26: =Ewidencja!N56 -> 46 | ... Q26: =Ewidencja!S56 -> 138600
E27: =Ewidencja!G57 -> Karnych i wykroczeniowych | F27: =Ewidencja!H57 -> 190 | G27: =Ewidencja!I57 -> 192 | H27: =Ewidencja!J57 -> 7 | I27: =Ewidencja!K57 -> 7 | J27: =Ewidencja!L57 -> 51 | K27: =Ewidencja!M57 -> 97 | L27: =Ewidencja!N57 -> 37 | ... Q27: =Ewidencja!S57 -> 21000 | U27: =IF(ROUND(S27,1)=ROUND(T27,1),1,IF(ROUND(S27,1)>ROUND(U25,1),2,IF(ROUND(S27,1)<ROUND(T27,1),3,0))) -> 1
E28: =Ewidencja!G58 -> Cywilnych | F28: =Ewidencja!H58 -> 167 | G28: =Ewidencja!I58 -> 166 | H28: =Ewidencja!J58 -> 24 | I28: =Ewidencja!K58 -> 24 | J28: =Ewidencja!L58 -> 29 | K28: =Ewidencja!M58 -> 104 | L28: =Ewidencja!N58 -> 9 | ... Q28: =Ewidencja!S58 -> 113600 | U28: =IF(ROUND(S28,1)=ROUND(T28,1),1,IF(ROUND(S28,1)>ROUND(U26,1),2,IF(ROUND(S28,1)<ROUND(T28,1),3,0))) -> 1
E29: =Ewidencja!G59 -> Ubezpieczeniowych | F29: =Ewidencja!H59 -> 0 | G29: =Ewidencja!I59 -> 0 | H29: =Ewidencja!J59 -> 0 | I29: =Ewidencja!K59 -> 0 | J29: =Ewidencja!L59 -> 0 | K29: =Ewidencja!M59 -> 0 | L29: =Ewidencja!N59 -> 0 | ... Q29: =Ewidencja!S59 -> 0 | U29: =IF(ROUND(S29,1)=ROUND(T29,1),1,IF(ROUND(S29,1)>ROUND(U27,1),2,IF(ROUND(S29,1)<ROUND(T29,1),3,0))) -> 1
E30: =Ewidencja!G60 -> Pracy | F30: =Ewidencja!H60 -> 1 | G30: =Ewidencja!I60 -> 0 | H30: =Ewidencja!J60 -> 0 | I30: =Ewidencja!K60 -> 0 | J30: =Ewidencja!L60 -> 0 | K30: =Ewidencja!M60 -> 0 | L30: =Ewidencja!N60 -> 0 | ... Q30: =Ewidencja!S60 -> 0 | U30: =IF(ROUND(S30,1)=ROUND(T30,1),1,IF(ROUND(S30,1)>ROUND(U28,1),2,IF(ROUND(S30,1)<ROUND(T30,1),3,0))) -> 1
E31: =Ewidencja!G61 -> Gospodarczych | F31: =Ewidencja!H61 -> 11 | G31: =Ewidencja!I61 -> 8 | H31: =Ewidencja!J61 -> 3 | I31: =Ewidencja!K61 -> 3 | J31: =Ewidencja!L61 -> 3 | K31: =Ewidencja!M61 -> 2 | L31: =Ewidencja!N61 -> 0 | ... Q31: =Ewidencja!S61 -> 4000 | U31: =IF(ROUND(S31,1)=ROUND(T31,1),1,IF(ROUND(S31,1)>ROUND(U29,1),2,IF(ROUND(S31,1)<ROUND(T31,1),3,0))) -> 1
U32: =IF(ROUND(S32,1)=ROUND(T32,1),1,IF(ROUND(S32,1)>ROUND(U30,1),2,IF(ROUND(S32,1)<ROUND(T32,1),3,0))) -> 1
U33: =IF(ROUND(S33,1)=ROUND(T33,1),1,IF(ROUND(S33,1)>ROUND(U31,1),2,IF(ROUND(S33,1)<ROUND(T33,1),3,0))) -> 1
U34: =IF(ROUND(S34,1)=ROUND(T34,1),1,IF(ROUND(S34,1)>ROUND(U32,1),2,IF(ROUND(S34,1)<ROUND(T34,1),3,0))) -> 1
U35: =IF(ROUND(S35,1)=ROUND(T35,1),1,IF(ROUND(S35,1)>ROUND(U33,1),2,IF(ROUND(S35,1)<ROUND(T35,1),3,0))) -> 1
U36: =IF(ROUND(S36,1)=ROUND(T36,1),1,IF(ROUND(S36,1)>ROUND(U34,1),2,IF(ROUND(S36,1)<ROUND(T36,1),3,0))) -> 1
U37: =IF(ROUND(S37,1)=ROUND(T37,1),1,IF(ROUND(S37,1)>ROUND(U35,1),2,IF(ROUND(S37,1)<ROUND(T37,1),3,0))) -> 1

Sheet SO Białystok
H12: =TRUNC(RIGHT(E12,1)) -> #VALUE! | I12: =TRUNC(LEFT(E12,4)) -> #VALUE! | J12: =IF(H12=4,CONCATENATE("w ",I12,"r."),IF(H12=2,CONCATENATE("w I półroczu ",I12,"r."),IF(H12=1,CONCATENATE("w I kwartale ",I12,"r."),CONCATENATE("za III kwartały ",I12,"r.")))) -> #VALUE!
E15: =CONCATENATE(" EWIDENCJA SPRAW Z WYKAZU S W SĄDACH OKRĘGOWYCH ",Ustawienia!I8, " - ",UPPER(Ewidencja!F26)) -> EWIDENCJA SPRAW Z WYKAZU S W SĄDACH OKRĘGOWYCH ZA III KWARTAŁY 2014 r. - SO W BIAŁYMSTOKU
E17: Wyszczególnienie | F17: Wpłynęło | G17: Załatwiono | M17: Pozostało | Q17: Ogólna kwota zasądzonych odszkodowań (PLN)
G19: ogółem | H19: w tym | M19: ogółem | N19: w tym od wpływu
H20: uwzględniono w całości lub części | J20: oddalono | K20: odrzucono | L20: w inny sposób | N20: do 2 mies. | O20: pow. 2 do 4 mies. | P20: ponad 4 mies.
H21: razem | I21: w tym przez zasądzenie kwoty pieniężnej
E22: 0 | F22: 1 | G22: 2 | H22: 3 | I22: 4 | J22: 5 | K22: 6 | L22: 7 | M22: 8 | N22: 9 | O22: 10 | P22: 11 | Q22: 12
E24: Table
E26: =Ewidencja!G56 -> Ogółem spraw | F26: =Ewidencja!H26 -> 136 | G26: =Ewidencja!I26 -> 132 | H26: =Ewidencja!J26 -> 5 | I26: =Ewidencja!K26 -> 5 | J26: =Ewidencja!L26 -> 10 | K26: =Ewidencja!M26 -> 113 | L26: =Ewidencja!N26 -> 4 | M26: =Ewidencja!O26 -> 7 | ... Q26: =Ewidencja!S26 -> 12000
E27: =Ewidencja!G57 -> Karnych i wykroczeniowych | F27: =Ewidencja!H27 -> 80 | G27: =Ewidencja!I27 -> 80 | H27: =Ewidencja!J27 -> 1 | I27: =Ewidencja!K27 -> 1 | J27: =Ewidencja!L27 -> 3 | K27: =Ewidencja!M27 -> 75 | L27: =Ewidencja!N27 -> 1 | M27: =Ewidencja!O27 -> 2 | ... Q27: =Ewidencja!S27 -> 2000 | U27: =IF(ROUND(S27,1)=ROUND(T27,1),1,IF(ROUND(S27,1)>ROUND(U25,1),2,IF(ROUND(S27,1)<ROUND(T27,1),3,0))) -> 1
E28: =Ewidencja!G58 -> Cywilnych | F28: =Ewidencja!H28 -> 50 | G28: =Ewidencja!I28 -> 47 | H28: =Ewidencja!J28 -> 3 | I28: =Ewidencja!K28 -> 3 | J28: =Ewidencja!L28 -> 5 | K28: =Ewidencja!M28 -> 36 | L28: =Ewidencja!N28 -> 3 | M28: =Ewidencja!O28 -> 4 | ... Q28: =Ewidencja!S28 -> 10000 | U28: =IF(ROUND(S28,1)=ROUND(T28,1),1,IF(ROUND(S28,1)>ROUND(U26,1),2,IF(ROUND(S28,1)<ROUND(T28,1),3,0))) -> 1
E29: =Ewidencja!G59 -> Ubezpieczeniowych | F29: =Ewidencja!H29 -> 0 | G29: =Ewidencja!I29 -> 0 | H29: =Ewidencja!J29 -> 0 | I29: =Ewidencja!K29 -> 0 | J29: =Ewidencja!L29 -> 0 | K29: =Ewidencja!M29 -> 0 | L29: =Ewidencja!N29 -> 0 | M29: =Ewidencja!O29 -> 0 | ... Q29: =Ewidencja!S29 -> 0 | U29: =IF(ROUND(S29,1)=ROUND(T29,1),1,IF(ROUND(S29,1)>ROUND(U27,1),2,IF(ROUND(S29,1)<ROUND(T29,1),3,0))) -> 1
E30: =Ewidencja!G60 -> Pracy | F30: =Ewidencja!H30 -> 0 | G30: =Ewidencja!I30 -> 0 | H30: =Ewidencja!J30 -> 0 | I30: =Ewidencja!K30 -> 0 | J30: =Ewidencja!L30 -> 0 | K30: =Ewidencja!M30 -> 0 | L30: =Ewidencja!N30 -> 0 | M30: =Ewidencja!O30 -> 0 | ... Q30: =Ewidencja!S30 -> 0 | U30: =IF(ROUND(S30,1)=ROUND(T30,1),1,IF(ROUND(S30,1)>ROUND(U28,1),2,IF(ROUND(S30,1)<ROUND(T30,1),3,0))) -> 1
E31: =Ewidencja!G61 -> Gospodarczych | F31: =Ewidencja!H31 -> 6 | G31: =Ewidencja!I31 -> 5 | H31: =Ewidencja!J31 -> 1 | I31: =Ewidencja!K31 -> 1 | J31: =Ewidencja!L31 -> 2 | K31: =Ewidencja!M31 -> 2 | L31: =Ewidencja!N31 -> 0 | M31: =Ewidencja!O31 -> 1 | ... Q31: =Ewidencja!S31 -> 0 | U31: =IF(ROUND(S31,1)=ROUND(T31,1),1,IF(ROUND(S31,1)>ROUND(U29,1),2,IF(ROUND(S31,1)<ROUND(T31,1),3,0))) -> 1
U32: =IF(ROUND(S32,1)=ROUND(T32,1),1,IF(ROUND(S32,1)>ROUND(U30,1),2,IF(ROUND(S32,1)<ROUND(T32,1),3,0))) -> 1
U33: =IF(ROUND(S33,1)=ROUND(T33,1),1,IF(ROUND(S33,1)>ROUND(U31,1),2,IF(ROUND(S33,1)<ROUND(T33,1),3,0))) -> 1
U34: =IF(ROUND(S34,1)=ROUND(T34,1),1,IF(ROUND(S34,1)>ROUND(U32,1),2,IF(ROUND(S34,1)<ROUND(T34,1),3,0))) -> 1
U35: =IF(ROUND(S35,1)=ROUND(T35,1),1,IF(ROUND(S35,1)>ROUND(U33,1),2,IF(ROUND(S35,1)<ROUND(T35,1),3,0))) -> 1
U36: =IF(ROUND(S36,1)=ROUND(T36,1),1,IF(ROUND(S36,1)>ROUND(U34,1),2,IF(ROUND(S36,1)<ROUND(T36,1),3,0))) -> 1
U37: =IF(ROUND(S37,1)=ROUND(T37,1),1,IF(ROUND(S37,1)>ROUND(U35,1),2,IF(ROUND(S37,1)<ROUND(T37,1),3,0))) -> 1

Sheet SO Łomży
H12: =TRUNC(RIGHT(E12,1)) -> #VALUE! | I12: =TRUNC(LEFT(E12,4)) -> #VALUE! | J12: =IF(H12=4,CONCATENATE("w ",I12,"r."),IF(H12=2,CONCATENATE("w I półroczu ",I12,"r."),IF(H12=1,CONCATENATE("w I kwartale ",I12,"r."),CONCATENATE("za III kwartały ",I12,"r.")))) -> #VALUE!
E15: =CONCATENATE(" EWIDENCJA SPRAW Z WYKAZU S W SĄDACH OKRĘGOWYCH ",Ustawienia!I8, " - ",UPPER(Ewidencja!F32)) -> EWIDENCJA SPRAW Z WYKAZU S W SĄDACH OKRĘGOWYCH ZA III KWARTAŁY 2014 r. - SO W ŁOMŻY
E17: Wyszczególnienie | F17: Wpłynęło | G17: Załatwiono | M17: Pozostało | Q17: Ogólna kwota zasądzonych odszkodowań (PLN)
G19: ogółem | H19: w tym | M19: ogółem | N19: w tym od wpływu
H20: uwzględniono w całości lub części | J20: oddalono | K20: odrzucono | L20: w inny sposób | N20: do 2 mies. | O20: pow. 2 do 4 mies. | P20: ponad 4 mies.
H21: razem | I21: przez zarządzenie kwoty pieniężnej
E22: 0 | F22: 1 | G22: 2 | H22: 3 | I22: 4 | J22: 5 | K22: 6 | L22: 7 | M22: 8 | N22: 9 | O22: 10 | P22: 11 | Q22: 12
E24: Table
E26: =Ewidencja!G56 -> Ogółem spraw | F26: =Ewidencja!H32 -> 24 | G26: =Ewidencja!I32 -> 24 | H26: =Ewidencja!J32 -> 0 | I26: =Ewidencja!K32 -> 0 | J26: =Ewidencja!L32 -> 3 | K26: =Ewidencja!M32 -> 16 | L26: =Ewidencja!N32 -> 5 | M26: =Ewidencja!O32 -> 0 | ... Q26: =Ewidencja!S32 -> 0
E27: =Ewidencja!G57 -> Karnych i wykroczeniowych | F27: =Ewidencja!H33 -> 21 | G27: =Ewidencja!I33 -> 21 | H27: =Ewidencja!J33 -> 0 | I27: =Ewidencja!K33 -> 0 | J27: =Ewidencja!L33 -> 0 | K27: =Ewidencja!M33 -> 16 | L27: =Ewidencja!N33 -> 5 | M27: =Ewidencja!O33 -> 0 | ... Q27: =Ewidencja!S33 -> 0 | U27: =IF(ROUND(S27,1)=ROUND(T27,1),1,IF(ROUND(S27,1)>ROUND(U25,1),2,IF(ROUND(S27,1)<ROUND(T27,1),3,0))) -> 1
E28: =Ewidencja!G58 -> Cywilnych | F28: =Ewidencja!H34 -> 3 | G28: =Ewidencja!I34 -> 3 | H28: =Ewidencja!J34 -> 0 | I28: =Ewidencja!K34 -> 0 | J28: =Ewidencja!L34 -> 3 | K28: =Ewidencja!M34 -> 0 | L28: =Ewidencja!N34 -> 0 | M28: =Ewidencja!O34 -> 0 | ... Q28: =Ewidencja!S34 -> 0 | U28: =IF(ROUND(S28,1)=ROUND(T28,1),1,IF(ROUND(S28,1)>ROUND(U26,1),2,IF(ROUND(S28,1)<ROUND(T28,1),3,0))) -> 1
E29: =Ewidencja!G59 -> Ubezpieczeniowych | F29: =Ewidencja!H35 -> 0 | G29: =Ewidencja!I35 -> 0 | H29: =Ewidencja!J35 -> 0 | I29: =Ewidencja!K35 -> 0 | J29: =Ewidencja!L35 -> 0 | K29: =Ewidencja!M35 -> 0 | L29: =Ewidencja!N35 -> 0 | M29: =Ewidencja!O35 -> 0 | ... Q29: =Ewidencja!S35 -> 0 | U29: =IF(ROUND(S29,1)=ROUND(T29,1),1,IF(ROUND(S29,1)>ROUND(U27,1),2,IF(ROUND(S29,1)<ROUND(T29,1),3,0))) -> 1
E30: =Ewidencja!G60 -> Pracy | F30: =Ewidencja!H36 -> 0 | G30: =Ewidencja!I36 -> 0 | H30: =Ewidencja!J36 -> 0 | I30: =Ewidencja!K36 -> 0 | J30: =Ewidencja!L36 -> 0 | K30: =Ewidencja!M36 -> 0 | L30: =Ewidencja!N36 -> 0 | M30: =Ewidencja!O36 -> 0 | ... Q30: =Ewidencja!S36 -> 0 | U30: =IF(ROUND(S30,1)=ROUND(T30,1),1,IF(ROUND(S30,1)>ROUND(U28,1),2,IF(ROUND(S30,1)<ROUND(T30,1),3,0))) -> 1
E31: =Ewidencja!G61 -> Gospodarczych | F31: =Ewidencja!H37 -> 0 | G31: =Ewidencja!I37 -> 0 | H31: =Ewidencja!J37 -> 0 | I31: =Ewidencja!K37 -> 0 | J31: =Ewidencja!L37 -> 0 | K31: =Ewidencja!M37 -> 0 | L31: =Ewidencja!N37 -> 0 | M31: =Ewidencja!O37 -> 0 | ... Q31: =Ewidencja!S37 -> 0 | U31: =IF(ROUND(S31,1)=ROUND(T31,1),1,IF(ROUND(S31,1)>ROUND(U29,1),2,IF(ROUND(S31,1)<ROUND(T31,1),3,0))) -> 1
U32: =IF(ROUND(S32,1)=ROUND(T32,1),1,IF(ROUND(S32,1)>ROUND(U30,1),2,IF(ROUND(S32,1)<ROUND(T32,1),3,0))) -> 1
U33: =IF(ROUND(S33,1)=ROUND(T33,1),1,IF(ROUND(S33,1)>ROUND(U31,1),2,IF(ROUND(S33,1)<ROUND(T33,1),3,0))) -> 1
U34: =IF(ROUND(S34,1)=ROUND(T34,1),1,IF(ROUND(S34,1)>ROUND(U32,1),2,IF(ROUND(S34,1)<ROUND(T34,1),3,0))) -> 1
U35: =IF(ROUND(S35,1)=ROUND(T35,1),1,IF(ROUND(S35,1)>ROUND(U33,1),2,IF(ROUND(S35,1)<ROUND(T35,1),3,0))) -> 1
U36: =IF(ROUND(S36,1)=ROUND(T36,1),1,IF(ROUND(S36,1)>ROUND(U34,1),2,IF(ROUND(S36,1)<ROUND(T36,1),3,0))) -> 1
U37: =IF(ROUND(S37,1)=ROUND(T37,1),1,IF(ROUND(S37,1)>ROUND(U35,1),2,IF(ROUND(S37,1)<ROUND(T37,1),3,0))) -> 1

Sheet SO w Olsztynie
H12: =TRUNC(RIGHT(E12,1)) -> #VALUE! | I12: =TRUNC(LEFT(E12,4)) -> #VALUE! | J12: =IF(H12=4,CONCATENATE("w ",I12,"r."),IF(H12=2,CONCATENATE("w I półroczu ",I12,"r."),IF(H12=1,CONCATENATE("w I kwartale ",I12,"r."),CONCATENATE("za III kwartały ",I12,"r.")))) -> #VALUE!
E15: =CONCATENATE("EWIDENCJA SPRAW Z WYKAZU S W SĄDACH OKRĘGOWYCH ",Ustawienia!I8, " - ",UPPER(Ewidencja!F38)) -> EWIDENCJA SPRAW Z WYKAZU S W SĄDACH OKRĘGOWYCH ZA III KWARTAŁY 2014 r. - SO W OLSZTYNIE
E17: Wyszczególnienie | F17: Wpłynęło | G17: Załatwiono | M17: Pozostało | Q17: Ogólna kwota zasądzonych odszkodowań (PLN)
G19: ogółem | H19: w tym | M19: ogółem | N19: w tym od wpływu
H20: uwzględniono w całości lub części | J20: oddalono | K20: odrzucono | L20: w inny sposób | N20: do 2 mies. | O20: pow. 2 do 4 mies. | P20: ponad 4 mies.
H21: razem | I21: przez zarządzenie kwoty pieniężnej
E22: 0 | F22: 1 | G22: 2 | H22: 3 | I22: 4 | J22: 5 | K22: 6 | L22: 7 | M22: 8 | N22: 9 | O22: 10 | P22: 11 | Q22: 12
E24: Table
E26: =Ewidencja!G56 -> Ogółem spraw | F26: =Ewidencja!H38 -> 106 | G26: =Ewidencja!I38 -> 104 | H26: =Ewidencja!J38 -> 15 | I26: =Ewidencja!K38 -> 15 | J26: =Ewidencja!L38 -> 44 | K26: =Ewidencja!M38 -> 17 | L26: =Ewidencja!N38 -> 28 | M26: =Ewidencja!O38 -> 8 | ... Q26: =Ewidencja!S38 -> 48500
E27: =Ewidencja!G57 -> Karnych i wykroczeniowych | F27: =Ewidencja!H39 -> 60 | G27: =Ewidencja!I39 -> 59 | H27: =Ewidencja!J39 -> 3 | I27: =Ewidencja!K39 -> 3 | J27: =Ewidencja!L39 -> 28 | K27: =Ewidencja!M39 -> 5 | L27: =Ewidencja!N39 -> 23 | M27: =Ewidencja!O39 -> 1 | ... Q27: =Ewidencja!S39 -> 11000 | U27: =IF(ROUND(S27,1)=ROUND(T27,1),1,IF(ROUND(S27,1)>ROUND(U25,1),2,IF(ROUND(S27,1)<ROUND(T27,1),3,0))) -> 1
E28: =Ewidencja!G58 -> Cywilnych | F28: =Ewidencja!H40 -> 41 | G28: =Ewidencja!I40 -> 42 | H28: =Ewidencja!J40 -> 10 | I28: =Ewidencja!K40 -> 10 | J28: =Ewidencja!L40 -> 15 | K28: =Ewidencja!M40 -> 12 | L28: =Ewidencja!N40 -> 5 | M28: =Ewidencja!O40 -> 5 | ... Q28: =Ewidencja!S40 -> 33500 | U28: =IF(ROUND(S28,1)=ROUND(T28,1),1,IF(ROUND(S28,1)>ROUND(U26,1),2,IF(ROUND(S28,1)<ROUND(T28,1),3,0))) -> 1
E29: =Ewidencja!G59 -> Ubezpieczeniowych | F29: =Ewidencja!H41 -> 0 | G29: =Ewidencja!I41 -> 0 | H29: =Ewidencja!J41 -> 0 | I29: =Ewidencja!K41 -> 0 | J29: =Ewidencja!L41 -> 0 | K29: =Ewidencja!M41 -> 0 | L29: =Ewidencja!N41 -> 0 | M29: =Ewidencja!O41 -> 0 | ... Q29: =Ewidencja!S41 -> 0 | U29: =IF(ROUND(S29,1)=ROUND(T29,1),1,IF(ROUND(S29,1)>ROUND(U27,1),2,IF(ROUND(S29,1)<ROUND(T29,1),3,0))) -> 1
E30: =Ewidencja!G60 -> Pracy | F30: =Ewidencja!H42 -> 0 | G30: =Ewidencja!I42 -> 0 | H30: =Ewidencja!J42 -> 0 | I30: =Ewidencja!K42 -> 0 | J30: =Ewidencja!L42 -> 0 | K30: =Ewidencja!M42 -> 0 | L30: =Ewidencja!N42 -> 0 | M30: =Ewidencja!O42 -> 0 | ... Q30: =Ewidencja!S42 -> 0 | U30: =IF(ROUND(S30,1)=ROUND(T30,1),1,IF(ROUND(S30,1)>ROUND(U28,1),2,IF(ROUND(S30,1)<ROUND(T30,1),3,0))) -> 1
E31: =Ewidencja!G61 -> Gospodarczych | F31: =Ewidencja!H43 -> 5 | G31: =Ewidencja!I43 -> 3 | H31: =Ewidencja!J43 -> 2 | I31: =Ewidencja!K43 -> 2 | J31: =Ewidencja!L43 -> 1 | K31: =Ewidencja!M43 -> 0 | L31: =Ewidencja!N43 -> 0 | M31: =Ewidencja!O43 -> 2 | ... Q31: =Ewidencja!S43 -> 4000 | U31: =IF(ROUND(S31,1)=ROUND(T31,1),1,IF(ROUND(S31,1)>ROUND(U29,1),2,IF(ROUND(S31,1)<ROUND(T31,1),3,0))) -> 1
U32: =IF(ROUND(S32,1)=ROUND(T32,1),1,IF(ROUND(S32,1)>ROUND(U30,1),2,IF(ROUND(S32,1)<ROUND(T32,1),3,0))) -> 1
U33: =IF(ROUND(S33,1)=ROUND(T33,1),1,IF(ROUND(S33,1)>ROUND(U31,1),2,IF(ROUND(S33,1)<ROUND(T33,1),3,0))) -> 1
U34: =IF(ROUND(S34,1)=ROUND(T34,1),1,IF(ROUND(S34,1)>ROUND(U32,1),2,IF(ROUND(S34,1)<ROUND(T34,1),3,0))) -> 1
U35: =IF(ROUND(S35,1)=ROUND(T35,1),1,IF(ROUND(S35,1)>ROUND(U33,1),2,IF(ROUND(S35,1)<ROUND(T35,1),3,0))) -> 1
U36: =IF(ROUND(S36,1)=ROUND(T36,1),1,IF(ROUND(S36,1)>ROUND(U34,1),2,IF(ROUND(S36,1)<ROUND(T36,1),3,0))) -> 1
U37: =IF(ROUND(S37,1)=ROUND(T37,1),1,IF(ROUND(S37,1)>ROUND(U35,1),2,IF(ROUND(S37,1)<ROUND(T37,1),3,0))) -> 1

Sheet SO w Ostrołęce
H12: =TRUNC(RIGHT(E12,1)) -> #VALUE! | I12: =TRUNC(LEFT(E12,4)) -> #VALUE! | J12: =IF(H12=4,CONCATENATE("w ",I12,"r."),IF(H12=2,CONCATENATE("w I półroczu ",I12,"r."),IF(H12=1,CONCATENATE("w I kwartale ",I12,"r."),CONCATENATE("za III kwartały ",I12,"r.")))) -> #VALUE!
E15: =CONCATENATE("EWIDENCJA SPRAW Z WYKAZU S W SĄDACH OKRĘGOWYCH ",Ustawienia!I8, " - ",UPPER(Ewidencja!F44)) -> EWIDENCJA SPRAW Z WYKAZU S W SĄDACH OKRĘGOWYCH ZA III KWARTAŁY 2014 r. - SO W OSTROŁĘCE
E17: Wyszczególnienie | F17: Wpłynęło | G17: Załatwiono | M17: Pozostało | Q17: Ogólna kwota zasądzonych odszkodowań (PLN)
G19: ogółem | H19: w tym | M19: ogółem | N19: w tym od wpływu
H20: uwzględniono w całości lub części | J20: oddalono | K20: odrzucono | L20: w inny sposób | N20: do 2 mies. | O20: pow. 2 do 4 mies. | P20: ponad 4 mies.
H21: razem | I21: przez zarządzenie kwoty pieniężnej
E22: 0 | F22: 1 | G22: 2 | H22: 3 | I22: 4 | J22: 5 | K22: 6 | L22: 7 | M22: 8 | N22: 9 | O22: 10 | P22: 11 | Q22: 12
E24: Table
E26: =Ewidencja!G56 -> Ogółem spraw | F26: =Ewidencja!H44 -> 36 | G26: =Ewidencja!I44 -> 40 | H26: =Ewidencja!J44 -> 11 | I26: =Ewidencja!K44 -> 11 | J26: =Ewidencja!L44 -> 15 | K26: =Ewidencja!M44 -> 7 | L26: =Ewidencja!N44 -> 7 | M26: =Ewidencja!O44 -> 2 | ... Q26: =Ewidencja!S44 -> 70100
E27: =Ewidencja!G57 -> Karnych i wykroczeniowych | F27: =Ewidencja!H45 -> 19 | G27: =Ewidencja!I45 -> 21 | H27: =Ewidencja!J45 -> 1 | I27: =Ewidencja!K45 -> 1 | J27: =Ewidencja!L45 -> 13 | K27: =Ewidencja!M45 -> 1 | L27: =Ewidencja!N45 -> 6 | M27: =Ewidencja!O45 -> 1 | ... Q27: =Ewidencja!S45 -> 2000 | U27: =IF(ROUND(S27,1)=ROUND(T27,1),1,IF(ROUND(S27,1)>ROUND(U25,1),2,IF(ROUND(S27,1)<ROUND(T27,1),3,0))) -> 1
E28: =Ewidencja!G58 -> Cywilnych | F28: =Ewidencja!H46 -> 16 | G28: =Ewidencja!I46 -> 19 | H28: =Ewidencja!J46 -> 10 | I28: =Ewidencja!K46 -> 10 | J28: =Ewidencja!L46 -> 2 | K28: =Ewidencja!M46 -> 6 | L28: =Ewidencja!N46 -> 1 | M28: =Ewidencja!O46 -> 0 | ... Q28: =Ewidencja!S46 -> 68100 | U28: =IF(ROUND(S28,1)=ROUND(T28,1),1,IF(ROUND(S28,1)>ROUND(U26,1),2,IF(ROUND(S28,1)<ROUND(T28,1),3,0))) -> 1
E29: =Ewidencja!G59 -> Ubezpieczeniowych | F29: =Ewidencja!H47 -> 0 | G29: =Ewidencja!I47 -> 0 | H29: =Ewidencja!J47 -> 0 | I29: =Ewidencja!K47 -> 0 | J29: =Ewidencja!L47 -> 0 | K29: =Ewidencja!M47 -> 0 | L29: =Ewidencja!N47 -> 0 | M29: =Ewidencja!O47 -> 0 | ... Q29: =Ewidencja!S47 -> 0 | U29: =IF(ROUND(S29,1)=ROUND(T29,1),1,IF(ROUND(S29,1)>ROUND(U27,1),2,IF(ROUND(S29,1)<ROUND(T29,1),3,0))) -> 1
E30: =Ewidencja!G60 -> Pracy | F30: =Ewidencja!H48 -> 1 | G30: =Ewidencja!I48 -> 0 | H30: =Ewidencja!J48 -> 0 | I30: =Ewidencja!K48 -> 0 | J30: =Ewidencja!L48 -> 0 | K30: =Ewidencja!M48 -> 0 | L30: =Ewidencja!N48 -> 0 | M30: =Ewidencja!O48 -> 1 | ... Q30: =Ewidencja!S48 -> 0 | U30: =IF(ROUND(S30,1)=ROUND(T30,1),1,IF(ROUND(S30,1)>ROUND(U28,1),2,IF(ROUND(S30,1)<ROUND(T30,1),3,0))) -> 1
E31: =Ewidencja!G61 -> Gospodarczych | F31: =Ewidencja!H49 -> 0 | G31: =Ewidencja!I49 -> 0 | H31: =Ewidencja!J49 -> 0 | I31: =Ewidencja!K49 -> 0 | J31: =Ewidencja!L49 -> 0 | K31: =Ewidencja!M49 -> 0 | L31: =Ewidencja!N49 -> 0 | M31: =Ewidencja!O49 -> 0 | ... Q31: =Ewidencja!S49 -> 0 | U31: =IF(ROUND(S31,1)=ROUND(T31,1),1,IF(ROUND(S31,1)>ROUND(U29,1),2,IF(ROUND(S31,1)<ROUND(T31,1),3,0))) -> 1
U32: =IF(ROUND(S32,1)=ROUND(T32,1),1,IF(ROUND(S32,1)>ROUND(U30,1),2,IF(ROUND(S32,1)<ROUND(T32,1),3,0))) -> 1
U33: =IF(ROUND(S33,1)=ROUND(T33,1),1,IF(ROUND(S33,1)>ROUND(U31,1),2,IF(ROUND(S33,1)<ROUND(T33,1),3,0))) -> 1
U34: =IF(ROUND(S34,1)=ROUND(T34,1),1,IF(ROUND(S34,1)>ROUND(U32,1),2,IF(ROUND(S34,1)<ROUND(T34,1),3,0))) -> 1
U35: =IF(ROUND(S35,1)=ROUND(T35,1),1,IF(ROUND(S35,1)>ROUND(U33,1),2,IF(ROUND(S35,1)<ROUND(T35,1),3,0))) -> 1
U36: =IF(ROUND(S36,1)=ROUND(T36,1),1,IF(ROUND(S36,1)>ROUND(U34,1),2,IF(ROUND(S36,1)<ROUND(T36,1),3,0))) -> 1
U37: =IF(ROUND(S37,1)=ROUND(T37,1),1,IF(ROUND(S37,1)>ROUND(U35,1),2,IF(ROUND(S37,1)<ROUND(T37,1),3,0))) -> 1

Sheet SO w Suwałkach
H12: =TRUNC(RIGHT(E12,1)) -> #VALUE! | I12: =TRUNC(LEFT(E12,4)) -> #VALUE! | J12: =IF(H12=4,CONCATENATE("w ",I12,"r."),IF(H12=2,CONCATENATE("w I półroczu ",I12,"r."),IF(H12=1,CONCATENATE("w I kwartale ",I12,"r."),CONCATENATE("za III kwartały ",I12,"r.")))) -> #VALUE!
E15: =CONCATENATE("EWIDENCJA SPRAW Z WYKAZU S W SĄDACH OKRĘGOWYCH ",Ustawienia!I8, " - ",UPPER(Ewidencja!F50)) -> EWIDENCJA SPRAW Z WYKAZU S W SĄDACH OKRĘGOWYCH ZA III KWARTAŁY 2014 r. - SO W SUWAŁKACH
E17: Wyszczególnienie | F17: Wpłynęło | G17: Załatwiono | M17: Pozostało | Q17: Ogólna kwota zasądzonych odszkodowań (PLN)
G19: ogółem | H19: w tym | M19: ogółem | N19: w tym od wpływu
H20: uwzględniono w całości lub części | J20: oddalono | K20: odrzucono | L20: w inny sposób | N20: do 2 mies. | O20: pow. 2 do 4 mies. | P20: ponad 4 mies.
H21: razem | I21: przez zarządzenie kwoty pieniężnej
E22: 0 | F22: 1 | G22: 2 | H22: 3 | I22: 4 | J22: 5 | K22: 6 | L22: 7 | M22: 8 | N22: 9 | O22: 10 | P22: 11 | Q22: 12
E24: Table
E26: =Ewidencja!G56 -> Ogółem spraw | F26: =Ewidencja!H50 -> 67 | G26: =Ewidencja!I50 -> 66 | H26: =Ewidencja!J50 -> 3 | I26: =Ewidencja!K50 -> 3 | J26: =Ewidencja!L50 -> 11 | K26: =Ewidencja!M50 -> 50 | L26: =Ewidencja!N50 -> 2 | M26: =Ewidencja!O50 -> 4 | ... Q26: =Ewidencja!S50 -> 8000
E27: =Ewidencja!G57 -> Karnych i wykroczeniowych | F27: =Ewidencja!H51 -> 10 | G27: =Ewidencja!I51 -> 11 | H27: =Ewidencja!J51 -> 2 | I27: =Ewidencja!K51 -> 2 | J27: =Ewidencja!L51 -> 7 | K27: =Ewidencja!M51 -> 0 | L27: =Ewidencja!N51 -> 2 | M27: =Ewidencja!O51 -> 0 | ... Q27: =Ewidencja!S51 -> 6000 | U27: =IF(ROUND(S27,1)=ROUND(T27,1),1,IF(ROUND(S27,1)>ROUND(U25,1),2,IF(ROUND(S27,1)<ROUND(T27,1),3,0))) -> 1
E28: =Ewidencja!G58 -> Cywilnych | F28: =Ewidencja!H52 -> 57 | G28: =Ewidencja!I52 -> 55 | H28: =Ewidencja!J52 -> 1 | I28: =Ewidencja!K52 -> 1 | J28: =Ewidencja!L52 -> 4 | K28: =Ewidencja!M52 -> 50 | L28: =Ewidencja!N52 -> 0 | M28: =Ewidencja!O52 -> 4 | ... Q28: =Ewidencja!S52 -> 2000 | U28: =IF(ROUND(S28,1)=ROUND(T28,1),1,IF(ROUND(S28,1)>ROUND(U26,1),2,IF(ROUND(S28,1)<ROUND(T28,1),3,0))) -> 1
E29: =Ewidencja!G59 -> Ubezpieczeniowych | F29: =Ewidencja!H53 -> 0 | G29: =Ewidencja!I53 -> 0 | H29: =Ewidencja!J53 -> 0 | I29: =Ewidencja!K53 -> 0 | J29: =Ewidencja!L53 -> 0 | K29: =Ewidencja!M53 -> 0 | L29: =Ewidencja!N53 -> 0 | M29: =Ewidencja!O53 -> 0 | ... Q29: =Ewidencja!S53 -> 0 | U29: =IF(ROUND(S29,1)=ROUND(T29,1),1,IF(ROUND(S29,1)>ROUND(U27,1),2,IF(ROUND(S29,1)<ROUND(T29,1),3,0))) -> 1
E30: =Ewidencja!G60 -> Pracy | F30: =Ewidencja!H54 -> 0 | G30: =Ewidencja!I54 -> 0 | H30: =Ewidencja!J54 -> 0 | I30: =Ewidencja!K54 -> 0 | J30: =Ewidencja!L54 -> 0 | K30: =Ewidencja!M54 -> 0 | L30: =Ewidencja!N54 -> 0 | M30: =Ewidencja!O54 -> 0 | ... Q30: =Ewidencja!S54 -> 0 | U30: =IF(ROUND(S30,1)=ROUND(T30,1),1,IF(ROUND(S30,1)>ROUND(U28,1),2,IF(ROUND(S30,1)<ROUND(T30,1),3,0))) -> 1
E31: =Ewidencja!G61 -> Gospodarczych | F31: =Ewidencja!H55 -> 0 | G31: =Ewidencja!I55 -> 0 | H31: =Ewidencja!J55 -> 0 | I31: =Ewidencja!K55 -> 0 | J31: =Ewidencja!L55 -> 0 | K31: =Ewidencja!M55 -> 0 | L31: =Ewidencja!N55 -> 0 | M31: =Ewidencja!O55 -> 0 | ... Q31: =Ewidencja!S55 -> 0 | U31: =IF(ROUND(S31,1)=ROUND(T31,1),1,IF(ROUND(S31,1)>ROUND(U29,1),2,IF(ROUND(S31,1)<ROUND(T31,1),3,0))) -> 1
U32: =IF(ROUND(S32,1)=ROUND(T32,1),1,IF(ROUND(S32,1)>ROUND(U30,1),2,IF(ROUND(S32,1)<ROUND(T32,1),3,0))) -> 1
U33: =IF(ROUND(S33,1)=ROUND(T33,1),1,IF(ROUND(S33,1)>ROUND(U31,1),2,IF(ROUND(S33,1)<ROUND(T33,1),3,0))) -> 1
U34: =IF(ROUND(S34,1)=ROUND(T34,1),1,IF(ROUND(S34,1)>ROUND(U32,1),2,IF(ROUND(S34,1)<ROUND(T34,1),3,0))) -> 1
U35: =IF(ROUND(S35,1)=ROUND(T35,1),1,IF(ROUND(S35,1)>ROUND(U33,1),2,IF(ROUND(S35,1)<ROUND(T35,1),3,0))) -> 1
U36: =IF(ROUND(S36,1)=ROUND(T36,1),1,IF(ROUND(S36,1)>ROUND(U34,1),2,IF(ROUND(S36,1)<ROUND(T36,1),3,0))) -> 1
U37: =IF(ROUND(S37,1)=ROUND(T37,1),1,IF(ROUND(S37,1)>ROUND(U35,1),2,IF(ROUND(S37,1)<ROUND(T37,1),3,0))) -> 1

Sheet Apelacja Gdańska
H12: =TRUNC(RIGHT(E12,1)) -> #VALUE! | I12: =TRUNC(LEFT(E12,4)) -> #VALUE! | J12: =IF(H12=4,CONCATENATE("w ",I12,"r."),IF(H12=2,CONCATENATE("w I półroczu ",I12,"r."),IF(H12=1,CONCATENATE("w I kwartale ",I12,"r."),CONCATENATE("za III kwartały ",I12,"r.")))) -> #VALUE!
E15: =CONCATENATE("EWIDENCJA SPRAW Z WYKAZU S W SĄDACH OKRĘGOWYCH ",Ustawienia!I8, " - ",UPPER(Ewidencja!E62)) -> EWIDENCJA SPRAW Z WYKAZU S W SĄDACH OKRĘGOWYCH ZA III KWARTAŁY 2014 r. - APELACJA GDAŃSKA
E17: Wyszczególnienie | F17: Wpłynęło | G17: Załatwiono | M17: Pozostało | Q17: Ogólna kwota zasądzonych odszkodowań (PLN)
G19: ogółem | H19: w tym | M19: ogółem | N19: w tym od wpływu
H20: uwzględniono w całości lub części | J20: oddalono | K20: odrzucono | L20: w inny sposób | N20: do 2 mies. | O20: pow. 2 do 4 mies. | P20: ponad 4 mies.
H21: razem | I21: przez zarządzenie kwoty pieniężnej
E22: 0 | F22: 1 | G22: 2 | H22: 3 | I22: 4 | J22: 5 | K22: 6 | L22: 7 | M22: 8 | N22: 9 | O22: 10 | P22: 11 | Q22: 12
E24: Table
E26: =Ewidencja!G56 -> Ogółem spraw | F26: =Ewidencja!H98 -> 3815 | G26: =Ewidencja!I98 -> 3823 | H26: =Ewidencja!J98 -> 110 | I26: =Ewidencja!K98 -> 108 | J26: =Ewidencja!L98 -> 302 | K26: =Ewidencja!M98 -> 2704 | L26: =Ewidencja!N98 -> 707 | M26: =Ewidencja!O98 -> 266 | ... Q26: =Ewidencja!S98 -> 353500
E27: =Ewidencja!G57 -> Karnych i wykroczeniowych | F27: =Ewidencja!H99 -> 301 | G27: =Ewidencja!I99 -> 259 | H27: =Ewidencja!J99 -> 16 | I27: =Ewidencja!K99 -> 16 | J27: =Ewidencja!L99 -> 102 | K27: =Ewidencja!M99 -> 35 | L27: =Ewidencja!N99 -> 106 | M27: =Ewidencja!O99 -> 48 | ... Q27: =Ewidencja!S99 -> 51000 | U27: =IF(ROUND(S27,1)=ROUND(T27,1),1,IF(ROUND(S27,1)>ROUND(U25,1),2,IF(ROUND(S27,1)<ROUND(T27,1),3,0))) -> 1
E28: =Ewidencja!G58 -> Cywilnych | F28: =Ewidencja!H100 -> 3485 | G28: =Ewidencja!I100 -> 3529 | H28: =Ewidencja!J100 -> 86 | I28: =Ewidencja!K100 -> 84 | J28: =Ewidencja!L100 -> 187 | K28: =Ewidencja!M100 -> 2657 | L28: =Ewidencja!N100 -> 599 | M28: =Ewidencja!O100 -> 215 | ... Q28: =Ewidencja!S100 -> 284500 | U28: =IF(ROUND(S28,1)=ROUND(T28,1),1,IF(ROUND(S28,1)>ROUND(U26,1),2,IF(ROUND(S28,1)<ROUND(T28,1),3,0))) -> 1
E29: =Ewidencja!G59 -> Ubezpieczeniowych | F29: =Ewidencja!H101 -> 1 | G29: =Ewidencja!I101 -> 3 | H29: =Ewidencja!J101 -> 0 | I29: =Ewidencja!K101 -> 0 | J29: =Ewidencja!L101 -> 3 | K29: =Ewidencja!M101 -> 0 | L29: =Ewidencja!N101 -> 0 | M29: =Ewidencja!O101 -> 0 | ... Q29: =Ewidencja!S101 -> 0 | U29: =IF(ROUND(S29,1)=ROUND(T29,1),1,IF(ROUND(S29,1)>ROUND(U27,1),2,IF(ROUND(S29,1)<ROUND(T29,1),3,0))) -> 1
E30: =Ewidencja!G60 -> Pracy | F30: =Ewidencja!H102 -> 4 | G30: =Ewidencja!I102 -> 7 | H30: =Ewidencja!J102 -> 0 | I30: =Ewidencja!K102 -> 0 | J30: =Ewidencja!L102 -> 4 | K30: =Ewidencja!M102 -> 2 | L30: =Ewidencja!N102 -> 1 | M30: =Ewidencja!O102 -> 1 | ... Q30: =Ewidencja!S102 -> 0 | U30: =IF(ROUND(S30,1)=ROUND(T30,1),1,IF(ROUND(S30,1)>ROUND(U28,1),2,IF(ROUND(S30,1)<ROUND(T30,1),3,0))) -> 1
E31: =Ewidencja!G61 -> Gospodarczych | F31: =Ewidencja!H103 -> 24 | G31: =Ewidencja!I103 -> 25 | H31: =Ewidencja!J103 -> 8 | I31: =Ewidencja!K103 -> 8 | J31: =Ewidencja!L103 -> 6 | K31: =Ewidencja!M103 -> 10 | L31: =Ewidencja!N103 -> 1 | M31: =Ewidencja!O103 -> 2 | ... Q31: =Ewidencja!S103 -> 18000 | U31: =IF(ROUND(S31,1)=ROUND(T31,1),1,IF(ROUND(S31,1)>ROUND(U29,1),2,IF(ROUND(S31,1)<ROUND(T31,1),3,0))) -> 1
U32: =IF(ROUND(S32,1)=ROUND(T32,1),1,IF(ROUND(S32,1)>ROUND(U30,1),2,IF(ROUND(S32,1)<ROUND(T32,1),3,0))) -> 1
U33: =IF(ROUND(S33,1)=ROUND(T33,1),1,IF(ROUND(S33,1)>ROUND(U31,1),2,IF(ROUND(S33,1)<ROUND(T33,1),3,0))) -> 1
U34: =IF(ROUND(S34,1)=ROUND(T34,1),1,IF(ROUND(S34,1)>ROUND(U32,1),2,IF(ROUND(S34,1)<ROUND(T34,1),3,0))) -> 1
U35: =IF(ROUND(S35,1)=ROUND(T35,1),1,IF(ROUND(S35,1)>ROUND(U33,1),2,IF(ROUND(S35,1)<ROUND(T35,1),3,0))) -> 1
U36: =IF(ROUND(S36,1)=ROUND(T36,1),1,IF(ROUND(S36,1)>ROUND(U34,1),2,IF(ROUND(S36,1)<ROUND(T36,1),3,0))) -> 1
U37: =IF(ROUND(S37,1)=ROUND(T37,1),1,IF(ROUND(S37,1)>ROUND(U35,1),2,IF(ROUND(S37,1)<ROUND(T37,1),3,0))) -> 1

Sheet SO w Bydgoszczy
H12: =TRUNC(RIGHT(E12,1)) -> #VALUE! | I12: =TRUNC(LEFT(E12,4)) -> #VALUE! | J12: =IF(H12=4,CONCATENATE("w ",I12,"r."),IF(H12=2,CONCATENATE("w I półroczu ",I12,"r."),IF(H12=1,CONCATENATE("w I kwartale ",I12,"r."),CONCATENATE("za III kwartały ",I12,"r.")))) -> #VALUE!
E15: =CONCATENATE("EWIDENCJA SPRAW Z WYKAZU S W SĄDACH OKRĘGOWYCH ",Ustawienia!I8, " - ",UPPER(Ewidencja!F62)) -> EWIDENCJA SPRAW Z WYKAZU S W SĄDACH OKRĘGOWYCH ZA III KWARTAŁY 2014 r. - SO W BYDGOSZCZY
E17: Wyszczególnienie | F17: Wpłynęło | G17: Załatwiono | M17: Pozostało | Q17: Ogólna kwota zasądzonych odszkodowań (PLN)
G19: ogółem | H19: w tym | M19: ogółem | N19: w tym od wpływu
H20: uwzględniono w całości lub części | J20: oddalono | K20: odrzucono | L20: w inny sposób | N20: do 2 mies. | O20: pow. 2 do 4 mies. | P20: ponad 4 mies.
H21: razem | I21: przez zarządzenie kwoty pieniężnej
E22: 0 | F22: 1 | G22: 2 | H22: 3 | I22: 4 | J22: 5 | K22: 6 | L22: 7 | M22: 8 | N22: 9 | O22: 10 | P22: 11 | Q22: 12
E24: Table
E26: =Ewidencja!G56 -> Ogółem spraw | F26: =Ewidencja!H62 -> 125 | G26: =Ewidencja!I62 -> 117 | H26: =Ewidencja!J62 -> 10 | I26: =Ewidencja!K62 -> 9 | J26: =Ewidencja!L62 -> 60 | K26: =Ewidencja!M62 -> 32 | L26: =Ewidencja!N62 -> 15 | M26: =Ewidencja!O62 -> 16 | ... Q26: =Ewidencja!S62 -> 25000
E27: =Ewidencja!G57 -> Karnych i wykroczeniowych | F27: =Ewidencja!H63 -> 42 | G27: =Ewidencja!I63 -> 36 | H27: =Ewidencja!J63 -> 1 | I27: =Ewidencja!K63 -> 1 | J27: =Ewidencja!L63 -> 20 | K27: =Ewidencja!M63 -> 1 | L27: =Ewidencja!N63 -> 14 | M27: =Ewidencja!O63 -> 8 | ... Q27: =Ewidencja!S63 -> 2000 | U27: =IF(ROUND(S27,1)=ROUND(T27,1),1,IF(ROUND(S27,1)>ROUND(U25,1),2,IF(ROUND(S27,1)<ROUND(T27,1),3,0))) -> 1
E28: =Ewidencja!G58 -> Cywilnych | F28: =Ewidencja!H64 -> 82 | G28: =Ewidencja!I64 -> 81 | H28: =Ewidencja!J64 -> 9 | I28: =Ewidencja!K64 -> 8 | J28: =Ewidencja!L64 -> 40 | K28: =Ewidencja!M64 -> 31 | L28: =Ewidencja!N64 -> 1 | M28: =Ewidencja!O64 -> 7 | ... Q28: =Ewidencja!S64 -> 23000 | U28: =IF(ROUND(S28,1)=ROUND(T28,1),1,IF(ROUND(S28,1)>ROUND(U26,1),2,IF(ROUND(S28,1)<ROUND(T28,1),3,0))) -> 1
E29: =Ewidencja!G59 -> Ubezpieczeniowych | F29: =Ewidencja!H65 -> 0 | G29: =Ewidencja!I65 -> 0 | H29: =Ewidencja!J65 -> 0 | I29: =Ewidencja!K65 -> 0 | J29: =Ewidencja!L65 -> 0 | K29: =Ewidencja!M65 -> 0 | L29: =Ewidencja!N65 -> 0 | M29: =Ewidencja!O65 -> 0 | ... Q29: =Ewidencja!S65 -> 0 | U29: =IF(ROUND(S29,1)=ROUND(T29,1),1,IF(ROUND(S29,1)>ROUND(U27,1),2,IF(ROUND(S29,1)<ROUND(T29,1),3,0))) -> 1
E30: =Ewidencja!G60 -> Pracy | F30: =Ewidencja!H66 -> 0 | G30: =Ewidencja!I66 -> 0 | H30: =Ewidencja!J66 -> 0 | I30: =Ewidencja!K66 -> 0 | J30: =Ewidencja!L66 -> 0 | K30: =Ewidencja!M66 -> 0 | L30: =Ewidencja!N66 -> 0 | M30: =Ewidencja!O66 -> 0 | ... Q30: =Ewidencja!S66 -> 0 | U30: =IF(ROUND(S30,1)=ROUND(T30,1),1,IF(ROUND(S30,1)>ROUND(U28,1),2,IF(ROUND(S30,1)<ROUND(T30,1),3,0))) -> 1
E31: =Ewidencja!G61 -> Gospodarczych | F31: =Ewidencja!H67 -> 1 | G31: =Ewidencja!I67 -> 0 | H31: =Ewidencja!J67 -> 0 | I31: =Ewidencja!K67 -> 0 | J31: =Ewidencja!L67 -> 0 | K31: =Ewidencja!M67 -> 0 | L31: =Ewidencja!N67 -> 0 | M31: =Ewidencja!O67 -> 1 | ... Q31: =Ewidencja!S67 -> 0 | U31: =IF(ROUND(S31,1)=ROUND(T31,1),1,IF(ROUND(S31,1)>ROUND(U29,1),2,IF(ROUND(S31,1)<ROUND(T31,1),3,0))) -> 1
U32: =IF(ROUND(S32,1)=ROUND(T32,1),1,IF(ROUND(S32,1)>ROUND(U30,1),2,IF(ROUND(S32,1)<ROUND(T32,1),3,0))) -> 1
U33: =IF(ROUND(S33,1)=ROUND(T33,1),1,IF(ROUND(S33,1)>ROUND(U31,1),2,IF(ROUND(S33,1)<ROUND(T33,1),3,0))) -> 1
U34: =IF(ROUND(S34,1)=ROUND(T34,1),1,IF(ROUND(S34,1)>ROUND(U32,1),2,IF(ROUND(S34,1)<ROUND(T34,1),3,0))) -> 1
U35: =IF(ROUND(S35,1)=ROUND(T35,1),1,IF(ROUND(S35,1)>ROUND(U33,1),2,IF(ROUND(S35,1)<ROUND(T35,1),3,0))) -> 1
U36: =IF(ROUND(S36,1)=ROUND(T36,1),1,IF(ROUND(S36,1)>ROUND(U34,1),2,IF(ROUND(S36,1)<ROUND(T36,1),3,0))) -> 1
U37: =IF(ROUND(S37,1)=ROUND(T37,1),1,IF(ROUND(S37,1)>ROUND(U35,1),2,IF(ROUND(S37,1)<ROUND(T37,1),3,0))) -> 1

Sheet SO w Elblągu 
H12: =TRUNC(RIGHT(E12,1)) -> #VALUE! | I12: =TRUNC(LEFT(E12,4)) -> #VALUE! | J12: =IF(H12=4,CONCATENATE("w ",I12,"r."),IF(H12=2,CONCATENATE("w I półroczu ",I12,"r."),IF(H12=1,CONCATENATE("w I kwartale ",I12,"r."),CONCATENATE("za III kwartały ",I12,"r.")))) -> #VALUE!
E15: =CONCATENATE("EWIDENCJA SPRAW Z WYKAZU S W SĄDACH OKRĘGOWYCH ",Ustawienia!I8, " - ",UPPER(Ewidencja!F68)) -> EWIDENCJA SPRAW Z WYKAZU S W SĄDACH OKRĘGOWYCH ZA III KWARTAŁY 2014 r. - SO W ELBLĄGU
E17: Wyszczególnienie | F17: Wpłynęło | G17: Załatwiono | M17: Pozostało | Q17: Ogólna kwota zasądzonych odszkodowań (PLN)
G19: ogółem | H19: w tym | M19: ogółem | N19: w tym od wpływu
H20: uwzględniono w całości lub części | J20: oddalono | K20: odrzucono | L20: w inny sposób | N20: do 2 mies. | O20: pow. 2 do 4 mies. | P20: ponad 4 mies.
H21: razem | I21: przez zarządzenie kwoty pieniężnej
E22: 0 | F22: 1 | G22: 2 | H22: 3 | I22: 4 | J22: 5 | K22: 6 | L22: 7 | M22: 8 | N22: 9 | O22: 10 | P22: 11 | Q22: 12
E24: Table
E26: =Ewidencja!G56 -> Ogółem spraw | F26: =Ewidencja!H68 -> 428 | G26: =Ewidencja!I68 -> 430 | H26: =Ewidencja!J68 -> 6 | I26: =Ewidencja!K68 -> 6 | J26: =Ewidencja!L68 -> 33 | K26: =Ewidencja!M68 -> 388 | L26: =Ewidencja!N68 -> 3 | M26: =Ewidencja!O68 -> 4 | ... Q26: =Ewidencja!S68 -> 15000
E27: =Ewidencja!G57 -> Karnych i wykroczeniowych | F27: =Ewidencja!H69 -> 31 | G27: =Ewidencja!I69 -> 30 | H27: =Ewidencja!J69 -> 2 | I27: =Ewidencja!K69 -> 2 | J27: =Ewidencja!L69 -> 28 | K27: =Ewidencja!M69 -> 0 | L27: =Ewidencja!N69 -> 0 | M27: =Ewidencja!O69 -> 1 | ... Q27: =Ewidencja!S69 -> 4000 | U27: =IF(ROUND(S27,1)=ROUND(T27,1),1,IF(ROUND(S27,1)>ROUND(U25,1),2,IF(ROUND(S27,1)<ROUND(T27,1),3,0))) -> 1
E28: =Ewidencja!G58 -> Cywilnych | F28: =Ewidencja!H70 -> 397 | G28: =Ewidencja!I70 -> 398 | H28: =Ewidencja!J70 -> 4 | I28: =Ewidencja!K70 -> 4 | J28: =Ewidencja!L70 -> 3 | K28: =Ewidencja!M70 -> 388 | L28: =Ewidencja!N70 -> 3 | M28: =Ewidencja!O70 -> 3 | ... Q28: =Ewidencja!S70 -> 11000 | U28: =IF(ROUND(S28,1)=ROUND(T28,1),1,IF(ROUND(S28,1)>ROUND(U26,1),2,IF(ROUND(S28,1)<ROUND(T28,1),3,0))) -> 1
E29: =Ewidencja!G59 -> Ubezpieczeniowych | F29: =Ewidencja!H71 -> 0 | G29: =Ewidencja!I71 -> 2 | H29: =Ewidencja!J71 -> 0 | I29: =Ewidencja!K71 -> 0 | J29: =Ewidencja!L71 -> 2 | K29: =Ewidencja!M71 -> 0 | L29: =Ewidencja!N71 -> 0 | M29: =Ewidencja!O71 -> 0 | ... Q29: =Ewidencja!S71 -> 0 | U29: =IF(ROUND(S29,1)=ROUND(T29,1),1,IF(ROUND(S29,1)>ROUND(U27,1),2,IF(ROUND(S29,1)<ROUND(T29,1),3,0))) -> 1
E30: =Ewidencja!G60 -> Pracy | F30: =Ewidencja!H72 -> 0 | G30: =Ewidencja!I72 -> 0 | H30: =Ewidencja!J72 -> 0 | I30: =Ewidencja!K72 -> 0 | J30: =Ewidencja!L72 -> 0 | K30: =Ewidencja!M72 -> 0 | L30: =Ewidencja!N72 -> 0 | M30: =Ewidencja!O72 -> 0 | ... Q30: =Ewidencja!S72 -> 0 | U30: =IF(ROUND(S30,1)=ROUND(T30,1),1,IF(ROUND(S30,1)>ROUND(U28,1),2,IF(ROUND(S30,1)<ROUND(T30,1),3,0))) -> 1
E31: =Ewidencja!G61 -> Gospodarczych | F31: =Ewidencja!H73 -> 0 | G31: =Ewidencja!I73 -> 0 | H31: =Ewidencja!J73 -> 0 | I31: =Ewidencja!K73 -> 0 | J31: =Ewidencja!L73 -> 0 | K31: =Ewidencja!M73 -> 0 | L31: =Ewidencja!N73 -> 0 | M31: =Ewidencja!O73 -> 0 | ... Q31: =Ewidencja!S73 -> 0 | U31: =IF(ROUND(S31,1)=ROUND(T31,1),1,IF(ROUND(S31,1)>ROUND(U29,1),2,IF(ROUND(S31,1)<ROUND(T31,1),3,0))) -> 1
U32: =IF(ROUND(S32,1)=ROUND(T32,1),1,IF(ROUND(S32,1)>ROUND(U30,1),2,IF(ROUND(S32,1)<ROUND(T32,1),3,0))) -> 1
U33: =IF(ROUND(S33,1)=ROUND(T33,1),1,IF(ROUND(S33,1)>ROUND(U31,1),2,IF(ROUND(S33,1)<ROUND(T33,1),3,0))) -> 1
U34: =IF(ROUND(S34,1)=ROUND(T34,1),1,IF(ROUND(S34,1)>ROUND(U32,1),2,IF(ROUND(S34,1)<ROUND(T34,1),3,0))) -> 1
U35: =IF(ROUND(S35,1)=ROUND(T35,1),1,IF(ROUND(S35,1)>ROUND(U33,1),2,IF(ROUND(S35,1)<ROUND(T35,1),3,0))) -> 1
U36: =IF(ROUND(S36,1)=ROUND(T36,1),1,IF(ROUND(S36,1)>ROUND(U34,1),2,IF(ROUND(S36,1)<ROUND(T36,1),3,0))) -> 1
U37: =IF(ROUND(S37,1)=ROUND(T37,1),1,IF(ROUND(S37,1)>ROUND(U35,1),2,IF(ROUND(S37,1)<ROUND(T37,1),3,0))) -> 1

Sheet SO w Gdańsku
H12: =TRUNC(RIGHT(E12,1)) -> #VALUE! | I12: =TRUNC(LEFT(E12,4)) -> #VALUE! | J12: =IF(H12=4,CONCATENATE("w ",I12,"r."),IF(H12=2,CONCATENATE("w I półroczu ",I12,"r."),IF(H12=1,CONCATENATE("w I kwartale ",I12,"r."),CONCATENATE("za III kwartały ",I12,"r.")))) -> #VALUE!
E15: =CONCATENATE("EWIDENCJA SPRAW Z WYKAZU S W SĄDACH OKRĘGOWYCH ",Ustawienia!I8, " - ",UPPER(Ewidencja!F74)) -> EWIDENCJA SPRAW Z WYKAZU S W SĄDACH OKRĘGOWYCH ZA III KWARTAŁY 2014 r. - SO W GDAŃSKU
E17: Wyszczególnienie | F17: Wpłynęło | G17: Załatwiono | M17: Pozostało | Q17: Ogólna kwota zasądzonych odszkodowań (PLN)
G19: ogółem | H19: w tym | M19: ogółem | N19: w tym od wpływu
H20: uwzględniono w całości lub części | J20: oddalono | K20: odrzucono | L20: w inny sposób | N20: do 2 mies. | O20: pow. 2 do 4 mies. | P20: ponad 4 mies.
H21: razem | I21: przez zarządzenie kwoty pieniężnej
E22: 0 | F22: 1 | G22: 2 | H22: 3 | I22: 4 | J22: 5 | K22: 6 | L22: 7 | M22: 8 | N22: 9 | O22: 10 | P22: 11 | Q22: 12
E24: Table
E26: =Ewidencja!G56 -> Ogółem spraw | F26: =Ewidencja!H74 -> 2933 | G26: =Ewidencja!I74 -> 2965 | H26: =Ewidencja!J74 -> 68 | I26: =Ewidencja!K74 -> 68 | J26: =Ewidencja!L74 -> 148 | K26: =Ewidencja!M74 -> 2101 | L26: =Ewidencja!N74 -> 648 | M26: =Ewidencja!O74 -> 212 | ... Q26: =Ewidencja!S74 -> 245500
E27: =Ewidencja!G57 -> Karnych i wykroczeniowych | F27: =Ewidencja!H75 -> 168 | G27: =Ewidencja!I75 -> 141 | H27: =Ewidencja!J75 -> 9 | I27: =Ewidencja!K75 -> 9 | J27: =Ewidencja!L75 -> 32 | K27: =Ewidencja!M75 -> 27 | L27: =Ewidencja!N75 -> 73 | M27: =Ewidencja!O75 -> 30 | ... Q27: =Ewidencja!S75 -> 37000 | U27: =IF(ROUND(S27,1)=ROUND(T27,1),1,IF(ROUND(S27,1)>ROUND(U25,1),2,IF(ROUND(S27,1)<ROUND(T27,1),3,0))) -> 1
E28: =Ewidencja!G58 -> Cywilnych | F28: =Ewidencja!H76 -> 2737 | G28: =Ewidencja!I76 -> 2793 | H28: =Ewidencja!J76 -> 51 | I28: =Ewidencja!K76 -> 51 | J28: =Ewidencja!L76 -> 105 | K28: =Ewidencja!M76 -> 2063 | L28: =Ewidencja!N76 -> 574 | M28: =Ewidencja!O76 -> 180 | ... Q28: =Ewidencja!S76 -> 190500 | U28: =IF(ROUND(S28,1)=ROUND(T28,1),1,IF(ROUND(S28,1)>ROUND(U26,1),2,IF(ROUND(S28,1)<ROUND(T28,1),3,0))) -> 1
E29: =Ewidencja!G59 -> Ubezpieczeniowych | F29: =Ewidencja!H77 -> 1 | G29: =Ewidencja!I77 -> 1 | H29: =Ewidencja!J77 -> 0 | I29: =Ewidencja!K77 -> 0 | J29: =Ewidencja!L77 -> 1 | K29: =Ewidencja!M77 -> 0 | L29: =Ewidencja!N77 -> 0 | M29: =Ewidencja!O77 -> 0 | ... Q29: =Ewidencja!S77 -> 0 | U29: =IF(ROUND(S29,1)=ROUND(T29,1),1,IF(ROUND(S29,1)>ROUND(U27,1),2,IF(ROUND(S29,1)<ROUND(T29,1),3,0))) -> 1
E30: =Ewidencja!G60 -> Pracy | F30: =Ewidencja!H78 -> 4 | G30: =Ewidencja!I78 -> 5 | H30: =Ewidencja!J78 -> 0 | I30: =Ewidencja!K78 -> 0 | J30: =Ewidencja!L78 -> 4 | K30: =Ewidencja!M78 -> 1 | L30: =Ewidencja!N78 -> 0 | M30: =Ewidencja!O78 -> 1 | ... Q30: =Ewidencja!S78 -> 0 | U30: =IF(ROUND(S30,1)=ROUND(T30,1),1,IF(ROUND(S30,1)>ROUND(U28,1),2,IF(ROUND(S30,1)<ROUND(T30,1),3,0))) -> 1
E31: =Ewidencja!G61 -> Gospodarczych | F31: =Ewidencja!H79 -> 23 | G31: =Ewidencja!I79 -> 25 | H31: =Ewidencja!J79 -> 8 | I31: =Ewidencja!K79 -> 8 | J31: =Ewidencja!L79 -> 6 | K31: =Ewidencja!M79 -> 10 | L31: =Ewidencja!N79 -> 1 | M31: =Ewidencja!O79 -> 1 | ... Q31: =Ewidencja!S79 -> 18000 | U31: =IF(ROUND(S31,1)=ROUND(T31,1),1,IF(ROUND(S31,1)>ROUND(U29,1),2,IF(ROUND(S31,1)<ROUND(T31,1),3,0))) -> 1
U32: =IF(ROUND(S32,1)=ROUND(T32,1),1,IF(ROUND(S32,1)>ROUND(U30,1),2,IF(ROUND(S32,1)<ROUND(T32,1),3,0))) -> 1
U33: =IF(ROUND(S33,1)=ROUND(T33,1),1,IF(ROUND(S33,1)>ROUND(U31,1),2,IF(ROUND(S33,1)<ROUND(T33,1),3,0))) -> 1
U34: =IF(ROUND(S34,1)=ROUND(T34,1),1,IF(ROUND(S34,1)>ROUND(U32,1),2,IF(ROUND(S34,1)<ROUND(T34,1),3,0))) -> 1
U35: =IF(ROUND(S35,1)=ROUND(T35,1),1,IF(ROUND(S35,1)>ROUND(U33,1),2,IF(ROUND(S35,1)<ROUND(T35,1),3,0))) -> 1
U36: =IF(ROUND(S36,1)=ROUND(T36,1),1,IF(ROUND(S36,1)>ROUND(U34,1),2,IF(ROUND(S36,1)<ROUND(T36,1),3,0))) -> 1
U37: =IF(ROUND(S37,1)=ROUND(T37,1),1,IF(ROUND(S37,1)>ROUND(U35,1),2,IF(ROUND(S37,1)<ROUND(T37,1),3,0))) -> 1

Sheet SO w Słupsku
H12: =TRUNC(RIGHT(E12,1)) -> #VALUE! | I12: =TRUNC(LEFT(E12,4)) -> #VALUE! | J12: =IF(H12=4,CONCATENATE("w ",I12,"r."),IF(H12=2,CONCATENATE("w I półroczu ",I12,"r."),IF(H12=1,CONCATENATE("w I kwartale ",I12,"r."),CONCATENATE("za III kwartały ",I12,"r.")))) -> #VALUE!
E15: =CONCATENATE("EWIDENCJA SPRAW Z WYKAZU S W SĄDACH OKRĘGOWYCH ",Ustawienia!I8, " - ",UPPER(Ewidencja!F80)) -> EWIDENCJA SPRAW Z WYKAZU S W SĄDACH OKRĘGOWYCH ZA III KWARTAŁY 2014 r. - SO W SŁUPSKU
E17: Wyszczególnienie | F17: Wpłynęło | G17: Załatwiono | M17: Pozostało | Q17: Ogólna kwota zasądzonych odszkodowań (PLN)
G19: ogółem | H19: w tym | M19: ogółem | N19: w tym od wpływu
H20: uwzględniono w całości lub części | J20: oddalono | K20: odrzucono | L20: w inny sposób | N20: do 2 mies. | O20: pow. 2 do 4 mies. | P20: ponad 4 mies.
H21: razem | I21: przez zarządzenie kwoty pieniężnej
E22: 0 | F22: 1 | G22: 2 | H22: 3 | I22: 4 | J22: 5 | K22: 6 | L22: 7 | M22: 8 | N22: 9 | O22: 10 | P22: 11 | Q22: 12
E24: Table
E26: =Ewidencja!G56 -> Ogółem spraw | F26: =Ewidencja!H80 -> 193 | G26: =Ewidencja!I80 -> 187 | H26: =Ewidencja!J80 -> 16 | I26: =Ewidencja!K80 -> 15 | J26: =Ewidencja!L80 -> 26 | K26: =Ewidencja!M80 -> 128 | L26: =Ewidencja!N80 -> 17 | M26: =Ewidencja!O80 -> 12 | ... Q26: =Ewidencja!S80 -> 39000
E27: =Ewidencja!G57 -> Karnych i wykroczeniowych | F27: =Ewidencja!H81 -> 26 | G27: =Ewidencja!I81 -> 24 | H27: =Ewidencja!J81 -> 3 | I27: =Ewidencja!K81 -> 3 | J27: =Ewidencja!L81 -> 9 | K27: =Ewidencja!M81 -> 0 | L27: =Ewidencja!N81 -> 12 | M27: =Ewidencja!O81 -> 2 | ... Q27: =Ewidencja!S81 -> 6000 | U27: =IF(ROUND(S27,1)=ROUND(T27,1),1,IF(ROUND(S27,1)>ROUND(U25,1),2,IF(ROUND(S27,1)<ROUND(T27,1),3,0))) -> 1
E28: =Ewidencja!G58 -> Cywilnych | F28: =Ewidencja!H82 -> 167 | G28: =Ewidencja!I82 -> 163 | H28: =Ewidencja!J82 -> 13 | I28: =Ewidencja!K82 -> 12 | J28: =Ewidencja!L82 -> 17 | K28: =Ewidencja!M82 -> 128 | L28: =Ewidencja!N82 -> 5 | M28: =Ewidencja!O82 -> 10 | ... Q28: =Ewidencja!S82 -> 33000 | U28: =IF(ROUND(S28,1)=ROUND(T28,1),1,IF(ROUND(S28,1)>ROUND(U26,1),2,IF(ROUND(S28,1)<ROUND(T28,1),3,0))) -> 1
E29: =Ewidencja!G59 -> Ubezpieczeniowych | F29: =Ewidencja!H83 -> 0 | G29: =Ewidencja!I83 -> 0 | H29: =Ewidencja!J83 -> 0 | I29: =Ewidencja!K83 -> 0 | J29: =Ewidencja!L83 -> 0 | K29: =Ewidencja!M83 -> 0 | L29: =Ewidencja!N83 -> 0 | M29: =Ewidencja!O83 -> 0 | ... Q29: =Ewidencja!S83 -> 0 | U29: =IF(ROUND(S29,1)=ROUND(T29,1),1,IF(ROUND(S29,1)>ROUND(U27,1),2,IF(ROUND(S29,1)<ROUND(T29,1),3,0))) -> 1
E30: =Ewidencja!G60 -> Pracy | F30: =Ewidencja!H84 -> 0 | G30: =Ewidencja!I84 -> 0 | H30: =Ewidencja!J84 -> 0 | I30: =Ewidencja!K84 -> 0 | J30: =Ewidencja!L84 -> 0 | K30: =Ewidencja!M84 -> 0 | L30: =Ewidencja!N84 -> 0 | M30: =Ewidencja!O84 -> 0 | ... Q30: =Ewidencja!S84 -> 0 | U30: =IF(ROUND(S30,1)=ROUND(T30,1),1,IF(ROUND(S30,1)>ROUND(U28,1),2,IF(ROUND(S30,1)<ROUND(T30,1),3,0))) -> 1
E31: =Ewidencja!G61 -> Gospodarczych | F31: =Ewidencja!H85 -> 0 | G31: =Ewidencja!I85 -> 0 | H31: =Ewidencja!J85 -> 0 | I31: =Ewidencja!K85 -> 0 | J31: =Ewidencja!L85 -> 0 | K31: =Ewidencja!M85 -> 0 | L31: =Ewidencja!N85 -> 0 | M31: =Ewidencja!O85 -> 0 | ... Q31: =Ewidencja!S85 -> 0 | U31: =IF(ROUND(S31,1)=ROUND(T31,1),1,IF(ROUND(S31,1)>ROUND(U29,1),2,IF(ROUND(S31,1)<ROUND(T31,1),3,0))) -> 1
U32: =IF(ROUND(S32,1)=ROUND(T32,1),1,IF(ROUND(S32,1)>ROUND(U30,1),2,IF(ROUND(S32,1)<ROUND(T32,1),3,0))) -> 1
U33: =IF(ROUND(S33,1)=ROUND(T33,1),1,IF(ROUND(S33,1)>ROUND(U31,1),2,IF(ROUND(S33,1)<ROUND(T33,1),3,0))) -> 1
U34: =IF(ROUND(S34,1)=ROUND(T34,1),1,IF(ROUND(S34,1)>ROUND(U32,1),2,IF(ROUND(S34,1)<ROUND(T34,1),3,0))) -> 1
U35: =IF(ROUND(S35,1)=ROUND(T35,1),1,IF(ROUND(S35,1)>ROUND(U33,1),2,IF(ROUND(S35,1)<ROUND(T35,1),3,0))) -> 1
U36: =IF(ROUND(S36,1)=ROUND(T36,1),1,IF(ROUND(S36,1)>ROUND(U34,1),2,IF(ROUND(S36,1)<ROUND(T36,1),3,0))) -> 1
U37: =IF(ROUND(S37,1)=ROUND(T37,1),1,IF(ROUND(S37,1)>ROUND(U35,1),2,IF(ROUND(S37,1)<ROUND(T37,1),3,0))) -> 1

Sheet SO w Toruniu
H12: =TRUNC(RIGHT(E12,1)) -> #VALUE! | I12: =TRUNC(LEFT(E12,4)) -> #VALUE! | J12: =IF(H12=4,CONCATENATE("w ",I12,"r."),IF(H12=2,CONCATENATE("w I półroczu ",I12,"r."),IF(H12=1,CONCATENATE("w I kwartale ",I12,"r."),CONCATENATE("za III kwartały ",I12,"r.")))) -> #VALUE!
E15: =CONCATENATE("EWIDENCJA SPRAW Z WYKAZU S W SĄDACH OKRĘGOWYCH ",Ustawienia!I8, " - ",UPPER(Ewidencja!F86)) -> EWIDENCJA SPRAW Z WYKAZU S W SĄDACH OKRĘGOWYCH ZA III KWARTAŁY 2014 r. - SO W TORUNIU
E17: Wyszczególnienie | F17: Wpłynęło | G17: Załatwiono | M17: Pozostało | Q17: Ogólna kwota zasądzonych odszkodowań (PLN)
G19: ogółem | H19: w tym | M19: ogółem | N19: w tym od wpływu
H20: uwzględniono w całości lub części | J20: oddalono | K20: odrzucono | L20: w inny sposób | N20: do 2 mies. | O20: pow. 2 do 4 mies. | P20: ponad 4 mies.
H21: razem | I21: przez zarządzenie kwoty pieniężnej
E22: 0 | F22: 1 | G22: 2 | H22: 3 | I22: 4 | J22: 5 | K22: 6 | L22: 7 | M22: 8 | N22: 9 | O22: 10 | P22: 11 | Q22: 12
E24: Table
E26: =Ewidencja!G56 -> Ogółem spraw | F26: =Ewidencja!H86 -> 92 | G26: =Ewidencja!I86 -> 82 | H26: =Ewidencja!J86 -> 1 | I26: =Ewidencja!K86 -> 1 | J26: =Ewidencja!L86 -> 18 | K26: =Ewidencja!M86 -> 44 | L26: =Ewidencja!N86 -> 19 | M26: =Ewidencja!O86 -> 13 | ... Q26: =Ewidencja!S86 -> 2000
E27: =Ewidencja!G57 -> Karnych i wykroczeniowych | F27: =Ewidencja!H87 -> 23 | G27: =Ewidencja!I87 -> 18 | H27: =Ewidencja!J87 -> 0 | I27: =Ewidencja!K87 -> 0 | J27: =Ewidencja!L87 -> 7 | K27: =Ewidencja!M87 -> 5 | L27: =Ewidencja!N87 -> 6 | M27: =Ewidencja!O87 -> 5 | ... Q27: =Ewidencja!S87 -> 0 | U27: =IF(ROUND(S27,1)=ROUND(T27,1),1,IF(ROUND(S27,1)>ROUND(U25,1),2,IF(ROUND(S27,1)<ROUND(T27,1),3,0))) -> 1
E28: =Ewidencja!G58 -> Cywilnych | F28: =Ewidencja!H88 -> 69 | G28: =Ewidencja!I88 -> 64 | H28: =Ewidencja!J88 -> 1 | I28: =Ewidencja!K88 -> 1 | J28: =Ewidencja!L88 -> 11 | K28: =Ewidencja!M88 -> 39 | L28: =Ewidencja!N88 -> 13 | M28: =Ewidencja!O88 -> 8 | ... Q28: =Ewidencja!S88 -> 2000 | U28: =IF(ROUND(S28,1)=ROUND(T28,1),1,IF(ROUND(S28,1)>ROUND(U26,1),2,IF(ROUND(S28,1)<ROUND(T28,1),3,0))) -> 1
E29: =Ewidencja!G59 -> Ubezpieczeniowych | F29: =Ewidencja!H89 -> 0 | G29: =Ewidencja!I89 -> 0 | H29: =Ewidencja!J89 -> 0 | I29: =Ewidencja!K89 -> 0 | J29: =Ewidencja!L89 -> 0 | K29: =Ewidencja!M89 -> 0 | L29: =Ewidencja!N89 -> 0 | M29: =Ewidencja!O89 -> 0 | ... Q29: =Ewidencja!S89 -> 0 | U29: =IF(ROUND(S29,1)=ROUND(T29,1),1,IF(ROUND(S29,1)>ROUND(U27,1),2,IF(ROUND(S29,1)<ROUND(T29,1),3,0))) -> 1
E30: =Ewidencja!G60 -> Pracy | F30: =Ewidencja!H90 -> 0 | G30: =Ewidencja!I90 -> 0 | H30: =Ewidencja!J90 -> 0 | I30: =Ewidencja!K90 -> 0 | J30: =Ewidencja!L90 -> 0 | K30: =Ewidencja!M90 -> 0 | L30: =Ewidencja!N90 -> 0 | M30: =Ewidencja!O90 -> 0 | ... Q30: =Ewidencja!S90 -> 0 | U30: =IF(ROUND(S30,1)=ROUND(T30,1),1,IF(ROUND(S30,1)>ROUND(U28,1),2,IF(ROUND(S30,1)<ROUND(T30,1),3,0))) -> 1
E31: =Ewidencja!G61 -> Gospodarczych | F31: =Ewidencja!H91 -> 0 | G31: =Ewidencja!I91 -> 0 | H31: =Ewidencja!J91 -> 0 | I31: =Ewidencja!K91 -> 0 | J31: =Ewidencja!L91 -> 0 | K31: =Ewidencja!M91 -> 0 | L31: =Ewidencja!N91 -> 0 | M31: =Ewidencja!O91 -> 0 | ... Q31: =Ewidencja!S91 -> 0 | U31: =IF(ROUND(S31,1)=ROUND(T31,1),1,IF(ROUND(S31,1)>ROUND(U29,1),2,IF(ROUND(S31,1)<ROUND(T31,1),3,0))) -> 1
U32: =IF(ROUND(S32,1)=ROUND(T32,1),1,IF(ROUND(S32,1)>ROUND(U30,1),2,IF(ROUND(S32,1)<ROUND(T32,1),3,0))) -> 1
U33: =IF(ROUND(S33,1)=ROUND(T33,1),1,IF(ROUND(S33,1)>ROUND(U31,1),2,IF(ROUND(S33,1)<ROUND(T33,1),3,0))) -> 1
U34: =IF(ROUND(S34,1)=ROUND(T34,1),1,IF(ROUND(S34,1)>ROUND(U32,1),2,IF(ROUND(S34,1)<ROUND(T34,1),3,0))) -> 1
U35: =IF(ROUND(S35,1)=ROUND(T35,1),1,IF(ROUND(S35,1)>ROUND(U33,1),2,IF(ROUND(S35,1)<ROUND(T35,1),3,0))) -> 1
U36: =IF(ROUND(S36,1)=ROUND(T36,1),1,IF(ROUND(S36,1)>ROUND(U34,1),2,IF(ROUND(S36,1)<ROUND(T36,1),3,0))) -> 1
U37: =IF(ROUND(S37,1)=ROUND(T37,1),1,IF(ROUND(S37,1)>ROUND(U35,1),2,IF(ROUND(S37,1)<ROUND(T37,1),3,0))) -> 1

Sheet SO we Włocławku
H12: =TRUNC(RIGHT(E12,1)) -> #VALUE! | I12: =TRUNC(LEFT(E12,4)) -> #VALUE! | J12: =IF(H12=4,CONCATENATE("w ",I12,"r."),IF(H12=2,CONCATENATE("w I półroczu ",I12,"r."),IF(H12=1,CONCATENATE("w I kwartale ",I12,"r."),CONCATENATE("za III kwartały ",I12,"r.")))) -> #VALUE!
E15: =CONCATENATE("EWIDENCJA SPRAW Z WYKAZU S W SĄDACH OKRĘGOWYCH ",Ustawienia!I8, " - ",UPPER(Ewidencja!F92)) -> EWIDENCJA SPRAW Z WYKAZU S W SĄDACH OKRĘGOWYCH ZA III KWARTAŁY 2014 r. - SO WE WŁOCŁAWKU
E17: Wyszczególnienie | F17: Wpłynęło | G17: Załatwiono | M17: Pozostało | Q17: Ogólna kwota zasądzonych odszkodowań (PLN)
G19: ogółem | H19: w tym | M19: ogółem | N19: w tym od wpływu
H20: uwzględniono w całości lub części | J20: oddalono | K20: odrzucono | L20: w inny sposób | N20: do 2 mies. | O20: pow. 2 do 4 mies. | P20: ponad 4 mies.
H21: razem | I21: przez zarządzenie kwoty pieniężnej
E22: 0 | F22: 1 | G22: 2 | H22: 3 | I22: 4 | J22: 5 | K22: 6 | L22: 7 | M22: 8 | N22: 9 | O22: 10 | P22: 11 | Q22: 12
E24: Table
E26: =Ewidencja!G56 -> Ogółem spraw | F26: =Ewidencja!H92 -> 44 | G26: =Ewidencja!I92 -> 42 | H26: =Ewidencja!J92 -> 9 | I26: =Ewidencja!K92 -> 9 | J26: =Ewidencja!L92 -> 17 | K26: =Ewidencja!M92 -> 11 | L26: =Ewidencja!N92 -> 5 | M26: =Ewidencja!O92 -> 9 | ... Q26: =Ewidencja!S92 -> 27000
E27: =Ewidencja!G57 -> Karnych i wykroczeniowych | F27: =Ewidencja!H93 -> 11 | G27: =Ewidencja!I93 -> 10 | H27: =Ewidencja!J93 -> 1 | I27: =Ewidencja!K93 -> 1 | J27: =Ewidencja!L93 -> 6 | K27: =Ewidencja!M93 -> 2 | L27: =Ewidencja!N93 -> 1 | M27: =Ewidencja!O93 -> 2 | ... Q27: =Ewidencja!S93 -> 2000 | U27: =IF(ROUND(S27,1)=ROUND(T27,1),1,IF(ROUND(S27,1)>ROUND(U25,1),2,IF(ROUND(S27,1)<ROUND(T27,1),3,0))) -> 1
E28: =Ewidencja!G58 -> Cywilnych | F28: =Ewidencja!H94 -> 33 | G28: =Ewidencja!I94 -> 30 | H28: =Ewidencja!J94 -> 8 | I28: =Ewidencja!K94 -> 8 | J28: =Ewidencja!L94 -> 11 | K28: =Ewidencja!M94 -> 8 | L28: =Ewidencja!N94 -> 3 | M28: =Ewidencja!O94 -> 7 | ... Q28: =Ewidencja!S94 -> 25000 | U28: =IF(ROUND(S28,1)=ROUND(T28,1),1,IF(ROUND(S28,1)>ROUND(U26,1),2,IF(ROUND(S28,1)<ROUND(T28,1),3,0))) -> 1
E29: =Ewidencja!G59 -> Ubezpieczeniowych | F29: =Ewidencja!H95 -> 0 | G29: =Ewidencja!I95 -> 0 | H29: =Ewidencja!J95 -> 0 | I29: =Ewidencja!K95 -> 0 | J29: =Ewidencja!L95 -> 0 | K29: =Ewidencja!M95 -> 0 | L29: =Ewidencja!N95 -> 0 | M29: =Ewidencja!O95 -> 0 | ... Q29: =Ewidencja!S95 -> 0 | U29: =IF(ROUND(S29,1)=ROUND(T29,1),1,IF(ROUND(S29,1)>ROUND(U27,1),2,IF(ROUND(S29,1)<ROUND(T29,1),3,0))) -> 1
E30: =Ewidencja!G60 -> Pracy | F30: =Ewidencja!H96 -> 0 | G30: =Ewidencja!I96 -> 2 | H30: =Ewidencja!J96 -> 0 | I30: =Ewidencja!K96 -> 0 | J30: =Ewidencja!L96 -> 0 | K30: =Ewidencja!M96 -> 1 | L30: =Ewidencja!N96 -> 1 | M30: =Ewidencja!O96 -> 0 | ... Q30: =Ewidencja!S96 -> 0 | U30: =IF(ROUND(S30,1)=ROUND(T30,1),1,IF(ROUND(S30,1)>ROUND(U28,1),2,IF(ROUND(S30,1)<ROUND(T30,1),3,0))) -> 1
E31: =Ewidencja!G61 -> Gospodarczych | F31: =Ewidencja!H97 -> 0 | G31: =Ewidencja!I97 -> 0 | H31: =Ewidencja!J97 -> 0 | I31: =Ewidencja!K97 -> 0 | J31: =Ewidencja!L97 -> 0 | K31: =Ewidencja!M97 -> 0 | L31: =Ewidencja!N97 -> 0 | M31: =Ewidencja!O97 -> 0 | ... Q31: =Ewidencja!S97 -> 0 | U31: =IF(ROUND(S31,1)=ROUND(T31,1),1,IF(ROUND(S31,1)>ROUND(U29,1),2,IF(ROUND(S31,1)<ROUND(T31,1),3,0))) -> 1
U32: =IF(ROUND(S32,1)=ROUND(T32,1),1,IF(ROUND(S32,1)>ROUND(U30,1),2,IF(ROUND(S32,1)<ROUND(T32,1),3,0))) -> 1
U33: =IF(ROUND(S33,1)=ROUND(T33,1),1,IF(ROUND(S33,1)>ROUND(U31,1),2,IF(ROUND(S33,1)<ROUND(T33,1),3,0))) -> 1
U34: =IF(ROUND(S34,1)=ROUND(T34,1),1,IF(ROUND(S34,1)>ROUND(U32,1),2,IF(ROUND(S34,1)<ROUND(T34,1),3,0))) -> 1
U35: =IF(ROUND(S35,1)=ROUND(T35,1),1,IF(ROUND(S35,1)>ROUND(U33,1),2,IF(ROUND(S35,1)<ROUND(T35,1),3,0))) -> 1
U36: =IF(ROUND(S36,1)=ROUND(T36,1),1,IF(ROUND(S36,1)>ROUND(U34,1),2,IF(ROUND(S36,1)<ROUND(T36,1),3,0))) -> 1
U37: =IF(ROUND(S37,1)=ROUND(T37,1),1,IF(ROUND(S37,1)>ROUND(U35,1),2,IF(ROUND(S37,1)<ROUND(T37,1),3,0))) -> 1

Sheet Apelacja Katowicka
H12: =TRUNC(RIGHT(E12,1)) -> #VALUE! | I12: =TRUNC(LEFT(E12,4)) -> #VALUE! | J12: =IF(H12=4,CONCATENATE("w ",I12,"r."),IF(H12=2,CONCATENATE("w I półroczu ",I12,"r."),IF(H12=1,CONCATENATE("w I kwartale ",I12,"r."),CONCATENATE("za III kwartały ",I12,"r.")))) -> #VALUE!
E15: =CONCATENATE("EWIDENCJA SPRAW Z WYKAZU S W SĄDACH OKRĘGOWYCH ",Ustawienia!I8, " - ",UPPER(Ewidencja!E104)) -> EWIDENCJA SPRAW Z WYKAZU S W SĄDACH OKRĘGOWYCH ZA III KWARTAŁY 2014 r. - APELACJA KATOWICKA
E17: Wyszczególnienie | F17: Wpłynęło | G17: Załatwiono | M17: Pozostało | Q17: Ogólna kwota zasądzonych odszkodowań (PLN)
G19: ogółem | H19: w tym | M19: ogółem | N19: w tym od wpływu
H20: uwzględniono w całości lub części | J20: oddalono | K20: odrzucono | L20: w inny sposób | N20: do 2 mies. | O20: pow. 2 do 4 mies. | P20: ponad 4 mies.
H21: razem | I21: przez zarządzenie kwoty pieniężnej
E22: 0 | F22: 1 | G22: 2 | H22: 3 | I22: 4 | J22: 5 | K22: 6 | L22: 7 | M22: 8 | N22: 9 | O22: 10 | P22: 11 | Q22: 12
E24: Table
E26: =Ewidencja!G56 -> Ogółem spraw | F26: =Ewidencja!H128 -> 780 | G26: =Ewidencja!I128 -> 760 | H26: =Ewidencja!J128 -> 165 | I26: =Ewidencja!K128 -> 159 | J26: =Ewidencja!L128 -> 199 | K26: =Ewidencja!M128 -> 284 | L26: =Ewidencja!N128 -> 112 | M26: =Ewidencja!O128 -> 98 | ... Q26: =Ewidencja!S128 -> 448000
E27: =Ewidencja!G57 -> Karnych i wykroczeniowych | F27: =Ewidencja!H129 -> 208 | G27: =Ewidencja!I129 -> 210 | H27: =Ewidencja!J129 -> 25 | I27: =Ewidencja!K129 -> 24 | J27: =Ewidencja!L129 -> 64 | K27: =Ewidencja!M129 -> 42 | L27: =Ewidencja!N129 -> 79 | M27: =Ewidencja!O129 -> 19 | ... Q27: =Ewidencja!S129 -> 68000 | U27: =IF(ROUND(S27,1)=ROUND(T27,1),1,IF(ROUND(S27,1)>ROUND(U25,1),2,IF(ROUND(S27,1)<ROUND(T27,1),3,0))) -> 1
E28: =Ewidencja!G58 -> Cywilnych | F28: =Ewidencja!H130 -> 515 | G28: =Ewidencja!I130 -> 496 | H28: =Ewidencja!J130 -> 119 | I28: =Ewidencja!K130 -> 115 | J28: =Ewidencja!L130 -> 119 | K28: =Ewidencja!M130 -> 227 | L28: =Ewidencja!N130 -> 31 | M28: =Ewidencja!O130 -> 72 | ... Q28: =Ewidencja!S130 -> 336000 | U28: =IF(ROUND(S28,1)=ROUND(T28,1),1,IF(ROUND(S28,1)>ROUND(U26,1),2,IF(ROUND(S28,1)<ROUND(T28,1),3,0))) -> 1
E29: =Ewidencja!G59 -> Ubezpieczeniowych | F29: =Ewidencja!H131 -> 5 | G29: =Ewidencja!I131 -> 4 | H29: =Ewidencja!J131 -> 0 | I29: =Ewidencja!K131 -> 0 | J29: =Ewidencja!L131 -> 1 | K29: =Ewidencja!M131 -> 3 | L29: =Ewidencja!N131 -> 0 | M29: =Ewidencja!O131 -> 1 | ... Q29: =Ewidencja!S131 -> 0 | U29: =IF(ROUND(S29,1)=ROUND(T29,1),1,IF(ROUND(S29,1)>ROUND(U27,1),2,IF(ROUND(S29,1)<ROUND(T29,1),3,0))) -> 1
E30: =Ewidencja!G60 -> Pracy | F30: =Ewidencja!H132 -> 10 | G30: =Ewidencja!I132 -> 11 | H30: =Ewidencja!J132 -> 2 | I30: =Ewidencja!K132 -> 1 | J30: =Ewidencja!L132 -> 2 | K30: =Ewidencja!M132 -> 7 | L30: =Ewidencja!N132 -> 0 | M30: =Ewidencja!O132 -> 0 | ... Q30: =Ewidencja!S132 -> 2000 | U30: =IF(ROUND(S30,1)=ROUND(T30,1),1,IF(ROUND(S30,1)>ROUND(U28,1),2,IF(ROUND(S30,1)<ROUND(T30,1),3,0))) -> 1
E31: =Ewidencja!G61 -> Gospodarczych | F31: =Ewidencja!H133 -> 42 | G31: =Ewidencja!I133 -> 39 | H31: =Ewidencja!J133 -> 19 | I31: =Ewidencja!K133 -> 19 | J31: =Ewidencja!L133 -> 13 | K31: =Ewidencja!M133 -> 5 | L31: =Ewidencja!N133 -> 2 | M31: =Ewidencja!O133 -> 6 | ... Q31: =Ewidencja!S133 -> 42000 | U31: =IF(ROUND(S31,1)=ROUND(T31,1),1,IF(ROUND(S31,1)>ROUND(U29,1),2,IF(ROUND(S31,1)<ROUND(T31,1),3,0))) -> 1
U32: =IF(ROUND(S32,1)=ROUND(T32,1),1,IF(ROUND(S32,1)>ROUND(U30,1),2,IF(ROUND(S32,1)<ROUND(T32,1),3,0))) -> 1
U33: =IF(ROUND(S33,1)=ROUND(T33,1),1,IF(ROUND(S33,1)>ROUND(U31,1),2,IF(ROUND(S33,1)<ROUND(T33,1),3,0))) -> 1
U34: =IF(ROUND(S34,1)=ROUND(T34,1),1,IF(ROUND(S34,1)>ROUND(U32,1),2,IF(ROUND(S34,1)<ROUND(T34,1),3,0))) -> 1
U35: =IF(ROUND(S35,1)=ROUND(T35,1),1,IF(ROUND(S35,1)>ROUND(U33,1),2,IF(ROUND(S35,1)<ROUND(T35,1),3,0))) -> 1
U36: =IF(ROUND(S36,1)=ROUND(T36,1),1,IF(ROUND(S36,1)>ROUND(U34,1),2,IF(ROUND(S36,1)<ROUND(T36,1),3,0))) -> 1
U37: =IF(ROUND(S37,1)=ROUND(T37,1),1,IF(ROUND(S37,1)>ROUND(U35,1),2,IF(ROUND(S37,1)<ROUND(T37,1),3,0))) -> 1

Sheet SO w Bielsku Białej
H12: =TRUNC(RIGHT(E12,1)) -> #VALUE! | I12: =TRUNC(LEFT(E12,4)) -> #VALUE! | J12: =IF(H12=4,CONCATENATE("w ",I12,"r."),IF(H12=2,CONCATENATE("w I półroczu ",I12,"r."),IF(H12=1,CONCATENATE("w I kwartale ",I12,"r."),CONCATENATE("za III kwartały ",I12,"r.")))) -> #VALUE!
E15: =CONCATENATE("EWIDENCJA SPRAW Z WYKAZU S W SĄDACH OKRĘGOWYCH ",Ustawienia!I8, " - ",UPPER(Ewidencja!F104)) -> EWIDENCJA SPRAW Z WYKAZU S W SĄDACH OKRĘGOWYCH ZA III KWARTAŁY 2014 r. - SO W BIELSKU BIAŁEJ
E17: Wyszczególnienie | F17: Wpłynęło | G17: Załatwiono | M17: Pozostało | Q17: Ogólna kwota zasądzonych odszkodowań (PLN)
G19: ogółem | H19: w tym | M19: ogółem | N19: w tym od wpływu
H20: uwzględniono w całości lub części | J20: oddalono | K20: odrzucono | L20: w inny sposób | N20: do 2 mies. | O20: pow. 2 do 4 mies. | P20: ponad 4 mies.
H21: razem | I21: przez zarządzenie kwoty pieniężnej
E22: 0 | F22: 1 | G22: 2 | H22: 3 | I22: 4 | J22: 5 | K22: 6 | L22: 7 | M22: 8 | N22: 9 | O22: 10 | P22: 11 | Q22: 12
E24: Table
E26: =Ewidencja!G56 -> Ogółem spraw | F26: =Ewidencja!H104 -> 97 | G26: =Ewidencja!I104 -> 98 | H26: =Ewidencja!J104 -> 3 | I26: =Ewidencja!K104 -> 3 | J26: =Ewidencja!L104 -> 31 | K26: =Ewidencja!M104 -> 37 | L26: =Ewidencja!N104 -> 27 | M26: =Ewidencja!O104 -> 10 | ... Q26: =Ewidencja!S104 -> 6000
E27: =Ewidencja!G57 -> Karnych i wykroczeniowych | F27: =Ewidencja!H105 -> 44 | G27: =Ewidencja!I105 -> 46 | H27: =Ewidencja!J105 -> 0 | I27: =Ewidencja!K105 -> 0 | J27: =Ewidencja!L105 -> 12 | K27: =Ewidencja!M105 -> 8 | L27: =Ewidencja!N105 -> 26 | M27: =Ewidencja!O105 -> 3 | ... Q27: =Ewidencja!S105 -> 0 | U27: =IF(ROUND(S27,1)=ROUND(T27,1),1,IF(ROUND(S27,1)>ROUND(U25,1),2,IF(ROUND(S27,1)<ROUND(T27,1),3,0))) -> 1
E28: =Ewidencja!G58 -> Cywilnych | F28: =Ewidencja!H106 -> 50 | G28: =Ewidencja!I106 -> 50 | H28: =Ewidencja!J106 -> 2 | I28: =Ewidencja!K106 -> 2 | J28: =Ewidencja!L106 -> 19 | K28: =Ewidencja!M106 -> 28 | L28: =Ewidencja!N106 -> 1 | M28: =Ewidencja!O106 -> 6 | ... Q28: =Ewidencja!S106 -> 4000 | U28: =IF(ROUND(S28,1)=ROUND(T28,1),1,IF(ROUND(S28,1)>ROUND(U26,1),2,IF(ROUND(S28,1)<ROUND(T28,1),3,0))) -> 1
E29: =Ewidencja!G59 -> Ubezpieczeniowych | F29: =Ewidencja!H107 -> 1 | G29: =Ewidencja!I107 -> 0 | H29: =Ewidencja!J107 -> 0 | I29: =Ewidencja!K107 -> 0 | J29: =Ewidencja!L107 -> 0 | K29: =Ewidencja!M107 -> 0 | L29: =Ewidencja!N107 -> 0 | M29: =Ewidencja!O107 -> 1 | ... Q29: =Ewidencja!S107 -> 0 | U29: =IF(ROUND(S29,1)=ROUND(T29,1),1,IF(ROUND(S29,1)>ROUND(U27,1),2,IF(ROUND(S29,1)<ROUND(T29,1),3,0))) -> 1
E30: =Ewidencja!G60 -> Pracy | F30: =Ewidencja!H108 -> 2 | G30: =Ewidencja!I108 -> 2 | H30: =Ewidencja!J108 -> 1 | I30: =Ewidencja!K108 -> 1 | J30: =Ewidencja!L108 -> 0 | K30: =Ewidencja!M108 -> 1 | L30: =Ewidencja!N108 -> 0 | M30: =Ewidencja!O108 -> 0 | ... Q30: =Ewidencja!S108 -> 2000 | U30: =IF(ROUND(S30,1)=ROUND(T30,1),1,IF(ROUND(S30,1)>ROUND(U28,1),2,IF(ROUND(S30,1)<ROUND(T30,1),3,0))) -> 1
E31: =Ewidencja!G61 -> Gospodarczych | F31: =Ewidencja!H109 -> 0 | G31: =Ewidencja!I109 -> 0 | H31: =Ewidencja!J109 -> 0 | I31: =Ewidencja!K109 -> 0 | J31: =Ewidencja!L109 -> 0 | K31: =Ewidencja!M109 -> 0 | L31: =Ewidencja!N109 -> 0 | M31: =Ewidencja!O109 -> 0 | ... Q31: =Ewidencja!S109 -> 0 | U31: =IF(ROUND(S31,1)=ROUND(T31,1),1,IF(ROUND(S31,1)>ROUND(U29,1),2,IF(ROUND(S31,1)<ROUND(T31,1),3,0))) -> 1
U32: =IF(ROUND(S32,1)=ROUND(T32,1),1,IF(ROUND(S32,1)>ROUND(U30,1),2,IF(ROUND(S32,1)<ROUND(T32,1),3,0))) -> 1
U33: =IF(ROUND(S33,1)=ROUND(T33,1),1,IF(ROUND(S33,1)>ROUND(U31,1),2,IF(ROUND(S33,1)<ROUND(T33,1),3,0))) -> 1
U34: =IF(ROUND(S34,1)=ROUND(T34,1),1,IF(ROUND(S34,1)>ROUND(U32,1),2,IF(ROUND(S34,1)<ROUND(T34,1),3,0))) -> 1
U35: =IF(ROUND(S35,1)=ROUND(T35,1),1,IF(ROUND(S35,1)>ROUND(U33,1),2,IF(ROUND(S35,1)<ROUND(T35,1),3,0))) -> 1
U36: =IF(ROUND(S36,1)=ROUND(T36,1),1,IF(ROUND(S36,1)>ROUND(U34,1),2,IF(ROUND(S36,1)<ROUND(T36,1),3,0))) -> 1
U37: =IF(ROUND(S37,1)=ROUND(T37,1),1,IF(ROUND(S37,1)>ROUND(U35,1),2,IF(ROUND(S37,1)<ROUND(T37,1),3,0))) -> 1

Sheet SO w Częstochowie
H12: =TRUNC(RIGHT(E12,1)) -> #VALUE! | I12: =TRUNC(LEFT(E12,4)) -> #VALUE! | J12: =IF(H12=4,CONCATENATE("w ",I12,"r."),IF(H12=2,CONCATENATE("w I półroczu ",I12,"r."),IF(H12=1,CONCATENATE("w I kwartale ",I12,"r."),CONCATENATE("za III kwartały ",I12,"r.")))) -> #VALUE!
E15: =CONCATENATE("EWIDENCJA SPRAW Z WYKAZU S W SĄDACH OKRĘGOWYCH ",Ustawienia!I8, " - ",UPPER(Ewidencja!F110)) -> EWIDENCJA SPRAW Z WYKAZU S W SĄDACH OKRĘGOWYCH ZA III KWARTAŁY 2014 r. - SO W CZĘSTOCHOWIE
E17: Wyszczególnienie | F17: Wpłynęło | G17: Załatwiono | M17: Pozostało | Q17: Ogólna kwota zasądzonych odszkodowań (PLN)
G19: ogółem | H19: w tym | M19: ogółem | N19: w tym od wpływu
H20: uwzględniono w całości lub części | J20: oddalono | K20: odrzucono | L20: w inny sposób | N20: do 2 mies. | O20: pow. 2 do 4 mies. | P20: ponad 4 mies.
H21: razem | I21: przez zarządzenie kwoty pieniężnej
E22: 0 | F22: 1 | G22: 2 | H22: 3 | I22: 4 | J22: 5 | K22: 6 | L22: 7 | M22: 8 | N22: 9 | O22: 10 | P22: 11 | Q22: 12
E24: Table
E26: =Ewidencja!G56 -> Ogółem spraw | F26: =Ewidencja!H110 -> 77 | G26: =Ewidencja!I110 -> 81 | H26: =Ewidencja!J110 -> 23 | I26: =Ewidencja!K110 -> 22 | J26: =Ewidencja!L110 -> 13 | K26: =Ewidencja!M110 -> 38 | L26: =Ewidencja!N110 -> 7 | M26: =Ewidencja!O110 -> 5 | ... Q26: =Ewidencja!S110 -> 47000
E27: =Ewidencja!G57 -> Karnych i wykroczeniowych | F27: =Ewidencja!H111 -> 11 | G27: =Ewidencja!I111 -> 11 | H27: =Ewidencja!J111 -> 3 | I27: =Ewidencja!K111 -> 3 | J27: =Ewidencja!L111 -> 2 | K27: =Ewidencja!M111 -> 1 | L27: =Ewidencja!N111 -> 5 | M27: =Ewidencja!O111 -> 1 | ... Q27: =Ewidencja!S111 -> 6000 | U27: =IF(ROUND(S27,1)=ROUND(T27,1),1,IF(ROUND(S27,1)>ROUND(U25,1),2,IF(ROUND(S27,1)<ROUND(T27,1),3,0))) -> 1
E28: =Ewidencja!G58 -> Cywilnych | F28: =Ewidencja!H112 -> 63 | G28: =Ewidencja!I112 -> 67 | H28: =Ewidencja!J112 -> 20 | I28: =Ewidencja!K112 -> 19 | J28: =Ewidencja!L112 -> 11 | K28: =Ewidencja!M112 -> 34 | L28: =Ewidencja!N112 -> 2 | M28: =Ewidencja!O112 -> 4 | ... Q28: =Ewidencja!S112 -> 41000 | U28: =IF(ROUND(S28,1)=ROUND(T28,1),1,IF(ROUND(S28,1)>ROUND(U26,1),2,IF(ROUND(S28,1)<ROUND(T28,1),3,0))) -> 1
E29: =Ewidencja!G59 -> Ubezpieczeniowych | F29: =Ewidencja!H113 -> 0 | G29: =Ewidencja!I113 -> 0 | H29: =Ewidencja!J113 -> 0 | I29: =Ewidencja!K113 -> 0 | J29: =Ewidencja!L113 -> 0 | K29: =Ewidencja!M113 -> 0 | L29: =Ewidencja!N113 -> 0 | M29: =Ewidencja!O113 -> 0 | ... Q29: =Ewidencja!S113 -> 0 | U29: =IF(ROUND(S29,1)=ROUND(T29,1),1,IF(ROUND(S29,1)>ROUND(U27,1),2,IF(ROUND(S29,1)<ROUND(T29,1),3,0))) -> 1
E30: =Ewidencja!G60 -> Pracy | F30: =Ewidencja!H114 -> 1 | G30: =Ewidencja!I114 -> 1 | H30: =Ewidencja!J114 -> 0 | I30: =Ewidencja!K114 -> 0 | J30: =Ewidencja!L114 -> 0 | K30: =Ewidencja!M114 -> 1 | L30: =Ewidencja!N114 -> 0 | M30: =Ewidencja!O114 -> 0 | ... Q30: =Ewidencja!S114 -> 0 | U30: =IF(ROUND(S30,1)=ROUND(T30,1),1,IF(ROUND(S30,1)>ROUND(U28,1),2,IF(ROUND(S30,1)<ROUND(T30,1),3,0))) -> 1
E31: =Ewidencja!G61 -> Gospodarczych | F31: =Ewidencja!H115 -> 2 | G31: =Ewidencja!I115 -> 2 | H31: =Ewidencja!J115 -> 0 | I31: =Ewidencja!K115 -> 0 | J31: =Ewidencja!L115 -> 0 | K31: =Ewidencja!M115 -> 2 | L31: =Ewidencja!N115 -> 0 | M31: =Ewidencja!O115 -> 0 | ... Q31: =Ewidencja!S115 -> 0 | U31: =IF(ROUND(S31,1)=ROUND(T31,1),1,IF(ROUND(S31,1)>ROUND(U29,1),2,IF(ROUND(S31,1)<ROUND(T31,1),3,0))) -> 1
U32: =IF(ROUND(S32,1)=ROUND(T32,1),1,IF(ROUND(S32,1)>ROUND(U30,1),2,IF(ROUND(S32,1)<ROUND(T32,1),3,0))) -> 1
U33: =IF(ROUND(S33,1)=ROUND(T33,1),1,IF(ROUND(S33,1)>ROUND(U31,1),2,IF(ROUND(S33,1)<ROUND(T33,1),3,0))) -> 1
U34: =IF(ROUND(S34,1)=ROUND(T34,1),1,IF(ROUND(S34,1)>ROUND(U32,1),2,IF(ROUND(S34,1)<ROUND(T34,1),3,0))) -> 1
U35: =IF(ROUND(S35,1)=ROUND(T35,1),1,IF(ROUND(S35,1)>ROUND(U33,1),2,IF(ROUND(S35,1)<ROUND(T35,1),3,0))) -> 1
U36: =IF(ROUND(S36,1)=ROUND(T36,1),1,IF(ROUND(S36,1)>ROUND(U34,1),2,IF(ROUND(S36,1)<ROUND(T36,1),3,0))) -> 1
U37: =IF(ROUND(S37,1)=ROUND(T37,1),1,IF(ROUND(S37,1)>ROUND(U35,1),2,IF(ROUND(S37,1)<ROUND(T37,1),3,0))) -> 1

Sheet SO w Gliwicach
H12: =TRUNC(RIGHT(E12,1)) -> #VALUE! | I12: =TRUNC(LEFT(E12,4)) -> #VALUE! | J12: =IF(H12=4,CONCATENATE("w ",I12,"r."),IF(H12=2,CONCATENATE("w I półroczu ",I12,"r."),IF(H12=1,CONCATENATE("w I kwartale ",I12,"r."),CONCATENATE("za III kwartały ",I12,"r.")))) -> #VALUE!
E15: =CONCATENATE("EWIDENCJA SPRAW Z WYKAZU S W SĄDACH OKRĘGOWYCH ",Ustawienia!I8, " - ",UPPER(Ewidencja!F116)) -> EWIDENCJA SPRAW Z WYKAZU S W SĄDACH OKRĘGOWYCH ZA III KWARTAŁY 2014 r. - SO W GLIWICACH
E17: Wyszczególnienie | F17: Wpłynęło | G17: Załatwiono | M17: Pozostało | Q17: Ogólna kwota zasądzonych odszkodowań (PLN)
G19: ogółem | H19: w tym | M19: ogółem | N19: w tym od wpływu
H20: uwzględniono w całości lub części | J20: oddalono | K20: odrzucono | L20: w inny sposób | N20: do 2 mies. | O20: pow. 2 do 4 mies. | P20: ponad 4 mies.
H21: razem | I21: przez zarządzenie kwoty pieniężnej
E22: 0 | F22: 1 | G22: 2 | H22: 3 | I22: 4 | J22: 5 | K22: 6 | L22: 7 | M22: 8 | N22: 9 | O22: 10 | P22: 11 | Q22: 12
E24: Table
E26: =Ewidencja!G56 -> Ogółem spraw | F26: =Ewidencja!H116 -> 258 | G26: =Ewidencja!I116 -> 247 | H26: =Ewidencja!J116 -> 82 | I26: =Ewidencja!K116 -> 80 | J26: =Ewidencja!L116 -> 63 | K26: =Ewidencja!M116 -> 82 | L26: =Ewidencja!N116 -> 20 | M26: =Ewidencja!O116 -> 42 | ... Q26: =Ewidencja!S116 -> 248500
E27: =Ewidencja!G57 -> Karnych i wykroczeniowych | F27: =Ewidencja!H117 -> 57 | G27: =Ewidencja!I117 -> 57 | H27: =Ewidencja!J117 -> 7 | I27: =Ewidencja!K117 -> 6 | J27: =Ewidencja!L117 -> 20 | K27: =Ewidencja!M117 -> 18 | L27: =Ewidencja!N117 -> 12 | M27: =Ewidencja!O117 -> 7 | ... Q27: =Ewidencja!S117 -> 15000 | U27: =IF(ROUND(S27,1)=ROUND(T27,1),1,IF(ROUND(S27,1)>ROUND(U25,1),2,IF(ROUND(S27,1)<ROUND(T27,1),3,0))) -> 1
E28: =Ewidencja!G58 -> Cywilnych | F28: =Ewidencja!H118 -> 191 | G28: =Ewidencja!I118 -> 180 | H28: =Ewidencja!J118 -> 71 | I28: =Ewidencja!K118 -> 70 | J28: =Ewidencja!L118 -> 40 | K28: =Ewidencja!M118 -> 62 | L28: =Ewidencja!N118 -> 7 | M28: =Ewidencja!O118 -> 35 | ... Q28: =Ewidencja!S118 -> 224500 | U28: =IF(ROUND(S28,1)=ROUND(T28,1),1,IF(ROUND(S28,1)>ROUND(U26,1),2,IF(ROUND(S28,1)<ROUND(T28,1),3,0))) -> 1
E29: =Ewidencja!G59 -> Ubezpieczeniowych | F29: =Ewidencja!H119 -> 2 | G29: =Ewidencja!I119 -> 2 | H29: =Ewidencja!J119 -> 0 | I29: =Ewidencja!K119 -> 0 | J29: =Ewidencja!L119 -> 0 | K29: =Ewidencja!M119 -> 2 | L29: =Ewidencja!N119 -> 0 | M29: =Ewidencja!O119 -> 0 | ... Q29: =Ewidencja!S119 -> 0 | U29: =IF(ROUND(S29,1)=ROUND(T29,1),1,IF(ROUND(S29,1)>ROUND(U27,1),2,IF(ROUND(S29,1)<ROUND(T29,1),3,0))) -> 1
E30: =Ewidencja!G60 -> Pracy | F30: =Ewidencja!H120 -> 0 | G30: =Ewidencja!I120 -> 0 | H30: =Ewidencja!J120 -> 0 | I30: =Ewidencja!K120 -> 0 | J30: =Ewidencja!L120 -> 0 | K30: =Ewidencja!M120 -> 0 | L30: =Ewidencja!N120 -> 0 | M30: =Ewidencja!O120 -> 0 | ... Q30: =Ewidencja!S120 -> 0 | U30: =IF(ROUND(S30,1)=ROUND(T30,1),1,IF(ROUND(S30,1)>ROUND(U28,1),2,IF(ROUND(S30,1)<ROUND(T30,1),3,0))) -> 1
E31: =Ewidencja!G61 -> Gospodarczych | F31: =Ewidencja!H121 -> 8 | G31: =Ewidencja!I121 -> 8 | H31: =Ewidencja!J121 -> 4 | I31: =Ewidencja!K121 -> 4 | J31: =Ewidencja!L121 -> 3 | K31: =Ewidencja!M121 -> 0 | L31: =Ewidencja!N121 -> 1 | M31: =Ewidencja!O121 -> 0 | ... Q31: =Ewidencja!S121 -> 9000 | U31: =IF(ROUND(S31,1)=ROUND(T31,1),1,IF(ROUND(S31,1)>ROUND(U29,1),2,IF(ROUND(S31,1)<ROUND(T31,1),3,0))) -> 1
U32: =IF(ROUND(S32,1)=ROUND(T32,1),1,IF(ROUND(S32,1)>ROUND(U30,1),2,IF(ROUND(S32,1)<ROUND(T32,1),3,0))) -> 1
U33: =IF(ROUND(S33,1)=ROUND(T33,1),1,IF(ROUND(S33,1)>ROUND(U31,1),2,IF(ROUND(S33,1)<ROUND(T33,1),3,0))) -> 1
U34: =IF(ROUND(S34,1)=ROUND(T34,1),1,IF(ROUND(S34,1)>ROUND(U32,1),2,IF(ROUND(S34,1)<ROUND(T34,1),3,0))) -> 1
U35: =IF(ROUND(S35,1)=ROUND(T35,1),1,IF(ROUND(S35,1)>ROUND(U33,1),2,IF(ROUND(S35,1)<ROUND(T35,1),3,0))) -> 1
U36: =IF(ROUND(S36,1)=ROUND(T36,1),1,IF(ROUND(S36,1)>ROUND(U34,1),2,IF(ROUND(S36,1)<ROUND(T36,1),3,0))) -> 1
U37: =IF(ROUND(S37,1)=ROUND(T37,1),1,IF(ROUND(S37,1)>ROUND(U35,1),2,IF(ROUND(S37,1)<ROUND(T37,1),3,0))) -> 1

Sheet SO w Katowicach
H12: =TRUNC(RIGHT(E12,1)) -> #VALUE! | I12: =TRUNC(LEFT(E12,4)) -> #VALUE! | J12: =IF(H12=4,CONCATENATE("w ",I12,"r."),IF(H12=2,CONCATENATE("w I półroczu ",I12,"r."),IF(H12=1,CONCATENATE("w I kwartale ",I12,"r."),CONCATENATE("za III kwartały ",I12,"r.")))) -> #VALUE!
E15: =CONCATENATE("EWIDENCJA SPRAW Z WYKAZU S W SĄDACH OKRĘGOWYCH ",Ustawienia!I8, " - ",UPPER(Ewidencja!F122)) -> EWIDENCJA SPRAW Z WYKAZU S W SĄDACH OKRĘGOWYCH ZA III KWARTAŁY 2014 r. - SO W KATOWICACH
E17: Wyszczególnienie | F17: Wpłynęło | G17: Załatwiono | M17: Pozostało | Q17: Ogólna kwota zasądzonych odszkodowań (PLN)
G19: ogółem | H19: w tym | M19: ogółem | N19: w tym od wpływu
H20: uwzględniono w całości lub części | J20: oddalono | K20: odrzucono | L20: w inny sposób | N20: do 2 mies. | O20: pow. 2 do 4 mies. | P20: ponad 4 mies.
H21: razem | I21: przez zarządzenie kwoty pieniężnej
E22: 0 | F22: 1 | G22: 2 | H22: 3 | I22: 4 | J22: 5 | K22: 6 | L22: 7 | M22: 8 | N22: 9 | O22: 10 | P22: 11 | Q22: 12
E24: Table
E26: =Ewidencja!G56 -> Ogółem spraw | F26: =Ewidencja!H122 -> 348 | G26: =Ewidencja!I122 -> 334 | H26: =Ewidencja!J122 -> 57 | I26: =Ewidencja!K122 -> 54 | J26: =Ewidencja!L122 -> 92 | K26: =Ewidencja!M122 -> 127 | L26: =Ewidencja!N122 -> 58 | M26: =Ewidencja!O122 -> 41 | ... Q26: =Ewidencja!S122 -> 146500
E27: =Ewidencja!G57 -> Karnych i wykroczeniowych | F27: =Ewidencja!H123 -> 96 | G27: =Ewidencja!I123 -> 96 | H27: =Ewidencja!J123 -> 15 | I27: =Ewidencja!K123 -> 15 | J27: =Ewidencja!L123 -> 30 | K27: =Ewidencja!M123 -> 15 | L27: =Ewidencja!N123 -> 36 | M27: =Ewidencja!O123 -> 8 | ... Q27: =Ewidencja!S123 -> 47000 | U27: =IF(ROUND(S27,1)=ROUND(T27,1),1,IF(ROUND(S27,1)>ROUND(U25,1),2,IF(ROUND(S27,1)<ROUND(T27,1),3,0))) -> 1
E28: =Ewidencja!G58 -> Cywilnych | F28: =Ewidencja!H124 -> 211 | G28: =Ewidencja!I124 -> 199 | H28: =Ewidencja!J124 -> 26 | I28: =Ewidencja!K124 -> 24 | J28: =Ewidencja!L124 -> 49 | K28: =Ewidencja!M124 -> 103 | L28: =Ewidencja!N124 -> 21 | M28: =Ewidencja!O124 -> 27 | ... Q28: =Ewidencja!S124 -> 66500 | U28: =IF(ROUND(S28,1)=ROUND(T28,1),1,IF(ROUND(S28,1)>ROUND(U26,1),2,IF(ROUND(S28,1)<ROUND(T28,1),3,0))) -> 1
E29: =Ewidencja!G59 -> Ubezpieczeniowych | F29: =Ewidencja!H125 -> 2 | G29: =Ewidencja!I125 -> 2 | H29: =Ewidencja!J125 -> 0 | I29: =Ewidencja!K125 -> 0 | J29: =Ewidencja!L125 -> 1 | K29: =Ewidencja!M125 -> 1 | L29: =Ewidencja!N125 -> 0 | M29: =Ewidencja!O125 -> 0 | ... Q29: =Ewidencja!S125 -> 0 | U29: =IF(ROUND(S29,1)=ROUND(T29,1),1,IF(ROUND(S29,1)>ROUND(U27,1),2,IF(ROUND(S29,1)<ROUND(T29,1),3,0))) -> 1
E30: =Ewidencja!G60 -> Pracy | F30: =Ewidencja!H126 -> 7 | G30: =Ewidencja!I126 -> 8 | H30: =Ewidencja!J126 -> 1 | I30: =Ewidencja!K126 -> 0 | J30: =Ewidencja!L126 -> 2 | K30: =Ewidencja!M126 -> 5 | L30: =Ewidencja!N126 -> 0 | M30: =Ewidencja!O126 -> 0 | ... Q30: =Ewidencja!S126 -> 0 | U30: =IF(ROUND(S30,1)=ROUND(T30,1),1,IF(ROUND(S30,1)>ROUND(U28,1),2,IF(ROUND(S30,1)<ROUND(T30,1),3,0))) -> 1
E31: =Ewidencja!G61 -> Gospodarczych | F31: =Ewidencja!H127 -> 32 | G31: =Ewidencja!I127 -> 29 | H31: =Ewidencja!J127 -> 15 | I31: =Ewidencja!K127 -> 15 | J31: =Ewidencja!L127 -> 10 | K31: =Ewidencja!M127 -> 3 | L31: =Ewidencja!N127 -> 1 | M31: =Ewidencja!O127 -> 6 | ... Q31: =Ewidencja!S127 -> 33000 | U31: =IF(ROUND(S31,1)=ROUND(T31,1),1,IF(ROUND(S31,1)>ROUND(U29,1),2,IF(ROUND(S31,1)<ROUND(T31,1),3,0))) -> 1
U32: =IF(ROUND(S32,1)=ROUND(T32,1),1,IF(ROUND(S32,1)>ROUND(U30,1),2,IF(ROUND(S32,1)<ROUND(T32,1),3,0))) -> 1
U33: =IF(ROUND(S33,1)=ROUND(T33,1),1,IF(ROUND(S33,1)>ROUND(U31,1),2,IF(ROUND(S33,1)<ROUND(T33,1),3,0))) -> 1
U34: =IF(ROUND(S34,1)=ROUND(T34,1),1,IF(ROUND(S34,1)>ROUND(U32,1),2,IF(ROUND(S34,1)<ROUND(T34,1),3,0))) -> 1
U35: =IF(ROUND(S35,1)=ROUND(T35,1),1,IF(ROUND(S35,1)>ROUND(U33,1),2,IF(ROUND(S35,1)<ROUND(T35,1),3,0))) -> 1
U36: =IF(ROUND(S36,1)=ROUND(T36,1),1,IF(ROUND(S36,1)>ROUND(U34,1),2,IF(ROUND(S36,1)<ROUND(T36,1),3,0))) -> 1
U37: =IF(ROUND(S37,1)=ROUND(T37,1),1,IF(ROUND(S37,1)>ROUND(U35,1),2,IF(ROUND(S37,1)<ROUND(T37,1),3,0))) -> 1

Sheet Apelacja Krakowska
H12: =TRUNC(RIGHT(E12,1)) -> #VALUE! | I12: =TRUNC(LEFT(E12,4)) -> #VALUE! | J12: =IF(H12=4,CONCATENATE("w ",I12,"r."),IF(H12=2,CONCATENATE("w I półroczu ",I12,"r."),IF(H12=1,CONCATENATE("w I kwartale ",I12,"r."),CONCATENATE("za III kwartały ",I12,"r.")))) -> #VALUE!
E15: =CONCATENATE("EWIDENCJA SPRAW Z WYKAZU S W SĄDACH OKRĘGOWYCH ",Ustawienia!I8, " - ",UPPER(Ewidencja!E134)) -> EWIDENCJA SPRAW Z WYKAZU S W SĄDACH OKRĘGOWYCH ZA III KWARTAŁY 2014 r. - APELACJA KRAKOWSKA
E17: Wyszczególnienie | F17: Wpłynęło | G17: Załatwiono | M17: Pozostało | Q17: Ogólna kwota zasądzonych odszkodowań (PLN)
G19: ogółem | H19: w tym | M19: ogółem | N19: w tym od wpływu
H20: uwzględniono w całości lub części | J20: oddalono | K20: odrzucono | L20: w inny sposób | N20: do 2 mies. | O20: pow. 2 do 4 mies. | P20: ponad 4 mies.
H21: razem | I21: przez zarządzenie kwoty pieniężnej
E22: 0 | F22: 1 | G22: 2 | H22: 3 | I22: 4 | J22: 5 | K22: 6 | L22: 7 | M22: 8 | N22: 9 | O22: 10 | P22: 11 | Q22: 12
E24: Table
E26: =Ewidencja!G56 -> Ogółem spraw | F26: =Ewidencja!H158 -> 486 | G26: =Ewidencja!I158 -> 464 | H26: =Ewidencja!J158 -> 66 | I26: =Ewidencja!K158 -> 64 | J26: =Ewidencja!L158 -> 157 | K26: =Ewidencja!M158 -> 156 | L26: =Ewidencja!N158 -> 85 | M26: =Ewidencja!O158 -> 62 | ... Q26: =Ewidencja!S158 -> 189600
E27: =Ewidencja!G57 -> Karnych i wykroczeniowych | F27: =Ewidencja!H159 -> 110 | G27: =Ewidencja!I159 -> 94 | H27: =Ewidencja!J159 -> 5 | I27: =Ewidencja!K159 -> 5 | J27: =Ewidencja!L159 -> 30 | K27: =Ewidencja!M159 -> 7 | L27: =Ewidencja!N159 -> 52 | M27: =Ewidencja!O159 -> 23 | ... Q27: =Ewidencja!S159 -> 13000 | U27: =IF(ROUND(S27,1)=ROUND(T27,1),1,IF(ROUND(S27,1)>ROUND(U25,1),2,IF(ROUND(S27,1)<ROUND(T27,1),3,0))) -> 1
E28: =Ewidencja!G58 -> Cywilnych | F28: =Ewidencja!H160 -> 318 | G28: =Ewidencja!I160 -> 312 | H28: =Ewidencja!J160 -> 48 | I28: =Ewidencja!K160 -> 46 | J28: =Ewidencja!L160 -> 97 | K28: =Ewidencja!M160 -> 138 | L28: =Ewidencja!N160 -> 29 | M28: =Ewidencja!O160 -> 35 | ... Q28: =Ewidencja!S160 -> 144600 | U28: =IF(ROUND(S28,1)=ROUND(T28,1),1,IF(ROUND(S28,1)>ROUND(U26,1),2,IF(ROUND(S28,1)<ROUND(T28,1),3,0))) -> 1
E29: =Ewidencja!G59 -> Ubezpieczeniowych | F29: =Ewidencja!H161 -> 5 | G29: =Ewidencja!I161 -> 5 | H29: =Ewidencja!J161 -> 0 | I29: =Ewidencja!K161 -> 0 | J29: =Ewidencja!L161 -> 4 | K29: =Ewidencja!M161 -> 1 | L29: =Ewidencja!N161 -> 0 | M29: =Ewidencja!O161 -> 0 | ... Q29: =Ewidencja!S161 -> 0 | U29: =IF(ROUND(S29,1)=ROUND(T29,1),1,IF(ROUND(S29,1)>ROUND(U27,1),2,IF(ROUND(S29,1)<ROUND(T29,1),3,0))) -> 1
E30: =Ewidencja!G60 -> Pracy | F30: =Ewidencja!H162 -> 15 | G30: =Ewidencja!I162 -> 17 | H30: =Ewidencja!J162 -> 8 | I30: =Ewidencja!K162 -> 8 | J30: =Ewidencja!L162 -> 4 | K30: =Ewidencja!M162 -> 5 | L30: =Ewidencja!N162 -> 0 | M30: =Ewidencja!O162 -> 0 | ... Q30: =Ewidencja!S162 -> 20000 | U30: =IF(ROUND(S30,1)=ROUND(T30,1),1,IF(ROUND(S30,1)>ROUND(U28,1),2,IF(ROUND(S30,1)<ROUND(T30,1),3,0))) -> 1
E31: =Ewidencja!G61 -> Gospodarczych | F31: =Ewidencja!H163 -> 38 | G31: =Ewidencja!I163 -> 36 | H31: =Ewidencja!J163 -> 5 | I31: =Ewidencja!K163 -> 5 | J31: =Ewidencja!L163 -> 22 | K31: =Ewidencja!M163 -> 5 | L31: =Ewidencja!N163 -> 4 | M31: =Ewidencja!O163 -> 4 | ... Q31: =Ewidencja!S163 -> 12000 | U31: =IF(ROUND(S31,1)=ROUND(T31,1),1,IF(ROUND(S31,1)>ROUND(U29,1),2,IF(ROUND(S31,1)<ROUND(T31,1),3,0))) -> 1
U32: =IF(ROUND(S32,1)=ROUND(T32,1),1,IF(ROUND(S32,1)>ROUND(U30,1),2,IF(ROUND(S32,1)<ROUND(T32,1),3,0))) -> 1
U33: =IF(ROUND(S33,1)=ROUND(T33,1),1,IF(ROUND(S33,1)>ROUND(U31,1),2,IF(ROUND(S33,1)<ROUND(T33,1),3,0))) -> 1
U34: =IF(ROUND(S34,1)=ROUND(T34,1),1,IF(ROUND(S34,1)>ROUND(U32,1),2,IF(ROUND(S34,1)<ROUND(T34,1),3,0))) -> 1
U35: =IF(ROUND(S35,1)=ROUND(T35,1),1,IF(ROUND(S35,1)>ROUND(U33,1),2,IF(ROUND(S35,1)<ROUND(T35,1),3,0))) -> 1
U36: =IF(ROUND(S36,1)=ROUND(T36,1),1,IF(ROUND(S36,1)>ROUND(U34,1),2,IF(ROUND(S36,1)<ROUND(T36,1),3,0))) -> 1
U37: =IF(ROUND(S37,1)=ROUND(T37,1),1,IF(ROUND(S37,1)>ROUND(U35,1),2,IF(ROUND(S37,1)<ROUND(T37,1),3,0))) -> 1

Sheet SO w Kielcach
H12: =TRUNC(RIGHT(E12,1)) -> #VALUE! | I12: =TRUNC(LEFT(E12,4)) -> #VALUE! | J12: =IF(H12=4,CONCATENATE("w ",I12,"r."),IF(H12=2,CONCATENATE("w I półroczu ",I12,"r."),IF(H12=1,CONCATENATE("w I kwartale ",I12,"r."),CONCATENATE("za III kwartały ",I12,"r.")))) -> #VALUE!
E15: =CONCATENATE("EWIDENCJA SPRAW Z WYKAZU S W SĄDACH OKRĘGOWYCH ",Ustawienia!I8, " - ",UPPER(Ewidencja!F134)) -> EWIDENCJA SPRAW Z WYKAZU S W SĄDACH OKRĘGOWYCH ZA III KWARTAŁY 2014 r. - SO W KIELCACH
E17: Wyszczególnienie | F17: Wpłynęło | G17: Załatwiono | M17: Pozostało | Q17: Ogólna kwota zasądzonych odszkodowań (PLN)
G19: ogółem | H19: w tym | M19: ogółem | N19: w tym od wpływu
H20: uwzględniono w całości lub części | J20: oddalono | K20: odrzucono | L20: w inny sposób | N20: do 2 mies. | O20: pow. 2 do 4 mies. | P20: ponad 4 mies.
H21: razem | I21: przez zarządzenie kwoty pieniężnej
E22: 0 | F22: 1 | G22: 2 | H22: 3 | I22: 4 | J22: 5 | K22: 6 | L22: 7 | M22: 8 | N22: 9 | O22: 10 | P22: 11 | Q22: 12
E24: Table
E26: =Ewidencja!G56 -> Ogółem spraw | F26: =Ewidencja!H134 -> 86 | G26: =Ewidencja!I134 -> 78 | H26: =Ewidencja!J134 -> 10 | I26: =Ewidencja!K134 -> 10 | J26: =Ewidencja!L134 -> 27 | K26: =Ewidencja!M134 -> 20 | L26: =Ewidencja!N134 -> 21 | M26: =Ewidencja!O134 -> 12 | ... Q26: =Ewidencja!S134 -> 27000
E27: =Ewidencja!G57 -> Karnych i wykroczeniowych | F27: =Ewidencja!H135 -> 31 | G27: =Ewidencja!I135 -> 26 | H27: =Ewidencja!J135 -> 1 | I27: =Ewidencja!K135 -> 1 | J27: =Ewidencja!L135 -> 4 | K27: =Ewidencja!M135 -> 3 | L27: =Ewidencja!N135 -> 18 | M27: =Ewidencja!O135 -> 5 | ... Q27: =Ewidencja!S135 -> 2000 | U27: =IF(ROUND(S27,1)=ROUND(T27,1),1,IF(ROUND(S27,1)>ROUND(U25,1),2,IF(ROUND(S27,1)<ROUND(T27,1),3,0))) -> 1
E28: =Ewidencja!G58 -> Cywilnych | F28: =Ewidencja!H136 -> 35 | G28: =Ewidencja!I136 -> 32 | H28: =Ewidencja!J136 -> 6 | I28: =Ewidencja!K136 -> 6 | J28: =Ewidencja!L136 -> 8 | K28: =Ewidencja!M136 -> 15 | L28: =Ewidencja!N136 -> 3 | M28: =Ewidencja!O136 -> 6 | ... Q28: =Ewidencja!S136 -> 17000 | U28: =IF(ROUND(S28,1)=ROUND(T28,1),1,IF(ROUND(S28,1)>ROUND(U26,1),2,IF(ROUND(S28,1)<ROUND(T28,1),3,0))) -> 1
E29: =Ewidencja!G59 -> Ubezpieczeniowych | F29: =Ewidencja!H137 -> 1 | G29: =Ewidencja!I137 -> 1 | H29: =Ewidencja!J137 -> 0 | I29: =Ewidencja!K137 -> 0 | J29: =Ewidencja!L137 -> 0 | K29: =Ewidencja!M137 -> 1 | L29: =Ewidencja!N137 -> 0 | M29: =Ewidencja!O137 -> 0 | ... Q29: =Ewidencja!S137 -> 0 | U29: =IF(ROUND(S29,1)=ROUND(T29,1),1,IF(ROUND(S29,1)>ROUND(U27,1),2,IF(ROUND(S29,1)<ROUND(T29,1),3,0))) -> 1
E30: =Ewidencja!G60 -> Pracy | F30: =Ewidencja!H138 -> 1 | G30: =Ewidencja!I138 -> 1 | H30: =Ewidencja!J138 -> 0 | I30: =Ewidencja!K138 -> 0 | J30: =Ewidencja!L138 -> 1 | K30: =Ewidencja!M138 -> 0 | L30: =Ewidencja!N138 -> 0 | M30: =Ewidencja!O138 -> 0 | ... Q30: =Ewidencja!S138 -> 0 | U30: =IF(ROUND(S30,1)=ROUND(T30,1),1,IF(ROUND(S30,1)>ROUND(U28,1),2,IF(ROUND(S30,1)<ROUND(T30,1),3,0))) -> 1
E31: =Ewidencja!G61 -> Gospodarczych | F31: =Ewidencja!H139 -> 18 | G31: =Ewidencja!I139 -> 18 | H31: =Ewidencja!J139 -> 3 | I31: =Ewidencja!K139 -> 3 | J31: =Ewidencja!L139 -> 14 | K31: =Ewidencja!M139 -> 1 | L31: =Ewidencja!N139 -> 0 | M31: =Ewidencja!O139 -> 1 | ... Q31: =Ewidencja!S139 -> 8000 | U31: =IF(ROUND(S31,1)=ROUND(T31,1),1,IF(ROUND(S31,1)>ROUND(U29,1),2,IF(ROUND(S31,1)<ROUND(T31,1),3,0))) -> 1
U32: =IF(ROUND(S32,1)=ROUND(T32,1),1,IF(ROUND(S32,1)>ROUND(U30,1),2,IF(ROUND(S32,1)<ROUND(T32,1),3,0))) -> 1
U33: =IF(ROUND(S33,1)=ROUND(T33,1),1,IF(ROUND(S33,1)>ROUND(U31,1),2,IF(ROUND(S33,1)<ROUND(T33,1),3,0))) -> 1
U34: =IF(ROUND(S34,1)=ROUND(T34,1),1,IF(ROUND(S34,1)>ROUND(U32,1),2,IF(ROUND(S34,1)<ROUND(T34,1),3,0))) -> 1
U35: =IF(ROUND(S35,1)=ROUND(T35,1),1,IF(ROUND(S35,1)>ROUND(U33,1),2,IF(ROUND(S35,1)<ROUND(T35,1),3,0))) -> 1
U36: =IF(ROUND(S36,1)=ROUND(T36,1),1,IF(ROUND(S36,1)>ROUND(U34,1),2,IF(ROUND(S36,1)<ROUND(T36,1),3,0))) -> 1
U37: =IF(ROUND(S37,1)=ROUND(T37,1),1,IF(ROUND(S37,1)>ROUND(U35,1),2,IF(ROUND(S37,1)<ROUND(T37,1),3,0))) -> 1

Sheet SO w Krakowie
H12: =TRUNC(RIGHT(E12,1)) -> #VALUE! | I12: =TRUNC(LEFT(E12,4)) -> #VALUE! | J12: =IF(H12=4,CONCATENATE("w ",I12,"r."),IF(H12=2,CONCATENATE("w I półroczu ",I12,"r."),IF(H12=1,CONCATENATE("w I kwartale ",I12,"r."),CONCATENATE("za III kwartały ",I12,"r.")))) -> #VALUE!
E15: =CONCATENATE("EWIDENCJA SPRAW Z WYKAZU S W SĄDACH OKRĘGOWYCH ",Ustawienia!I8, " - ",UPPER(Ewidencja!F140)) -> EWIDENCJA SPRAW Z WYKAZU S W SĄDACH OKRĘGOWYCH ZA III KWARTAŁY 2014 r. - SO W KRAKOWIE
E17: Wyszczególnienie | F17: Wpłynęło | G17: Załatwiono | M17: Pozostało | Q17: Ogólna kwota zasądzonych odszkodowań (PLN)
G19: ogółem | H19: w tym | M19: ogółem | N19: w tym od wpływu
H20: uwzględniono w całości lub części | J20: oddalono | K20: odrzucono | L20: w inny sposób | N20: do 2 mies. | O20: pow. 2 do 4 mies. | P20: ponad 4 mies.
H21: razem | I21: przez zarządzenie kwoty pieniężnej
E22: 0 | F22: 1 | G22: 2 | H22: 3 | I22: 4 | J22: 5 | K22: 6 | L22: 7 | M22: 8 | N22: 9 | O22: 10 | P22: 11 | Q22: 12
E24: Table
E26: =Ewidencja!G56 -> Ogółem spraw | F26: =Ewidencja!H140 -> 288 | G26: =Ewidencja!I140 -> 275 | H26: =Ewidencja!J140 -> 52 | I26: =Ewidencja!K140 -> 50 | J26: =Ewidencja!L140 -> 94 | K26: =Ewidencja!M140 -> 76 | L26: =Ewidencja!N140 -> 53 | M26: =Ewidencja!O140 -> 45 | ... Q26: =Ewidencja!S140 -> 154600
E27: =Ewidencja!G57 -> Karnych i wykroczeniowych | F27: =Ewidencja!H141 -> 51 | G27: =Ewidencja!I141 -> 41 | H27: =Ewidencja!J141 -> 3 | I27: =Ewidencja!K141 -> 3 | J27: =Ewidencja!L141 -> 10 | K27: =Ewidencja!M141 -> 3 | L27: =Ewidencja!N141 -> 25 | M27: =Ewidencja!O141 -> 17 | ... Q27: =Ewidencja!S141 -> 9000 | U27: =IF(ROUND(S27,1)=ROUND(T27,1),1,IF(ROUND(S27,1)>ROUND(U25,1),2,IF(ROUND(S27,1)<ROUND(T27,1),3,0))) -> 1
E28: =Ewidencja!G58 -> Cywilnych | F28: =Ewidencja!H142 -> 199 | G28: =Ewidencja!I142 -> 196 | H28: =Ewidencja!J142 -> 39 | I28: =Ewidencja!K142 -> 37 | J28: =Ewidencja!L142 -> 69 | K28: =Ewidencja!M142 -> 64 | L28: =Ewidencja!N142 -> 24 | M28: =Ewidencja!O142 -> 25 | ... Q28: =Ewidencja!S142 -> 121600 | U28: =IF(ROUND(S28,1)=ROUND(T28,1),1,IF(ROUND(S28,1)>ROUND(U26,1),2,IF(ROUND(S28,1)<ROUND(T28,1),3,0))) -> 1
E29: =Ewidencja!G59 -> Ubezpieczeniowych | F29: =Ewidencja!H143 -> 4 | G29: =Ewidencja!I143 -> 4 | H29: =Ewidencja!J143 -> 0 | I29: =Ewidencja!K143 -> 0 | J29: =Ewidencja!L143 -> 4 | K29: =Ewidencja!M143 -> 0 | L29: =Ewidencja!N143 -> 0 | M29: =Ewidencja!O143 -> 0 | ... Q29: =Ewidencja!S143 -> 0 | U29: =IF(ROUND(S29,1)=ROUND(T29,1),1,IF(ROUND(S29,1)>ROUND(U27,1),2,IF(ROUND(S29,1)<ROUND(T29,1),3,0))) -> 1
E30: =Ewidencja!G60 -> Pracy | F30: =Ewidencja!H144 -> 14 | G30: =Ewidencja!I144 -> 16 | H30: =Ewidencja!J144 -> 8 | I30: =Ewidencja!K144 -> 8 | J30: =Ewidencja!L144 -> 3 | K30: =Ewidencja!M144 -> 5 | L30: =Ewidencja!N144 -> 0 | M30: =Ewidencja!O144 -> 0 | ... Q30: =Ewidencja!S144 -> 20000 | U30: =IF(ROUND(S30,1)=ROUND(T30,1),1,IF(ROUND(S30,1)>ROUND(U28,1),2,IF(ROUND(S30,1)<ROUND(T30,1),3,0))) -> 1
E31: =Ewidencja!G61 -> Gospodarczych | F31: =Ewidencja!H145 -> 20 | G31: =Ewidencja!I145 -> 18 | H31: =Ewidencja!J145 -> 2 | I31: =Ewidencja!K145 -> 2 | J31: =Ewidencja!L145 -> 8 | K31: =Ewidencja!M145 -> 4 | L31: =Ewidencja!N145 -> 4 | M31: =Ewidencja!O145 -> 3 | ... Q31: =Ewidencja!S145 -> 4000 | U31: =IF(ROUND(S31,1)=ROUND(T31,1),1,IF(ROUND(S31,1)>ROUND(U29,1),2,IF(ROUND(S31,1)<ROUND(T31,1),3,0))) -> 1
U32: =IF(ROUND(S32,1)=ROUND(T32,1),1,IF(ROUND(S32,1)>ROUND(U30,1),2,IF(ROUND(S32,1)<ROUND(T32,1),3,0))) -> 1
U33: =IF(ROUND(S33,1)=ROUND(T33,1),1,IF(ROUND(S33,1)>ROUND(U31,1),2,IF(ROUND(S33,1)<ROUND(T33,1),3,0))) -> 1
U34: =IF(ROUND(S34,1)=ROUND(T34,1),1,IF(ROUND(S34,1)>ROUND(U32,1),2,IF(ROUND(S34,1)<ROUND(T34,1),3,0))) -> 1
U35: =IF(ROUND(S35,1)=ROUND(T35,1),1,IF(ROUND(S35,1)>ROUND(U33,1),2,IF(ROUND(S35,1)<ROUND(T35,1),3,0))) -> 1
U36: =IF(ROUND(S36,1)=ROUND(T36,1),1,IF(ROUND(S36,1)>ROUND(U34,1),2,IF(ROUND(S36,1)<ROUND(T36,1),3,0))) -> 1
U37: =IF(ROUND(S37,1)=ROUND(T37,1),1,IF(ROUND(S37,1)>ROUND(U35,1),2,IF(ROUND(S37,1)<ROUND(T37,1),3,0))) -> 1

Sheet SO w Nowym Sączu
H12: =TRUNC(RIGHT(E12,1)) -> #VALUE! | I12: =TRUNC(LEFT(E12,4)) -> #VALUE! | J12: =IF(H12=4,CONCATENATE("w ",I12,"r."),IF(H12=2,CONCATENATE("w I półroczu ",I12,"r."),IF(H12=1,CONCATENATE("w I kwartale ",I12,"r."),CONCATENATE("za III kwartały ",I12,"r.")))) -> #VALUE!
E15: =CONCATENATE("EWIDENCJA SPRAW Z WYKAZU S W SĄDACH OKRĘGOWYCH ",Ustawienia!I8, " - ",UPPER(Ewidencja!F146)) -> EWIDENCJA SPRAW Z WYKAZU S W SĄDACH OKRĘGOWYCH ZA III KWARTAŁY 2014 r. - SO W NOWYM SĄCZU
E17: Wyszczególnienie | F17: Wpłynęło | G17: Załatwiono | M17: Pozostało | Q17: Ogólna kwota zasądzonych odszkodowań (PLN)
G19: ogółem | H19: w tym | M19: ogółem | N19: w tym od wpływu
H20: uwzględniono w całości lub części | J20: oddalono | K20: odrzucono | L20: w inny sposób | N20: do 2 mies. | O20: pow. 2 do 4 mies. | P20: ponad 4 mies.
H21: razem | I21: przez zarządzenie kwoty pieniężnej
E22: 0 | F22: 1 | G22: 2 | H22: 3 | I22: 4 | J22: 5 | K22: 6 | L22: 7 | M22: 8 | N22: 9 | O22: 10 | P22: 11 | Q22: 12
E24: Table
E26: =Ewidencja!G56 -> Ogółem spraw | F26: =Ewidencja!H146 -> 79 | G26: =Ewidencja!I146 -> 77 | H26: =Ewidencja!J146 -> 4 | I26: =Ewidencja!K146 -> 4 | J26: =Ewidencja!L146 -> 14 | K26: =Ewidencja!M146 -> 53 | L26: =Ewidencja!N146 -> 6 | M26: =Ewidencja!O146 -> 5 | ... Q26: =Ewidencja!S146 -> 8000
E27: =Ewidencja!G57 -> Karnych i wykroczeniowych | F27: =Ewidencja!H147 -> 10 | G27: =Ewidencja!I147 -> 9 | H27: =Ewidencja!J147 -> 1 | I27: =Ewidencja!K147 -> 1 | J27: =Ewidencja!L147 -> 4 | K27: =Ewidencja!M147 -> 0 | L27: =Ewidencja!N147 -> 4 | M27: =Ewidencja!O147 -> 1 | ... Q27: =Ewidencja!S147 -> 2000 | U27: =IF(ROUND(S27,1)=ROUND(T27,1),1,IF(ROUND(S27,1)>ROUND(U25,1),2,IF(ROUND(S27,1)<ROUND(T27,1),3,0))) -> 1
E28: =Ewidencja!G58 -> Cywilnych | F28: =Ewidencja!H148 -> 69 | G28: =Ewidencja!I148 -> 68 | H28: =Ewidencja!J148 -> 3 | I28: =Ewidencja!K148 -> 3 | J28: =Ewidencja!L148 -> 10 | K28: =Ewidencja!M148 -> 53 | L28: =Ewidencja!N148 -> 2 | M28: =Ewidencja!O148 -> 4 | ... Q28: =Ewidencja!S148 -> 6000 | U28: =IF(ROUND(S28,1)=ROUND(T28,1),1,IF(ROUND(S28,1)>ROUND(U26,1),2,IF(ROUND(S28,1)<ROUND(T28,1),3,0))) -> 1
E29: =Ewidencja!G59 -> Ubezpieczeniowych | F29: =Ewidencja!H149 -> 0 | G29: =Ewidencja!I149 -> 0 | H29: =Ewidencja!J149 -> 0 | I29: =Ewidencja!K149 -> 0 | J29: =Ewidencja!L149 -> 0 | K29: =Ewidencja!M149 -> 0 | L29: =Ewidencja!N149 -> 0 | M29: =Ewidencja!O149 -> 0 | ... Q29: =Ewidencja!S149 -> 0 | U29: =IF(ROUND(S29,1)=ROUND(T29,1),1,IF(ROUND(S29,1)>ROUND(U27,1),2,IF(ROUND(S29,1)<ROUND(T29,1),3,0))) -> 1
E30: =Ewidencja!G60 -> Pracy | F30: =Ewidencja!H150 -> 0 | G30: =Ewidencja!I150 -> 0 | H30: =Ewidencja!J150 -> 0 | I30: =Ewidencja!K150 -> 0 | J30: =Ewidencja!L150 -> 0 | K30: =Ewidencja!M150 -> 0 | L30: =Ewidencja!N150 -> 0 | M30: =Ewidencja!O150 -> 0 | ... Q30: =Ewidencja!S150 -> 0 | U30: =IF(ROUND(S30,1)=ROUND(T30,1),1,IF(ROUND(S30,1)>ROUND(U28,1),2,IF(ROUND(S30,1)<ROUND(T30,1),3,0))) -> 1
E31: =Ewidencja!G61 -> Gospodarczych | F31: =Ewidencja!H151 -> 0 | G31: =Ewidencja!I151 -> 0 | H31: =Ewidencja!J151 -> 0 | I31: =Ewidencja!K151 -> 0 | J31: =Ewidencja!L151 -> 0 | K31: =Ewidencja!M151 -> 0 | L31: =Ewidencja!N151 -> 0 | M31: =Ewidencja!O151 -> 0 | ... Q31: =Ewidencja!S151 -> 0 | U31: =IF(ROUND(S31,1)=ROUND(T31,1),1,IF(ROUND(S31,1)>ROUND(U29,1),2,IF(ROUND(S31,1)<ROUND(T31,1),3,0))) -> 1
U32: =IF(ROUND(S32,1)=ROUND(T32,1),1,IF(ROUND(S32,1)>ROUND(U30,1),2,IF(ROUND(S32,1)<ROUND(T32,1),3,0))) -> 1
U33: =IF(ROUND(S33,1)=ROUND(T33,1),1,IF(ROUND(S33,1)>ROUND(U31,1),2,IF(ROUND(S33,1)<ROUND(T33,1),3,0))) -> 1
U34: =IF(ROUND(S34,1)=ROUND(T34,1),1,IF(ROUND(S34,1)>ROUND(U32,1),2,IF(ROUND(S34,1)<ROUND(T34,1),3,0))) -> 1
U35: =IF(ROUND(S35,1)=ROUND(T35,1),1,IF(ROUND(S35,1)>ROUND(U33,1),2,IF(ROUND(S35,1)<ROUND(T35,1),3,0))) -> 1
U36: =IF(ROUND(S36,1)=ROUND(T36,1),1,IF(ROUND(S36,1)>ROUND(U34,1),2,IF(ROUND(S36,1)<ROUND(T36,1),3,0))) -> 1
U37: =IF(ROUND(S37,1)=ROUND(T37,1),1,IF(ROUND(S37,1)>ROUND(U35,1),2,IF(ROUND(S37,1)<ROUND(T37,1),3,0))) -> 1

Sheet SO w Tarnowie
H12: =TRUNC(RIGHT(E12,1)) -> #VALUE! | I12: =TRUNC(LEFT(E12,4)) -> #VALUE! | J12: =IF(H12=4,CONCATENATE("w ",I12,"r."),IF(H12=2,CONCATENATE("w I półroczu ",I12,"r."),IF(H12=1,CONCATENATE("w I kwartale ",I12,"r."),CONCATENATE("za III kwartały ",I12,"r.")))) -> #VALUE!
E15: =CONCATENATE("EWIDENCJA SPRAW Z WYKAZU S W SĄDACH OKRĘGOWYCH ",Ustawienia!I8, " - ",UPPER(Ewidencja!F152)) -> EWIDENCJA SPRAW Z WYKAZU S W SĄDACH OKRĘGOWYCH ZA III KWARTAŁY 2014 r. - SO W TARNOWIE
E17: Wyszczególnienie | F17: Wpłynęło | G17: Załatwiono | M17: Pozostało | Q17: Ogólna kwota zasądzonych odszkodowań (PLN)
G19: ogółem | H19: w tym | M19: ogółem | N19: w tym od wpływu
H20: uwzględniono w całości lub części | J20: oddalono | K20: odrzucono | L20: w inny sposób | N20: do 2 mies. | O20: pow. 2 do 4 mies. | P20: ponad 4 mies.
H21: razem | I21: przez zarządzenie kwoty pieniężnej
E22: 0 | F22: 1 | G22: 2 | H22: 3 | I22: 4 | J22: 5 | K22: 6 | L22: 7 | M22: 8 | N22: 9 | O22: 10 | P22: 11 | Q22: 12
E24: Table
E26: =Ewidencja!G56 -> Ogółem spraw | F26: =Ewidencja!H152 -> 33 | G26: =Ewidencja!I152 -> 34 | H26: =Ewidencja!J152 -> 0 | I26: =Ewidencja!K152 -> 0 | J26: =Ewidencja!L152 -> 22 | K26: =Ewidencja!M152 -> 7 | L26: =Ewidencja!N152 -> 5 | M26: =Ewidencja!O152 -> 0 | ... Q26: =Ewidencja!S152 -> 0
E27: =Ewidencja!G57 -> Karnych i wykroczeniowych | F27: =Ewidencja!H153 -> 18 | G27: =Ewidencja!I153 -> 18 | H27: =Ewidencja!J153 -> 0 | I27: =Ewidencja!K153 -> 0 | J27: =Ewidencja!L153 -> 12 | K27: =Ewidencja!M153 -> 1 | L27: =Ewidencja!N153 -> 5 | M27: =Ewidencja!O153 -> 0 | ... Q27: =Ewidencja!S153 -> 0 | U27: =IF(ROUND(S27,1)=ROUND(T27,1),1,IF(ROUND(S27,1)>ROUND(U25,1),2,IF(ROUND(S27,1)<ROUND(T27,1),3,0))) -> 1
E28: =Ewidencja!G58 -> Cywilnych | F28: =Ewidencja!H154 -> 15 | G28: =Ewidencja!I154 -> 16 | H28: =Ewidencja!J154 -> 0 | I28: =Ewidencja!K154 -> 0 | J28: =Ewidencja!L154 -> 10 | K28: =Ewidencja!M154 -> 6 | L28: =Ewidencja!N154 -> 0 | M28: =Ewidencja!O154 -> 0 | ... Q28: =Ewidencja!S154 -> 0 | U28: =IF(ROUND(S28,1)=ROUND(T28,1),1,IF(ROUND(S28,1)>ROUND(U26,1),2,IF(ROUND(S28,1)<ROUND(T28,1),3,0))) -> 1
E29: =Ewidencja!G59 -> Ubezpieczeniowych | F29: =Ewidencja!H155 -> 0 | G29: =Ewidencja!I155 -> 0 | H29: =Ewidencja!J155 -> 0 | I29: =Ewidencja!K155 -> 0 | J29: =Ewidencja!L155 -> 0 | K29: =Ewidencja!M155 -> 0 | L29: =Ewidencja!N155 -> 0 | M29: =Ewidencja!O155 -> 0 | ... Q29: =Ewidencja!S155 -> 0 | U29: =IF(ROUND(S29,1)=ROUND(T29,1),1,IF(ROUND(S29,1)>ROUND(U27,1),2,IF(ROUND(S29,1)<ROUND(T29,1),3,0))) -> 1
E30: =Ewidencja!G60 -> Pracy | F30: =Ewidencja!H156 -> 0 | G30: =Ewidencja!I156 -> 0 | H30: =Ewidencja!J156 -> 0 | I30: =Ewidencja!K156 -> 0 | J30: =Ewidencja!L156 -> 0 | K30: =Ewidencja!M156 -> 0 | L30: =Ewidencja!N156 -> 0 | M30: =Ewidencja!O156 -> 0 | ... Q30: =Ewidencja!S156 -> 0 | U30: =IF(ROUND(S30,1)=ROUND(T30,1),1,IF(ROUND(S30,1)>ROUND(U28,1),2,IF(ROUND(S30,1)<ROUND(T30,1),3,0))) -> 1
E31: =Ewidencja!G61 -> Gospodarczych | F31: =Ewidencja!H157 -> 0 | G31: =Ewidencja!I157 -> 0 | H31: =Ewidencja!J157 -> 0 | I31: =Ewidencja!K157 -> 0 | J31: =Ewidencja!L157 -> 0 | K31: =Ewidencja!M157 -> 0 | L31: =Ewidencja!N157 -> 0 | M31: =Ewidencja!O157 -> 0 | ... Q31: =Ewidencja!S157 -> 0 | U31: =IF(ROUND(S31,1)=ROUND(T31,1),1,IF(ROUND(S31,1)>ROUND(U29,1),2,IF(ROUND(S31,1)<ROUND(T31,1),3,0))) -> 1
U32: =IF(ROUND(S32,1)=ROUND(T32,1),1,IF(ROUND(S32,1)>ROUND(U30,1),2,IF(ROUND(S32,1)<ROUND(T32,1),3,0))) -> 1
U33: =IF(ROUND(S33,1)=ROUND(T33,1),1,IF(ROUND(S33,1)>ROUND(U31,1),2,IF(ROUND(S33,1)<ROUND(T33,1),3,0))) -> 1
U34: =IF(ROUND(S34,1)=ROUND(T34,1),1,IF(ROUND(S34,1)>ROUND(U32,1),2,IF(ROUND(S34,1)<ROUND(T34,1),3,0))) -> 1
U35: =IF(ROUND(S35,1)=ROUND(T35,1),1,IF(ROUND(S35,1)>ROUND(U33,1),2,IF(ROUND(S35,1)<ROUND(T35,1),3,0))) -> 1
U36: =IF(ROUND(S36,1)=ROUND(T36,1),1,IF(ROUND(S36,1)>ROUND(U34,1),2,IF(ROUND(S36,1)<ROUND(T36,1),3,0))) -> 1
U37: =IF(ROUND(S37,1)=ROUND(T37,1),1,IF(ROUND(S37,1)>ROUND(U35,1),2,IF(ROUND(S37,1)<ROUND(T37,1),3,0))) -> 1

Sheet Apelacja Lubelska
H12: =TRUNC(RIGHT(E12,1)) -> #VALUE! | I12: =TRUNC(LEFT(E12,4)) -> #VALUE! | J12: =IF(H12=4,CONCATENATE("w ",I12,"r."),IF(H12=2,CONCATENATE("w I półroczu ",I12,"r."),IF(H12=1,CONCATENATE("w I kwartale ",I12,"r."),CONCATENATE("za III kwartały ",I12,"r.")))) -> #VALUE!
E15: =CONCATENATE("EWIDENCJA SPRAW Z WYKAZU S W SĄDACH OKRĘGOWYCH ",Ustawienia!I8, " - ",UPPER(Ewidencja!E164)) -> EWIDENCJA SPRAW Z WYKAZU S W SĄDACH OKRĘGOWYCH ZA III KWARTAŁY 2014 r. - APELACJA LUBELSKA
E17: Wyszczególnienie | F17: Wpłynęło | G17: Załatwiono | M17: Pozostało | Q17: Ogólna kwota zasądzonych odszkodowań (PLN)
G19: ogółem | H19: w tym | M19: ogółem | N19: w tym od wpływu
H20: uwzględniono w całości lub części | J20: oddalono | K20: odrzucono | L20: w inny sposób | N20: do 2 mies. | O20: pow. 2 do 4 mies. | P20: ponad 4 mies.
H21: razem | I21: przez zarządzenie kwoty pieniężnej
E22: 0 | F22: 1 | G22: 2 | H22: 3 | I22: 4 | J22: 5 | K22: 6 | L22: 7 | M22: 8 | N22: 9 | O22: 10 | P22: 11 | Q22: 12
E24: Table
E26: =Ewidencja!G56 -> Ogółem spraw | F26: =Ewidencja!H188 -> 284 | G26: =Ewidencja!I188 -> 277 | H26: =Ewidencja!J188 -> 24 | I26: =Ewidencja!K188 -> 23 | J26: =Ewidencja!L188 -> 130 | K26: =Ewidencja!M188 -> 84 | L26: =Ewidencja!N188 -> 39 | M26: =Ewidencja!O188 -> 37 | ... Q26: =Ewidencja!S188 -> 59060
E27: =Ewidencja!G57 -> Karnych i wykroczeniowych | F27: =Ewidencja!H189 -> 108 | G27: =Ewidencja!I189 -> 107 | H27: =Ewidencja!J189 -> 7 | I27: =Ewidencja!K189 -> 7 | J27: =Ewidencja!L189 -> 48 | K27: =Ewidencja!M189 -> 21 | L27: =Ewidencja!N189 -> 31 | M27: =Ewidencja!O189 -> 6 | ... Q27: =Ewidencja!S189 -> 14000 | U27: =IF(ROUND(S27,1)=ROUND(T27,1),1,IF(ROUND(S27,1)>ROUND(U25,1),2,IF(ROUND(S27,1)<ROUND(T27,1),3,0))) -> 1
E28: =Ewidencja!G58 -> Cywilnych | F28: =Ewidencja!H190 -> 156 | G28: =Ewidencja!I190 -> 153 | H28: =Ewidencja!J190 -> 16 | I28: =Ewidencja!K190 -> 15 | J28: =Ewidencja!L190 -> 70 | K28: =Ewidencja!M190 -> 61 | L28: =Ewidencja!N190 -> 6 | M28: =Ewidencja!O190 -> 27 | ... Q28: =Ewidencja!S190 -> 43060 | U28: =IF(ROUND(S28,1)=ROUND(T28,1),1,IF(ROUND(S28,1)>ROUND(U26,1),2,IF(ROUND(S28,1)<ROUND(T28,1),3,0))) -> 1
E29: =Ewidencja!G59 -> Ubezpieczeniowych | F29: =Ewidencja!H191 -> 3 | G29: =Ewidencja!I191 -> 2 | H29: =Ewidencja!J191 -> 0 | I29: =Ewidencja!K191 -> 0 | J29: =Ewidencja!L191 -> 2 | K29: =Ewidencja!M191 -> 0 | L29: =Ewidencja!N191 -> 0 | M29: =Ewidencja!O191 -> 1 | ... Q29: =Ewidencja!S191 -> 0 | U29: =IF(ROUND(S29,1)=ROUND(T29,1),1,IF(ROUND(S29,1)>ROUND(U27,1),2,IF(ROUND(S29,1)<ROUND(T29,1),3,0))) -> 1
E30: =Ewidencja!G60 -> Pracy | F30: =Ewidencja!H192 -> 7 | G30: =Ewidencja!I192 -> 6 | H30: =Ewidencja!J192 -> 0 | I30: =Ewidencja!K192 -> 0 | J30: =Ewidencja!L192 -> 4 | K30: =Ewidencja!M192 -> 1 | L30: =Ewidencja!N192 -> 1 | M30: =Ewidencja!O192 -> 1 | ... Q30: =Ewidencja!S192 -> 0 | U30: =IF(ROUND(S30,1)=ROUND(T30,1),1,IF(ROUND(S30,1)>ROUND(U28,1),2,IF(ROUND(S30,1)<ROUND(T30,1),3,0))) -> 1
E31: =Ewidencja!G61 -> Gospodarczych | F31: =Ewidencja!H193 -> 10 | G31: =Ewidencja!I193 -> 9 | H31: =Ewidencja!J193 -> 1 | I31: =Ewidencja!K193 -> 1 | J31: =Ewidencja!L193 -> 6 | K31: =Ewidencja!M193 -> 1 | L31: =Ewidencja!N193 -> 1 | M31: =Ewidencja!O193 -> 2 | ... Q31: =Ewidencja!S193 -> 2000 | U31: =IF(ROUND(S31,1)=ROUND(T31,1),1,IF(ROUND(S31,1)>ROUND(U29,1),2,IF(ROUND(S31,1)<ROUND(T31,1),3,0))) -> 1
U32: =IF(ROUND(S32,1)=ROUND(T32,1),1,IF(ROUND(S32,1)>ROUND(U30,1),2,IF(ROUND(S32,1)<ROUND(T32,1),3,0))) -> 1
U33: =IF(ROUND(S33,1)=ROUND(T33,1),1,IF(ROUND(S33,1)>ROUND(U31,1),2,IF(ROUND(S33,1)<ROUND(T33,1),3,0))) -> 1
U34: =IF(ROUND(S34,1)=ROUND(T34,1),1,IF(ROUND(S34,1)>ROUND(U32,1),2,IF(ROUND(S34,1)<ROUND(T34,1),3,0))) -> 1
U35: =IF(ROUND(S35,1)=ROUND(T35,1),1,IF(ROUND(S35,1)>ROUND(U33,1),2,IF(ROUND(S35,1)<ROUND(T35,1),3,0))) -> 1
U36: =IF(ROUND(S36,1)=ROUND(T36,1),1,IF(ROUND(S36,1)>ROUND(U34,1),2,IF(ROUND(S36,1)<ROUND(T36,1),3,0))) -> 1
U37: =IF(ROUND(S37,1)=ROUND(T37,1),1,IF(ROUND(S37,1)>ROUND(U35,1),2,IF(ROUND(S37,1)<ROUND(T37,1),3,0))) -> 1

Sheet SO w Lublinie
H12: =TRUNC(RIGHT(E12,1)) -> #VALUE! | I12: =TRUNC(LEFT(E12,4)) -> #VALUE! | J12: =IF(H12=4,CONCATENATE("w ",I12,"r."),IF(H12=2,CONCATENATE("w I półroczu ",I12,"r."),IF(H12=1,CONCATENATE("w I kwartale ",I12,"r."),CONCATENATE("za III kwartały ",I12,"r.")))) -> #VALUE!
E15: =CONCATENATE("EWIDENCJA SPRAW Z WYKAZU S W SĄDACH OKRĘGOWYCH ",Ustawienia!I8, " - ",UPPER(Ewidencja!F164)) -> EWIDENCJA SPRAW Z WYKAZU S W SĄDACH OKRĘGOWYCH ZA III KWARTAŁY 2014 r. - SO W LUBLINIE
E17: Wyszczególnienie | F17: Wpłynęło | G17: Załatwiono | M17: Pozostało | Q17: Ogólna kwota zasądzonych odszkodowań (PLN)
G19: ogółem | H19: w tym | M19: ogółem | N19: w tym od wpływu
H20: uwzględniono w całości lub części | J20: oddalono | K20: odrzucono | L20: w inny sposób | N20: do 2 mies. | O20: pow. 2 do 4 mies. | P20: ponad 4 mies.
H21: razem | I21: przez zarządzenie kwoty pieniężnej
E22: 0 | F22: 1 | G22: 2 | H22: 3 | I22: 4 | J22: 5 | K22: 6 | L22: 7 | M22: 8 | N22: 9 | O22: 10 | P22: 11 | Q22: 12
E24: Table
E26: =Ewidencja!G56 -> Ogółem spraw | F26: =Ewidencja!H164 -> 172 | G26: =Ewidencja!I164 -> 175 | H26: =Ewidencja!J164 -> 18 | I26: =Ewidencja!K164 -> 17 | J26: =Ewidencja!L164 -> 79 | K26: =Ewidencja!M164 -> 62 | L26: =Ewidencja!N164 -> 16 | M26: =Ewidencja!O164 -> 26 | ... Q26: =Ewidencja!S164 -> 44000
E27: =Ewidencja!G57 -> Karnych i wykroczeniowych | F27: =Ewidencja!H165 -> 55 | G27: =Ewidencja!I165 -> 56 | H27: =Ewidencja!J165 -> 4 | I27: =Ewidencja!K165 -> 4 | J27: =Ewidencja!L165 -> 30 | K27: =Ewidencja!M165 -> 11 | L27: =Ewidencja!N165 -> 11 | M27: =Ewidencja!O165 -> 3 | ... Q27: =Ewidencja!S165 -> 8000 | U27: =IF(ROUND(S27,1)=ROUND(T27,1),1,IF(ROUND(S27,1)>ROUND(U25,1),2,IF(ROUND(S27,1)<ROUND(T27,1),3,0))) -> 1
E28: =Ewidencja!G58 -> Cywilnych | F28: =Ewidencja!H166 -> 101 | G28: =Ewidencja!I166 -> 105 | H28: =Ewidencja!J166 -> 13 | I28: =Ewidencja!K166 -> 12 | J28: =Ewidencja!L166 -> 39 | K28: =Ewidencja!M166 -> 50 | L28: =Ewidencja!N166 -> 3 | M28: =Ewidencja!O166 -> 20 | ... Q28: =Ewidencja!S166 -> 34000 | U28: =IF(ROUND(S28,1)=ROUND(T28,1),1,IF(ROUND(S28,1)>ROUND(U26,1),2,IF(ROUND(S28,1)<ROUND(T28,1),3,0))) -> 1
E29: =Ewidencja!G59 -> Ubezpieczeniowych | F29: =Ewidencja!H167 -> 2 | G29: =Ewidencja!I167 -> 2 | H29: =Ewidencja!J167 -> 0 | I29: =Ewidencja!K167 -> 0 | J29: =Ewidencja!L167 -> 2 | K29: =Ewidencja!M167 -> 0 | L29: =Ewidencja!N167 -> 0 | M29: =Ewidencja!O167 -> 0 | ... Q29: =Ewidencja!S167 -> 0 | U29: =IF(ROUND(S29,1)=ROUND(T29,1),1,IF(ROUND(S29,1)>ROUND(U27,1),2,IF(ROUND(S29,1)<ROUND(T29,1),3,0))) -> 1
E30: =Ewidencja!G60 -> Pracy | F30: =Ewidencja!H168 -> 4 | G30: =Ewidencja!I168 -> 3 | H30: =Ewidencja!J168 -> 0 | I30: =Ewidencja!K168 -> 0 | J30: =Ewidencja!L168 -> 2 | K30: =Ewidencja!M168 -> 0 | L30: =Ewidencja!N168 -> 1 | M30: =Ewidencja!O168 -> 1 | ... Q30: =Ewidencja!S168 -> 0 | U30: =IF(ROUND(S30,1)=ROUND(T30,1),1,IF(ROUND(S30,1)>ROUND(U28,1),2,IF(ROUND(S30,1)<ROUND(T30,1),3,0))) -> 1
E31: =Ewidencja!G61 -> Gospodarczych | F31: =Ewidencja!H169 -> 10 | G31: =Ewidencja!I169 -> 9 | H31: =Ewidencja!J169 -> 1 | I31: =Ewidencja!K169 -> 1 | J31: =Ewidencja!L169 -> 6 | K31: =Ewidencja!M169 -> 1 | L31: =Ewidencja!N169 -> 1 | M31: =Ewidencja!O169 -> 2 | ... Q31: =Ewidencja!S169 -> 2000 | U31: =IF(ROUND(S31,1)=ROUND(T31,1),1,IF(ROUND(S31,1)>ROUND(U29,1),2,IF(ROUND(S31,1)<ROUND(T31,1),3,0))) -> 1
U32: =IF(ROUND(S32,1)=ROUND(T32,1),1,IF(ROUND(S32,1)>ROUND(U30,1),2,IF(ROUND(S32,1)<ROUND(T32,1),3,0))) -> 1
U33: =IF(ROUND(S33,1)=ROUND(T33,1),1,IF(ROUND(S33,1)>ROUND(U31,1),2,IF(ROUND(S33,1)<ROUND(T33,1),3,0))) -> 1
U34: =IF(ROUND(S34,1)=ROUND(T34,1),1,IF(ROUND(S34,1)>ROUND(U32,1),2,IF(ROUND(S34,1)<ROUND(T34,1),3,0))) -> 1
U35: =IF(ROUND(S35,1)=ROUND(T35,1),1,IF(ROUND(S35,1)>ROUND(U33,1),2,IF(ROUND(S35,1)<ROUND(T35,1),3,0))) -> 1
U36: =IF(ROUND(S36,1)=ROUND(T36,1),1,IF(ROUND(S36,1)>ROUND(U34,1),2,IF(ROUND(S36,1)<ROUND(T36,1),3,0))) -> 1
U37: =IF(ROUND(S37,1)=ROUND(T37,1),1,IF(ROUND(S37,1)>ROUND(U35,1),2,IF(ROUND(S37,1)<ROUND(T37,1),3,0))) -> 1

Sheet SO w Radomiu
H12: =TRUNC(RIGHT(E12,1)) -> #VALUE! | I12: =TRUNC(LEFT(E12,4)) -> #VALUE! | J12: =IF(H12=4,CONCATENATE("w ",I12,"r."),IF(H12=2,CONCATENATE("w I półroczu ",I12,"r."),IF(H12=1,CONCATENATE("w I kwartale ",I12,"r."),CONCATENATE("za III kwartały ",I12,"r.")))) -> #VALUE!
E15: =CONCATENATE("EWIDENCJA SPRAW Z WYKAZU S W SĄDACH OKRĘGOWYCH ",Ustawienia!I8, " - ",UPPER(Ewidencja!F170)) -> EWIDENCJA SPRAW Z WYKAZU S W SĄDACH OKRĘGOWYCH ZA III KWARTAŁY 2014 r. - SO W RADOMIU
E17: Wyszczególnienie | F17: Wpłynęło | G17: Załatwiono | M17: Pozostało | Q17: Ogólna kwota zasądzonych odszkodowań (PLN)
G19: ogółem | H19: w tym | M19: ogółem | N19: w tym od wpływu
H20: uwzględniono w całości lub części | J20: oddalono | K20: odrzucono | L20: w inny sposób | N20: do 2 mies. | O20: pow. 2 do 4 mies. | P20: ponad 4 mies.
H21: razem | I21: przez zarządzenie kwoty pieniężnej
E22: 0 | F22: 1 | G22: 2 | H22: 3 | I22: 4 | J22: 5 | K22: 6 | L22: 7 | M22: 8 | N22: 9 | O22: 10 | P22: 11 | Q22: 12
E24: Table
E26: =Ewidencja!G56 -> Ogółem spraw | F26: =Ewidencja!H170 -> 51 | G26: =Ewidencja!I170 -> 43 | H26: =Ewidencja!J170 -> 3 | I26: =Ewidencja!K170 -> 3 | J26: =Ewidencja!L170 -> 21 | K26: =Ewidencja!M170 -> 6 | L26: =Ewidencja!N170 -> 13 | M26: =Ewidencja!O170 -> 8 | ... Q26: =Ewidencja!S170 -> 9060
E27: =Ewidencja!G57 -> Karnych i wykroczeniowych | F27: =Ewidencja!H171 -> 24 | G27: =Ewidencja!I171 -> 21 | H27: =Ewidencja!J171 -> 0 | I27: =Ewidencja!K171 -> 0 | J27: =Ewidencja!L171 -> 10 | K27: =Ewidencja!M171 -> 0 | L27: =Ewidencja!N171 -> 11 | M27: =Ewidencja!O171 -> 3 | ... Q27: =Ewidencja!S171 -> 0 | U27: =IF(ROUND(S27,1)=ROUND(T27,1),1,IF(ROUND(S27,1)>ROUND(U25,1),2,IF(ROUND(S27,1)<ROUND(T27,1),3,0))) -> 1
E28: =Ewidencja!G58 -> Cywilnych | F28: =Ewidencja!H172 -> 25 | G28: =Ewidencja!I172 -> 20 | H28: =Ewidencja!J172 -> 3 | I28: =Ewidencja!K172 -> 3 | J28: =Ewidencja!L172 -> 10 | K28: =Ewidencja!M172 -> 5 | L28: =Ewidencja!N172 -> 2 | M28: =Ewidencja!O172 -> 5 | ... Q28: =Ewidencja!S172 -> 9060 | U28: =IF(ROUND(S28,1)=ROUND(T28,1),1,IF(ROUND(S28,1)>ROUND(U26,1),2,IF(ROUND(S28,1)<ROUND(T28,1),3,0))) -> 1
E29: =Ewidencja!G59 -> Ubezpieczeniowych | F29: =Ewidencja!H173 -> 0 | G29: =Ewidencja!I173 -> 0 | H29: =Ewidencja!J173 -> 0 | I29: =Ewidencja!K173 -> 0 | J29: =Ewidencja!L173 -> 0 | K29: =Ewidencja!M173 -> 0 | L29: =Ewidencja!N173 -> 0 | M29: =Ewidencja!O173 -> 0 | ... Q29: =Ewidencja!S173 -> 0 | U29: =IF(ROUND(S29,1)=ROUND(T29,1),1,IF(ROUND(S29,1)>ROUND(U27,1),2,IF(ROUND(S29,1)<ROUND(T29,1),3,0))) -> 1
E30: =Ewidencja!G60 -> Pracy | F30: =Ewidencja!H174 -> 2 | G30: =Ewidencja!I174 -> 2 | H30: =Ewidencja!J174 -> 0 | I30: =Ewidencja!K174 -> 0 | J30: =Ewidencja!L174 -> 1 | K30: =Ewidencja!M174 -> 1 | L30: =Ewidencja!N174 -> 0 | M30: =Ewidencja!O174 -> 0 | ... Q30: =Ewidencja!S174 -> 0 | U30: =IF(ROUND(S30,1)=ROUND(T30,1),1,IF(ROUND(S30,1)>ROUND(U28,1),2,IF(ROUND(S30,1)<ROUND(T30,1),3,0))) -> 1
E31: =Ewidencja!G61 -> Gospodarczych | F31: =Ewidencja!H175 -> 0 | G31: =Ewidencja!I175 -> 0 | H31: =Ewidencja!J175 -> 0 | I31: =Ewidencja!K175 -> 0 | J31: =Ewidencja!L175 -> 0 | K31: =Ewidencja!M175 -> 0 | L31: =Ewidencja!N175 -> 0 | M31: =Ewidencja!O175 -> 0 | ... Q31: =Ewidencja!S175 -> 0 | U31: =IF(ROUND(S31,1)=ROUND(T31,1),1,IF(ROUND(S31,1)>ROUND(U29,1),2,IF(ROUND(S31,1)<ROUND(T31,1),3,0))) -> 1
U32: =IF(ROUND(S32,1)=ROUND(T32,1),1,IF(ROUND(S32,1)>ROUND(U30,1),2,IF(ROUND(S32,1)<ROUND(T32,1),3,0))) -> 1
U33: =IF(ROUND(S33,1)=ROUND(T33,1),1,IF(ROUND(S33,1)>ROUND(U31,1),2,IF(ROUND(S33,1)<ROUND(T33,1),3,0))) -> 1
U34: =IF(ROUND(S34,1)=ROUND(T34,1),1,IF(ROUND(S34,1)>ROUND(U32,1),2,IF(ROUND(S34,1)<ROUND(T34,1),3,0))) -> 1
U35: =IF(ROUND(S35,1)=ROUND(T35,1),1,IF(ROUND(S35,1)>ROUND(U33,1),2,IF(ROUND(S35,1)<ROUND(T35,1),3,0))) -> 1
U36: =IF(ROUND(S36,1)=ROUND(T36,1),1,IF(ROUND(S36,1)>ROUND(U34,1),2,IF(ROUND(S36,1)<ROUND(T36,1),3,0))) -> 1
U37: =IF(ROUND(S37,1)=ROUND(T37,1),1,IF(ROUND(S37,1)>ROUND(U35,1),2,IF(ROUND(S37,1)<ROUND(T37,1),3,0))) -> 1

Sheet SO w Siedlcach
H12: =TRUNC(RIGHT(E12,1)) -> #VALUE! | I12: =TRUNC(LEFT(E12,4)) -> #VALUE! | J12: =IF(H12=4,CONCATENATE("w ",I12,"r."),IF(H12=2,CONCATENATE("w I półroczu ",I12,"r."),IF(H12=1,CONCATENATE("w I kwartale ",I12,"r."),CONCATENATE("za III kwartały ",I12,"r.")))) -> #VALUE!
E15: =CONCATENATE("EWIDENCJA SPRAW Z WYKAZU S W SĄDACH OKRĘGOWYCH ",Ustawienia!I8, " - ",UPPER(Ewidencja!F176)) -> EWIDENCJA SPRAW Z WYKAZU S W SĄDACH OKRĘGOWYCH ZA III KWARTAŁY 2014 r. - SO W SIEDLCACH
E17: Wyszczególnienie | F17: Wpłynęło | G17: Załatwiono | M17: Pozostało | Q17: Ogólna kwota zasądzonych odszkodowań (PLN)
G19: ogółem | H19: w tym | M19: ogółem | N19: w tym od wpływu
H20: uwzględniono w całości lub części | J20: oddalono | K20: odrzucono | L20: w inny sposób | N20: do 2 mies. | O20: pow. 2 do 4 mies. | P20: ponad 4 mies.
H21: razem | I21: przez zarządzenie kwoty pieniężnej
E22: 0 | F22: 1 | G22: 2 | H22: 3 | I22: 4 | J22: 5 | K22: 6 | L22: 7 | M22: 8 | N22: 9 | O22: 10 | P22: 11 | Q22: 12
E24: Table
E26: =Ewidencja!G56 -> Ogółem spraw | F26: =Ewidencja!H176 -> 29 | G26: =Ewidencja!I176 -> 28 | H26: =Ewidencja!J176 -> 2 | I26: =Ewidencja!K176 -> 2 | J26: =Ewidencja!L176 -> 10 | K26: =Ewidencja!M176 -> 7 | L26: =Ewidencja!N176 -> 9 | M26: =Ewidencja!O176 -> 2 | ... Q26: =Ewidencja!S176 -> 4000
E27: =Ewidencja!G57 -> Karnych i wykroczeniowych | F27: =Ewidencja!H177 -> 17 | G27: =Ewidencja!I177 -> 18 | H27: =Ewidencja!J177 -> 2 | I27: =Ewidencja!K177 -> 2 | J27: =Ewidencja!L177 -> 5 | K27: =Ewidencja!M177 -> 2 | L27: =Ewidencja!N177 -> 9 | M27: =Ewidencja!O177 -> 0 | ... Q27: =Ewidencja!S177 -> 4000 | U27: =IF(ROUND(S27,1)=ROUND(T27,1),1,IF(ROUND(S27,1)>ROUND(U25,1),2,IF(ROUND(S27,1)<ROUND(T27,1),3,0))) -> 1
E28: =Ewidencja!G58 -> Cywilnych | F28: =Ewidencja!H178 -> 11 | G28: =Ewidencja!I178 -> 9 | H28: =Ewidencja!J178 -> 0 | I28: =Ewidencja!K178 -> 0 | J28: =Ewidencja!L178 -> 4 | K28: =Ewidencja!M178 -> 5 | L28: =Ewidencja!N178 -> 0 | M28: =Ewidencja!O178 -> 2 | ... Q28: =Ewidencja!S178 -> 0 | U28: =IF(ROUND(S28,1)=ROUND(T28,1),1,IF(ROUND(S28,1)>ROUND(U26,1),2,IF(ROUND(S28,1)<ROUND(T28,1),3,0))) -> 1
E29: =Ewidencja!G59 -> Ubezpieczeniowych | F29: =Ewidencja!H179 -> 0 | G29: =Ewidencja!I179 -> 0 | H29: =Ewidencja!J179 -> 0 | I29: =Ewidencja!K179 -> 0 | J29: =Ewidencja!L179 -> 0 | K29: =Ewidencja!M179 -> 0 | L29: =Ewidencja!N179 -> 0 | M29: =Ewidencja!O179 -> 0 | ... Q29: =Ewidencja!S179 -> 0 | U29: =IF(ROUND(S29,1)=ROUND(T29,1),1,IF(ROUND(S29,1)>ROUND(U27,1),2,IF(ROUND(S29,1)<ROUND(T29,1),3,0))) -> 1
E30: =Ewidencja!G60 -> Pracy | F30: =Ewidencja!H180 -> 1 | G30: =Ewidencja!I180 -> 1 | H30: =Ewidencja!J180 -> 0 | I30: =Ewidencja!K180 -> 0 | J30: =Ewidencja!L180 -> 1 | K30: =Ewidencja!M180 -> 0 | L30: =Ewidencja!N180 -> 0 | M30: =Ewidencja!O180 -> 0 | ... Q30: =Ewidencja!S180 -> 0 | U30: =IF(ROUND(S30,1)=ROUND(T30,1),1,IF(ROUND(S30,1)>ROUND(U28,1),2,IF(ROUND(S30,1)<ROUND(T30,1),3,0))) -> 1
E31: =Ewidencja!G61 -> Gospodarczych | F31: =Ewidencja!H181 -> 0 | G31: =Ewidencja!I181 -> 0 | H31: =Ewidencja!J181 -> 0 | I31: =Ewidencja!K181 -> 0 | J31: =Ewidencja!L181 -> 0 | K31: =Ewidencja!M181 -> 0 | L31: =Ewidencja!N181 -> 0 | M31: =Ewidencja!O181 -> 0 | ... Q31: =Ewidencja!S181 -> 0 | U31: =IF(ROUND(S31,1)=ROUND(T31,1),1,IF(ROUND(S31,1)>ROUND(U29,1),2,IF(ROUND(S31,1)<ROUND(T31,1),3,0))) -> 1
U32: =IF(ROUND(S32,1)=ROUND(T32,1),1,IF(ROUND(S32,1)>ROUND(U30,1),2,IF(ROUND(S32,1)<ROUND(T32,1),3,0))) -> 1
U33: =IF(ROUND(S33,1)=ROUND(T33,1),1,IF(ROUND(S33,1)>ROUND(U31,1),2,IF(ROUND(S33,1)<ROUND(T33,1),3,0))) -> 1
U34: =IF(ROUND(S34,1)=ROUND(T34,1),1,IF(ROUND(S34,1)>ROUND(U32,1),2,IF(ROUND(S34,1)<ROUND(T34,1),3,0))) -> 1
U35: =IF(ROUND(S35,1)=ROUND(T35,1),1,IF(ROUND(S35,1)>ROUND(U33,1),2,IF(ROUND(S35,1)<ROUND(T35,1),3,0))) -> 1
U36: =IF(ROUND(S36,1)=ROUND(T36,1),1,IF(ROUND(S36,1)>ROUND(U34,1),2,IF(ROUND(S36,1)<ROUND(T36,1),3,0))) -> 1
U37: =IF(ROUND(S37,1)=ROUND(T37,1),1,IF(ROUND(S37,1)>ROUND(U35,1),2,IF(ROUND(S37,1)<ROUND(T37,1),3,0))) -> 1

Sheet SO w Zamościu
H12: =TRUNC(RIGHT(E12,1)) -> #VALUE! | I12: =TRUNC(LEFT(E12,4)) -> #VALUE! | J12: =IF(H12=4,CONCATENATE("w ",I12,"r."),IF(H12=2,CONCATENATE("w I półroczu ",I12,"r."),IF(H12=1,CONCATENATE("w I kwartale ",I12,"r."),CONCATENATE("za III kwartały ",I12,"r.")))) -> #VALUE!
E15: =CONCATENATE("EWIDENCJA SPRAW Z WYKAZU S W SĄDACH OKRĘGOWYCH ",Ustawienia!I8, " - ",UPPER(Ewidencja!F182)) -> EWIDENCJA SPRAW Z WYKAZU S W SĄDACH OKRĘGOWYCH ZA III KWARTAŁY 2014 r. - SO W ZAMOŚCIU
E17: Wyszczególnienie | F17: Wpłynęło | G17: Załatwiono | M17: Pozostało | Q17: Ogólna kwota zasądzonych odszkodowań (PLN)
G19: ogółem | H19: w tym | M19: ogółem | N19: w tym od wpływu
H20: uwzględniono w całości lub części | J20: oddalono | K20: odrzucono | L20: w inny sposób | N20: do 2 mies. | O20: pow. 2 do 4 mies. | P20: ponad 4 mies.
H21: razem | I21: przez zarządzenie kwoty pieniężnej
E22: 0 | F22: 1 | G22: 2 | H22: 3 | I22: 4 | J22: 5 | K22: 6 | L22: 7 | M22: 8 | N22: 9 | O22: 10 | P22: 11 | Q22: 12
E24: Table
E26: =Ewidencja!G56 -> Ogółem spraw | F26: =Ewidencja!H182 -> 32 | G26: =Ewidencja!I182 -> 31 | H26: =Ewidencja!J182 -> 1 | I26: =Ewidencja!K182 -> 1 | J26: =Ewidencja!L182 -> 20 | K26: =Ewidencja!M182 -> 9 | L26: =Ewidencja!N182 -> 1 | M26: =Ewidencja!O182 -> 1 | ... Q26: =Ewidencja!S182 -> 2000
E27: =Ewidencja!G57 -> Karnych i wykroczeniowych | F27: =Ewidencja!H183 -> 12 | G27: =Ewidencja!I183 -> 12 | H27: =Ewidencja!J183 -> 1 | I27: =Ewidencja!K183 -> 1 | J27: =Ewidencja!L183 -> 3 | K27: =Ewidencja!M183 -> 8 | L27: =Ewidencja!N183 -> 0 | M27: =Ewidencja!O183 -> 0 | ... Q27: =Ewidencja!S183 -> 2000 | U27: =IF(ROUND(S27,1)=ROUND(T27,1),1,IF(ROUND(S27,1)>ROUND(U25,1),2,IF(ROUND(S27,1)<ROUND(T27,1),3,0))) -> 1
E28: =Ewidencja!G58 -> Cywilnych | F28: =Ewidencja!H184 -> 19 | G28: =Ewidencja!I184 -> 19 | H28: =Ewidencja!J184 -> 0 | I28: =Ewidencja!K184 -> 0 | J28: =Ewidencja!L184 -> 17 | K28: =Ewidencja!M184 -> 1 | L28: =Ewidencja!N184 -> 1 | M28: =Ewidencja!O184 -> 0 | ... Q28: =Ewidencja!S184 -> 0 | U28: =IF(ROUND(S28,1)=ROUND(T28,1),1,IF(ROUND(S28,1)>ROUND(U26,1),2,IF(ROUND(S28,1)<ROUND(T28,1),3,0))) -> 1
E29: =Ewidencja!G59 -> Ubezpieczeniowych | F29: =Ewidencja!H185 -> 1 | G29: =Ewidencja!I185 -> 0 | H29: =Ewidencja!J185 -> 0 | I29: =Ewidencja!K185 -> 0 | J29: =Ewidencja!L185 -> 0 | K29: =Ewidencja!M185 -> 0 | L29: =Ewidencja!N185 -> 0 | M29: =Ewidencja!O185 -> 1 | ... Q29: =Ewidencja!S185 -> 0 | U29: =IF(ROUND(S29,1)=ROUND(T29,1),1,IF(ROUND(S29,1)>ROUND(U27,1),2,IF(ROUND(S29,1)<ROUND(T29,1),3,0))) -> 1
E30: =Ewidencja!G60 -> Pracy | F30: =Ewidencja!H186 -> 0 | G30: =Ewidencja!I186 -> 0 | H30: =Ewidencja!J186 -> 0 | I30: =Ewidencja!K186 -> 0 | J30: =Ewidencja!L186 -> 0 | K30: =Ewidencja!M186 -> 0 | L30: =Ewidencja!N186 -> 0 | M30: =Ewidencja!O186 -> 0 | ... Q30: =Ewidencja!S186 -> 0 | U30: =IF(ROUND(S30,1)=ROUND(T30,1),1,IF(ROUND(S30,1)>ROUND(U28,1),2,IF(ROUND(S30,1)<ROUND(T30,1),3,0))) -> 1
E31: =Ewidencja!G61 -> Gospodarczych | F31: =Ewidencja!H187 -> 0 | G31: =Ewidencja!I187 -> 0 | H31: =Ewidencja!J187 -> 0 | I31: =Ewidencja!K187 -> 0 | J31: =Ewidencja!L187 -> 0 | K31: =Ewidencja!M187 -> 0 | L31: =Ewidencja!N187 -> 0 | M31: =Ewidencja!O187 -> 0 | ... Q31: =Ewidencja!S187 -> 0 | U31: =IF(ROUND(S31,1)=ROUND(T31,1),1,IF(ROUND(S31,1)>ROUND(U29,1),2,IF(ROUND(S31,1)<ROUND(T31,1),3,0))) -> 1
U32: =IF(ROUND(S32,1)=ROUND(T32,1),1,IF(ROUND(S32,1)>ROUND(U30,1),2,IF(ROUND(S32,1)<ROUND(T32,1),3,0))) -> 1
U33: =IF(ROUND(S33,1)=ROUND(T33,1),1,IF(ROUND(S33,1)>ROUND(U31,1),2,IF(ROUND(S33,1)<ROUND(T33,1),3,0))) -> 1
U34: =IF(ROUND(S34,1)=ROUND(T34,1),1,IF(ROUND(S34,1)>ROUND(U32,1),2,IF(ROUND(S34,1)<ROUND(T34,1),3,0))) -> 1
U35: =IF(ROUND(S35,1)=ROUND(T35,1),1,IF(ROUND(S35,1)>ROUND(U33,1),2,IF(ROUND(S35,1)<ROUND(T35,1),3,0))) -> 1
U36: =IF(ROUND(S36,1)=ROUND(T36,1),1,IF(ROUND(S36,1)>ROUND(U34,1),2,IF(ROUND(S36,1)<ROUND(T36,1),3,0))) -> 1
U37: =IF(ROUND(S37,1)=ROUND(T37,1),1,IF(ROUND(S37,1)>ROUND(U35,1),2,IF(ROUND(S37,1)<ROUND(T37,1),3,0))) -> 1

Sheet Apelacja Łódzka
H12: =TRUNC(RIGHT(E12,1)) -> #VALUE! | I12: =TRUNC(LEFT(E12,4)) -> #VALUE! | J12: =IF(H12=4,CONCATENATE("w ",I12,"r."),IF(H12=2,CONCATENATE("w I półroczu ",I12,"r."),IF(H12=1,CONCATENATE("w I kwartale ",I12,"r."),CONCATENATE("za III kwartały ",I12,"r.")))) -> #VALUE!
E15: =CONCATENATE("EWIDENCJA SPRAW Z WYKAZU S W SĄDACH OKRĘGOWYCH ",Ustawienia!I8, " - ",UPPER(Ewidencja!E194)) -> EWIDENCJA SPRAW Z WYKAZU S W SĄDACH OKRĘGOWYCH ZA III KWARTAŁY 2014 r. - APELACJA ŁÓDZKA
E17: Wyszczególnienie | F17: Wpłynęło | G17: Załatwiono | M17: Pozostało | Q17: Ogólna kwota zasądzonych odszkodowań (PLN)
G19: ogółem | H19: w tym | M19: ogółem | N19: w tym od wpływu
H20: uwzględniono w całości lub części | J20: oddalono | K20: odrzucono | L20: w inny sposób | N20: do 2 mies. | O20: pow. 2 do 4 mies. | P20: ponad 4 mies.
H21: razem | I21: przez zarządzenie kwoty pieniężnej
E22: 0 | F22: 1 | G22: 2 | H22: 3 | I22: 4 | J22: 5 | K22: 6 | L22: 7 | M22: 8 | N22: 9 | O22: 10 | P22: 11 | Q22: 12
E24: Table
E26: =Ewidencja!G56 -> Ogółem spraw | F26: =Ewidencja!H224 -> 371 | G26: =Ewidencja!I224 -> 370 | H26: =Ewidencja!J224 -> 82 | I26: =Ewidencja!K224 -> 78 | J26: =Ewidencja!L224 -> 123 | K26: =Ewidencja!M224 -> 105 | L26: =Ewidencja!N224 -> 60 | M26: =Ewidencja!O224 -> 53 | ... Q26: =Ewidencja!S224 -> 224000
E27: =Ewidencja!G57 -> Karnych i wykroczeniowych | F27: =Ewidencja!H225 -> 139 | G27: =Ewidencja!I225 -> 134 | H27: =Ewidencja!J225 -> 13 | I27: =Ewidencja!K225 -> 12 | J27: =Ewidencja!L225 -> 41 | K27: =Ewidencja!M225 -> 34 | L27: =Ewidencja!N225 -> 46 | M27: =Ewidencja!O225 -> 17 | ... Q27: =Ewidencja!S225 -> 36000 | U27: =IF(ROUND(S27,1)=ROUND(T27,1),1,IF(ROUND(S27,1)>ROUND(U25,1),2,IF(ROUND(S27,1)<ROUND(T27,1),3,0))) -> 1
E28: =Ewidencja!G58 -> Cywilnych | F28: =Ewidencja!H226 -> 197 | G28: =Ewidencja!I226 -> 196 | H28: =Ewidencja!J226 -> 62 | I28: =Ewidencja!K226 -> 59 | J28: =Ewidencja!L226 -> 70 | K28: =Ewidencja!M226 -> 62 | L28: =Ewidencja!N226 -> 2 | M28: =Ewidencja!O226 -> 33 | ... Q28: =Ewidencja!S226 -> 170000 | U28: =IF(ROUND(S28,1)=ROUND(T28,1),1,IF(ROUND(S28,1)>ROUND(U26,1),2,IF(ROUND(S28,1)<ROUND(T28,1),3,0))) -> 1
E29: =Ewidencja!G59 -> Ubezpieczeniowych | F29: =Ewidencja!H227 -> 0 | G29: =Ewidencja!I227 -> 0 | H29: =Ewidencja!J227 -> 0 | I29: =Ewidencja!K227 -> 0 | J29: =Ewidencja!L227 -> 0 | K29: =Ewidencja!M227 -> 0 | L29: =Ewidencja!N227 -> 0 | M29: =Ewidencja!O227 -> 0 | ... Q29: =Ewidencja!S227 -> 0 | U29: =IF(ROUND(S29,1)=ROUND(T29,1),1,IF(ROUND(S29,1)>ROUND(U27,1),2,IF(ROUND(S29,1)<ROUND(T29,1),3,0))) -> 1
E30: =Ewidencja!G60 -> Pracy | F30: =Ewidencja!H228 -> 5 | G30: =Ewidencja!I228 -> 9 | H30: =Ewidencja!J228 -> 1 | I30: =Ewidencja!K228 -> 1 | J30: =Ewidencja!L228 -> 4 | K30: =Ewidencja!M228 -> 4 | L30: =Ewidencja!N228 -> 0 | M30: =Ewidencja!O228 -> 0 | ... Q30: =Ewidencja!S228 -> 2000 | U30: =IF(ROUND(S30,1)=ROUND(T30,1),1,IF(ROUND(S30,1)>ROUND(U28,1),2,IF(ROUND(S30,1)<ROUND(T30,1),3,0))) -> 1
E31: =Ewidencja!G61 -> Gospodarczych | F31: =Ewidencja!H229 -> 30 | G31: =Ewidencja!I229 -> 31 | H31: =Ewidencja!J229 -> 6 | I31: =Ewidencja!K229 -> 6 | J31: =Ewidencja!L229 -> 8 | K31: =Ewidencja!M229 -> 5 | L31: =Ewidencja!N229 -> 12 | M31: =Ewidencja!O229 -> 3 | ... Q31: =Ewidencja!S229 -> 16000 | U31: =IF(ROUND(S31,1)=ROUND(T31,1),1,IF(ROUND(S31,1)>ROUND(U29,1),2,IF(ROUND(S31,1)<ROUND(T31,1),3,0))) -> 1
U32: =IF(ROUND(S32,1)=ROUND(T32,1),1,IF(ROUND(S32,1)>ROUND(U30,1),2,IF(ROUND(S32,1)<ROUND(T32,1),3,0))) -> 1
U33: =IF(ROUND(S33,1)=ROUND(T33,1),1,IF(ROUND(S33,1)>ROUND(U31,1),2,IF(ROUND(S33,1)<ROUND(T33,1),3,0))) -> 1
U34: =IF(ROUND(S34,1)=ROUND(T34,1),1,IF(ROUND(S34,1)>ROUND(U32,1),2,IF(ROUND(S34,1)<ROUND(T34,1),3,0))) -> 1
U35: =IF(ROUND(S35,1)=ROUND(T35,1),1,IF(ROUND(S35,1)>ROUND(U33,1),2,IF(ROUND(S35,1)<ROUND(T35,1),3,0))) -> 1
U36: =IF(ROUND(S36,1)=ROUND(T36,1),1,IF(ROUND(S36,1)>ROUND(U34,1),2,IF(ROUND(S36,1)<ROUND(T36,1),3,0))) -> 1
U37: =IF(ROUND(S37,1)=ROUND(T37,1),1,IF(ROUND(S37,1)>ROUND(U35,1),2,IF(ROUND(S37,1)<ROUND(T37,1),3,0))) -> 1

Sheet SO w Kaliszu
H12: =TRUNC(RIGHT(E12,1)) -> #VALUE! | I12: =TRUNC(LEFT(E12,4)) -> #VALUE! | J12: =IF(H12=4,CONCATENATE("w ",I12,"r."),IF(H12=2,CONCATENATE("w I półroczu ",I12,"r."),IF(H12=1,CONCATENATE("w I kwartale ",I12,"r."),CONCATENATE("za III kwartały ",I12,"r.")))) -> #VALUE!
E15: =CONCATENATE("EWIDENCJA SPRAW Z WYKAZU S W SĄDACH OKRĘGOWYCH ",Ustawienia!I8, " - ",UPPER(Ewidencja!F194)) -> EWIDENCJA SPRAW Z WYKAZU S W SĄDACH OKRĘGOWYCH ZA III KWARTAŁY 2014 r. - SO W KALISZU
E17: Wyszczególnienie | F17: Wpłynęło | G17: Załatwiono | M17: Pozostało | Q17: Ogólna kwota zasądzonych odszkodowań (PLN)
G19: ogółem | H19: w tym | M19: ogółem | N19: w tym od wpływu
H20: uwzględniono w całości lub części | J20: oddalono | K20: odrzucono | L20: w inny sposób | N20: do 2 mies. | O20: pow. 2 do 4 mies. | P20: ponad 4 mies.
H21: razem | I21: przez zarządzenie kwoty pieniężnej
E22: 0 | F22: 1 | G22: 2 | H22: 3 | I22: 4 | J22: 5 | K22: 6 | L22: 7 | M22: 8 | N22: 9 | O22: 10 | P22: 11 | Q22: 12
E24: Table
E26: =Ewidencja!G56 -> Ogółem spraw | F26: =Ewidencja!H194 -> 48 | G26: =Ewidencja!I194 -> 45 | H26: =Ewidencja!J194 -> 10 | I26: =Ewidencja!K194 -> 9 | J26: =Ewidencja!L194 -> 17 | K26: =Ewidencja!M194 -> 11 | L26: =Ewidencja!N194 -> 7 | M26: =Ewidencja!O194 -> 6 | ... Q26: =Ewidencja!S194 -> 23000
E27: =Ewidencja!G57 -> Karnych i wykroczeniowych | F27: =Ewidencja!H195 -> 15 | G27: =Ewidencja!I195 -> 15 | H27: =Ewidencja!J195 -> 0 | I27: =Ewidencja!K195 -> 0 | J27: =Ewidencja!L195 -> 5 | K27: =Ewidencja!M195 -> 5 | L27: =Ewidencja!N195 -> 5 | M27: =Ewidencja!O195 -> 1 | ... Q27: =Ewidencja!S195 -> 0 | U27: =IF(ROUND(S27,1)=ROUND(T27,1),1,IF(ROUND(S27,1)>ROUND(U25,1),2,IF(ROUND(S27,1)<ROUND(T27,1),3,0))) -> 1
E28: =Ewidencja!G58 -> Cywilnych | F28: =Ewidencja!H196 -> 33 | G28: =Ewidencja!I196 -> 30 | H28: =Ewidencja!J196 -> 10 | I28: =Ewidencja!K196 -> 9 | J28: =Ewidencja!L196 -> 12 | K28: =Ewidencja!M196 -> 6 | L28: =Ewidencja!N196 -> 2 | M28: =Ewidencja!O196 -> 5 | ... Q28: =Ewidencja!S196 -> 23000 | U28: =IF(ROUND(S28,1)=ROUND(T28,1),1,IF(ROUND(S28,1)>ROUND(U26,1),2,IF(ROUND(S28,1)<ROUND(T28,1),3,0))) -> 1
E29: =Ewidencja!G59 -> Ubezpieczeniowych | F29: =Ewidencja!H197 -> 0 | G29: =Ewidencja!I197 -> 0 | H29: =Ewidencja!J197 -> 0 | I29: =Ewidencja!K197 -> 0 | J29: =Ewidencja!L197 -> 0 | K29: =Ewidencja!M197 -> 0 | L29: =Ewidencja!N197 -> 0 | M29: =Ewidencja!O197 -> 0 | ... Q29: =Ewidencja!S197 -> 0 | U29: =IF(ROUND(S29,1)=ROUND(T29,1),1,IF(ROUND(S29,1)>ROUND(U27,1),2,IF(ROUND(S29,1)<ROUND(T29,1),3,0))) -> 1
E30: =Ewidencja!G60 -> Pracy | F30: =Ewidencja!H198 -> 0 | G30: =Ewidencja!I198 -> 0 | H30: =Ewidencja!J198 -> 0 | I30: =Ewidencja!K198 -> 0 | J30: =Ewidencja!L198 -> 0 | K30: =Ewidencja!M198 -> 0 | L30: =Ewidencja!N198 -> 0 | M30: =Ewidencja!O198 -> 0 | ... Q30: =Ewidencja!S198 -> 0 | U30: =IF(ROUND(S30,1)=ROUND(T30,1),1,IF(ROUND(S30,1)>ROUND(U28,1),2,IF(ROUND(S30,1)<ROUND(T30,1),3,0))) -> 1
E31: =Ewidencja!G61 -> Gospodarczych | F31: =Ewidencja!H199 -> 0 | G31: =Ewidencja!I199 -> 0 | H31: =Ewidencja!J199 -> 0 | I31: =Ewidencja!K199 -> 0 | J31: =Ewidencja!L199 -> 0 | K31: =Ewidencja!M199 -> 0 | L31: =Ewidencja!N199 -> 0 | M31: =Ewidencja!O199 -> 0 | ... Q31: =Ewidencja!S199 -> 0 | U31: =IF(ROUND(S31,1)=ROUND(T31,1),1,IF(ROUND(S31,1)>ROUND(U29,1),2,IF(ROUND(S31,1)<ROUND(T31,1),3,0))) -> 1
U32: =IF(ROUND(S32,1)=ROUND(T32,1),1,IF(ROUND(S32,1)>ROUND(U30,1),2,IF(ROUND(S32,1)<ROUND(T32,1),3,0))) -> 1
U33: =IF(ROUND(S33,1)=ROUND(T33,1),1,IF(ROUND(S33,1)>ROUND(U31,1),2,IF(ROUND(S33,1)<ROUND(T33,1),3,0))) -> 1
U34: =IF(ROUND(S34,1)=ROUND(T34,1),1,IF(ROUND(S34,1)>ROUND(U32,1),2,IF(ROUND(S34,1)<ROUND(T34,1),3,0))) -> 1
U35: =IF(ROUND(S35,1)=ROUND(T35,1),1,IF(ROUND(S35,1)>ROUND(U33,1),2,IF(ROUND(S35,1)<ROUND(T35,1),3,0))) -> 1
U36: =IF(ROUND(S36,1)=ROUND(T36,1),1,IF(ROUND(S36,1)>ROUND(U34,1),2,IF(ROUND(S36,1)<ROUND(T36,1),3,0))) -> 1
U37: =IF(ROUND(S37,1)=ROUND(T37,1),1,IF(ROUND(S37,1)>ROUND(U35,1),2,IF(ROUND(S37,1)<ROUND(T37,1),3,0))) -> 1

Sheet SO w Łodzi
H12: =TRUNC(RIGHT(E12,1)) -> #VALUE! | I12: =TRUNC(LEFT(E12,4)) -> #VALUE! | J12: =IF(H12=4,CONCATENATE("w ",I12,"r."),IF(H12=2,CONCATENATE("w I półroczu ",I12,"r."),IF(H12=1,CONCATENATE("w I kwartale ",I12,"r."),CONCATENATE("za III kwartały ",I12,"r.")))) -> #VALUE!
E15: =CONCATENATE("EWIDENCJA SPRAW Z WYKAZU S W SĄDACH OKRĘGOWYCH ",Ustawienia!I8," - ",UPPER(Ewidencja!F200)) -> EWIDENCJA SPRAW Z WYKAZU S W SĄDACH OKRĘGOWYCH ZA III KWARTAŁY 2014 r. - SO W ŁODZI
E17: Wyszczególnienie | F17: Wpłynęło | G17: Załatwiono | M17: Pozostało | Q17: Ogólna kwota zasądzonych odszkodowań (PLN)
G19: ogółem | H19: w tym | M19: ogółem | N19: w tym od wpływu
H20: uwzględniono w całości lub części | J20: oddalono | K20: odrzucono | L20: w inny sposób | N20: do 2 mies. | O20: pow. 2 do 4 mies. | P20: ponad 4 mies.
H21: razem | I21: przez zarządzenie kwoty pieniężnej
E22: 0 | F22: 1 | G22: 2 | H22: 3 | I22: 4 | J22: 5 | K22: 6 | L22: 7 | M22: 8 | N22: 9 | O22: 10 | P22: 11 | Q22: 12
E24: Table
E26: =Ewidencja!G56 -> Ogółem spraw | F26: =Ewidencja!H200 -> 204 | G26: =Ewidencja!I200 -> 212 | H26: =Ewidencja!J200 -> 51 | I26: =Ewidencja!K200 -> 48 | J26: =Ewidencja!L200 -> 71 | K26: =Ewidencja!M200 -> 54 | L26: =Ewidencja!N200 -> 36 | M26: =Ewidencja!O200 -> 29 | ... Q26: =Ewidencja!S200 -> 149000
E27: =Ewidencja!G57 -> Karnych i wykroczeniowych | F27: =Ewidencja!H201 -> 66 | G27: =Ewidencja!I201 -> 62 | H27: =Ewidencja!J201 -> 7 | I27: =Ewidencja!K201 -> 6 | J27: =Ewidencja!L201 -> 22 | K27: =Ewidencja!M201 -> 9 | L27: =Ewidencja!N201 -> 24 | M27: =Ewidencja!O201 -> 9 | ... Q27: =Ewidencja!S201 -> 15000 | U27: =IF(ROUND(S27,1)=ROUND(T27,1),1,IF(ROUND(S27,1)>ROUND(U25,1),2,IF(ROUND(S27,1)<ROUND(T27,1),3,0))) -> 1
E28: =Ewidencja!G58 -> Cywilnych | F28: =Ewidencja!H202 -> 103 | G28: =Ewidencja!I202 -> 112 | H28: =Ewidencja!J202 -> 37 | I28: =Ewidencja!K202 -> 35 | J28: =Ewidencja!L202 -> 38 | K28: =Ewidencja!M202 -> 37 | L28: =Ewidencja!N202 -> 0 | M28: =Ewidencja!O202 -> 17 | ... Q28: =Ewidencja!S202 -> 116000 | U28: =IF(ROUND(S28,1)=ROUND(T28,1),1,IF(ROUND(S28,1)>ROUND(U26,1),2,IF(ROUND(S28,1)<ROUND(T28,1),3,0))) -> 1
E29: =Ewidencja!G59 -> Ubezpieczeniowych | F29: =Ewidencja!H203 -> 0 | G29: =Ewidencja!I203 -> 0 | H29: =Ewidencja!J203 -> 0 | I29: =Ewidencja!K203 -> 0 | J29: =Ewidencja!L203 -> 0 | K29: =Ewidencja!M203 -> 0 | L29: =Ewidencja!N203 -> 0 | M29: =Ewidencja!O203 -> 0 | ... Q29: =Ewidencja!S203 -> 0 | U29: =IF(ROUND(S29,1)=ROUND(T29,1),1,IF(ROUND(S29,1)>ROUND(U27,1),2,IF(ROUND(S29,1)<ROUND(T29,1),3,0))) -> 1
E30: =Ewidencja!G60 -> Pracy | F30: =Ewidencja!H204 -> 5 | G30: =Ewidencja!I204 -> 7 | H30: =Ewidencja!J204 -> 1 | I30: =Ewidencja!K204 -> 1 | J30: =Ewidencja!L204 -> 3 | K30: =Ewidencja!M204 -> 3 | L30: =Ewidencja!N204 -> 0 | M30: =Ewidencja!O204 -> 0 | ... Q30: =Ewidencja!S204 -> 2000 | U30: =IF(ROUND(S30,1)=ROUND(T30,1),1,IF(ROUND(S30,1)>ROUND(U28,1),2,IF(ROUND(S30,1)<ROUND(T30,1),3,0))) -> 1
E31: =Ewidencja!G61 -> Gospodarczych | F31: =Ewidencja!H205 -> 30 | G31: =Ewidencja!I205 -> 31 | H31: =Ewidencja!J205 -> 6 | I31: =Ewidencja!K205 -> 6 | J31: =Ewidencja!L205 -> 8 | K31: =Ewidencja!M205 -> 5 | L31: =Ewidencja!N205 -> 12 | M31: =Ewidencja!O205 -> 3 | ... Q31: =Ewidencja!S205 -> 16000 | U31: =IF(ROUND(S31,1)=ROUND(T31,1),1,IF(ROUND(S31,1)>ROUND(U29,1),2,IF(ROUND(S31,1)<ROUND(T31,1),3,0))) -> 1
U32: =IF(ROUND(S32,1)=ROUND(T32,1),1,IF(ROUND(S32,1)>ROUND(U30,1),2,IF(ROUND(S32,1)<ROUND(T32,1),3,0))) -> 1
U33: =IF(ROUND(S33,1)=ROUND(T33,1),1,IF(ROUND(S33,1)>ROUND(U31,1),2,IF(ROUND(S33,1)<ROUND(T33,1),3,0))) -> 1
U34: =IF(ROUND(S34,1)=ROUND(T34,1),1,IF(ROUND(S34,1)>ROUND(U32,1),2,IF(ROUND(S34,1)<ROUND(T34,1),3,0))) -> 1
U35: =IF(ROUND(S35,1)=ROUND(T35,1),1,IF(ROUND(S35,1)>ROUND(U33,1),2,IF(ROUND(S35,1)<ROUND(T35,1),3,0))) -> 1
U36: =IF(ROUND(S36,1)=ROUND(T36,1),1,IF(ROUND(S36,1)>ROUND(U34,1),2,IF(ROUND(S36,1)<ROUND(T36,1),3,0))) -> 1
U37: =IF(ROUND(S37,1)=ROUND(T37,1),1,IF(ROUND(S37,1)>ROUND(U35,1),2,IF(ROUND(S37,1)<ROUND(T37,1),3,0))) -> 1

Sheet SO w Piotrkowie Tryb.
H12: =TRUNC(RIGHT(E12,1)) -> #VALUE! | I12: =TRUNC(LEFT(E12,4)) -> #VALUE! | J12: =IF(H12=4,CONCATENATE("w ",I12,"r."),IF(H12=2,CONCATENATE("w I półroczu ",I12,"r."),IF(H12=1,CONCATENATE("w I kwartale ",I12,"r."),CONCATENATE("za III kwartały ",I12,"r.")))) -> #VALUE!
E15: =CONCATENATE("EWIDENCJA SPRAW Z WYKAZU S W SĄDACH OKRĘGOWYCH ",Ustawienia!I8," - ",UPPER(Ewidencja!F206)) -> EWIDENCJA SPRAW Z WYKAZU S W SĄDACH OKRĘGOWYCH ZA III KWARTAŁY 2014 r. - SO W PIOTRKOWIE TRYB.
E17: Wyszczególnienie | F17: Wpłynęło | G17: Załatwiono | M17: Pozostało | Q17: Ogólna kwota zasądzonych odszkodowań (PLN)
G19: ogółem | H19: w tym | M19: ogółem | N19: w tym od wpływu
H20: uwzględniono w całości lub części | J20: oddalono | K20: odrzucono | L20: w inny sposób | N20: do 2 mies. | O20: pow. 2 do 4 mies. | P20: ponad 4 mies.
H21: razem | I21: przez zarządzenie kwoty pieniężnej
E22: 0 | F22: 1 | G22: 2 | H22: 3 | I22: 4 | J22: 5 | K22: 6 | L22: 7 | M22: 8 | N22: 9 | O22: 10 | P22: 11 | Q22: 12
E24: Table
E26: =Ewidencja!G56 -> Ogółem spraw | F26: =Ewidencja!H206 -> 32 | G26: =Ewidencja!I206 -> 34 | H26: =Ewidencja!J206 -> 9 | I26: =Ewidencja!K206 -> 9 | J26: =Ewidencja!L206 -> 14 | K26: =Ewidencja!M206 -> 9 | L26: =Ewidencja!N206 -> 2 | M26: =Ewidencja!O206 -> 0 | ... Q26: =Ewidencja!S206 -> 19000
E27: =Ewidencja!G57 -> Karnych i wykroczeniowych | F27: =Ewidencja!H207 -> 8 | G27: =Ewidencja!I207 -> 8 | H27: =Ewidencja!J207 -> 0 | I27: =Ewidencja!K207 -> 0 | J27: =Ewidencja!L207 -> 5 | K27: =Ewidencja!M207 -> 1 | L27: =Ewidencja!N207 -> 2 | M27: =Ewidencja!O207 -> 0 | ... Q27: =Ewidencja!S207 -> 0 | U27: =IF(ROUND(S27,1)=ROUND(T27,1),1,IF(ROUND(S27,1)>ROUND(U25,1),2,IF(ROUND(S27,1)<ROUND(T27,1),3,0))) -> 1
E28: =Ewidencja!G58 -> Cywilnych | F28: =Ewidencja!H208 -> 24 | G28: =Ewidencja!I208 -> 25 | H28: =Ewidencja!J208 -> 9 | I28: =Ewidencja!K208 -> 9 | J28: =Ewidencja!L208 -> 8 | K28: =Ewidencja!M208 -> 8 | L28: =Ewidencja!N208 -> 0 | M28: =Ewidencja!O208 -> 0 | ... Q28: =Ewidencja!S208 -> 19000 | U28: =IF(ROUND(S28,1)=ROUND(T28,1),1,IF(ROUND(S28,1)>ROUND(U26,1),2,IF(ROUND(S28,1)<ROUND(T28,1),3,0))) -> 1
E29: =Ewidencja!G59 -> Ubezpieczeniowych | F29: =Ewidencja!H209 -> 0 | G29: =Ewidencja!I209 -> 0 | H29: =Ewidencja!J209 -> 0 | I29: =Ewidencja!K209 -> 0 | J29: =Ewidencja!L209 -> 0 | K29: =Ewidencja!M209 -> 0 | L29: =Ewidencja!N209 -> 0 | M29: =Ewidencja!O209 -> 0 | ... Q29: =Ewidencja!S209 -> 0 | U29: =IF(ROUND(S29,1)=ROUND(T29,1),1,IF(ROUND(S29,1)>ROUND(U27,1),2,IF(ROUND(S29,1)<ROUND(T29,1),3,0))) -> 1
E30: =Ewidencja!G60 -> Pracy | F30: =Ewidencja!H210 -> 0 | G30: =Ewidencja!I210 -> 1 | H30: =Ewidencja!J210 -> 0 | I30: =Ewidencja!K210 -> 0 | J30: =Ewidencja!L210 -> 1 | K30: =Ewidencja!M210 -> 0 | L30: =Ewidencja!N210 -> 0 | M30: =Ewidencja!O210 -> 0 | ... Q30: =Ewidencja!S210 -> 0 | U30: =IF(ROUND(S30,1)=ROUND(T30,1),1,IF(ROUND(S30,1)>ROUND(U28,1),2,IF(ROUND(S30,1)<ROUND(T30,1),3,0))) -> 1
E31: =Ewidencja!G61 -> Gospodarczych | F31: =Ewidencja!H211 -> 0 | G31: =Ewidencja!I211 -> 0 | H31: =Ewidencja!J211 -> 0 | I31: =Ewidencja!K211 -> 0 | J31: =Ewidencja!L211 -> 0 | K31: =Ewidencja!M211 -> 0 | L31: =Ewidencja!N211 -> 0 | M31: =Ewidencja!O211 -> 0 | ... Q31: =Ewidencja!S211 -> 0 | U31: =IF(ROUND(S31,1)=ROUND(T31,1),1,IF(ROUND(S31,1)>ROUND(U29,1),2,IF(ROUND(S31,1)<ROUND(T31,1),3,0))) -> 1
U32: =IF(ROUND(S32,1)=ROUND(T32,1),1,IF(ROUND(S32,1)>ROUND(U30,1),2,IF(ROUND(S32,1)<ROUND(T32,1),3,0))) -> 1
U33: =IF(ROUND(S33,1)=ROUND(T33,1),1,IF(ROUND(S33,1)>ROUND(U31,1),2,IF(ROUND(S33,1)<ROUND(T33,1),3,0))) -> 1
U34: =IF(ROUND(S34,1)=ROUND(T34,1),1,IF(ROUND(S34,1)>ROUND(U32,1),2,IF(ROUND(S34,1)<ROUND(T34,1),3,0))) -> 1
U35: =IF(ROUND(S35,1)=ROUND(T35,1),1,IF(ROUND(S35,1)>ROUND(U33,1),2,IF(ROUND(S35,1)<ROUND(T35,1),3,0))) -> 1
U36: =IF(ROUND(S36,1)=ROUND(T36,1),1,IF(ROUND(S36,1)>ROUND(U34,1),2,IF(ROUND(S36,1)<ROUND(T36,1),3,0))) -> 1
U37: =IF(ROUND(S37,1)=ROUND(T37,1),1,IF(ROUND(S37,1)>ROUND(U35,1),2,IF(ROUND(S37,1)<ROUND(T37,1),3,0))) -> 1

Sheet SO w Płocku
H12: =TRUNC(RIGHT(E12,1)) -> #VALUE! | I12: =TRUNC(LEFT(E12,4)) -> #VALUE! | J12: =IF(H12=4,CONCATENATE("w ",I12,"r."),IF(H12=2,CONCATENATE("w I półroczu ",I12,"r."),IF(H12=1,CONCATENATE("w I kwartale ",I12,"r."),CONCATENATE("za III kwartały ",I12,"r.")))) -> #VALUE!
E15: =CONCATENATE("EWIDENCJA SPRAW Z WYKAZU S W SĄDACH OKRĘGOWYCH ",Ustawienia!I8," - ",UPPER(Ewidencja!F212)) -> EWIDENCJA SPRAW Z WYKAZU S W SĄDACH OKRĘGOWYCH ZA III KWARTAŁY 2014 r. - SO W PŁOCKU
E17: Wyszczególnienie | F17: Wpłynęło | G17: Załatwiono | M17: Pozostało | Q17: Ogólna kwota zasądzonych odszkodowań (PLN)
G19: ogółem | H19: w tym | M19: ogółem | N19: w tym od wpływu
H20: uwzględniono w całości lub części | J20: oddalono | K20: odrzucono | L20: w inny sposób | N20: do 2 mies. | O20: pow. 2 do 4 mies. | P20: ponad 4 mies.
H21: razem | I21: przez zarządzenie kwoty pieniężnej
E22: 0 | F22: 1 | G22: 2 | H22: 3 | I22: 4 | J22: 5 | K22: 6 | L22: 7 | M22: 8 | N22: 9 | O22: 10 | P22: 11 | Q22: 12
E24: Table
E26: =Ewidencja!G56 -> Ogółem spraw | F26: =Ewidencja!H212 -> 72 | G26: =Ewidencja!I212 -> 69 | H26: =Ewidencja!J212 -> 10 | I26: =Ewidencja!K212 -> 10 | J26: =Ewidencja!L212 -> 19 | K26: =Ewidencja!M212 -> 28 | L26: =Ewidencja!N212 -> 12 | M26: =Ewidencja!O212 -> 12 | ... Q26: =Ewidencja!S212 -> 29000
E27: =Ewidencja!G57 -> Karnych i wykroczeniowych | F27: =Ewidencja!H213 -> 48 | G27: =Ewidencja!I213 -> 46 | H27: =Ewidencja!J213 -> 6 | I27: =Ewidencja!K213 -> 6 | J27: =Ewidencja!L213 -> 9 | K27: =Ewidencja!M213 -> 19 | L27: =Ewidencja!N213 -> 12 | M27: =Ewidencja!O213 -> 7 | ... Q27: =Ewidencja!S213 -> 21000 | U27: =IF(ROUND(S27,1)=ROUND(T27,1),1,IF(ROUND(S27,1)>ROUND(U25,1),2,IF(ROUND(S27,1)<ROUND(T27,1),3,0))) -> 1
E28: =Ewidencja!G58 -> Cywilnych | F28: =Ewidencja!H214 -> 24 | G28: =Ewidencja!I214 -> 22 | H28: =Ewidencja!J214 -> 4 | I28: =Ewidencja!K214 -> 4 | J28: =Ewidencja!L214 -> 10 | K28: =Ewidencja!M214 -> 8 | L28: =Ewidencja!N214 -> 0 | M28: =Ewidencja!O214 -> 5 | ... Q28: =Ewidencja!S214 -> 8000 | U28: =IF(ROUND(S28,1)=ROUND(T28,1),1,IF(ROUND(S28,1)>ROUND(U26,1),2,IF(ROUND(S28,1)<ROUND(T28,1),3,0))) -> 1
E29: =Ewidencja!G59 -> Ubezpieczeniowych | F29: =Ewidencja!H215 -> 0 | G29: =Ewidencja!I215 -> 0 | H29: =Ewidencja!J215 -> 0 | I29: =Ewidencja!K215 -> 0 | J29: =Ewidencja!L215 -> 0 | K29: =Ewidencja!M215 -> 0 | L29: =Ewidencja!N215 -> 0 | M29: =Ewidencja!O215 -> 0 | ... Q29: =Ewidencja!S215 -> 0 | U29: =IF(ROUND(S29,1)=ROUND(T29,1),1,IF(ROUND(S29,1)>ROUND(U27,1),2,IF(ROUND(S29,1)<ROUND(T29,1),3,0))) -> 1
E30: =Ewidencja!G60 -> Pracy | F30: =Ewidencja!H216 -> 0 | G30: =Ewidencja!I216 -> 1 | H30: =Ewidencja!J216 -> 0 | I30: =Ewidencja!K216 -> 0 | J30: =Ewidencja!L216 -> 0 | K30: =Ewidencja!M216 -> 1 | L30: =Ewidencja!N216 -> 0 | M30: =Ewidencja!O216 -> 0 | ... Q30: =Ewidencja!S216 -> 0 | U30: =IF(ROUND(S30,1)=ROUND(T30,1),1,IF(ROUND(S30,1)>ROUND(U28,1),2,IF(ROUND(S30,1)<ROUND(T30,1),3,0))) -> 1
E31: =Ewidencja!G61 -> Gospodarczych | F31: =Ewidencja!H217 -> 0 | G31: =Ewidencja!I217 -> 0 | H31: =Ewidencja!J217 -> 0 | I31: =Ewidencja!K217 -> 0 | J31: =Ewidencja!L217 -> 0 | K31: =Ewidencja!M217 -> 0 | L31: =Ewidencja!N217 -> 0 | M31: =Ewidencja!O217 -> 0 | ... Q31: =Ewidencja!S217 -> 0 | U31: =IF(ROUND(S31,1)=ROUND(T31,1),1,IF(ROUND(S31,1)>ROUND(U29,1),2,IF(ROUND(S31,1)<ROUND(T31,1),3,0))) -> 1
U32: =IF(ROUND(S32,1)=ROUND(T32,1),1,IF(ROUND(S32,1)>ROUND(U30,1),2,IF(ROUND(S32,1)<ROUND(T32,1),3,0))) -> 1
U33: =IF(ROUND(S33,1)=ROUND(T33,1),1,IF(ROUND(S33,1)>ROUND(U31,1),2,IF(ROUND(S33,1)<ROUND(T33,1),3,0))) -> 1
U34: =IF(ROUND(S34,1)=ROUND(T34,1),1,IF(ROUND(S34,1)>ROUND(U32,1),2,IF(ROUND(S34,1)<ROUND(T34,1),3,0))) -> 1
U35: =IF(ROUND(S35,1)=ROUND(T35,1),1,IF(ROUND(S35,1)>ROUND(U33,1),2,IF(ROUND(S35,1)<ROUND(T35,1),3,0))) -> 1
U36: =IF(ROUND(S36,1)=ROUND(T36,1),1,IF(ROUND(S36,1)>ROUND(U34,1),2,IF(ROUND(S36,1)<ROUND(T36,1),3,0))) -> 1
U37: =IF(ROUND(S37,1)=ROUND(T37,1),1,IF(ROUND(S37,1)>ROUND(U35,1),2,IF(ROUND(S37,1)<ROUND(T37,1),3,0))) -> 1

Sheet SO w Sieradzu
H12: =TRUNC(RIGHT(E12,1)) -> #VALUE! | I12: =TRUNC(LEFT(E12,4)) -> #VALUE! | J12: =IF(H12=4,CONCATENATE("w ",I12,"r."),IF(H12=2,CONCATENATE("w I półroczu ",I12,"r."),IF(H12=1,CONCATENATE("w I kwartale ",I12,"r."),CONCATENATE("za III kwartały ",I12,"r.")))) -> #VALUE!
E15: =CONCATENATE("EWIDENCJA SPRAW Z WYKAZU S W SĄDACH OKRĘGOWYCH ",Ustawienia!I8," - ",UPPER(Ewidencja!F218)) -> EWIDENCJA SPRAW Z WYKAZU S W SĄDACH OKRĘGOWYCH ZA III KWARTAŁY 2014 r. - SO W SIERADZU
E17: Wyszczególnienie | F17: Wpłynęło | G17: Załatwiono | M17: Pozostało | Q17: Ogólna kwota zasądzonych odszkodowań (PLN)
G19: ogółem | H19: w tym | M19: ogółem | N19: w tym od wpływu
H20: uwzględniono w całości lub części | J20: oddalono | K20: odrzucono | L20: w inny sposób | N20: do 2 mies. | O20: pow. 2 do 4 mies. | P20: ponad 4 mies.
H21: razem | I21: przez zarządzenie kwoty pieniężnej
E22: 0 | F22: 1 | G22: 2 | H22: 3 | I22: 4 | J22: 5 | K22: 6 | L22: 7 | M22: 8 | N22: 9 | O22: 10 | P22: 11 | Q22: 12
E24: Table
E26: =Ewidencja!G56 -> Ogółem spraw | F26: =Ewidencja!H218 -> 15 | G26: =Ewidencja!I218 -> 10 | H26: =Ewidencja!J218 -> 2 | I26: =Ewidencja!K218 -> 2 | J26: =Ewidencja!L218 -> 2 | K26: =Ewidencja!M218 -> 3 | L26: =Ewidencja!N218 -> 3 | M26: =Ewidencja!O218 -> 6 | ... Q26: =Ewidencja!S218 -> 4000
E27: =Ewidencja!G57 -> Karnych i wykroczeniowych | F27: =Ewidencja!H219 -> 2 | G27: =Ewidencja!I219 -> 3 | H27: =Ewidencja!J219 -> 0 | I27: =Ewidencja!K219 -> 0 | J27: =Ewidencja!L219 -> 0 | K27: =Ewidencja!M219 -> 0 | L27: =Ewidencja!N219 -> 3 | M27: =Ewidencja!O219 -> 0 | ... Q27: =Ewidencja!S219 -> 0 | U27: =IF(ROUND(S27,1)=ROUND(T27,1),1,IF(ROUND(S27,1)>ROUND(U25,1),2,IF(ROUND(S27,1)<ROUND(T27,1),3,0))) -> 1
E28: =Ewidencja!G58 -> Cywilnych | F28: =Ewidencja!H220 -> 13 | G28: =Ewidencja!I220 -> 7 | H28: =Ewidencja!J220 -> 2 | I28: =Ewidencja!K220 -> 2 | J28: =Ewidencja!L220 -> 2 | K28: =Ewidencja!M220 -> 3 | L28: =Ewidencja!N220 -> 0 | M28: =Ewidencja!O220 -> 6 | ... Q28: =Ewidencja!S220 -> 4000 | U28: =IF(ROUND(S28,1)=ROUND(T28,1),1,IF(ROUND(S28,1)>ROUND(U26,1),2,IF(ROUND(S28,1)<ROUND(T28,1),3,0))) -> 1
E29: =Ewidencja!G59 -> Ubezpieczeniowych | F29: =Ewidencja!H221 -> 0 | G29: =Ewidencja!I221 -> 0 | H29: =Ewidencja!J221 -> 0 | I29: =Ewidencja!K221 -> 0 | J29: =Ewidencja!L221 -> 0 | K29: =Ewidencja!M221 -> 0 | L29: =Ewidencja!N221 -> 0 | M29: =Ewidencja!O221 -> 0 | ... Q29: =Ewidencja!S221 -> 0 | U29: =IF(ROUND(S29,1)=ROUND(T29,1),1,IF(ROUND(S29,1)>ROUND(U27,1),2,IF(ROUND(S29,1)<ROUND(T29,1),3,0))) -> 1
E30: =Ewidencja!G60 -> Pracy | F30: =Ewidencja!H222 -> 0 | G30: =Ewidencja!I222 -> 0 | H30: =Ewidencja!J222 -> 0 | I30: =Ewidencja!K222 -> 0 | J30: =Ewidencja!L222 -> 0 | K30: =Ewidencja!M222 -> 0 | L30: =Ewidencja!N222 -> 0 | M30: =Ewidencja!O222 -> 0 | ... Q30: =Ewidencja!S222 -> 0 | U30: =IF(ROUND(S30,1)=ROUND(T30,1),1,IF(ROUND(S30,1)>ROUND(U28,1),2,IF(ROUND(S30,1)<ROUND(T30,1),3,0))) -> 1
E31: =Ewidencja!G61 -> Gospodarczych | F31: =Ewidencja!H223 -> 0 | G31: =Ewidencja!I223 -> 0 | H31: =Ewidencja!J223 -> 0 | I31: =Ewidencja!K223 -> 0 | J31: =Ewidencja!L223 -> 0 | K31: =Ewidencja!M223 -> 0 | L31: =Ewidencja!N223 -> 0 | M31: =Ewidencja!O223 -> 0 | ... Q31: =Ewidencja!S223 -> 0 | U31: =IF(ROUND(S31,1)=ROUND(T31,1),1,IF(ROUND(S31,1)>ROUND(U29,1),2,IF(ROUND(S31,1)<ROUND(T31,1),3,0))) -> 1
U32: =IF(ROUND(S32,1)=ROUND(T32,1),1,IF(ROUND(S32,1)>ROUND(U30,1),2,IF(ROUND(S32,1)<ROUND(T32,1),3,0))) -> 1
U33: =IF(ROUND(S33,1)=ROUND(T33,1),1,IF(ROUND(S33,1)>ROUND(U31,1),2,IF(ROUND(S33,1)<ROUND(T33,1),3,0))) -> 1
U34: =IF(ROUND(S34,1)=ROUND(T34,1),1,IF(ROUND(S34,1)>ROUND(U32,1),2,IF(ROUND(S34,1)<ROUND(T34,1),3,0))) -> 1
U35: =IF(ROUND(S35,1)=ROUND(T35,1),1,IF(ROUND(S35,1)>ROUND(U33,1),2,IF(ROUND(S35,1)<ROUND(T35,1),3,0))) -> 1
U36: =IF(ROUND(S36,1)=ROUND(T36,1),1,IF(ROUND(S36,1)>ROUND(U34,1),2,IF(ROUND(S36,1)<ROUND(T36,1),3,0))) -> 1
U37: =IF(ROUND(S37,1)=ROUND(T37,1),1,IF(ROUND(S37,1)>ROUND(U35,1),2,IF(ROUND(S37,1)<ROUND(T37,1),3,0))) -> 1

Sheet Apelacja Poznańska
H12: =TRUNC(RIGHT(E12,1)) -> #VALUE! | I12: =TRUNC(LEFT(E12,4)) -> #VALUE! | J12: =IF(H12=4,CONCATENATE("w ",I12,"r."),IF(H12=2,CONCATENATE("w I półroczu ",I12,"r."),IF(H12=1,CONCATENATE("w I kwartale ",I12,"r."),CONCATENATE("za III kwartały ",I12,"r.")))) -> #VALUE!
E15: =CONCATENATE("EWIDENCJA SPRAW Z WYKAZU S W SĄDACH OKRĘGOWYCH ",Ustawienia!I8," - ",UPPER(Ewidencja!E230)) -> EWIDENCJA SPRAW Z WYKAZU S W SĄDACH OKRĘGOWYCH ZA III KWARTAŁY 2014 r. - APELACJA POZNAŃSKA
E17: Wyszczególnienie | F17: Wpłynęło | G17: Załatwiono | M17: Pozostało | Q17: Ogólna kwota zasądzonych odszkodowań (PLN)
G19: ogółem | H19: w tym | M19: ogółem | N19: w tym od wpływu
H20: uwzględniono w całości lub części | J20: oddalono | K20: odrzucono | L20: w inny sposób | N20: do 2 mies. | O20: pow. 2 do 4 mies. | P20: ponad 4 mies.
H21: razem | I21: przez zarządzenie kwoty pieniężnej
E22: 0 | F22: 1 | G22: 2 | H22: 3 | I22: 4 | J22: 5 | K22: 6 | L22: 7 | M22: 8 | N22: 9 | O22: 10 | P22: 11 | Q22: 12
E24: Table
E26: =Ewidencja!G56 -> Ogółem spraw | F26: =Ewidencja!H248 -> 1048 | G26: =Ewidencja!I248 -> 1025 | H26: =Ewidencja!J248 -> 202 | I26: =Ewidencja!K248 -> 195 | J26: =Ewidencja!L248 -> 247 | K26: =Ewidencja!M248 -> 419 | L26: =Ewidencja!N248 -> 157 | M26: =Ewidencja!O248 -> 122 | ... Q26: =Ewidencja!S248 -> 512000
E27: =Ewidencja!G57 -> Karnych i wykroczeniowych | F27: =Ewidencja!H249 -> 301 | G27: =Ewidencja!I249 -> 287 | H27: =Ewidencja!J249 -> 65 | I27: =Ewidencja!K249 -> 59 | J27: =Ewidencja!L249 -> 75 | K27: =Ewidencja!M249 -> 27 | L27: =Ewidencja!N249 -> 120 | M27: =Ewidencja!O249 -> 44 | ... Q27: =Ewidencja!S249 -> 141000 | U27: =IF(ROUND(S27,1)=ROUND(T27,1),1,IF(ROUND(S27,1)>ROUND(U25,1),2,IF(ROUND(S27,1)<ROUND(T27,1),3,0))) -> 1
E28: =Ewidencja!G58 -> Cywilnych | F28: =Ewidencja!H250 -> 687 | G28: =Ewidencja!I250 -> 679 | H28: =Ewidencja!J250 -> 110 | I28: =Ewidencja!K250 -> 110 | J28: =Ewidencja!L250 -> 155 | K28: =Ewidencja!M250 -> 384 | L28: =Ewidencja!N250 -> 30 | M28: =Ewidencja!O250 -> 72 | ... Q28: =Ewidencja!S250 -> 312000 | U28: =IF(ROUND(S28,1)=ROUND(T28,1),1,IF(ROUND(S28,1)>ROUND(U26,1),2,IF(ROUND(S28,1)<ROUND(T28,1),3,0))) -> 1
E29: =Ewidencja!G59 -> Ubezpieczeniowych | F29: =Ewidencja!H251 -> 4 | G29: =Ewidencja!I251 -> 3 | H29: =Ewidencja!J251 -> 1 | I29: =Ewidencja!K251 -> 1 | J29: =Ewidencja!L251 -> 1 | K29: =Ewidencja!M251 -> 1 | L29: =Ewidencja!N251 -> 0 | M29: =Ewidencja!O251 -> 1 | ... Q29: =Ewidencja!S251 -> 2000 | U29: =IF(ROUND(S29,1)=ROUND(T29,1),1,IF(ROUND(S29,1)>ROUND(U27,1),2,IF(ROUND(S29,1)<ROUND(T29,1),3,0))) -> 1
E30: =Ewidencja!G60 -> Pracy | F30: =Ewidencja!H252 -> 18 | G30: =Ewidencja!I252 -> 17 | H30: =Ewidencja!J252 -> 8 | I30: =Ewidencja!K252 -> 8 | J30: =Ewidencja!L252 -> 6 | K30: =Ewidencja!M252 -> 2 | L30: =Ewidencja!N252 -> 1 | M30: =Ewidencja!O252 -> 3 | ... Q30: =Ewidencja!S252 -> 21000 | U30: =IF(ROUND(S30,1)=ROUND(T30,1),1,IF(ROUND(S30,1)>ROUND(U28,1),2,IF(ROUND(S30,1)<ROUND(T30,1),3,0))) -> 1
E31: =Ewidencja!G61 -> Gospodarczych | F31: =Ewidencja!H253 -> 38 | G31: =Ewidencja!I253 -> 39 | H31: =Ewidencja!J253 -> 18 | I31: =Ewidencja!K253 -> 17 | J31: =Ewidencja!L253 -> 10 | K31: =Ewidencja!M253 -> 5 | L31: =Ewidencja!N253 -> 6 | M31: =Ewidencja!O253 -> 2 | ... Q31: =Ewidencja!S253 -> 36000 | U31: =IF(ROUND(S31,1)=ROUND(T31,1),1,IF(ROUND(S31,1)>ROUND(U29,1),2,IF(ROUND(S31,1)<ROUND(T31,1),3,0))) -> 1
U32: =IF(ROUND(S32,1)=ROUND(T32,1),1,IF(ROUND(S32,1)>ROUND(U30,1),2,IF(ROUND(S32,1)<ROUND(T32,1),3,0))) -> 1
U33: =IF(ROUND(S33,1)=ROUND(T33,1),1,IF(ROUND(S33,1)>ROUND(U31,1),2,IF(ROUND(S33,1)<ROUND(T33,1),3,0))) -> 1
U34: =IF(ROUND(S34,1)=ROUND(T34,1),1,IF(ROUND(S34,1)>ROUND(U32,1),2,IF(ROUND(S34,1)<ROUND(T34,1),3,0))) -> 1
U35: =IF(ROUND(S35,1)=ROUND(T35,1),1,IF(ROUND(S35,1)>ROUND(U33,1),2,IF(ROUND(S35,1)<ROUND(T35,1),3,0))) -> 1
U36: =IF(ROUND(S36,1)=ROUND(T36,1),1,IF(ROUND(S36,1)>ROUND(U34,1),2,IF(ROUND(S36,1)<ROUND(T36,1),3,0))) -> 1
U37: =IF(ROUND(S37,1)=ROUND(T37,1),1,IF(ROUND(S37,1)>ROUND(U35,1),2,IF(ROUND(S37,1)<ROUND(T37,1),3,0))) -> 1

Sheet SO w Koninie
H12: =TRUNC(RIGHT(E12,1)) -> #VALUE! | I12: =TRUNC(LEFT(E12,4)) -> #VALUE! | J12: =IF(H12=4,CONCATENATE("w ",I12,"r."),IF(H12=2,CONCATENATE("w I półroczu ",I12,"r."),IF(H12=1,CONCATENATE("w I kwartale ",I12,"r."),CONCATENATE("za III kwartały ",I12,"r.")))) -> #VALUE!
E15: =CONCATENATE("EWIDENCJA SPRAW Z WYKAZU S W SĄDACH OKRĘGOWYCH ",Ustawienia!I8," - ",UPPER(Ewidencja!F230)) -> EWIDENCJA SPRAW Z WYKAZU S W SĄDACH OKRĘGOWYCH ZA III KWARTAŁY 2014 r. - SO W KONINIE
E17: Wyszczególnienie | F17: Wpłynęło | G17: Załatwiono | M17: Pozostało | Q17: Ogólna kwota zasądzonych odszkodowań (PLN)
G19: ogółem | H19: w tym | M19: ogółem | N19: w tym od wpływu
H20: uwzględniono w całości lub części | J20: oddalono | K20: odrzucono | L20: w inny sposób | N20: do 2 mies. | O20: pow. 2 do 4 mies. | P20: ponad 4 mies.
H21: razem | I21: przez zarządzenie kwoty pieniężnej
E22: 0 | F22: 1 | G22: 2 | H22: 3 | I22: 4 | J22: 5 | K22: 6 | L22: 7 | M22: 8 | N22: 9 | O22: 10 | P22: 11 | Q22: 12
E24: Table
E26: =Ewidencja!G56 -> Ogółem spraw | F26: =Ewidencja!H230 -> 18 | G26: =Ewidencja!I230 -> 20 | H26: =Ewidencja!J230 -> 4 | I26: =Ewidencja!K230 -> 4 | J26: =Ewidencja!L230 -> 11 | K26: =Ewidencja!M230 -> 3 | L26: =Ewidencja!N230 -> 2 | M26: =Ewidencja!O230 -> 1 | ... Q26: =Ewidencja!S230 -> 14000
E27: =Ewidencja!G57 -> Karnych i wykroczeniowych | F27: =Ewidencja!H231 -> 6 | G27: =Ewidencja!I231 -> 6 | H27: =Ewidencja!J231 -> 3 | I27: =Ewidencja!K231 -> 3 | J27: =Ewidencja!L231 -> 0 | K27: =Ewidencja!M231 -> 2 | L27: =Ewidencja!N231 -> 1 | M27: =Ewidencja!O231 -> 0 | ... Q27: =Ewidencja!S231 -> 12000 | U27: =IF(ROUND(S27,1)=ROUND(T27,1),1,IF(ROUND(S27,1)>ROUND(U25,1),2,IF(ROUND(S27,1)<ROUND(T27,1),3,0))) -> 1
E28: =Ewidencja!G58 -> Cywilnych | F28: =Ewidencja!H232 -> 12 | G28: =Ewidencja!I232 -> 14 | H28: =Ewidencja!J232 -> 1 | I28: =Ewidencja!K232 -> 1 | J28: =Ewidencja!L232 -> 11 | K28: =Ewidencja!M232 -> 1 | L28: =Ewidencja!N232 -> 1 | M28: =Ewidencja!O232 -> 1 | ... Q28: =Ewidencja!S232 -> 2000 | U28: =IF(ROUND(S28,1)=ROUND(T28,1),1,IF(ROUND(S28,1)>ROUND(U26,1),2,IF(ROUND(S28,1)<ROUND(T28,1),3,0))) -> 1
E29: =Ewidencja!G59 -> Ubezpieczeniowych | F29: =Ewidencja!H233 -> 0 | G29: =Ewidencja!I233 -> 0 | H29: =Ewidencja!J233 -> 0 | I29: =Ewidencja!K233 -> 0 | J29: =Ewidencja!L233 -> 0 | K29: =Ewidencja!M233 -> 0 | L29: =Ewidencja!N233 -> 0 | M29: =Ewidencja!O233 -> 0 | ... Q29: =Ewidencja!S233 -> 0 | U29: =IF(ROUND(S29,1)=ROUND(T29,1),1,IF(ROUND(S29,1)>ROUND(U27,1),2,IF(ROUND(S29,1)<ROUND(T29,1),3,0))) -> 1
E30: =Ewidencja!G60 -> Pracy | F30: =Ewidencja!H234 -> 0 | G30: =Ewidencja!I234 -> 0 | H30: =Ewidencja!J234 -> 0 | I30: =Ewidencja!K234 -> 0 | J30: =Ewidencja!L234 -> 0 | K30: =Ewidencja!M234 -> 0 | L30: =Ewidencja!N234 -> 0 | M30: =Ewidencja!O234 -> 0 | ... Q30: =Ewidencja!S234 -> 0 | U30: =IF(ROUND(S30,1)=ROUND(T30,1),1,IF(ROUND(S30,1)>ROUND(U28,1),2,IF(ROUND(S30,1)<ROUND(T30,1),3,0))) -> 1
E31: =Ewidencja!G61 -> Gospodarczych | F31: =Ewidencja!H235 -> 0 | G31: =Ewidencja!I235 -> 0 | H31: =Ewidencja!J235 -> 0 | I31: =Ewidencja!K235 -> 0 | J31: =Ewidencja!L235 -> 0 | K31: =Ewidencja!M235 -> 0 | L31: =Ewidencja!N235 -> 0 | M31: =Ewidencja!O235 -> 0 | ... Q31: =Ewidencja!S235 -> 0 | U31: =IF(ROUND(S31,1)=ROUND(T31,1),1,IF(ROUND(S31,1)>ROUND(U29,1),2,IF(ROUND(S31,1)<ROUND(T31,1),3,0))) -> 1
U32: =IF(ROUND(S32,1)=ROUND(T32,1),1,IF(ROUND(S32,1)>ROUND(U30,1),2,IF(ROUND(S32,1)<ROUND(T32,1),3,0))) -> 1
U33: =IF(ROUND(S33,1)=ROUND(T33,1),1,IF(ROUND(S33,1)>ROUND(U31,1),2,IF(ROUND(S33,1)<ROUND(T33,1),3,0))) -> 1
U34: =IF(ROUND(S34,1)=ROUND(T34,1),1,IF(ROUND(S34,1)>ROUND(U32,1),2,IF(ROUND(S34,1)<ROUND(T34,1),3,0))) -> 1
U35: =IF(ROUND(S35,1)=ROUND(T35,1),1,IF(ROUND(S35,1)>ROUND(U33,1),2,IF(ROUND(S35,1)<ROUND(T35,1),3,0))) -> 1
U36: =IF(ROUND(S36,1)=ROUND(T36,1),1,IF(ROUND(S36,1)>ROUND(U34,1),2,IF(ROUND(S36,1)<ROUND(T36,1),3,0))) -> 1
U37: =IF(ROUND(S37,1)=ROUND(T37,1),1,IF(ROUND(S37,1)>ROUND(U35,1),2,IF(ROUND(S37,1)<ROUND(T37,1),3,0))) -> 1

Sheet SO w Poznaniu
H12: =TRUNC(RIGHT(E12,1)) -> #VALUE! | I12: =TRUNC(LEFT(E12,4)) -> #VALUE! | J12: =IF(H12=4,CONCATENATE("w ",I12,"r."),IF(H12=2,CONCATENATE("w I półroczu ",I12,"r."),IF(H12=1,CONCATENATE("w I kwartale ",I12,"r."),CONCATENATE("za III kwartały ",I12,"r.")))) -> #VALUE!
E15: =CONCATENATE("EWIDENCJA SPRAW Z WYKAZU S W SĄDACH OKRĘGOWYCH ",Ustawienia!I8," - ",UPPER(Ewidencja!F236)) -> EWIDENCJA SPRAW Z WYKAZU S W SĄDACH OKRĘGOWYCH ZA III KWARTAŁY 2014 r. - SO W POZNANIU
E17: Wyszczególnienie | F17: Wpłynęło | G17: Załatwiono | M17: Pozostało | Q17: Ogólna kwota zasądzonych odszkodowań (PLN)
G19: ogółem | H19: w tym | M19: ogółem | N19: w tym od wpływu
H20: uwzględniono w całości lub części | J20: oddalono | K20: odrzucono | L20: w inny sposób | N20: do 2 mies. | O20: pow. 2 do 4 mies. | P20: ponad 4 mies.
H21: razem | I21: przez zarządzenie kwoty pieniężnej
E22: 0 | F22: 1 | G22: 2 | H22: 3 | I22: 4 | J22: 5 | K22: 6 | L22: 7 | M22: 8 | N22: 9 | O22: 10 | P22: 11 | Q22: 12
E24: Table
E26: =Ewidencja!G56 -> Ogółem spraw | F26: =Ewidencja!H236 -> 494 | G26: =Ewidencja!I236 -> 511 | H26: =Ewidencja!J236 -> 143 | I26: =Ewidencja!K236 -> 139 | J26: =Ewidencja!L236 -> 160 | K26: =Ewidencja!M236 -> 105 | L26: =Ewidencja!N236 -> 103 | M26: =Ewidencja!O236 -> 56 | ... Q26: =Ewidencja!S236 -> 381000
E27: =Ewidencja!G57 -> Karnych i wykroczeniowych | F27: =Ewidencja!H237 -> 146 | G27: =Ewidencja!I237 -> 137 | H27: =Ewidencja!J237 -> 20 | I27: =Ewidencja!K237 -> 17 | J27: =Ewidencja!L237 -> 34 | K27: =Ewidencja!M237 -> 7 | L27: =Ewidencja!N237 -> 76 | M27: =Ewidencja!O237 -> 19 | ... Q27: =Ewidencja!S237 -> 47000 | U27: =IF(ROUND(S27,1)=ROUND(T27,1),1,IF(ROUND(S27,1)>ROUND(U25,1),2,IF(ROUND(S27,1)<ROUND(T27,1),3,0))) -> 1
E28: =Ewidencja!G58 -> Cywilnych | F28: =Ewidencja!H238 -> 292 | G28: =Ewidencja!I238 -> 319 | H28: =Ewidencja!J238 -> 98 | I28: =Ewidencja!K238 -> 98 | J28: =Ewidencja!L238 -> 110 | K28: =Ewidencja!M238 -> 90 | L28: =Ewidencja!N238 -> 21 | M28: =Ewidencja!O238 -> 31 | ... Q28: =Ewidencja!S238 -> 281000 | U28: =IF(ROUND(S28,1)=ROUND(T28,1),1,IF(ROUND(S28,1)>ROUND(U26,1),2,IF(ROUND(S28,1)<ROUND(T28,1),3,0))) -> 1
E29: =Ewidencja!G59 -> Ubezpieczeniowych | F29: =Ewidencja!H239 -> 3 | G29: =Ewidencja!I239 -> 2 | H29: =Ewidencja!J239 -> 1 | I29: =Ewidencja!K239 -> 1 | J29: =Ewidencja!L239 -> 0 | K29: =Ewidencja!M239 -> 1 | L29: =Ewidencja!N239 -> 0 | M29: =Ewidencja!O239 -> 1 | ... Q29: =Ewidencja!S239 -> 2000 | U29: =IF(ROUND(S29,1)=ROUND(T29,1),1,IF(ROUND(S29,1)>ROUND(U27,1),2,IF(ROUND(S29,1)<ROUND(T29,1),3,0))) -> 1
E30: =Ewidencja!G60 -> Pracy | F30: =Ewidencja!H240 -> 15 | G30: =Ewidencja!I240 -> 14 | H30: =Ewidencja!J240 -> 6 | I30: =Ewidencja!K240 -> 6 | J30: =Ewidencja!L240 -> 6 | K30: =Ewidencja!M240 -> 2 | L30: =Ewidencja!N240 -> 0 | M30: =Ewidencja!O240 -> 3 | ... Q30: =Ewidencja!S240 -> 15000 | U30: =IF(ROUND(S30,1)=ROUND(T30,1),1,IF(ROUND(S30,1)>ROUND(U28,1),2,IF(ROUND(S30,1)<ROUND(T30,1),3,0))) -> 1
E31: =Ewidencja!G61 -> Gospodarczych | F31: =Ewidencja!H241 -> 38 | G31: =Ewidencja!I241 -> 39 | H31: =Ewidencja!J241 -> 18 | I31: =Ewidencja!K241 -> 17 | J31: =Ewidencja!L241 -> 10 | K31: =Ewidencja!M241 -> 5 | L31: =Ewidencja!N241 -> 6 | M31: =Ewidencja!O241 -> 2 | ... Q31: =Ewidencja!S241 -> 36000 | U31: =IF(ROUND(S31,1)=ROUND(T31,1),1,IF(ROUND(S31,1)>ROUND(U29,1),2,IF(ROUND(S31,1)<ROUND(T31,1),3,0))) -> 1
U32: =IF(ROUND(S32,1)=ROUND(T32,1),1,IF(ROUND(S32,1)>ROUND(U30,1),2,IF(ROUND(S32,1)<ROUND(T32,1),3,0))) -> 1
U33: =IF(ROUND(S33,1)=ROUND(T33,1),1,IF(ROUND(S33,1)>ROUND(U31,1),2,IF(ROUND(S33,1)<ROUND(T33,1),3,0))) -> 1
U34: =IF(ROUND(S34,1)=ROUND(T34,1),1,IF(ROUND(S34,1)>ROUND(U32,1),2,IF(ROUND(S34,1)<ROUND(T34,1),3,0))) -> 1
U35: =IF(ROUND(S35,1)=ROUND(T35,1),1,IF(ROUND(S35,1)>ROUND(U33,1),2,IF(ROUND(S35,1)<ROUND(T35,1),3,0))) -> 1
U36: =IF(ROUND(S36,1)=ROUND(T36,1),1,IF(ROUND(S36,1)>ROUND(U34,1),2,IF(ROUND(S36,1)<ROUND(T36,1),3,0))) -> 1
U37: =IF(ROUND(S37,1)=ROUND(T37,1),1,IF(ROUND(S37,1)>ROUND(U35,1),2,IF(ROUND(S37,1)<ROUND(T37,1),3,0))) -> 1

Sheet SO w Zielonej Górze
H12: =TRUNC(RIGHT(E12,1)) -> #VALUE! | I12: =TRUNC(LEFT(E12,4)) -> #VALUE! | J12: =IF(H12=4,CONCATENATE("w ",I12,"r."),IF(H12=2,CONCATENATE("w I półroczu ",I12,"r."),IF(H12=1,CONCATENATE("w I kwartale ",I12,"r."),CONCATENATE("za III kwartały ",I12,"r.")))) -> #VALUE!
E15: =CONCATENATE("EWIDENCJA SPRAW Z WYKAZU S W SĄDACH OKRĘGOWYCH ",Ustawienia!I8," - ",UPPER(Ewidencja!F242)) -> EWIDENCJA SPRAW Z WYKAZU S W SĄDACH OKRĘGOWYCH ZA III KWARTAŁY 2014 r. - SO W ZIELONEJ GÓRZE
E17: Wyszczególnienie | F17: Wpłynęło | G17: Załatwiono | M17: Pozostało | Q17: Ogólna kwota zasądzonych odszkodowań (PLN)
G19: ogółem | H19: w tym | M19: ogółem | N19: w tym od wpływu
H20: uwzględniono w całości lub części | J20: oddalono | K20: odrzucono | L20: w inny sposób | N20: do 2 mies. | O20: pow. 2 do 4 mies. | P20: ponad 4 mies.
H21: razem | I21: przez zarządzenie kwoty pieniężnej
E22: 0 | F22: 1 | G22: 2 | H22: 3 | I22: 4 | J22: 5 | K22: 6 | L22: 7 | M22: 8 | N22: 9 | O22: 10 | P22: 11 | Q22: 12
E24: Table
E26: =Ewidencja!G56 -> Ogółem spraw | F26: =Ewidencja!H242 -> 536 | G26: =Ewidencja!I242 -> 494 | H26: =Ewidencja!J242 -> 55 | I26: =Ewidencja!K242 -> 52 | J26: =Ewidencja!L242 -> 76 | K26: =Ewidencja!M242 -> 311 | L26: =Ewidencja!N242 -> 52 | M26: =Ewidencja!O242 -> 65 | ... Q26: =Ewidencja!S242 -> 117000
E27: =Ewidencja!G57 -> Karnych i wykroczeniowych | F27: =Ewidencja!H243 -> 149 | G27: =Ewidencja!I243 -> 144 | H27: =Ewidencja!J243 -> 42 | I27: =Ewidencja!K243 -> 39 | J27: =Ewidencja!L243 -> 41 | K27: =Ewidencja!M243 -> 18 | L27: =Ewidencja!N243 -> 43 | M27: =Ewidencja!O243 -> 25 | ... Q27: =Ewidencja!S243 -> 82000 | U27: =IF(ROUND(S27,1)=ROUND(T27,1),1,IF(ROUND(S27,1)>ROUND(U25,1),2,IF(ROUND(S27,1)<ROUND(T27,1),3,0))) -> 1
E28: =Ewidencja!G58 -> Cywilnych | F28: =Ewidencja!H244 -> 383 | G28: =Ewidencja!I244 -> 346 | H28: =Ewidencja!J244 -> 11 | I28: =Ewidencja!K244 -> 11 | J28: =Ewidencja!L244 -> 34 | K28: =Ewidencja!M244 -> 293 | L28: =Ewidencja!N244 -> 8 | M28: =Ewidencja!O244 -> 40 | ... Q28: =Ewidencja!S244 -> 29000 | U28: =IF(ROUND(S28,1)=ROUND(T28,1),1,IF(ROUND(S28,1)>ROUND(U26,1),2,IF(ROUND(S28,1)<ROUND(T28,1),3,0))) -> 1
E29: =Ewidencja!G59 -> Ubezpieczeniowych | F29: =Ewidencja!H245 -> 1 | G29: =Ewidencja!I245 -> 1 | H29: =Ewidencja!J245 -> 0 | I29: =Ewidencja!K245 -> 0 | J29: =Ewidencja!L245 -> 1 | K29: =Ewidencja!M245 -> 0 | L29: =Ewidencja!N245 -> 0 | M29: =Ewidencja!O245 -> 0 | ... Q29: =Ewidencja!S245 -> 0 | U29: =IF(ROUND(S29,1)=ROUND(T29,1),1,IF(ROUND(S29,1)>ROUND(U27,1),2,IF(ROUND(S29,1)<ROUND(T29,1),3,0))) -> 1
E30: =Ewidencja!G60 -> Pracy | F30: =Ewidencja!H246 -> 3 | G30: =Ewidencja!I246 -> 3 | H30: =Ewidencja!J246 -> 2 | I30: =Ewidencja!K246 -> 2 | J30: =Ewidencja!L246 -> 0 | K30: =Ewidencja!M246 -> 0 | L30: =Ewidencja!N246 -> 1 | M30: =Ewidencja!O246 -> 0 | ... Q30: =Ewidencja!S246 -> 6000 | U30: =IF(ROUND(S30,1)=ROUND(T30,1),1,IF(ROUND(S30,1)>ROUND(U28,1),2,IF(ROUND(S30,1)<ROUND(T30,1),3,0))) -> 1
E31: =Ewidencja!G61 -> Gospodarczych | F31: =Ewidencja!H247 -> 0 | G31: =Ewidencja!I247 -> 0 | H31: =Ewidencja!J247 -> 0 | I31: =Ewidencja!K247 -> 0 | J31: =Ewidencja!L247 -> 0 | K31: =Ewidencja!M247 -> 0 | L31: =Ewidencja!N247 -> 0 | M31: =Ewidencja!O247 -> 0 | ... Q31: =Ewidencja!S247 -> 0 | U31: =IF(ROUND(S31,1)=ROUND(T31,1),1,IF(ROUND(S31,1)>ROUND(U29,1),2,IF(ROUND(S31,1)<ROUND(T31,1),3,0))) -> 1
U32: =IF(ROUND(S32,1)=ROUND(T32,1),1,IF(ROUND(S32,1)>ROUND(U30,1),2,IF(ROUND(S32,1)<ROUND(T32,1),3,0))) -> 1
U33: =IF(ROUND(S33,1)=ROUND(T33,1),1,IF(ROUND(S33,1)>ROUND(U31,1),2,IF(ROUND(S33,1)<ROUND(T33,1),3,0))) -> 1
U34: =IF(ROUND(S34,1)=ROUND(T34,1),1,IF(ROUND(S34,1)>ROUND(U32,1),2,IF(ROUND(S34,1)<ROUND(T34,1),3,0))) -> 1
U35: =IF(ROUND(S35,1)=ROUND(T35,1),1,IF(ROUND(S35,1)>ROUND(U33,1),2,IF(ROUND(S35,1)<ROUND(T35,1),3,0))) -> 1
U36: =IF(ROUND(S36,1)=ROUND(T36,1),1,IF(ROUND(S36,1)>ROUND(U34,1),2,IF(ROUND(S36,1)<ROUND(T36,1),3,0))) -> 1
U37: =IF(ROUND(S37,1)=ROUND(T37,1),1,IF(ROUND(S37,1)>ROUND(U35,1),2,IF(ROUND(S37,1)<ROUND(T37,1),3,0))) -> 1

Sheet Apelacja Rzeszowska
H12: =TRUNC(RIGHT(E12,1)) -> #VALUE! | I12: =TRUNC(LEFT(E12,4)) -> #VALUE! | J12: =IF(H12=4,CONCATENATE("w ",I12,"r."),IF(H12=2,CONCATENATE("w I półroczu ",I12,"r."),IF(H12=1,CONCATENATE("w I kwartale ",I12,"r."),CONCATENATE("za III kwartały ",I12,"r.")))) -> #VALUE!
E15: =CONCATENATE("EWIDENCJA SPRAW Z WYKAZU S W SĄDACH OKRĘGOWYCH ",Ustawienia!I8," - ",UPPER(Ewidencja!E254)) -> EWIDENCJA SPRAW Z WYKAZU S W SĄDACH OKRĘGOWYCH ZA III KWARTAŁY 2014 r. - APELACJA RZESZOWSKA
E17: Wyszczególnienie | F17: Wpłynęło | G17: Załatwiono | M17: Pozostało | Q17: Ogólna kwota zasądzonych odszkodowań (PLN)
G19: ogółem | H19: w tym | M19: ogółem | N19: w tym od wpływu
H20: uwzględniono w całości lub części | J20: oddalono | K20: odrzucono | L20: w inny sposób | N20: do 2 mies. | O20: pow. 2 do 4 mies. | P20: ponad 4 mies.
H21: razem | I21: przez zarządzenie kwoty pieniężnej
E22: 0 | F22: 1 | G22: 2 | H22: 3 | I22: 4 | J22: 5 | K22: 6 | L22: 7 | M22: 8 | N22: 9 | O22: 10 | P22: 11 | Q22: 12
E24: Table
E26: =Ewidencja!G56 -> Ogółem spraw | F26: =Ewidencja!H278 -> 233 | G26: =Ewidencja!I278 -> 242 | H26: =Ewidencja!J278 -> 9 | I26: =Ewidencja!K278 -> 8 | J26: =Ewidencja!L278 -> 62 | K26: =Ewidencja!M278 -> 130 | L26: =Ewidencja!N278 -> 41 | M26: =Ewidencja!O278 -> 31 | ... Q26: =Ewidencja!S278 -> 26000
E27: =Ewidencja!G57 -> Karnych i wykroczeniowych | F27: =Ewidencja!H279 -> 60 | G27: =Ewidencja!I279 -> 69 | H27: =Ewidencja!J279 -> 1 | I27: =Ewidencja!K279 -> 1 | J27: =Ewidencja!L279 -> 24 | K27: =Ewidencja!M279 -> 13 | L27: =Ewidencja!N279 -> 31 | M27: =Ewidencja!O279 -> 6 | ... Q27: =Ewidencja!S279 -> 2000 | U27: =IF(ROUND(S27,1)=ROUND(T27,1),1,IF(ROUND(S27,1)>ROUND(U25,1),2,IF(ROUND(S27,1)<ROUND(T27,1),3,0))) -> 1
E28: =Ewidencja!G58 -> Cywilnych | F28: =Ewidencja!H280 -> 162 | G28: =Ewidencja!I280 -> 163 | H28: =Ewidencja!J280 -> 6 | I28: =Ewidencja!K280 -> 6 | J28: =Ewidencja!L280 -> 32 | K28: =Ewidencja!M280 -> 116 | L28: =Ewidencja!N280 -> 9 | M28: =Ewidencja!O280 -> 24 | ... Q28: =Ewidencja!S280 -> 22000 | U28: =IF(ROUND(S28,1)=ROUND(T28,1),1,IF(ROUND(S28,1)>ROUND(U26,1),2,IF(ROUND(S28,1)<ROUND(T28,1),3,0))) -> 1
E29: =Ewidencja!G59 -> Ubezpieczeniowych | F29: =Ewidencja!H281 -> 0 | G29: =Ewidencja!I281 -> 0 | H29: =Ewidencja!J281 -> 0 | I29: =Ewidencja!K281 -> 0 | J29: =Ewidencja!L281 -> 0 | K29: =Ewidencja!M281 -> 0 | L29: =Ewidencja!N281 -> 0 | M29: =Ewidencja!O281 -> 0 | ... Q29: =Ewidencja!S281 -> 0 | U29: =IF(ROUND(S29,1)=ROUND(T29,1),1,IF(ROUND(S29,1)>ROUND(U27,1),2,IF(ROUND(S29,1)<ROUND(T29,1),3,0))) -> 1
E30: =Ewidencja!G60 -> Pracy | F30: =Ewidencja!H282 -> 2 | G30: =Ewidencja!I282 -> 2 | H30: =Ewidencja!J282 -> 0 | I30: =Ewidencja!K282 -> 0 | J30: =Ewidencja!L282 -> 1 | K30: =Ewidencja!M282 -> 0 | L30: =Ewidencja!N282 -> 1 | M30: =Ewidencja!O282 -> 0 | ... Q30: =Ewidencja!S282 -> 0 | U30: =IF(ROUND(S30,1)=ROUND(T30,1),1,IF(ROUND(S30,1)>ROUND(U28,1),2,IF(ROUND(S30,1)<ROUND(T30,1),3,0))) -> 1
E31: =Ewidencja!G61 -> Gospodarczych | F31: =Ewidencja!H283 -> 9 | G31: =Ewidencja!I283 -> 8 | H31: =Ewidencja!J283 -> 2 | I31: =Ewidencja!K283 -> 1 | J31: =Ewidencja!L283 -> 5 | K31: =Ewidencja!M283 -> 1 | L31: =Ewidencja!N283 -> 0 | M31: =Ewidencja!O283 -> 1 | ... Q31: =Ewidencja!S283 -> 2000 | U31: =IF(ROUND(S31,1)=ROUND(T31,1),1,IF(ROUND(S31,1)>ROUND(U29,1),2,IF(ROUND(S31,1)<ROUND(T31,1),3,0))) -> 1
U32: =IF(ROUND(S32,1)=ROUND(T32,1),1,IF(ROUND(S32,1)>ROUND(U30,1),2,IF(ROUND(S32,1)<ROUND(T32,1),3,0))) -> 1
U33: =IF(ROUND(S33,1)=ROUND(T33,1),1,IF(ROUND(S33,1)>ROUND(U31,1),2,IF(ROUND(S33,1)<ROUND(T33,1),3,0))) -> 1
U34: =IF(ROUND(S34,1)=ROUND(T34,1),1,IF(ROUND(S34,1)>ROUND(U32,1),2,IF(ROUND(S34,1)<ROUND(T34,1),3,0))) -> 1
U35: =IF(ROUND(S35,1)=ROUND(T35,1),1,IF(ROUND(S35,1)>ROUND(U33,1),2,IF(ROUND(S35,1)<ROUND(T35,1),3,0))) -> 1
U36: =IF(ROUND(S36,1)=ROUND(T36,1),1,IF(ROUND(S36,1)>ROUND(U34,1),2,IF(ROUND(S36,1)<ROUND(T36,1),3,0))) -> 1
U37: =IF(ROUND(S37,1)=ROUND(T37,1),1,IF(ROUND(S37,1)>ROUND(U35,1),2,IF(ROUND(S37,1)<ROUND(T37,1),3,0))) -> 1

Sheet SO w Krośnie
H12: =TRUNC(RIGHT(E12,1)) -> #VALUE! | I12: =TRUNC(LEFT(E12,4)) -> #VALUE! | J12: =IF(H12=4,CONCATENATE("w ",I12,"r."),IF(H12=2,CONCATENATE("w I półroczu ",I12,"r."),IF(H12=1,CONCATENATE("w I kwartale ",I12,"r."),CONCATENATE("za III kwartały ",I12,"r.")))) -> #VALUE!
E15: =CONCATENATE("EWIDENCJA SPRAW Z WYKAZU S W SĄDACH OKRĘGOWYCH ",Ustawienia!I8," - ",UPPER(Ewidencja!F254)) -> EWIDENCJA SPRAW Z WYKAZU S W SĄDACH OKRĘGOWYCH ZA III KWARTAŁY 2014 r. - SO W KROŚNIE
E17: Wyszczególnienie | F17: Wpłynęło | G17: Załatwiono | M17: Pozostało | Q17: Ogólna kwota zasądzonych odszkodowań (PLN)
G19: ogółem | H19: w tym | M19: ogółem | N19: w tym od wpływu
H20: uwzględniono w całości lub części | J20: oddalono | K20: odrzucono | L20: w inny sposób | N20: do 2 mies. | O20: pow. 2 do 4 mies. | P20: ponad 4 mies.
H21: razem | I21: przez zarządzenie kwoty pieniężnej
E22: 0 | F22: 1 | G22: 2 | H22: 3 | I22: 4 | J22: 5 | K22: 6 | L22: 7 | M22: 8 | N22: 9 | O22: 10 | P22: 11 | Q22: 12
E24: Table
E26: =Ewidencja!G56 -> Ogółem spraw | F26: =Ewidencja!H254 -> 33 | G26: =Ewidencja!I254 -> 36 | H26: =Ewidencja!J254 -> 0 | I26: =Ewidencja!K254 -> 0 | J26: =Ewidencja!L254 -> 12 | K26: =Ewidencja!M254 -> 13 | L26: =Ewidencja!N254 -> 11 | M26: =Ewidencja!O254 -> 2 | ... Q26: =Ewidencja!S254 -> 0
E27: =Ewidencja!G57 -> Karnych i wykroczeniowych | F27: =Ewidencja!H255 -> 10 | G27: =Ewidencja!I255 -> 11 | H27: =Ewidencja!J255 -> 0 | I27: =Ewidencja!K255 -> 0 | J27: =Ewidencja!L255 -> 3 | K27: =Ewidencja!M255 -> 0 | L27: =Ewidencja!N255 -> 8 | M27: =Ewidencja!O255 -> 0 | ... Q27: =Ewidencja!S255 -> 0 | U27: =IF(ROUND(S27,1)=ROUND(T27,1),1,IF(ROUND(S27,1)>ROUND(U25,1),2,IF(ROUND(S27,1)<ROUND(T27,1),3,0))) -> 1
E28: =Ewidencja!G58 -> Cywilnych | F28: =Ewidencja!H256 -> 21 | G28: =Ewidencja!I256 -> 23 | H28: =Ewidencja!J256 -> 0 | I28: =Ewidencja!K256 -> 0 | J28: =Ewidencja!L256 -> 8 | K28: =Ewidencja!M256 -> 13 | L28: =Ewidencja!N256 -> 2 | M28: =Ewidencja!O256 -> 2 | ... Q28: =Ewidencja!S256 -> 0 | U28: =IF(ROUND(S28,1)=ROUND(T28,1),1,IF(ROUND(S28,1)>ROUND(U26,1),2,IF(ROUND(S28,1)<ROUND(T28,1),3,0))) -> 1
E29: =Ewidencja!G59 -> Ubezpieczeniowych | F29: =Ewidencja!H257 -> 0 | G29: =Ewidencja!I257 -> 0 | H29: =Ewidencja!J257 -> 0 | I29: =Ewidencja!K257 -> 0 | J29: =Ewidencja!L257 -> 0 | K29: =Ewidencja!M257 -> 0 | L29: =Ewidencja!N257 -> 0 | M29: =Ewidencja!O257 -> 0 | ... Q29: =Ewidencja!S257 -> 0 | U29: =IF(ROUND(S29,1)=ROUND(T29,1),1,IF(ROUND(S29,1)>ROUND(U27,1),2,IF(ROUND(S29,1)<ROUND(T29,1),3,0))) -> 1
E30: =Ewidencja!G60 -> Pracy | F30: =Ewidencja!H258 -> 2 | G30: =Ewidencja!I258 -> 2 | H30: =Ewidencja!J258 -> 0 | I30: =Ewidencja!K258 -> 0 | J30: =Ewidencja!L258 -> 1 | K30: =Ewidencja!M258 -> 0 | L30: =Ewidencja!N258 -> 1 | M30: =Ewidencja!O258 -> 0 | ... Q30: =Ewidencja!S258 -> 0 | U30: =IF(ROUND(S30,1)=ROUND(T30,1),1,IF(ROUND(S30,1)>ROUND(U28,1),2,IF(ROUND(S30,1)<ROUND(T30,1),3,0))) -> 1
E31: =Ewidencja!G61 -> Gospodarczych | F31: =Ewidencja!H259 -> 0 | G31: =Ewidencja!I259 -> 0 | H31: =Ewidencja!J259 -> 0 | I31: =Ewidencja!K259 -> 0 | J31: =Ewidencja!L259 -> 0 | K31: =Ewidencja!M259 -> 0 | L31: =Ewidencja!N259 -> 0 | M31: =Ewidencja!O259 -> 0 | ... Q31: =Ewidencja!S259 -> 0 | U31: =IF(ROUND(S31,1)=ROUND(T31,1),1,IF(ROUND(S31,1)>ROUND(U29,1),2,IF(ROUND(S31,1)<ROUND(T31,1),3,0))) -> 1
U32: =IF(ROUND(S32,1)=ROUND(T32,1),1,IF(ROUND(S32,1)>ROUND(U30,1),2,IF(ROUND(S32,1)<ROUND(T32,1),3,0))) -> 1
U33: =IF(ROUND(S33,1)=ROUND(T33,1),1,IF(ROUND(S33,1)>ROUND(U31,1),2,IF(ROUND(S33,1)<ROUND(T33,1),3,0))) -> 1
U34: =IF(ROUND(S34,1)=ROUND(T34,1),1,IF(ROUND(S34,1)>ROUND(U32,1),2,IF(ROUND(S34,1)<ROUND(T34,1),3,0))) -> 1
U35: =IF(ROUND(S35,1)=ROUND(T35,1),1,IF(ROUND(S35,1)>ROUND(U33,1),2,IF(ROUND(S35,1)<ROUND(T35,1),3,0))) -> 1
U36: =IF(ROUND(S36,1)=ROUND(T36,1),1,IF(ROUND(S36,1)>ROUND(U34,1),2,IF(ROUND(S36,1)<ROUND(T36,1),3,0))) -> 1
U37: =IF(ROUND(S37,1)=ROUND(T37,1),1,IF(ROUND(S37,1)>ROUND(U35,1),2,IF(ROUND(S37,1)<ROUND(T37,1),3,0))) -> 1

Sheet SO w Przemyślu
H12: =TRUNC(RIGHT(E12,1)) -> #VALUE! | I12: =TRUNC(LEFT(E12,4)) -> #VALUE! | J12: =IF(H12=4,CONCATENATE("w ",I12,"r."),IF(H12=2,CONCATENATE("w I półroczu ",I12,"r."),IF(H12=1,CONCATENATE("w I kwartale ",I12,"r."),CONCATENATE("za III kwartały ",I12,"r.")))) -> #VALUE!
E15: =CONCATENATE("EWIDENCJA SPRAW Z WYKAZU S W SĄDACH OKRĘGOWYCH ",Ustawienia!I8," - ",UPPER(Ewidencja!F260)) -> EWIDENCJA SPRAW Z WYKAZU S W SĄDACH OKRĘGOWYCH ZA III KWARTAŁY 2014 r. - SO W PRZEMYŚLU
E17: Wyszczególnienie | F17: Wpłynęło | G17: Załatwiono | M17: Pozostało | Q17: Ogólna kwota zasądzonych odszkodowań (PLN)
G19: ogółem | H19: w tym | M19: ogółem | N19: w tym od wpływu
H20: uwzględniono w całości lub części | J20: oddalono | K20: odrzucono | L20: w inny sposób | N20: do 2 mies. | O20: pow. 2 do 4 mies. | P20: ponad 4 mies.
H21: razem | I21: przez zarządzenie kwoty pieniężnej
E22: 0 | F22: 1 | G22: 2 | H22: 3 | I22: 4 | J22: 5 | K22: 6 | L22: 7 | M22: 8 | N22: 9 | O22: 10 | P22: 11 | Q22: 12
E24: Table
E26: =Ewidencja!G56 -> Ogółem spraw | F26: =Ewidencja!H260 -> 58 | G26: =Ewidencja!I260 -> 55 | H26: =Ewidencja!J260 -> 0 | I26: =Ewidencja!K260 -> 0 | J26: =Ewidencja!L260 -> 15 | K26: =Ewidencja!M260 -> 35 | L26: =Ewidencja!N260 -> 5 | M26: =Ewidencja!O260 -> 6 | ... Q26: =Ewidencja!S260 -> 0
E27: =Ewidencja!G57 -> Karnych i wykroczeniowych | F27: =Ewidencja!H261 -> 16 | G27: =Ewidencja!I261 -> 16 | H27: =Ewidencja!J261 -> 0 | I27: =Ewidencja!K261 -> 0 | J27: =Ewidencja!L261 -> 10 | K27: =Ewidencja!M261 -> 2 | L27: =Ewidencja!N261 -> 4 | M27: =Ewidencja!O261 -> 0 | ... Q27: =Ewidencja!S261 -> 0 | U27: =IF(ROUND(S27,1)=ROUND(T27,1),1,IF(ROUND(S27,1)>ROUND(U25,1),2,IF(ROUND(S27,1)<ROUND(T27,1),3,0))) -> 1
E28: =Ewidencja!G58 -> Cywilnych | F28: =Ewidencja!H262 -> 42 | G28: =Ewidencja!I262 -> 39 | H28: =Ewidencja!J262 -> 0 | I28: =Ewidencja!K262 -> 0 | J28: =Ewidencja!L262 -> 5 | K28: =Ewidencja!M262 -> 33 | L28: =Ewidencja!N262 -> 1 | M28: =Ewidencja!O262 -> 6 | ... Q28: =Ewidencja!S262 -> 0 | U28: =IF(ROUND(S28,1)=ROUND(T28,1),1,IF(ROUND(S28,1)>ROUND(U26,1),2,IF(ROUND(S28,1)<ROUND(T28,1),3,0))) -> 1
E29: =Ewidencja!G59 -> Ubezpieczeniowych | F29: =Ewidencja!H263 -> 0 | G29: =Ewidencja!I263 -> 0 | H29: =Ewidencja!J263 -> 0 | I29: =Ewidencja!K263 -> 0 | J29: =Ewidencja!L263 -> 0 | K29: =Ewidencja!M263 -> 0 | L29: =Ewidencja!N263 -> 0 | M29: =Ewidencja!O263 -> 0 | ... Q29: =Ewidencja!S263 -> 0 | U29: =IF(ROUND(S29,1)=ROUND(T29,1),1,IF(ROUND(S29,1)>ROUND(U27,1),2,IF(ROUND(S29,1)<ROUND(T29,1),3,0))) -> 1
E30: =Ewidencja!G60 -> Pracy | F30: =Ewidencja!H264 -> 0 | G30: =Ewidencja!I264 -> 0 | H30: =Ewidencja!J264 -> 0 | I30: =Ewidencja!K264 -> 0 | J30: =Ewidencja!L264 -> 0 | K30: =Ewidencja!M264 -> 0 | L30: =Ewidencja!N264 -> 0 | M30: =Ewidencja!O264 -> 0 | ... Q30: =Ewidencja!S264 -> 0 | U30: =IF(ROUND(S30,1)=ROUND(T30,1),1,IF(ROUND(S30,1)>ROUND(U28,1),2,IF(ROUND(S30,1)<ROUND(T30,1),3,0))) -> 1
E31: =Ewidencja!G61 -> Gospodarczych | F31: =Ewidencja!H265 -> 0 | G31: =Ewidencja!I265 -> 0 | H31: =Ewidencja!J265 -> 0 | I31: =Ewidencja!K265 -> 0 | J31: =Ewidencja!L265 -> 0 | K31: =Ewidencja!M265 -> 0 | L31: =Ewidencja!N265 -> 0 | M31: =Ewidencja!O265 -> 0 | ... Q31: =Ewidencja!S265 -> 0 | U31: =IF(ROUND(S31,1)=ROUND(T31,1),1,IF(ROUND(S31,1)>ROUND(U29,1),2,IF(ROUND(S31,1)<ROUND(T31,1),3,0))) -> 1
U32: =IF(ROUND(S32,1)=ROUND(T32,1),1,IF(ROUND(S32,1)>ROUND(U30,1),2,IF(ROUND(S32,1)<ROUND(T32,1),3,0))) -> 1
U33: =IF(ROUND(S33,1)=ROUND(T33,1),1,IF(ROUND(S33,1)>ROUND(U31,1),2,IF(ROUND(S33,1)<ROUND(T33,1),3,0))) -> 1
U34: =IF(ROUND(S34,1)=ROUND(T34,1),1,IF(ROUND(S34,1)>ROUND(U32,1),2,IF(ROUND(S34,1)<ROUND(T34,1),3,0))) -> 1
U35: =IF(ROUND(S35,1)=ROUND(T35,1),1,IF(ROUND(S35,1)>ROUND(U33,1),2,IF(ROUND(S35,1)<ROUND(T35,1),3,0))) -> 1
U36: =IF(ROUND(S36,1)=ROUND(T36,1),1,IF(ROUND(S36,1)>ROUND(U34,1),2,IF(ROUND(S36,1)<ROUND(T36,1),3,0))) -> 1
U37: =IF(ROUND(S37,1)=ROUND(T37,1),1,IF(ROUND(S37,1)>ROUND(U35,1),2,IF(ROUND(S37,1)<ROUND(T37,1),3,0))) -> 1

Sheet SO w Rzeszowie
H12: =TRUNC(RIGHT(E12,1)) -> #VALUE! | I12: =TRUNC(LEFT(E12,4)) -> #VALUE! | J12: =IF(H12=4,CONCATENATE("w ",I12,"r."),IF(H12=2,CONCATENATE("w I półroczu ",I12,"r."),IF(H12=1,CONCATENATE("w I kwartale ",I12,"r."),CONCATENATE("za III kwartały ",I12,"r.")))) -> #VALUE!
E15: =CONCATENATE("EWIDENCJA SPRAW Z WYKAZU S W SĄDACH OKRĘGOWYCH ",Ustawienia!I8," - ",UPPER(Ewidencja!F266)) -> EWIDENCJA SPRAW Z WYKAZU S W SĄDACH OKRĘGOWYCH ZA III KWARTAŁY 2014 r. - SO W RZESZOWIE
E17: Wyszczególnienie | F17: Wpłynęło | G17: Załatwiono | M17: Pozostało | Q17: Ogólna kwota zasądzonych odszkodowań (PLN)
G19: ogółem | H19: w tym | M19: ogółem | N19: w tym od wpływu
H20: uwzględniono w całości lub części | J20: oddalono | K20: odrzucono | L20: w inny sposób | N20: do 2 mies. | O20: pow. 2 do 4 mies. | P20: ponad 4 mies.
H21: razem | I21: przez zarządzenie kwoty pieniężnej
E22: 0 | F22: 1 | G22: 2 | H22: 3 | I22: 4 | J22: 5 | K22: 6 | L22: 7 | M22: 8 | N22: 9 | O22: 10 | P22: 11 | Q22: 12
E24: Table
E26: =Ewidencja!G56 -> Ogółem spraw | F26: =Ewidencja!H266 -> 64 | G26: =Ewidencja!I266 -> 68 | H26: =Ewidencja!J266 -> 6 | I26: =Ewidencja!K266 -> 5 | J26: =Ewidencja!L266 -> 28 | K26: =Ewidencja!M266 -> 20 | L26: =Ewidencja!N266 -> 14 | M26: =Ewidencja!O266 -> 9 | ... Q26: =Ewidencja!S266 -> 10000
E27: =Ewidencja!G57 -> Karnych i wykroczeniowych | F27: =Ewidencja!H267 -> 29 | G27: =Ewidencja!I267 -> 36 | H27: =Ewidencja!J267 -> 1 | I27: =Ewidencja!K267 -> 1 | J27: =Ewidencja!L267 -> 11 | K27: =Ewidencja!M267 -> 11 | L27: =Ewidencja!N267 -> 13 | M27: =Ewidencja!O267 -> 6 | ... Q27: =Ewidencja!S267 -> 2000 | U27: =IF(ROUND(S27,1)=ROUND(T27,1),1,IF(ROUND(S27,1)>ROUND(U25,1),2,IF(ROUND(S27,1)<ROUND(T27,1),3,0))) -> 1
E28: =Ewidencja!G58 -> Cywilnych | F28: =Ewidencja!H268 -> 26 | G28: =Ewidencja!I268 -> 24 | H28: =Ewidencja!J268 -> 3 | I28: =Ewidencja!K268 -> 3 | J28: =Ewidencja!L268 -> 12 | K28: =Ewidencja!M268 -> 8 | L28: =Ewidencja!N268 -> 1 | M28: =Ewidencja!O268 -> 2 | ... Q28: =Ewidencja!S268 -> 6000 | U28: =IF(ROUND(S28,1)=ROUND(T28,1),1,IF(ROUND(S28,1)>ROUND(U26,1),2,IF(ROUND(S28,1)<ROUND(T28,1),3,0))) -> 1
E29: =Ewidencja!G59 -> Ubezpieczeniowych | F29: =Ewidencja!H269 -> 0 | G29: =Ewidencja!I269 -> 0 | H29: =Ewidencja!J269 -> 0 | I29: =Ewidencja!K269 -> 0 | J29: =Ewidencja!L269 -> 0 | K29: =Ewidencja!M269 -> 0 | L29: =Ewidencja!N269 -> 0 | M29: =Ewidencja!O269 -> 0 | ... Q29: =Ewidencja!S269 -> 0 | U29: =IF(ROUND(S29,1)=ROUND(T29,1),1,IF(ROUND(S29,1)>ROUND(U27,1),2,IF(ROUND(S29,1)<ROUND(T29,1),3,0))) -> 1
E30: =Ewidencja!G60 -> Pracy | F30: =Ewidencja!H270 -> 0 | G30: =Ewidencja!I270 -> 0 | H30: =Ewidencja!J270 -> 0 | I30: =Ewidencja!K270 -> 0 | J30: =Ewidencja!L270 -> 0 | K30: =Ewidencja!M270 -> 0 | L30: =Ewidencja!N270 -> 0 | M30: =Ewidencja!O270 -> 0 | ... Q30: =Ewidencja!S270 -> 0 | U30: =IF(ROUND(S30,1)=ROUND(T30,1),1,IF(ROUND(S30,1)>ROUND(U28,1),2,IF(ROUND(S30,1)<ROUND(T30,1),3,0))) -> 1
E31: =Ewidencja!G61 -> Gospodarczych | F31: =Ewidencja!H271 -> 9 | G31: =Ewidencja!I271 -> 8 | H31: =Ewidencja!J271 -> 2 | I31: =Ewidencja!K271 -> 1 | J31: =Ewidencja!L271 -> 5 | K31: =Ewidencja!M271 -> 1 | L31: =Ewidencja!N271 -> 0 | M31: =Ewidencja!O271 -> 1 | ... Q31: =Ewidencja!S271 -> 2000 | U31: =IF(ROUND(S31,1)=ROUND(T31,1),1,IF(ROUND(S31,1)>ROUND(U29,1),2,IF(ROUND(S31,1)<ROUND(T31,1),3,0))) -> 1
U32: =IF(ROUND(S32,1)=ROUND(T32,1),1,IF(ROUND(S32,1)>ROUND(U30,1),2,IF(ROUND(S32,1)<ROUND(T32,1),3,0))) -> 1
U33: =IF(ROUND(S33,1)=ROUND(T33,1),1,IF(ROUND(S33,1)>ROUND(U31,1),2,IF(ROUND(S33,1)<ROUND(T33,1),3,0))) -> 1
U34: =IF(ROUND(S34,1)=ROUND(T34,1),1,IF(ROUND(S34,1)>ROUND(U32,1),2,IF(ROUND(S34,1)<ROUND(T34,1),3,0))) -> 1
U35: =IF(ROUND(S35,1)=ROUND(T35,1),1,IF(ROUND(S35,1)>ROUND(U33,1),2,IF(ROUND(S35,1)<ROUND(T35,1),3,0))) -> 1
U36: =IF(ROUND(S36,1)=ROUND(T36,1),1,IF(ROUND(S36,1)>ROUND(U34,1),2,IF(ROUND(S36,1)<ROUND(T36,1),3,0))) -> 1
U37: =IF(ROUND(S37,1)=ROUND(T37,1),1,IF(ROUND(S37,1)>ROUND(U35,1),2,IF(ROUND(S37,1)<ROUND(T37,1),3,0))) -> 1

Sheet SO w Tarnobrzegu
H12: =TRUNC(RIGHT(E12,1)) -> #VALUE! | I12: =TRUNC(LEFT(E12,4)) -> #VALUE! | J12: =IF(H12=4,CONCATENATE("w ",I12,"r."),IF(H12=2,CONCATENATE("w I półroczu ",I12,"r."),IF(H12=1,CONCATENATE("w I kwartale ",I12,"r."),CONCATENATE("za III kwartały ",I12,"r.")))) -> #VALUE!
E15: =CONCATENATE("EWIDENCJA SPRAW Z WYKAZU S W SĄDACH OKRĘGOWYCH ",Ustawienia!I8," - ",UPPER(Ewidencja!F272)) -> EWIDENCJA SPRAW Z WYKAZU S W SĄDACH OKRĘGOWYCH ZA III KWARTAŁY 2014 r. - SO W TARNOBRZEGU
E17: Wyszczególnienie | F17: Wpłynęło | G17: Załatwiono | M17: Pozostało | Q17: Ogólna kwota zasądzonych odszkodowań (PLN)
G19: ogółem | H19: w tym | M19: ogółem | N19: w tym od wpływu
H20: uwzględniono w całości lub części | J20: oddalono | K20: odrzucono | L20: w inny sposób | N20: do 2 mies. | O20: pow. 2 do 4 mies. | P20: ponad 4 mies.
H21: razem | I21: przez zarządzenie kwoty pieniężnej
E22: 0 | F22: 1 | G22: 2 | H22: 3 | I22: 4 | J22: 5 | K22: 6 | L22: 7 | M22: 8 | N22: 9 | O22: 10 | P22: 11 | Q22: 12
E24: Table
E26: =Ewidencja!G56 -> Ogółem spraw | F26: =Ewidencja!H272 -> 78 | G26: =Ewidencja!I272 -> 83 | H26: =Ewidencja!J272 -> 3 | I26: =Ewidencja!K272 -> 3 | J26: =Ewidencja!L272 -> 7 | K26: =Ewidencja!M272 -> 62 | L26: =Ewidencja!N272 -> 11 | M26: =Ewidencja!O272 -> 14 | ... Q26: =Ewidencja!S272 -> 16000
E27: =Ewidencja!G57 -> Karnych i wykroczeniowych | F27: =Ewidencja!H273 -> 5 | G27: =Ewidencja!I273 -> 6 | H27: =Ewidencja!J273 -> 0 | I27: =Ewidencja!K273 -> 0 | J27: =Ewidencja!L273 -> 0 | K27: =Ewidencja!M273 -> 0 | L27: =Ewidencja!N273 -> 6 | M27: =Ewidencja!O273 -> 0 | ... Q27: =Ewidencja!S273 -> 0 | U27: =IF(ROUND(S27,1)=ROUND(T27,1),1,IF(ROUND(S27,1)>ROUND(U25,1),2,IF(ROUND(S27,1)<ROUND(T27,1),3,0))) -> 1
E28: =Ewidencja!G58 -> Cywilnych | F28: =Ewidencja!H274 -> 73 | G28: =Ewidencja!I274 -> 77 | H28: =Ewidencja!J274 -> 3 | I28: =Ewidencja!K274 -> 3 | J28: =Ewidencja!L274 -> 7 | K28: =Ewidencja!M274 -> 62 | L28: =Ewidencja!N274 -> 5 | M28: =Ewidencja!O274 -> 14 | ... Q28: =Ewidencja!S274 -> 16000 | U28: =IF(ROUND(S28,1)=ROUND(T28,1),1,IF(ROUND(S28,1)>ROUND(U26,1),2,IF(ROUND(S28,1)<ROUND(T28,1),3,0))) -> 1
E29: =Ewidencja!G59 -> Ubezpieczeniowych | F29: =Ewidencja!H275 -> 0 | G29: =Ewidencja!I275 -> 0 | H29: =Ewidencja!J275 -> 0 | I29: =Ewidencja!K275 -> 0 | J29: =Ewidencja!L275 -> 0 | K29: =Ewidencja!M275 -> 0 | L29: =Ewidencja!N275 -> 0 | M29: =Ewidencja!O275 -> 0 | ... Q29: =Ewidencja!S275 -> 0 | U29: =IF(ROUND(S29,1)=ROUND(T29,1),1,IF(ROUND(S29,1)>ROUND(U27,1),2,IF(ROUND(S29,1)<ROUND(T29,1),3,0))) -> 1
E30: =Ewidencja!G60 -> Pracy | F30: =Ewidencja!H276 -> 0 | G30: =Ewidencja!I276 -> 0 | H30: =Ewidencja!J276 -> 0 | I30: =Ewidencja!K276 -> 0 | J30: =Ewidencja!L276 -> 0 | K30: =Ewidencja!M276 -> 0 | L30: =Ewidencja!N276 -> 0 | M30: =Ewidencja!O276 -> 0 | ... Q30: =Ewidencja!S276 -> 0 | U30: =IF(ROUND(S30,1)=ROUND(T30,1),1,IF(ROUND(S30,1)>ROUND(U28,1),2,IF(ROUND(S30,1)<ROUND(T30,1),3,0))) -> 1
E31: =Ewidencja!G61 -> Gospodarczych | F31: =Ewidencja!H277 -> 0 | G31: =Ewidencja!I277 -> 0 | H31: =Ewidencja!J277 -> 0 | I31: =Ewidencja!K277 -> 0 | J31: =Ewidencja!L277 -> 0 | K31: =Ewidencja!M277 -> 0 | L31: =Ewidencja!N277 -> 0 | M31: =Ewidencja!O277 -> 0 | ... Q31: =Ewidencja!S277 -> 0 | U31: =IF(ROUND(S31,1)=ROUND(T31,1),1,IF(ROUND(S31,1)>ROUND(U29,1),2,IF(ROUND(S31,1)<ROUND(T31,1),3,0))) -> 1
U32: =IF(ROUND(S32,1)=ROUND(T32,1),1,IF(ROUND(S32,1)>ROUND(U30,1),2,IF(ROUND(S32,1)<ROUND(T32,1),3,0))) -> 1
U33: =IF(ROUND(S33,1)=ROUND(T33,1),1,IF(ROUND(S33,1)>ROUND(U31,1),2,IF(ROUND(S33,1)<ROUND(T33,1),3,0))) -> 1
U34: =IF(ROUND(S34,1)=ROUND(T34,1),1,IF(ROUND(S34,1)>ROUND(U32,1),2,IF(ROUND(S34,1)<ROUND(T34,1),3,0))) -> 1
U35: =IF(ROUND(S35,1)=ROUND(T35,1),1,IF(ROUND(S35,1)>ROUND(U33,1),2,IF(ROUND(S35,1)<ROUND(T35,1),3,0))) -> 1
U36: =IF(ROUND(S36,1)=ROUND(T36,1),1,IF(ROUND(S36,1)>ROUND(U34,1),2,IF(ROUND(S36,1)<ROUND(T36,1),3,0))) -> 1
U37: =IF(ROUND(S37,1)=ROUND(T37,1),1,IF(ROUND(S37,1)>ROUND(U35,1),2,IF(ROUND(S37,1)<ROUND(T37,1),3,0))) -> 1

Sheet Apelacja Szczecińska
H12: =TRUNC(RIGHT(E12,1)) -> #VALUE! | I12: =TRUNC(LEFT(E12,4)) -> #VALUE! | J12: =IF(H12=4,CONCATENATE("w ",I12,"r."),IF(H12=2,CONCATENATE("w I półroczu ",I12,"r."),IF(H12=1,CONCATENATE("w I kwartale ",I12,"r."),CONCATENATE("za III kwartały ",I12,"r.")))) -> #VALUE!
E15: =CONCATENATE("EWIDENCJA SPRAW Z WYKAZU S W SĄDACH OKRĘGOWYCH ",Ustawienia!I8," - ",UPPER(Ewidencja!E284)) -> EWIDENCJA SPRAW Z WYKAZU S W SĄDACH OKRĘGOWYCH ZA III KWARTAŁY 2014 r. - APELACJA SZCZECIŃSKA
E17: Wyszczególnienie | F17: Wpłynęło | G17: Załatwiono | M17: Pozostało | Q17: Ogólna kwota zasądzonych odszkodowań (PLN)
G19: ogółem | H19: w tym | M19: ogółem | N19: w tym od wpływu
H20: uwzględniono w całości lub części | J20: oddalono | K20: odrzucono | L20: w inny sposób | N20: do 2 mies. | O20: pow. 2 do 4 mies. | P20: ponad 4 mies.
H21: razem | I21: przez zarządzenie kwoty pieniężnej
E22: 0 | F22: 1 | G22: 2 | H22: 3 | I22: 4 | J22: 5 | K22: 6 | L22: 7 | M22: 8 | N22: 9 | O22: 10 | P22: 11 | Q22: 12
E24: Table
E26: =Ewidencja!G56 -> Ogółem spraw | F26: =Ewidencja!H302 -> 492 | G26: =Ewidencja!I302 -> 466 | H26: =Ewidencja!J302 -> 65 | I26: =Ewidencja!K302 -> 63 | J26: =Ewidencja!L302 -> 181 | K26: =Ewidencja!M302 -> 144 | L26: =Ewidencja!N302 -> 76 | M26: =Ewidencja!O302 -> 63 | ... Q26: =Ewidencja!S302 -> 139930
E27: =Ewidencja!G57 -> Karnych i wykroczeniowych | F27: =Ewidencja!H303 -> 134 | G27: =Ewidencja!I303 -> 129 | H27: =Ewidencja!J303 -> 15 | I27: =Ewidencja!K303 -> 14 | J27: =Ewidencja!L303 -> 55 | K27: =Ewidencja!M303 -> 14 | L27: =Ewidencja!N303 -> 45 | M27: =Ewidencja!O303 -> 14 | ... Q27: =Ewidencja!S303 -> 33000 | U27: =IF(ROUND(S27,1)=ROUND(T27,1),1,IF(ROUND(S27,1)>ROUND(U25,1),2,IF(ROUND(S27,1)<ROUND(T27,1),3,0))) -> 1
E28: =Ewidencja!G58 -> Cywilnych | F28: =Ewidencja!H304 -> 340 | G28: =Ewidencja!I304 -> 318 | H28: =Ewidencja!J304 -> 43 | I28: =Ewidencja!K304 -> 42 | J28: =Ewidencja!L304 -> 117 | K28: =Ewidencja!M304 -> 128 | L28: =Ewidencja!N304 -> 30 | M28: =Ewidencja!O304 -> 46 | ... Q28: =Ewidencja!S304 -> 89930 | U28: =IF(ROUND(S28,1)=ROUND(T28,1),1,IF(ROUND(S28,1)>ROUND(U26,1),2,IF(ROUND(S28,1)<ROUND(T28,1),3,0))) -> 1
E29: =Ewidencja!G59 -> Ubezpieczeniowych | F29: =Ewidencja!H305 -> 0 | G29: =Ewidencja!I305 -> 0 | H29: =Ewidencja!J305 -> 0 | I29: =Ewidencja!K305 -> 0 | J29: =Ewidencja!L305 -> 0 | K29: =Ewidencja!M305 -> 0 | L29: =Ewidencja!N305 -> 0 | M29: =Ewidencja!O305 -> 0 | ... Q29: =Ewidencja!S305 -> 0 | U29: =IF(ROUND(S29,1)=ROUND(T29,1),1,IF(ROUND(S29,1)>ROUND(U27,1),2,IF(ROUND(S29,1)<ROUND(T29,1),3,0))) -> 1
E30: =Ewidencja!G60 -> Pracy | F30: =Ewidencja!H306 -> 10 | G30: =Ewidencja!I306 -> 10 | H30: =Ewidencja!J306 -> 1 | I30: =Ewidencja!K306 -> 1 | J30: =Ewidencja!L306 -> 7 | K30: =Ewidencja!M306 -> 1 | L30: =Ewidencja!N306 -> 1 | M30: =Ewidencja!O306 -> 1 | ... Q30: =Ewidencja!S306 -> 5000 | U30: =IF(ROUND(S30,1)=ROUND(T30,1),1,IF(ROUND(S30,1)>ROUND(U28,1),2,IF(ROUND(S30,1)<ROUND(T30,1),3,0))) -> 1
E31: =Ewidencja!G61 -> Gospodarczych | F31: =Ewidencja!H307 -> 8 | G31: =Ewidencja!I307 -> 9 | H31: =Ewidencja!J307 -> 6 | I31: =Ewidencja!K307 -> 6 | J31: =Ewidencja!L307 -> 2 | K31: =Ewidencja!M307 -> 1 | L31: =Ewidencja!N307 -> 0 | M31: =Ewidencja!O307 -> 2 | ... Q31: =Ewidencja!S307 -> 12000 | U31: =IF(ROUND(S31,1)=ROUND(T31,1),1,IF(ROUND(S31,1)>ROUND(U29,1),2,IF(ROUND(S31,1)<ROUND(T31,1),3,0))) -> 1
U32: =IF(ROUND(S32,1)=ROUND(T32,1),1,IF(ROUND(S32,1)>ROUND(U30,1),2,IF(ROUND(S32,1)<ROUND(T32,1),3,0))) -> 1
U33: =IF(ROUND(S33,1)=ROUND(T33,1),1,IF(ROUND(S33,1)>ROUND(U31,1),2,IF(ROUND(S33,1)<ROUND(T33,1),3,0))) -> 1
U34: =IF(ROUND(S34,1)=ROUND(T34,1),1,IF(ROUND(S34,1)>ROUND(U32,1),2,IF(ROUND(S34,1)<ROUND(T34,1),3,0))) -> 1
U35: =IF(ROUND(S35,1)=ROUND(T35,1),1,IF(ROUND(S35,1)>ROUND(U33,1),2,IF(ROUND(S35,1)<ROUND(T35,1),3,0))) -> 1
U36: =IF(ROUND(S36,1)=ROUND(T36,1),1,IF(ROUND(S36,1)>ROUND(U34,1),2,IF(ROUND(S36,1)<ROUND(T36,1),3,0))) -> 1
U37: =IF(ROUND(S37,1)=ROUND(T37,1),1,IF(ROUND(S37,1)>ROUND(U35,1),2,IF(ROUND(S37,1)<ROUND(T37,1),3,0))) -> 1

Sheet SO w Gorzowie Wlkp.
H12: =TRUNC(RIGHT(E12,1)) -> #VALUE! | I12: =TRUNC(LEFT(E12,4)) -> #VALUE! | J12: =IF(H12=4,CONCATENATE("w ",I12,"r."),IF(H12=2,CONCATENATE("w I półroczu ",I12,"r."),IF(H12=1,CONCATENATE("w I kwartale ",I12,"r."),CONCATENATE("za III kwartały ",I12,"r.")))) -> #VALUE!
