Workbook

Sheet BExRepositorySheet
A1: 7

Sheet Ewidencja 
E4: Autor | F4: PROCAG01M
E6: Ostatnio zmienione przez | F6: PROCAG01M
E8: Godzina zmiany | F8: 2014-10-16 09:53:52
E10: Tech. Nazwa zapytania | F10: S_ST_M001_ST_TABL_XIII_001
E12: 20112, 20114, 20121, 20122, 20123, 20124, 20132, 20134, 20141, 20142, 20143, 20144 | H12: =TRUNC(RIGHT(E12,1)) -> 4 | I12: =TRUNC(LEFT(E12,4)) -> 2011 | J12: =IF(H12=4,CONCATENATE("w ",I12,"r."),IF(H12=2,CONCATENATE("w I półroczu ",I12,"r."),IF(H12=1,CONCATENATE("w I kwartale ",I12,"r."),CONCATENATE("za III kwartały ",I12,"r.")))) -> w 2011r.
E15: =CONCATENATE("EWIDENCJA SPRAW Z WYKAZU S W SĄDACH APELACYJNYCH ","OGÓŁEM ",Ustawienia!$I$8," ") -> EWIDENCJA SPRAW Z WYKAZU S W SĄDACH APELACYJNYCH OGÓŁEM ZA III KWARTAŁY 2014r.
E17: Wyszczególnienie | F17: Wpłynęło | G17: Załatwiono | M17: Pozostało | Q17: Ogólna kwota zasądzonych odszkodowań (PLN)
G19: ogółem | H19: w tym | M19: ogółem | N19: w tym od wpływu
H20: uwzględniono w całości lub części | J20: oddalono | K20: odrzucono | L20: w inny sposób | N20: do 2 mies. | O20: pow. 2 do 4 mies. | P20: ponad 4 mies.
H21: razem | I21: w tym przez zasądzenie kwoty pieniężnej
E22: 0 | F22: 1 | G22: 2 | H22: 3 | I22: 4 | J22: 5 | K22: 6 | L22: 7 | M22: 8 | N22: 9 | O22: 10 | P22: 11 | Q22: 12
D23: Table | E23: Table
D24: Apelacja | F24: W2011 | G24: Z2011razem | H24: razem | I24: przez.zarz.kwot.pien. | J24: oddalono | K24: odrzucono | L24: w inny sposob | M24: P2011 | N24: do 2 mies. | O24: pow 2 do 4 mies. | P24: ponad 4 mies. | Q24: Ogol.kw.zarz.odszk.(w.zl)
D25: Apelacja Białostocka | E25: Ogółem spraw | F25: 113 | G25: 111 | H25: 9 | I25: 8 | J25: 18 | K25: 69 | L25: 15 | M25: 6 | N25: 6 | O25: 0 | P25: 0 | Q25: 29000
E26: Karnych | F26: 14 | G26: 12 | H26: 2 | I26: 1 | J26: 6 | K26: 0 | L26: 4 | M26: 2 | N26: 2 | O26: 0 | P26: 0 | Q26: 3000
E27: Cywilnych | F27: 93 | G27: 94 | H27: 7 | I27: 7 | J27: 10 | K27: 66 | L27: 11 | M27: 3 | N27: 3 | O27: 0 | P27: 0 | Q27: 26000 | T27: =IF(ROUND(R27,1)=ROUND(S27,1),1,IF(ROUND(R27,1)>ROUND(U24,1),2,IF(ROUND(R27,1)<ROUND(S27,1),3,0))) -> 1
E28: Ubezpieczeniowych | F28: 6 | G28: 5 | H28: 0 | I28: 0 | J28: 2 | K28: 3 | L28: 0 | M28: 1 | N28: 1 | O28: 0 | P28: 0 | Q28: 0 | T28: =IF(ROUND(R28,1)=ROUND(S28,1),1,IF(ROUND(R28,1)>ROUND(T26,1),2,IF(ROUND(R28,1)<ROUND(S28,1),3,0))) -> 1
E29: Pracy | F29: 0 | G29: 0 | H29: 0 | I29: 0 | J29: 0 | K29: 0 | L29: 0 | M29: 0 | N29: 0 | O29: 0 | P29: 0 | Q29: 0 | T29: =IF(ROUND(R29,1)=ROUND(S29,1),1,IF(ROUND(R29,1)>ROUND(T27,1),2,IF(ROUND(R29,1)<ROUND(S29,1),3,0))) -> 1
E30: Gospodarczych | F30: 0 | G30: 0 | H30: 0 | I30: 0 | J30: 0 | K30: 0 | L30: 0 | M30: 0 | N30: 0 | O30: 0 | P30: 0 | Q30: 0 | T30: =IF(ROUND(R30,1)=ROUND(S30,1),1,IF(ROUND(R30,1)>ROUND(T28,1),2,IF(ROUND(R30,1)<ROUND(S30,1),3,0))) -> 1
D31: Apelacja Gdańska | E31: Ogółem spraw | F31: 853 | G31: 812 | H31: 13 | I31: 13 | J31: 124 | K31: 574 | L31: 101 | M31: 140 | N31: 140 | O31: 0 | P31: 0 | Q31: 35000 | T31: =IF(ROUND(R31,1)=ROUND(S31,1),1,IF(ROUND(R31,1)>ROUND(T29,1),2,IF(ROUND(R31,1)<ROUND(S31,1),3,0))) -> 1
E32: Karnych | F32: 38 | G32: 36 | H32: 1 | I32: 1 | J32: 8 | K32: 18 | L32: 9 | M32: 6 | N32: 6 | O32: 0 | P32: 0 | Q32: 2000 | T32: =IF(ROUND(R32,1)=ROUND(S32,1),1,IF(ROUND(R32,1)>ROUND(T30,1),2,IF(ROUND(R32,1)<ROUND(S32,1),3,0))) -> 1
E33: Cywilnych | F33: 633 | G33: 601 | H33: 7 | I33: 7 | J33: 87 | K33: 436 | L33: 71 | M33: 106 | N33: 106 | O33: 0 | P33: 0 | Q33: 19000 | T33: =IF(ROUND(R33,1)=ROUND(S33,1),1,IF(ROUND(R33,1)>ROUND(T31,1),2,IF(ROUND(R33,1)<ROUND(S33,1),3,0))) -> 1
E34: Ubezpieczeniowych | F34: 15 | G34: 14 | H34: 1 | I34: 1 | J34: 3 | K34: 8 | L34: 2 | M34: 1 | N34: 1 | O34: 0 | P34: 0 | Q34: 2000
E35: Pracy | F35: 21 | G35: 23 | H35: 1 | I35: 1 | J35: 3 | K35: 19 | L35: 0 | M35: 0 | N35: 0 | O35: 0 | P35: 0 | Q35: 0 | T35: =IF(ROUND(R35,1)=ROUND(S35,1),1,IF(ROUND(R35,1)>ROUND(T32,1),2,IF(ROUND(R35,1)<ROUND(S35,1),3,0))) -> 1
E36: Gospodarczych | F36: 146 | G36: 138 | H36: 3 | I36: 3 | J36: 23 | K36: 93 | L36: 19 | M36: 27 | N36: 27 | O36: 0 | P36: 0 | Q36: 12000 | T36: =IF(ROUND(R36,1)=ROUND(S36,1),1,IF(ROUND(R36,1)>ROUND(T33,1),2,IF(ROUND(R36,1)<ROUND(S36,1),3,0))) -> 1
D37: Apelacja Katowicka | E37: Ogółem spraw | F37: 310 | G37: 299 | H37: 24 | I37: 24 | J37: 74 | K37: 176 | L37: 25 | M37: 27 | N37: 27 | O37: 0 | P37: 0 | Q37: 108000 | T37: =IF(ROUND(R37,1)=ROUND(S37,1),1,IF(ROUND(R37,1)>ROUND(T35,1),2,IF(ROUND(R37,1)<ROUND(S37,1),3,0))) -> 1
E38: Karnych | F38: 50 | G38: 49 | H38: 11 | I38: 11 | J38: 20 | K38: 0 | L38: 18 | M38: 5 | N38: 5 | O38: 0 | P38: 0 | Q38: 36000 | T38: =IF(ROUND(R38,1)=ROUND(S38,1),1,IF(ROUND(R38,1)>ROUND(T36,1),2,IF(ROUND(R38,1)<ROUND(S38,1),3,0))) -> 1
E39: Cywilnych | F39: 229 | G39: 223 | H39: 6 | I39: 6 | J39: 45 | K39: 167 | L39: 5 | M39: 16 | N39: 16 | O39: 0 | P39: 0 | Q39: 44000
E40: Ubezpieczeniowych | F40: 11 | G40: 9 | H40: 0 | I40: 0 | J40: 4 | K40: 3 | L40: 2 | M40: 3 | N40: 3 | O40: 0 | P40: 0 | Q40: 0
E41: Pracy | F41: 3 | G41: 3 | H41: 0 | I41: 0 | J41: 2 | K41: 1 | L41: 0 | M41: 1 | N41: 1 | O41: 0 | P41: 0 | Q41: 0
E42: Gospodarczych | F42: 17 | G42: 15 | H42: 7 | I42: 7 | J42: 3 | K42: 5 | L42: 0 | M42: 2 | N42: 2 | O42: 0 | P42: 0 | Q42: 28000
D43: Apelacja Krakowska | E43: Ogółem spraw | F43: 269 | G43: 257 | H43: 17 | I43: 16 | J43: 65 | K43: 157 | L43: 18 | M43: 30 | N43: 30 | O43: 0 | P43: 0 | Q43: 54000
E44: Karnych | F44: 29 | G44: 30 | H44: 3 | I44: 3 | J44: 13 | K44: 5 | L44: 9 | M44: 4 | N44: 4 | O44: 0 | P44: 0 | Q44: 18000
E45: Cywilnych | F45: 226 | G45: 215 | H45: 10 | I45: 9 | J45: 47 | K45: 149 | L45: 9 | M45: 23 | N45: 23 | O45: 0 | P45: 0 | Q45: 27000
E46: Ubezpieczeniowych | F46: 8 | G46: 6 | H46: 2 | I46: 2 | J46: 3 | K46: 1 | L46: 0 | M46: 2 | N46: 2 | O46: 0 | P46: 0 | Q46: 4000
E47: Pracy | F47: 1 | G47: 1 | H47: 0 | I47: 0 | J47: 0 | K47: 1 | L47: 0 | M47: 1 | N47: 1 | O47: 0 | P47: 0 | Q47: 0
E48: Gospodarczych | F48: 5 | G48: 5 | H48: 2 | I48: 2 | J48: 2 | K48: 1 | L48: 0 | M48: 0 | N48: 0 | O48: 0 | P48: 0 | Q48: 5000
D49: Apelacja Lubelska | E49: Ogółem spraw | F49: 138 | G49: 142 | H49: 13 | I49: 12 | J49: 39 | K49: 77 | L49: 13 | M49: 2 | N49: 2 | O49: 0 | P49: 0 | Q49: 36000
E50: Karnych | F50: 32 | G50: 33 | H50: 1 | I50: 1 | J50: 13 | K50: 7 | L50: 12 | M50: 2 | N50: 2 | O50: 0 | P50: 0 | Q50: 5000
E51: Cywilnych | F51: 76 | G51: 77 | H51: 2 | I51: 2 | J51: 18 | K51: 56 | L51: 1 | M51: 0 | N51: 0 | O51: 0 | P51: 0 | Q51: 4000
...

Sheet Graph
G1: FEP8Qry3
G2: Autor | H2: AWEPA | J2: Aktualność danych (godzina) | K2: 16:46:47
F5: Information
F6: Autor | G6: AWEPA | I6: Ostatnie odświeżanie | J6: 2014-10-20 15:17:52
F7: Bieżący użytkownik | G7: PROCAG01M | I7: Dzień | J7: 2014-10-20
F8: Ostatnio zmienione przez | G8: PROCAG01M | I8: Godzina zmiany | J8: 2014-10-16 09:53:52
F9: Dostawca informacji | G9: ST_M001 | I9: Aktualność danych | J9: 2013-04-23 16:46:47
F10: Tech. nazwa zapytania | G10: S_ST_M001_ST_TABL_XIII_001 | I10: Aktualność danych (data) | J10: 2013-04-23
F11: Opis zapytania | G11: ST_XIII Ewid. spr. z wyk. S w SA [20134] | I11: Aktualność danych (godzina) | J11: 16:46:47
C12: Apelacja
C13: Strukt.
C14: Wskaźniki

Sheet Ustawienia
B3: Zmienna | C3: Kwartał | D3: Rok
B4: 20143 | C4: =TRUNC(RIGHT(B4)) -> 3 | D4: =LEFT(B4,4) -> 2014
B6: Opis raportów | E6: I kw | F6: I p | G6: III kw | H6: rok | I6: Funkcja
E7: ZA I KWARTAŁ | F7: ZA I PÓŁROCZE | G7: ZA III KWARTAŁY | H7: ZA ROK
E8: =CONCATENATE(E7&$D$4&"r.") -> ZA I KWARTAŁ 2014r. | F8: =CONCATENATE(F7& $D$4 &" R.") -> ZA I PÓŁROCZE 2014 R. | G8: =CONCATENATE(G7&$D$4&"r.") -> ZA III KWARTAŁY 2014r. | H8: =CONCATENATE(H7&$D$4) -> ZA ROK 2014 | I8: =IF($C$4=1,E8,IF($C$4=2,F8,IF($C$4=3,G8,H8))) -> ZA III KWARTAŁY 2014r.
B10: Opis dla zakładki ewidencja | E10: I kw. | F10: I p. | G10: III kw.
C11: R-2 | D11: =D4-2 -> 2012 | E11: =CONCATENATE(E$10,$D11) -> I kw. 2012 | F11: =CONCATENATE(F$10,$D11) -> I p. 2012 | G11: =CONCATENATE(G$10,$D11) -> III kw. 2012 | H11: =CONCATENATE(H$10,$D11) -> 2012 | I11: =IF($C$4=1,E11,IF($C$4=2,F11,IF($C$4=3,G11,H11))) -> III kw. 2012
C12: R-1 | D12: =D4-1 -> 2013 | E12: =CONCATENATE(E$10,$D12) -> I kw. 2013 | F12: =CONCATENATE(F$10,$D12) -> I p. 2013 | G12: =CONCATENATE(G$10,$D12) -> III kw. 2013 | H12: =CONCATENATE(H$10,$D12) -> 2013 | I12: =IF($C$4=1,E12,IF($C$4=2,F12,IF($C$4=3,G12,H12))) -> III kw. 2013
C13: R | D13: =D4 -> 2014 | E13: =CONCATENATE(E$10,$D13) -> I kw. 2014 | F13: =CONCATENATE(F$10,$D13) -> I p. 2014 | G13: =CONCATENATE(G$10,$D13) -> III kw. 2014 | H13: =CONCATENATE(H$10,$D13) -> 2014 | I13: =IF($C$4=1,E13,IF($C$4=2,F13,IF($C$4=3,G13,H13))) -> III kw. 2014
