Workbook

Sheet BExRepositorySheet
A1: 7

Sheet Ewidencja 
E4: Autor | F4: PROCAG01M
E6: Ostatnio zmienione przez | F6: PROCAG01M
E8: Godzina zmiany | F8: 2014-10-16 09:53:52
E10: Tech. Nazwa zapytania | F10: S_ST_M001_ST_TABL_XIII_001
E12: 20112, 20114, 20121, 20122, 20123, 20124, 20132, 20134, 20141, 20142, 20143, 20144 | H12: =TRUNC(RIGHT(E12,1)) -> 4 | I12: =TRUNC(LEFT(E12,4)) -> 2011 | J12: =IF(H12=4,CONCATENATE("w ",I12,"r."),IF(H12=2,CONCATENATE("w I półroczu ",I12,"r."),IF(H12=1,CONCATENATE("w I kwartale ",I12,"r."),CONCATENATE("za III kwartały ",I12,"r.")))) -> w 2011r.
E15: =CONCATENATE("EWIDENCJA SPRAW Z WYKAZU S W SĄDACH APELACYJNYCH ","OGÓŁEM ",Ustawienia!$I$8," ") -> EWIDENCJA SPRAW Z WYKAZU S W SĄDACH APELACYJNYCH OGÓŁEM ZA III KWARTAŁY 2014r.
E17: Wyszczególnienie | F17: Wpłynęło | G17: Załatwiono | M17: Pozostało | Q17: Ogólna kwota zasądzonych odszkodowań (PLN)
G19: ogółem | H19: w tym | M19: ogółem | N19: w tym od wpływu
H20: uwzględniono w całości lub części | J20: oddalono | K20: odrzucono | L20: w inny sposób | N20: do 2 mies. | O20: pow. 2 do 4 mies. | P20: ponad 4 mies.
H21: razem | I21: w tym przez zasądzenie kwoty pieniężnej
E22: 0 | F22: 1 | G22: 2 | H22: 3 | I22: 4 | J22: 5 | K22: 6 | L22: 7 | M22: 8 | N22: 9 | O22: 10 | P22: 11 | Q22: 12
D23: Table | E23: Table
D24: Apelacja | F24: W2011 | G24: Z2011razem | H24: razem | I24: przez.zarz.kwot.pien. | J24: oddalono | K24: odrzucono | L24: w inny sposob | M24: P2011 | N24: do 2 mies. | O24: pow 2 do 4 mies. | P24: ponad 4 mies. | Q24: Ogol.kw.zarz.odszk.(w.zl)
D25: Apelacja Białostocka | E25: Ogółem spraw | F25: 113 | G25: 111 | H25: 9 | I25: 8 | J25: 18 | K25: 69 | L25: 15 | M25: 6 | N25: 6 | O25: 0 | P25: 0 | Q25: 29000
E26: Karnych | F26: 14 | G26: 12 | H26: 2 | I26: 1 | J26: 6 | K26: 0 | L26: 4 | M26: 2 | N26: 2 | O26: 0 | P26: 0 | Q26: 3000
E27: Cywilnych | F27: 93 | G27: 94 | H27: 7 | I27: 7 | J27: 10 | K27: 66 | L27: 11 | M27: 3 | N27: 3 | O27: 0 | P27: 0 | Q27: 26000 | T27: =IF(ROUND(R27,1)=ROUND(S27,1),1,IF(ROUND(R27,1)>ROUND(U24,1),2,IF(ROUND(R27,1)<ROUND(S27,1),3,0))) -> 1
E28: Ubezpieczeniowych | F28: 6 | G28: 5 | H28: 0 | I28: 0 | J28: 2 | K28: 3 | L28: 0 | M28: 1 | N28: 1 | O28: 0 | P28: 0 | Q28: 0 | T28: =IF(ROUND(R28,1)=ROUND(S28,1),1,IF(ROUND(R28,1)>ROUND(T26,1),2,IF(ROUND(R28,1)<ROUND(S28,1),3,0))) -> 1
E29: Pracy | F29: 0 | G29: 0 | H29: 0 | I29: 0 | J29: 0 | K29: 0 | L29: 0 | M29: 0 | N29: 0 | O29: 0 | P29: 0 | Q29: 0 | T29: =IF(ROUND(R29,1)=ROUND(S29,1),1,IF(ROUND(R29,1)>ROUND(T27,1),2,IF(ROUND(R29,1)<ROUND(S29,1),3,0))) -> 1
E30: Gospodarczych | F30: 0 | G30: 0 | H30: 0 | I30: 0 | J30: 0 | K30: 0 | L30: 0 | M30: 0 | N30: 0 | O30: 0 | P30: 0 | Q30: 0 | T30: =IF(ROUND(R30,1)=ROUND(S30,1),1,IF(ROUND(R30,1)>ROUND(T28,1),2,IF(ROUND(R30,1)<ROUND(S30,1),3,0))) -> 1
D31: Apelacja Gdańska | E31: Ogółem spraw | F31: 853 | G31: 812 | H31: 13 | I31: 13 | J31: 124 | K31: 574 | L31: 101 | M31: 140 | N31: 140 | O31: 0 | P31: 0 | Q31: 35000 | T31: =IF(ROUND(R31,1)=ROUND(S31,1),1,IF(ROUND(R31,1)>ROUND(T29,1),2,IF(ROUND(R31,1)<ROUND(S31,1),3,0))) -> 1
E32: Karnych | F32: 38 | G32: 36 | H32: 1 | I32: 1 | J32: 8 | K32: 18 | L32: 9 | M32: 6 | N32: 6 | O32: 0 | P32: 0 | Q32: 2000 | T32: =IF(ROUND(R32,1)=ROUND(S32,1),1,IF(ROUND(R32,1)>ROUND(T30,1),2,IF(ROUND(R32,1)<ROUND(S32,1),3,0))) -> 1
E33: Cywilnych | F33: 633 | G33: 601 | H33: 7 | I33: 7 | J33: 87 | K33: 436 | L33: 71 | M33: 106 | N33: 106 | O33: 0 | P33: 0 | Q33: 19000 | T33: =IF(ROUND(R33,1)=ROUND(S33,1),1,IF(ROUND(R33,1)>ROUND(T31,1),2,IF(ROUND(R33,1)<ROUND(S33,1),3,0))) -> 1
E34: Ubezpieczeniowych | F34: 15 | G34: 14 | H34: 1 | I34: 1 | J34: 3 | K34: 8 | L34: 2 | M34: 1 | N34: 1 | O34: 0 | P34: 0 | Q34: 2000
E35: Pracy | F35: 21 | G35: 23 | H35: 1 | I35: 1 | J35: 3 | K35: 19 | L35: 0 | M35: 0 | N35: 0 | O35: 0 | P35: 0 | Q35: 0 | T35: =IF(ROUND(R35,1)=ROUND(S35,1),1,IF(ROUND(R35,1)>ROUND(T32,1),2,IF(ROUND(R35,1)<ROUND(S35,1),3,0))) -> 1
E36: Gospodarczych | F36: 146 | G36: 138 | H36: 3 | I36: 3 | J36: 23 | K36: 93 | L36: 19 | M36: 27 | N36: 27 | O36: 0 | P36: 0 | Q36: 12000 | T36: =IF(ROUND(R36,1)=ROUND(S36,1),1,IF(ROUND(R36,1)>ROUND(T33,1),2,IF(ROUND(R36,1)<ROUND(S36,1),3,0))) -> 1
D37: Apelacja Katowicka | E37: Ogółem spraw | F37: 310 | G37: 299 | H37: 24 | I37: 24 | J37: 74 | K37: 176 | L37: 25 | M37: 27 | N37: 27 | O37: 0 | P37: 0 | Q37: 108000 | T37: =IF(ROUND(R37,1)=ROUND(S37,1),1,IF(ROUND(R37,1)>ROUND(T35,1),2,IF(ROUND(R37,1)<ROUND(S37,1),3,0))) -> 1
E38: Karnych | F38: 50 | G38: 49 | H38: 11 | I38: 11 | J38: 20 | K38: 0 | L38: 18 | M38: 5 | N38: 5 | O38: 0 | P38: 0 | Q38: 36000 | T38: =IF(ROUND(R38,1)=ROUND(S38,1),1,IF(ROUND(R38,1)>ROUND(T36,1),2,IF(ROUND(R38,1)<ROUND(S38,1),3,0))) -> 1
E39: Cywilnych | F39: 229 | G39: 223 | H39: 6 | I39: 6 | J39: 45 | K39: 167 | L39: 5 | M39: 16 | N39: 16 | O39: 0 | P39: 0 | Q39: 44000
E40: Ubezpieczeniowych | F40: 11 | G40: 9 | H40: 0 | I40: 0 | J40: 4 | K40: 3 | L40: 2 | M40: 3 | N40: 3 | O40: 0 | P40: 0 | Q40: 0
E41: Pracy | F41: 3 | G41: 3 | H41: 0 | I41: 0 | J41: 2 | K41: 1 | L41: 0 | M41: 1 | N41: 1 | O41: 0 | P41: 0 | Q41: 0
E42: Gospodarczych | F42: 17 | G42: 15 | H42: 7 | I42: 7 | J42: 3 | K42: 5 | L42: 0 | M42: 2 | N42: 2 | O42: 0 | P42: 0 | Q42: 28000
D43: Apelacja Krakowska | E43: Ogółem spraw | F43: 269 | G43: 257 | H43: 17 | I43: 16 | J43: 65 | K43: 157 | L43: 18 | M43: 30 | N43: 30 | O43: 0 | P43: 0 | Q43: 54000
E44: Karnych | F44: 29 | G44: 30 | H44: 3 | I44: 3 | J44: 13 | K44: 5 | L44: 9 | M44: 4 | N44: 4 | O44: 0 | P44: 0 | Q44: 18000
E45: Cywilnych | F45: 226 | G45: 215 | H45: 10 | I45: 9 | J45: 47 | K45: 149 | L45: 9 | M45: 23 | N45: 23 | O45: 0 | P45: 0 | Q45: 27000
E46: Ubezpieczeniowych | F46: 8 | G46: 6 | H46: 2 | I46: 2 | J46: 3 | K46: 1 | L46: 0 | M46: 2 | N46: 2 | O46: 0 | P46: 0 | Q46: 4000
E47: Pracy | F47: 1 | G47: 1 | H47: 0 | I47: 0 | J47: 0 | K47: 1 | L47: 0 | M47: 1 | N47: 1 | O47: 0 | P47: 0 | Q47: 0
E48: Gospodarczych | F48: 5 | G48: 5 | H48: 2 | I48: 2 | J48: 2 | K48: 1 | L48: 0 | M48: 0 | N48: 0 | O48: 0 | P48: 0 | Q48: 5000
D49: Apelacja Lubelska | E49: Ogółem spraw | F49: 138 | G49: 142 | H49: 13 | I49: 12 | J49: 39 | K49: 77 | L49: 13 | M49: 2 | N49: 2 | O49: 0 | P49: 0 | Q49: 36000
E50: Karnych | F50: 32 | G50: 33 | H50: 1 | I50: 1 | J50: 13 | K50: 7 | L50: 12 | M50: 2 | N50: 2 | O50: 0 | P50: 0 | Q50: 5000
E51: Cywilnych | F51: 76 | G51: 77 | H51: 2 | I51: 2 | J51: 18 | K51: 56 | L51: 1 | M51: 0 | N51: 0 | O51: 0 | P51: 0 | Q51: 4000
E52: Ubezpieczeniowych | F52: 23 | G52: 25 | H52: 7 | I52: 7 | J52: 6 | K52: 12 | L52: 0 | M52: 0 | N52: 0 | O52: 0 | P52: 0 | Q52: 22000
E53: Pracy | F53: 4 | G53: 4 | H53: 2 | I53: 2 | J53: 0 | K53: 2 | L53: 0 | M53: 0 | N53: 0 | O53: 0 | P53: 0 | Q53: 5000
E54: Gospodarczych | F54: 3 | G54: 3 | H54: 1 | I54: 0 | J54: 2 | K54: 0 | L54: 0 | M54: 0 | N54: 0 | O54: 0 | P54: 0 | Q54: 0
D55: Apelacja Łódzka | E55: Ogółem spraw | F55: 97 | G55: 94 | H55: 7 | I55: 7 | J55: 42 | K55: 33 | L55: 12 | M55: 13 | N55: 13 | O55: 0 | P55: 0 | Q55: 27000
E56: Karnych | F56: 18 | G56: 20 | H56: 1 | I56: 1 | J56: 11 | K56: 3 | L56: 5 | M56: 1 | N56: 1 | O56: 0 | P56: 0 | Q56: 2000
E57: Cywilnych | F57: 65 | G57: 58 | H57: 4 | I57: 4 | J57: 24 | K57: 24 | L57: 6 | M57: 11 | N57: 11 | O57: 0 | P57: 0 | Q57: 21000
E58: Ubezpieczeniowych | F58: 6 | G58: 7 | H58: 1 | I58: 1 | J58: 4 | K58: 1 | L58: 1 | M58: 0 | N58: 0 | O58: 0 | P58: 0 | Q58: 2000
E59: Pracy | F59: 0 | G59: 0 | H59: 0 | I59: 0 | J59: 0 | K59: 0 | L59: 0 | M59: 0 | N59: 0 | O59: 0 | P59: 0 | Q59: 0
E60: Gospodarczych | F60: 8 | G60: 9 | H60: 1 | I60: 1 | J60: 3 | K60: 5 | L60: 0 | M60: 1 | N60: 1 | O60: 0 | P60: 0 | Q60: 2000
D61: Apelacja Poznańska | E61: Ogółem spraw | F61: 96 | G61: 104 | H61: 21 | I61: 19 | J61: 45 | K61: 25 | L61: 13 | M61: 7 | N61: 7 | O61: 0 | P61: 0 | Q61: 60000
E62: Karnych | F62: 28 | G62: 31 | H62: 9 | I62: 8 | J62: 7 | K62: 3 | L62: 12 | M62: 5 | N62: 5 | O62: 0 | P62: 0 | Q62: 26000
E63: Cywilnych | F63: 62 | G63: 67 | H63: 10 | I63: 9 | J63: 35 | K63: 21 | L63: 1 | M63: 1 | N63: 1 | O63: 0 | P63: 0 | Q63: 30000
E64: Ubezpieczeniowych | F64: 5 | G64: 5 | H64: 2 | I64: 2 | J64: 3 | K64: 0 | L64: 0 | M64: 1 | N64: 1 | O64: 0 | P64: 0 | Q64: 4000
E65: Pracy
E66: Gospodarczych | F66: 1 | G66: 1 | H66: 0 | I66: 0 | J66: 0 | K66: 1 | L66: 0 | M66: 0 | N66: 0 | O66: 0 | P66: 0 | Q66: 0
D67: Apelacja Rzeszowska | E67: Ogółem spraw | F67: 103 | G67: 106 | H67: 1 | I67: 1 | J67: 29 | K67: 73 | L67: 4 | M67: 8 | N67: 8 | O67: 0 | P67: 0 | Q67: 10000
E68: Karnych | F68: 12 | G68: 15 | H68: 1 | I68: 1 | J68: 11 | K68: 1 | L68: 3 | M68: 1 | N68: 1 | O68: 0 | P68: 0 | Q68: 10000
E69: Cywilnych | F69: 88 | G69: 88 | H69: 0 | I69: 0 | J69: 17 | K69: 71 | L69: 0 | M69: 7 | N69: 7 | O69: 0 | P69: 0 | Q69: 0
E70: Ubezpieczeniowych | F70: 2 | G70: 2 | H70: 0 | I70: 0 | J70: 1 | K70: 1 | L70: 0 | M70: 0 | N70: 0 | O70: 0 | P70: 0 | Q70: 0
E71: Pracy | F71: 1 | G71: 1 | H71: 0 | I71: 0 | J71: 0 | K71: 0 | L71: 1 | M71: 0 | N71: 0 | O71: 0 | P71: 0 | Q71: 0
E72: Gospodarczych
D73: Apelacja Szczecińska | E73: Ogółem spraw | F73: 140 | G73: 147 | H73: 13 | I73: 13 | J73: 55 | K73: 67 | L73: 12 | M73: 12 | N73: 11 | O73: 0 | P73: 1 | Q73: 48000
E74: Karnych | F74: 34 | G74: 34 | H74: 7 | I74: 7 | J74: 14 | K74: 2 | L74: 11 | M74: 1 | N74: 1 | O74: 0 | P74: 0 | Q74: 31000
E75: Cywilnych | F75: 91 | G75: 99 | H75: 6 | I75: 6 | J75: 32 | K75: 60 | L75: 1 | M75: 10 | N75: 9 | O75: 0 | P75: 1 | Q75: 17000
E76: Ubezpieczeniowych | F76: 8 | G76: 7 | H76: 0 | I76: 0 | J76: 3 | K76: 4 | L76: 0 | M76: 1 | N76: 1 | O76: 0 | P76: 0 | Q76: 0
E77: Pracy | F77: 4 | G77: 4 | H77: 0 | I77: 0 | J77: 3 | K77: 1 | L77: 0 | M77: 0 | N77: 0 | O77: 0 | P77: 0 | Q77: 0
E78: Gospodarczych | F78: 3 | G78: 3 | H78: 0 | I78: 0 | J78: 3 | K78: 0 | L78: 0 | M78: 0 | N78: 0 | O78: 0 | P78: 0 | Q78: 0
D79: Apelacja Warszawska | E79: Ogółem spraw | F79: 695 | G79: 711 | H79: 75 | I79: 73 | J79: 196 | K79: 408 | L79: 32 | M79: 98 | N79: 89 | O79: 7 | P79: 2 | Q79: 241000
E80: Karnych | F80: 81 | G80: 80 | H80: 22 | I80: 22 | J80: 32 | K80: 8 | L80: 18 | M80: 5 | N80: 5 | O80: 0 | P80: 0 | Q80: 122000
E81: Cywilnych | F81: 536 | G81: 529 | H81: 32 | I81: 30 | J81: 104 | K81: 382 | L81: 11 | M81: 85 | N81: 76 | O81: 7 | P81: 2 | Q81: 73000
E82: Ubezpieczeniowych | F82: 27 | G82: 32 | H82: 7 | I82: 7 | J82: 15 | K82: 8 | L82: 2 | M82: 1 | N82: 1 | O82: 0 | P82: 0 | Q82: 15000
E83: Pracy | F83: 14 | G83: 11 | H83: 6 | I83: 6 | J83: 2 | K83: 3 | L83: 0 | M83: 3 | N83: 3 | O83: 0 | P83: 0 | Q83: 15000
E84: Gospodarczych | F84: 37 | G84: 59 | H84: 8 | I84: 8 | J84: 43 | K84: 7 | L84: 1 | M84: 4 | N84: 4 | O84: 0 | P84: 0 | Q84: 16000
D85: Apelacja Wrocławska | E85: Ogółem spraw | F85: 116 | G85: 109 | H85: 10 | I85: 10 | J85: 41 | K85: 45 | L85: 13 | M85: 13 | N85: 13 | O85: 0 | P85: 0 | Q85: 26000
E86: Karnych | F86: 30 | G86: 29 | H86: 2 | I86: 2 | J86: 18 | K86: 0 | L86: 9 | M86: 1 | N86: 1 | O86: 0 | P86: 0 | Q86: 8000
E87: Cywilnych | F87: 78 | G87: 72 | H87: 8 | I87: 8 | J87: 19 | K87: 41 | L87: 4 | M87: 11 | N87: 11 | O87: 0 | P87: 0 | Q87: 18000
E88: Ubezpieczeniowych | F88: 6 | G88: 5 | H88: 0 | I88: 0 | J88: 3 | K88: 2 | L88: 0 | M88: 1 | N88: 1 | O88: 0 | P88: 0 | Q88: 0
E89: Pracy | F89: 1 | G89: 1 | H89: 0 | I89: 0 | J89: 0 | K89: 1 | L89: 0 | M89: 0 | N89: 0 | O89: 0 | P89: 0 | Q89: 0
E90: Gospodarczych | F90: 1 | G90: 2 | H90: 0 | I90: 0 | J90: 1 | K90: 1 | L90: 0 | M90: 0 | N90: 0 | O90: 0 | P90: 0 | Q90: 0
D91: Wynik całkowity | E91: Ogółem spraw | F91: 2930 | G91: 2892 | H91: 203 | I91: 196 | J91: 728 | K91: 1704 | L91: 258 | M91: 356 | N91: 346 | O91: 7 | P91: 3 | Q91: 674000
E92: Karnych | F92: 366 | G92: 369 | H92: 60 | I92: 58 | J92: 153 | K92: 47 | L92: 110 | M92: 33 | N92: 33 | O92: 0 | P92: 0 | Q92: 263000
E93: Cywilnych | F93: 2177 | G93: 2123 | H93: 92 | I93: 88 | J93: 438 | K93: 1473 | L93: 120 | M93: 273 | N93: 263 | O93: 7 | P93: 3 | Q93: 279000
E94: Ubezpieczeniowych | F94: 117 | G94: 117 | H94: 20 | I94: 20 | J94: 47 | K94: 43 | L94: 7 | M94: 11 | N94: 11 | O94: 0 | P94: 0 | Q94: 49000
E95: Pracy | F95: 49 | G95: 48 | H95: 9 | I95: 9 | J95: 10 | K95: 28 | L95: 1 | M95: 5 | N95: 5 | O95: 0 | P95: 0 | Q95: 20000
E96: Gospodarczych | F96: 221 | G96: 235 | H96: 22 | I96: 21 | J96: 80 | K96: 113 | L96: 20 | M96: 34 | N96: 34 | O96: 0 | P96: 0 | Q96: 63000
E102: =CONCATENATE("EWIDENCJA SPRAW Z WYKAZU S W SĄDZIE APELACYJNYM W BIAŁYMSTOKU ",Ustawienia!$I$8,) -> EWIDENCJA SPRAW Z WYKAZU S W SĄDZIE APELACYJNYM W BIAŁYMSTOKU ZA III KWARTAŁY 2014r.
E104: Wyszczególnienie | F104: Wpłynęło | G104: Załatwiono | M104: Pozostało | Q104: Ogólna kwota zasądzonych odszkodowań (PLN)
G106: ogółem | H106: w tym | M106: ogółem | N106: w tym od wpływu
H107: uwzględniono w całości lub części | J107: oddalono | K107: odrzucono | L107: w inny sposób | N107: do 2 mies. | O107: pow. 2 do 4 mies. | P107: ponad 4 mies.
H108: razem | I108: w tym przez zasądzenie kwoty pieniężnej
E109: 0 | F109: 1 | G109: 2 | H109: 3 | I109: 4 | J109: 5 | K109: 6 | L109: 7 | M109: 8 | N109: 9 | O109: 10 | P109: 11 | Q109: 12
D110: Table
D111: Apelacja | F111: W2011 | G111: Z2011razem | H111: razem | I111: przez.zarz.kwot.pien. | J111: oddalono | K111: odrzucono | L111: w inny sposob | M111: P2011 | N111: do 2 mies. | O111: pow 2 do 4 mies. | P111: ponad 4 mies. | Q111: Ogol.kw.zarz.odszk.(w.zl)
D112: Apelacja Białostocka | E112: Ogółem spraw | F112: 113 | G112: 111 | H112: 9 | I112: 8 | J112: 18 | K112: 69 | L112: 15 | M112: 6 | N112: 6 | O112: 0 | P112: 0 | Q112: 29000
E113: Karnych | F113: 14 | G113: 12 | H113: 2 | I113: 1 | J113: 6 | K113: 0 | L113: 4 | M113: 2 | N113: 2 | O113: 0 | P113: 0 | Q113: 3000
E114: Cywilnych | F114: 93 | G114: 94 | H114: 7 | I114: 7 | J114: 10 | K114: 66 | L114: 11 | M114: 3 | N114: 3 | O114: 0 | P114: 0 | Q114: 26000
E115: Ubezpieczeniowych | F115: 6 | G115: 5 | H115: 0 | I115: 0 | J115: 2 | K115: 3 | L115: 0 | M115: 1 | N115: 1 | O115: 0 | P115: 0 | Q115: 0
E116: Pracy | F116: 0 | G116: 0 | H116: 0 | I116: 0 | J116: 0 | K116: 0 | L116: 0 | M116: 0 | N116: 0 | O116: 0 | P116: 0 | Q116: 0
E117: Gospodarczych | F117: 0 | G117: 0 | H117: 0 | I117: 0 | J117: 0 | K117: 0 | L117: 0 | M117: 0 | N117: 0 | O117: 0 | P117: 0 | Q117: 0
E121: =CONCATENATE("EWIDENCJA SPRAW Z WYKAZU S W SĄDZIE APELACYJNYM W GDAŃSKU ",Ustawienia!$I$8,) -> EWIDENCJA SPRAW Z WYKAZU S W SĄDZIE APELACYJNYM W GDAŃSKU ZA III KWARTAŁY 2014r.
...

Sheet Graph
G1: FEP8Qry3
G2: Autor | H2: AWEPA | J2: Aktualność danych (godzina) | K2: 16:46:47
F5: Information
F6: Autor | G6: AWEPA | I6: Ostatnie odświeżanie | J6: 2014-10-20 15:17:52
F7: Bieżący użytkownik | G7: PROCAG01M | I7: Dzień | J7: 2014-10-20
F8: Ostatnio zmienione przez | G8: PROCAG01M | I8: Godzina zmiany | J8: 2014-10-16 09:53:52
F9: Dostawca informacji | G9: ST_M001 | I9: Aktualność danych | J9: 2013-04-23 16:46:47
F10: Tech. nazwa zapytania | G10: S_ST_M001_ST_TABL_XIII_001 | I10: Aktualność danych (data) | J10: 2013-04-23
F11: Opis zapytania | G11: ST_XIII Ewid. spr. z wyk. S w SA [20134] | I11: Aktualność danych (godzina) | J11: 16:46:47
C12: Apelacja
C13: Strukt.
C14: Wskaźniki

Sheet Ustawienia
B3: Zmienna | C3: Kwartał | D3: Rok
B4: 20143 | C4: =TRUNC(RIGHT(B4)) -> 3 | D4: =LEFT(B4,4) -> 2014
B6: Opis raportów | E6: I kw | F6: I p | G6: III kw | H6: rok | I6: Funkcja
E7: ZA I KWARTAŁ | F7: ZA I PÓŁROCZE | G7: ZA III KWARTAŁY | H7: ZA ROK
E8: =CONCATENATE(E7&$D$4&"r.") -> ZA I KWARTAŁ 2014r. | F8: =CONCATENATE(F7& $D$4 &" R.") -> ZA I PÓŁROCZE 2014 R. | G8: =CONCATENATE(G7&$D$4&"r.") -> ZA III KWARTAŁY 2014r. | H8: =CONCATENATE(H7&$D$4) -> ZA ROK 2014 | I8: =IF($C$4=1,E8,IF($C$4=2,F8,IF($C$4=3,G8,H8))) -> ZA III KWARTAŁY 2014r.
B10: Opis dla zakładki ewidencja | E10: I kw. | F10: I p. | G10: III kw.
C11: R-2 | D11: =D4-2 -> 2012 | E11: =CONCATENATE(E$10,$D11) -> I kw. 2012 | F11: =CONCATENATE(F$10,$D11) -> I p. 2012 | G11: =CONCATENATE(G$10,$D11) -> III kw. 2012 | H11: =CONCATENATE(H$10,$D11) -> 2012 | I11: =IF($C$4=1,E11,IF($C$4=2,F11,IF($C$4=3,G11,H11))) -> III kw. 2012
C12: R-1 | D12: =D4-1 -> 2013 | E12: =CONCATENATE(E$10,$D12) -> I kw. 2013 | F12: =CONCATENATE(F$10,$D12) -> I p. 2013 | G12: =CONCATENATE(G$10,$D12) -> III kw. 2013 | H12: =CONCATENATE(H$10,$D12) -> 2013 | I12: =IF($C$4=1,E12,IF($C$4=2,F12,IF($C$4=3,G12,H12))) -> III kw. 2013
C13: R | D13: =D4 -> 2014 | E13: =CONCATENATE(E$10,$D13) -> I kw. 2014 | F13: =CONCATENATE(F$10,$D13) -> I p. 2014 | G13: =CONCATENATE(G$10,$D13) -> III kw. 2014 | H13: =CONCATENATE(H$10,$D13) -> 2014 | I13: =IF($C$4=1,E13,IF($C$4=2,F13,IF($C$4=3,G13,H13))) -> III kw. 2014
