Workbook
Name DF_GRID_1: Wybór [1]sądu!$G$21:$J$217
Name DF_NAVPANEL_13: 'Wybór sądu'!#REF!
Name DF_NAVPANEL_13: 'Wybór sądu'!#REF!
Name DF_NAVPANEL_18: 'Wybór sądu'!#REF!
Name DF_NAVPANEL_18: 'Wybór sądu'!#REF!

Sheet BExRepositorySheet
A1: 7
C14: Filter

Sheet Wybór sądu
F1: Tablice rzymskie III kw 2014
H2: Autor | I2: PROCAG01M | K2: Aktualność danych
G5: Information
G6: Autor | H6: PROCAG01M | J6: Ostatnie odświeżanie | K6: 2014-10-20 12:13:26
G7: Bieżący użytkownik | H7: PROCAG01M | J7: Dzień | K7: 2014-10-20
G8: Ostatnio zmienione przez | H8: PROCAG01M | J8: Godzina zmiany | K8: 2014-10-20 10:18:56
G9: Dostawca informacji | H9: ST_M001 | J9: Aktualność danych
G10: Tech. nazwa zapytania | H10: S_ST_M001_TABL_20143 | J10: Aktualność danych (data)
G11: Opis zapytania | H11: Tablice rzymskie III kw 2014 | J11: Aktualność danych (godzina)
C12: Wybór sądu:
C14: Filter
C16: Apelacja
C17: Liczby
C18: Okręg
C19: Sąd | G19: Table
C20: Wiersze | G20: Table | H20: Wpływy 20143 | I20: Załatwienia 20143 | J20: Pozostałość 20143 | K20: Table
H21: Wpływy 20133 | I21: Załatwienia 20133 | J21: Pozostałość 20133 | L21: Wpływy 20143 | M21: Załatwienia 20143 | N21: Pozostałość 20143
C22: Uwaga: | G22: Ogółem spraw w sądach powszechnych | H22: 11535384 | I22: 10717175 | J22: 2654142 | K22: Ogółem spraw w sądach powszechnych | L22: 10831130 | M22: 10724283 | N22: 2536839
C23: W polu Apelacja wpisujemy np.: Apelacja Warszawska | G23: W sądach apelacyjnych - Ogółem | H23: 90210 | I23: 76709 | J23: 33981 | K23: W sądach apelacyjnych - Ogółem | L23: 89144 | M23: 83413 | N23: 37880
C24: Okręg | D24: Gliwice | G24: Sprawy karne - razem | H24: 26014 | I24: 24796 | J24: 3641 | K24: Sprawy karne - razem | L24: 26026 | M24: 25046 | N24: 3526
C25: Sąd | D25: SR w Świdnicy | G25: A Ka s05a Wiersz 1 | H25: 2846 | I25: 2487 | J25: 764 | K25: A Ka s05a Wiersz 1 | L25: 2955 | M25: 2481 | N25: 894
G26: odszkodowania A Ka s05a Wiersz 2 - formuła 3 + 4 | H26: 291 | I26: 265 | J26: 55 | K26: odszkodowania A Ka s05a Wiersz 2 - formuła 3 + 4 | L26: 312 | M26: 59 | N26: 73
C27: lub klikamy dwa razy w białe pole przy pozycji, którą chcemy ograniczyć. | G27: z ust. z dn. 23.02.1991 s05a Wiersz 3 | H27: 73 | I27: 67 | J27: 13 | K27: z ust. z dn. 23.02.1991 s05a Wiersz 3 | L27: 69 | M27: 59 | N27: 16
G28: w tryb. art. 552 kpk s05a Wiersz 4 | H28: 218 | I28: 198 | J28: 42 | K28: w tryb. art. 552 kpk s05a Wiersz 4 | L28: 243 | N28: 57
G29: A Kz s05a Wiersz 5 | H29: 5044 | I29: 5023 | J29: 266 | K29: A Kz s05a Wiersz 5 | L29: 5039 | M29: 4986 | N29: 271
C30: 2014-10-20 12:13:26 | G30: A Ko s05a Wiersz 6 | H30: 1582 | I30: 1525 | J30: 282 | K30: A Ko s05a Wiersz 6 | L30: 1509 | M30: 1462 | N30: 270
G31: s05a Wiersz 7 | H31: 0 | I31: 0 | J31: 0 | K31: s05a Wiersz 7 | L31: 0 | M31: 0 | N31: 0
G32: art. 11a pwkpk s05a Wiersz 8 | H32: 1 | I32: 1 | J32: 0 | K32: art. 11a pwkpk s05a Wiersz 8 | L32: 0 | M32: 1 | N32: 0
G33: A Kp s05a Wiersz 9 | H33: 376 | I33: 369 | J33: 18 | K33: A Kp s05a Wiersz 9 | L33: 380 | M33: 379 | N33: 8
G34: A Kzw s05a Wiersz 10 | H34: 15301 | I34: 14518 | J34: 2154 | K34: A Kzw s05a Wiersz 10 | L34: 15326 | M34: 14917 | N34: 1939
G35: WKK s05a Wiersz 11 | H35: 446 | I35: 462 | J35: 109 | K35: WKK s05a Wiersz 11 | L35: 451 | M35: 452 | N35: 111
G36: S s05a Wiersz 12 | H36: 419 | I36: 412 | J36: 48 | K36: S s05a Wiersz 12 | L36: 366 | M36: 369 | N36: 33
G37: Sprawy cywilne - razem | H37: 30648 | I37: 27154 | J37: 8776 | K37: Sprawy cywilne - razem | L37: 31036 | M37: 27308 | N37: 10911
G38: A Ca s01a Wiersz 1 | H38: 11236 | I38: 9089 | J38: 5914 | K38: A Ca s01a Wiersz 1 | L38: 12247 | M38: 9664 | N38: 7656
G39: s01a Wiersz 2 | H39: 15653 | I39: 14540 | J39: 2293 | K39: s01a Wiersz 2 | L39: 14589 | M39: 13566 | N39: 2599
G40: s01a Wiersz 3 | H40: 507 | I40: 474 | J40: 68 | K40: s01a Wiersz 3 | L40: 582 | M40: 578 | N40: 74
G41: s01a Wiersz 4 | H41: 1328 | I41: 1236 | J41: 274 | K41: s01a Wiersz 4 | L41: 1419 | M41: 1357 | N41: 301
G42: s01a Wiersz 5 | H42: 24 | I42: 28 | J42: 5 | K42: s01a Wiersz 5 | L42: 22 | M42: 20 | N42: 8
... G175: Nk s16r Wiersz 8 | H175: 504 | I175: 487 | J175: 285 | K175: Nk s16r Wiersz 8 | L175: 148 | M175: 399 | N175: 0
G176: Nkd s18r Wiersz 09 | K176: Nkd s18r Wiersz 09 | L176: 69225 | M176: 46790 | N176: 22435
...

Sheet Graph
C1: Apelacja | H1: FEP8Qry3
C2: Liczby | H2: Autor | I2: PROCAG01M | K2: Aktualność danych (godzina)
C3: Okręg
C4: Sąd
C5: Wiersze | G5: Information
G6: Autor | H6: PROCAG01M | J6: Ostatnie odświeżanie | K6: 2014-10-20 12:13:26
G7: Bieżący użytkownik | H7: PROCAG01M | J7: Dzień | K7: 2014-10-20
G8: Ostatnio zmienione przez | H8: PROCAG01M | J8: Godzina zmiany | K8: 2014-10-20 10:18:56
G9: Dostawca informacji | H9: ST_M001 | J9: Aktualność danych
G10: Tech. nazwa zapytania | H10: S_ST_M001_TABL_20143 | J10: Aktualność danych (data)
G11: Opis zapytania | H11: Tablice rzymskie III kw 2014 | J11: Aktualność danych (godzina)
C14: Filter

Sheet Tabl. I (2)
A1: TABL. I. EWIDENCJA SPRAW WEDŁUG DZIAŁÓW PRAWA W SĄDACH POWSZECHNYCH
A2: za III kwartały 2013 i III kwartały 2014 roku
A3: RODZAJE SPRAW WEDŁUG DZIAŁÓW PRAWA I RODZAJÓW SĄDÓW | B3: WPŁYW | E3: ZAŁATWIENIA | H3: POZOSTAŁOŚĆ
B4: III kwartały 2013 | C4: III kwartały 2014 | E4: III kwartały 2013 | F4: III kwartały 2014 | H4: III kwartały 2013 | I4: III kwartały 2014
B5: w liczbach bezwzględnych | D5: III kw. 2013 = 100 | E5: w liczbach bezwzględnych | G5: III kw. 2013 = 100 | H5: w liczbach bezwzględnych | J5: III kw. 2013 = 100
A6: OGÓŁEM | B6: =SUM(B7,B11,B15,B18,B22,B26) -> 11535384 | C6: =SUM(C7,C11,C15,C18,C22,C26) -> 10831130 | D6: =C6*100/B6 -> 93.894837 | E6: =SUM(E7,E11,E15,E18,E22,E26) -> 10717175 | F6: =SUM(F7,F11,F15,F18,F22,F26) -> 10724283 | G6: =F6*100/E6 -> 100.06632 | H6: =SUM(H7,H11,H15,H18,H22,H26) -> 2654142 | I6: =SUM(I7,I11,I15,I18,I22,I26) -> 2536839 | J6: =I6*100/H6 -> 95.58038
A7: SPRAWY KARNEa) | B7: =SUM(B8:B10) -> 2067160 | C7: =SUM(C8:C10) -> 2073066 | D7: =C7*100/B7 -> 100.28571 | E7: =SUM(E8:E10) -> 1970929 | F7: =SUM(F8:F10) -> 2016679 | G7: =F7*100/E7 -> 102.32124 | H7: =SUM(H8:H10) -> 475564 | I7: =SUM(I8:I10) -> 507774 | J7: =I7*100/H7 -> 106.77301
A8: W sądach: - apelacyjnych | B8: ='Tabl. II (2)'!B9 -> 26014 | C8: ='Tabl. II (2)'!C9 -> 26026 | D8: =C8*100/B8 -> 100.04613 | E8: ='Tabl. II (2)'!E9 -> 24796 | F8: ='Tabl. II (2)'!F9 -> 25046 | G8: =F8*100/E8 -> 101.00823 | H8: ='Tabl. II (2)'!H9 -> 3641 | I8: ='Tabl. II (2)'!I9 -> 3526 | J8: =I8*100/H8 -> 96.841527
A9: - okręgowych | B9: ='Tabl. II (2)'!B53 -> 298689 | C9: ='Tabl. II (2)'!C53 -> 288969 | D9: =C9*100/B9 -> 96.745779 | E9: ='Tabl. II (2)'!E53 -> 291838 | F9: ='Tabl. II (2)'!F53 -> 282703 | G9: =F9*100/E9 -> 96.869839 | H9: ='Tabl. II (2)'!H53 -> 48880 | I9: ='Tabl. II (2)'!I53 -> 47888 | J9: =I9*100/H9 -> 97.97054
A10: - rejonowych | B10: ='Tabl. II (2)'!B135 -> 1742457 | C10: ='Tabl. II (2)'!C135 -> 1758071 | D10: =C10*100/B10 -> 100.89609 | E10: ='Tabl. II (2)'!E135 -> 1654295 | F10: ='Tabl. II (2)'!F135 -> 1708930 | G10: =F10*100/E10 -> 103.30262 | H10: ='Tabl. II (2)'!H135 -> 423043 | I10: ='Tabl. II (2)'!I135 -> 456360 | J10: =I10*100/H10 -> 107.87556
A11: SPRAWY CYWILNE | B11: =SUM(B12:B14) -> 6909825 | C11: =SUM(C12:C14) -> 6236911 | D11: =C11*100/B11 -> 90.26149 | E11: =SUM(E12:E14) -> 6355751 | F11: =SUM(F12:F14) -> 6231971 | G11: =F11*100/E11 -> 98.052472 | H11: =SUM(H12:H14) -> 1533018 | I11: =SUM(I12:I14) -> 1396699 | J11: =I11*100/H11 -> 91.107802
A12: W sądach: - apelacyjnychb) | B12: ='Tabl. II (2)'!B23 -> 30648 | C12: ='Tabl. II (2)'!C23 -> 31036 | D12: =C12*100/B12 -> 101.26599 | E12: ='Tabl. II (2)'!E23 -> 27154 | F12: ='Tabl. II (2)'!F23 -> 27308 | G12: =F12*100/E12 -> 100.56714 | H12: ='Tabl. II (2)'!H23 -> 8776 | I12: ='Tabl. II (2)'!I23 -> 10911 | J12: =I12*100/H12 -> 124.32771
A13: - okręgowychb) | B13: ='Tabl. II (2)'!B67 -> 244433 | C13: ='Tabl. II (2)'!C67 -> 247770 | D13: =C13*100/B13 -> 101.3652 | E13: ='Tabl. II (2)'!E67 -> 224163 | F13: ='Tabl. II (2)'!F67 -> 230287 | G13: =F13*100/E13 -> 102.73194 | H13: ='Tabl. II (2)'!H67 -> 134969 | I13: ='Tabl. II (2)'!I67 -> 141890 | J13: =I13*100/H13 -> 105.12784
A14: - rejonowychc) | B14: ='Tabl. II (2)'!B146 -> 6634744 | C14: ='Tabl. II (2)'!C146 -> 5958105 | D14: =C14*100/B14 -> 89.801581 | E14: ='Tabl. II (2)'!E146 -> 6104434 | F14: ='Tabl. II (2)'!F146 -> 5974376 | G14: =F14*100/E14 -> 97.86945 | H14: ='Tabl. II (2)'!H146 -> 1389273 | I14: ='Tabl. II (2)'!I146 -> 1243898 | J14: =I14*100/H14 -> 89.535894
A15: SPRAWY RODZINNE | B15: =B17 -> 1048470 | C15: =C17 -> 1043022 | D15: =C15*100/B15 -> 99.480386 | E15: =E17 -> 1002657 | F15: =F17 -> 1023487 | G15: =F15*100/E15 -> 102.07748 | H15: =H17 -> 207184 | I15: =I17 -> 209715 | J15: =I15*100/H15 -> 101.22162
A16: W sądach: - okręgowychd) | B16: ='Wybór sądu'!H217 -> 72352 | C16: ='Wybór sądu'!L217 -> 71480 | D16: =C16*100/B16 -> 98.794781 | E16: ='Wybór sądu'!I217 -> 66608 | F16: ='Wybór sądu'!M217 -> 66111 | G16: =F16*100/E16 -> 99.253843 | H16: ='Wybór sądu'!J217 -> 53333 | I16: ='Wybór sądu'!N217 -> 55038 | J16: =I16*100/H16 -> 103.19689
A17: - rejonowych | B17: ='Tabl. II (2)'!B158 -> 1048470 | C17: ='Tabl. II (2)'!C158 -> 1043022 | D17: =C17*100/B17 -> 99.480386 | E17: ='Tabl. II (2)'!E158 -> 1002657 | F17: ='Tabl. II (2)'!F158 -> 1023487 | G17: =F17*100/E17 -> 102.07748 | H17: ='Tabl. II (2)'!H158 -> 207184 | I17: ='Tabl. II (2)'!I158 -> 209715 | J17: =I17*100/H17 -> 101.22162
A18: SPRAWY Z ZAKRESU PRAWA PRACY | B18: =SUM(B19:B21) -> 90766 | C18: =SUM(C19:C21) -> 98629 | D18: =C18*100/B18 -> 108.66294 | E18: =SUM(E19:E21) -> 87240 | F18: =SUM(F19:F21) -> 92792 | G18: =F18*100/E18 -> 106.36405 | H18: =SUM(H19:H21) -> 46125 | I18: =SUM(I19:I21) -> 49326 | J18: =I18*100/H18 -> 106.93984
A19: W sądach: - apelacyjnych | B19: ='Tabl. II (2)'!B30 -> 840 | C19: ='Tabl. II (2)'!C30 -> 787 | D19: =C19*100/B19 -> 93.690476 | E19: ='Tabl. II (2)'!E30 -> 768 | F19: ='Tabl. II (2)'!F30 -> 725 | G19: =F19*100/E19 -> 94.401042 | H19: ='Tabl. II (2)'!H30 -> 268 | I19: ='Tabl. II (2)'!I30 -> 292 | J19: =I19*100/H19 -> 108.95522
A20: - okręgowych | B20: ='Tabl. II (2)'!B88 -> 12237 | C20: ='Tabl. II (2)'!C88 -> 12761 | D20: =C20*100/B20 -> 104.2821 | E20: ='Tabl. II (2)'!E88 -> 10899 | F20: ='Tabl. II (2)'!F88 -> 11405 | G20: =F20*100/E20 -> 104.64263 | H20: ='Tabl. II (2)'!H88 -> 4783 | I20: ='Tabl. II (2)'!I88 -> 5345 | J20: =I20*100/H20 -> 111.74995
A21: - rejonowychc) | B21: ='Tabl. II (2)'!B180 -> 77689 | C21: ='Tabl. II (2)'!C180 -> 85081 | D21: =C21*100/B21 -> 109.51486 | E21: ='Tabl. II (2)'!E180 -> 75573 | F21: ='Tabl. II (2)'!F180 -> 80662 | G21: =F21*100/E21 -> 106.73389 | H21: ='Tabl. II (2)'!H180 -> 41074 | I21: ='Tabl. II (2)'!I180 -> 43689 | J21: =I21*100/H21 -> 106.36656
A22: SPRAWY Z ZAKRESU UBEZPIECZEŃ SPOŁECZNYCH | B22: =SUM(B23:B25) -> 175985 | C22: =SUM(C23:C25) -> 162659 | D22: =C22*100/B22 -> 92.427764 | E22: =SUM(E23:E25) -> 144412 | F22: =SUM(F23:F25) -> 145865 | G22: =F22*100/E22 -> 101.00615 | H22: =SUM(H23:H25) -> 122354 | I22: =SUM(I23:I25) -> 131530 | J22: =I22*100/H22 -> 107.49955
A23: W sądach: - apelacyjnych | B23: ='Tabl. II (2)'!B37 -> 24830 | C23: ='Tabl. II (2)'!C37 -> 19641 | D23: =C23*100/B23 -> 79.101893 | E23: ='Tabl. II (2)'!E37 -> 17376 | F23: ='Tabl. II (2)'!F37 -> 22130 | G23: =F23*100/E23 -> 127.35958 | H23: ='Tabl. II (2)'!H37 -> 18719 | I23: ='Tabl. II (2)'!I37 -> 16804 | J23: =I23*100/H23 -> 89.769753
A24: - okręgowych | B24: ='Tabl. II (2)'!B100 -> 124911 | C24: ='Tabl. II (2)'!C100 -> 114621 | D24: =C24*100/B24 -> 91.762135 | E24: ='Tabl. II (2)'!E100 -> 105634 | F24: ='Tabl. II (2)'!F100 -> 98975 | G24: =F24*100/E24 -> 93.696158 | H24: ='Tabl. II (2)'!H100 -> 84314 | I24: ='Tabl. II (2)'!I100 -> 91429 | J24: =I24*100/H24 -> 108.43869
A25: - rejonowych | B25: ='Tabl. II (2)'!B186 -> 26244 | C25: ='Tabl. II (2)'!C186 -> 28397 | D25: =C25*100/B25 -> 108.20378 | E25: ='Tabl. II (2)'!E186 -> 21402 | F25: ='Tabl. II (2)'!F186 -> 24760 | G25: =F25*100/E25 -> 115.69012 | H25: ='Tabl. II (2)'!H186 -> 19321 | I25: ='Tabl. II (2)'!I186 -> 23297 | J25: =I25*100/H25 -> 120.57864
A26: SPRAWY GOSPODARCZE | B26: =SUM(B27:B31) -> 1243178 | C26: =SUM(C27:C31) -> 1216843 | D26: =C26*100/B26 -> 97.881639 | E26: =SUM(E27:E31) -> 1156186 | F26: =SUM(F27:F31) -> 1213489 | G26: =F26*100/E26 -> 104.95621 | H26: =SUM(H27:H31) -> 269897 | I26: =SUM(I27:I31) -> 241795 | J26: =I26*100/H26 -> 89.58788
A27: W sądach: - apelacyjnych | B27: ='Tabl. II (2)'!B45 -> 7878 | C27: ='Tabl. II (2)'!C45 -> 11654 | D27: =C27*100/B27 -> 147.93095 | E27: ='Tabl. II (2)'!E45 -> 6615 | F27: ='Tabl. II (2)'!F45 -> 8204 | G27: =F27*100/E27 -> 124.02116 | H27: ='Tabl. II (2)'!H45 -> 2577 | I27: ='Tabl. II (2)'!I45 -> 6347 | J27: =I27*100/H27 -> 246.29414
A28: - okręgowych | B28: ='Tabl. II (2)'!B111 -> 46117 | C28: ='Tabl. II (2)'!C111 -> 45331 | D28: =C28*100/B28 -> 98.295639 | E28: ='Tabl. II (2)'!E111 -> 44414 | F28: ='Tabl. II (2)'!F111 -> 41866 | G28: =F28*100/E28 -> 94.26307 | H28: ='Tabl. II (2)'!H111 -> 19815 | I28: ='Tabl. II (2)'!I111 -> 22544 | J28: =I28*100/H28 -> 113.77239
A29: - rejonowychc) | B29: ='Tabl. II (2)'!B190 -> 1155617 | C29: ='Tabl. II (2)'!C190 -> 1156320 | D29: =C29*100/B29 -> 100.06083 | E29: ='Tabl. II (2)'!E190 -> 1093175 | F29: ='Tabl. II (2)'!F190 -> 1132921 | G29: =F29*100/E29 -> 103.63583 | H29: ='Tabl. II (2)'!H190 -> 215832 | I29: ='Tabl. II (2)'!I190 -> 209019 | J29: =I29*100/H29 -> 96.843378
A30: - w Sądzie Ochrony Konkurencji i Konsumentów | B30: ='Tabl. II (2)'!B124 -> 33459 | C30: ='Tabl. II (2)'!C124 -> 3399 | D30: =C30*100/B30 -> 10.158702 | E30: ='Tabl. II (2)'!E124 -> 11876 | F30: ='Tabl. II (2)'!F124 -> 30379 | G30: =F30*100/E30 -> 255.80162 | H30: ='Tabl. II (2)'!H124 -> 31639 | I30: ='Tabl. II (2)'!I124 -> 3822 | J30: =I30*100/H30 -> 12.080028
A31: - w Sądzie Wspólnotowych Znaków Towarowych i Wzorów Przemysłowych | B31: ='Tabl. II (2)'!B133 -> 107 | C31: ='Tabl. II (2)'!C133 -> 139 | D31: =C31*100/B31 -> 129.90654 | E31: ='Tabl. II (2)'!E133 -> 106 | F31: ='Tabl. II (2)'!F133 -> 119 | G31: =F31*100/E31 -> 112.26415 | H31: ='Tabl. II (2)'!H133 -> 34 | I31: ='Tabl. II (2)'!I133 -> 63 | J31: =I31*100/H31 -> 185.29412
A33: a) W sądach rejonowych łącznie ze sprawami wykroczeniowymi.
A34: b) W liczbie spraw cywilnych zawarte są informacje o sprawach rodzinnych.
A35: c) W liczbie spraw cywilnych, z zakresu prawa pracy oraz gospodarczych w sądach rejonowych zawarte są dane statystyczne o ewidencji spraw z zakresu Elektronicznego Postępowania Upominawczego EPU.
A36: Wyszczególnienie | B36: WPŁYW | E36: ZAŁATWIENIA | H36: POZOSTAŁOŚĆ
B37: III kw. 2013 | C37: IIII kw. 2014 | E37: III kw. 2013 | F37: III kw. 2014 | H37: III kw. 2013 | I37: III kw. 2014
B38: w liczbach bezwzględnych | D38: III kw. 2013 = 100 | E38: w liczbach bezwzględnych | G38: III kw. 2013 = 100 | H38: w liczbach bezwzględnych | J38: III kw. 2013 = 100
A40: ELEKTRONICZNE POSTĘPOWANIE UPOMINAWCZE (EPU) - RAZEM | B40: =SUM(B41:B43) -> 2259202 | C40: =SUM(C41:C43) -> 1418674 | D40: =C40*100/B40 -> 62.795359 | E40: =SUM(E41:E43) -> 1844138 | F40: =SUM(F41:F43) -> 1613355 | G40: =F40*100/E40 -> 87.485589 | H40: =SUM(H41:H43) -> 494872 | I40: =SUM(I41:I43) -> 143084 | J40: =I40*100/H40 -> 28.913335
A41: SPRAWY CYWILNE | B41: ='Wybór sądu'!H159 -> 2014719 | C41: ='Wybór sądu'!L159 -> 1181019 | D41: =C41*100/B41 -> 58.619539 | E41: ='Wybór sądu'!I159 -> 1642391 | F41: ='Wybór sądu'!M159 -> 1349533 | G41: =F41*100/E41 -> 82.168801 | H41: ='Wybór sądu'!J159 -> 445288 | I41: ='Wybór sądu'!N159 -> 123912 | J41: =I41*100/H41 -> 27.827384
A42: SPRAWY Z ZAKRESU PRAWA PRACY | B42: ='Wybór sądu'!H189 -> 245 | C42: ='Wybór sądu'!L189 -> 170 | D42: =C42*100/B42 -> 69.387755 | E42: ='Wybór sądu'!I189 -> 168 | F42: ='Wybór sądu'!M189 -> 221 | G42: =F42*100/E42 -> 131.54762 | H42: ='Wybór sądu'!J189 -> 83 | I42: ='Wybór sądu'!N189 -> 21 | J42: =I42*100/H42 -> 25.301205
...

Sheet Tabl. II (2)
A2: TABL. II. EWIDENCJA SPRAW W SĄDACH POWSZECHNYCH WEDŁUG DZIAŁÓW PRAWA I INSTANCYJNOŚCI
A3: za III kwartały 2013 i III kwartały 2014 roku
A4: RODZAJE SPRAW WEDŁUG KSIĄG EWIDENCYJNYCH | B4: WPŁYW | E4: ZAŁATWIENIA | H4: POZOSTAŁOŚĆ
B5: III kwartały 2013 | C5: III kwartały 2014 | E5: III kwartały 2013 | F5: III kwartały 2014 | H5: III kwartały 2013 | I5: III kwartały 2014
B6: w liczbach bezwzględnych | D6: III kw. 2013 = 100 | E6: w liczbach bezwzględnych | G6: III kw. 2013 = 100 | H6: w liczbach bezwzględnych | J6: III kw. 2013 = 100
A7: OGÓŁEM SPRAW W SĄDACH POWSZECHNYCH | B7: ='Wybór sądu'!H22 -> 11535384 | C7: ='Wybór sądu'!L22 -> 10831130 | D7: =C7*100/B7 -> 93.894837 | E7: ='Wybór sądu'!I22 -> 10717175 | F7: ='Wybór sądu'!M22 -> 10724283 | G7: =F7*100/E7 -> 100.06632 | H7: ='Wybór sądu'!J22 -> 2654142 | I7: ='Wybór sądu'!N22 -> 2536839 | J7: =I7*100/H7 -> 95.58038
A8: W SĄDACH APELACYJNYCH - OGÓŁEM | B8: ='Wybór sądu'!H23 -> 90210 | C8: ='Wybór sądu'!L23 -> 89144 | D8: =C8*100/B8 -> 98.818313 | E8: ='Wybór sądu'!I23 -> 76709 | F8: ='Wybór sądu'!M23 -> 83413 | G8: =F8*100/E8 -> 108.73952 | H8: ='Wybór sądu'!J23 -> 33981 | I8: ='Wybór sądu'!N23 -> 37880 | J8: =I8*100/H8 -> 111.47406
A9: Sprawy karne - razem | B9: ='Wybór sądu'!H24 -> 26014 | C9: ='Wybór sądu'!L24 -> 26026 | D9: =C9*100/B9 -> 100.04613 | E9: ='Wybór sądu'!I24 -> 24796 | F9: ='Wybór sądu'!M24 -> 25046 | G9: =F9*100/E9 -> 101.00823 | H9: ='Wybór sądu'!J24 -> 3641 | I9: ='Wybór sądu'!N24 -> 3526 | J9: =I9*100/H9 -> 96.841527
A10: II instancji - apelacje (A Ka) | B10: ='Wybór sądu'!H25 -> 2846 | C10: ='Wybór sądu'!L25 -> 2955 | D10: =C10*100/B10 -> 103.82994 | E10: ='Wybór sądu'!I25 -> 2487 | F10: ='Wybór sądu'!M25 -> 2481 | G10: =F10*100/E10 -> 99.758745 | H10: ='Wybór sądu'!J25 -> 764 | I10: ='Wybór sądu'!N25 -> 894 | J10: =I10*100/H10 -> 117.01571
A11: w tym: o odszkodowanie (A Ka) | B11: ='Wybór sądu'!H26 -> 291 | C11: ='Wybór sądu'!L26 -> 312 | D11: =C11*100/B11 -> 107.21649 | E11: ='Wybór sądu'!I26 -> 265 | F11: ='Wybór sądu'!M26 -> 59 | G11: =F11*100/E11 -> 22.264151 | H11: ='Wybór sądu'!J26 -> 55 | I11: ='Wybór sądu'!N26 -> 73 | J11: =I11*100/H11 -> 132.72727
A12: w tym: -z ust. z dn. 23.02.1991 r. o uznaniu za nieważne orzeczeń wydanych wobec osób represjonowanych za działalność na rzecz niepodległego bytu Państwa Polskiego (Dz.U. Nr 34, poz. 149) | B12: ='Wybór sądu'!H27 -> 73 | C12: ='Wybór sądu'!L27 -> 69 | D12: =C12*100/B12 -> 94.520548 | E12: ='Wybór sądu'!I27 -> 67 | F12: ='Wybór sądu'!M27 -> 59 | G12: =F12*100/E12 -> 88.059701 | H12: ='Wybór sądu'!J27 -> 13 | I12: ='Wybór sądu'!N27 -> 16 | J12: =I12*100/H12 -> 123.07692
A13: - w trybie a.552 kpk | B13: ='Wybór sądu'!H28 -> 218 | C13: ='Wybór sądu'!L28 -> 243 | D13: =C13*100/B13 -> 111.46789 | E13: ='Wybór sądu'!I28 -> 198 | F13: ='Wybór sądu'!M28 -> 0 | G13: =F13*100/E13 -> 0 | H13: ='Wybór sądu'!J28 -> 42 | I13: ='Wybór sądu'!N28 -> 57 | J13: =I13*100/H13 -> 135.71429
A14: - zażalenia (A Kz) | B14: ='Wybór sądu'!H29 -> 5044 | C14: ='Wybór sądu'!L29 -> 5039 | D14: =C14*100/B14 -> 99.900872 | E14: ='Wybór sądu'!I29 -> 5023 | F14: ='Wybór sądu'!M29 -> 4986 | G14: =F14*100/E14 -> 99.263388 | H14: ='Wybór sądu'!J29 -> 266 | I14: ='Wybór sądu'!N29 -> 271 | J14: =I14*100/H14 -> 101.8797
A15: ogólne (A Ko) | B15: ='Wybór sądu'!H30 -> 1582 | C15: ='Wybór sądu'!L30 -> 1509 | D15: =C15*100/B15 -> 95.385588 | E15: ='Wybór sądu'!I30 -> 1525 | F15: ='Wybór sądu'!M30 -> 1462 | G15: =F15*100/E15 -> 95.868852 | H15: ='Wybór sądu'!J30 -> 282 | I15: ='Wybór sądu'!N30 -> 270 | J15: =I15*100/H15 -> 95.744681
A16: w tym:
A17: sprawy w trybie art.11a pwkpk | B17: ='Wybór sądu'!H32 -> 1 | C17: ='Wybór sądu'!L32 -> 0 | D17: X | E17: ='Wybór sądu'!I32 -> 1 | F17: ='Wybór sądu'!M32 -> 1 | G17: X | H17: ='Wybór sądu'!J32 -> 0 | I17: ='Wybór sądu'!N32 -> 0 | J17: X
A18: nadzór sądowy nad postępowaniem przygotowawczym (A Kp) | B18: ='Wybór sądu'!H33 -> 376 | C18: ='Wybór sądu'!L33 -> 380 | D18: =C18*100/B18 -> 101.06383 | E18: ='Wybór sądu'!I33 -> 369 | F18: ='Wybór sądu'!M33 -> 379 | G18: =F18*100/E18 -> 102.71003 | H18: ='Wybór sądu'!J33 -> 18 | I18: ='Wybór sądu'!N33 -> 8 | J18: =I18*100/H18 -> 44.444444
A19: zażalenia na postanowienia w postępowaniu wykonawczym (A Kzw) | B19: ='Wybór sądu'!H34 -> 15301 | C19: ='Wybór sądu'!L34 -> 15326 | D19: =C19*100/B19 -> 100.16339 | E19: ='Wybór sądu'!I34 -> 14518 | F19: ='Wybór sądu'!M34 -> 14917 | G19: =F19*100/E19 -> 102.74831 | H19: ='Wybór sądu'!J34 -> 2154 | I19: ='Wybór sądu'!N34 -> 1939 | J19: =I19*100/H19 -> 90.01857
A20: kasacje (WKK) | B20: ='Wybór sądu'!H35 -> 446 | C20: ='Wybór sądu'!L35 -> 451 | D20: =C20*100/B20 -> 101.12108 | E20: ='Wybór sądu'!I35 -> 462 | F20: ='Wybór sądu'!M35 -> 452 | G20: =F20*100/E20 -> 97.835498 | H20: ='Wybór sądu'!J35 -> 109 | I20: ='Wybór sądu'!N35 -> 111 | J20: =I20*100/H20 -> 101.83486
A21: skargi na postępowanie sądowe i prokuratorskie (S) | B21: ='Wybór sądu'!H36 -> 419 | C21: ='Wybór sądu'!L36 -> 366 | D21: =C21*100/B21 -> 87.350835 | E21: ='Wybór sądu'!I36 -> 412 | F21: ='Wybór sądu'!M36 -> 369 | G21: =F21*100/E21 -> 89.563107 | H21: ='Wybór sądu'!J36 -> 48 | I21: ='Wybór sądu'!N36 -> 33 | J21: =I21*100/H21 -> 68.75
A22: W SĄDACH APELACYJNYCH (c.d.)
A23: Sprawy cywilne - razem | B23: ='Wybór sądu'!H37 -> 30648 | C23: ='Wybór sądu'!L37 -> 31036 | D23: =C23*100/B23 -> 101.26599 | E23: ='Wybór sądu'!I37 -> 27154 | F23: ='Wybór sądu'!M37 -> 27308 | G23: =F23*100/E23 -> 100.56714 | H23: ='Wybór sądu'!J37 -> 8776 | I23: ='Wybór sądu'!N37 -> 10911 | J23: =I23*100/H23 -> 124.32771
A24: II instancji - apelacje (A Ca)a) | B24: ='Wybór sądu'!H38 -> 11236 | C24: ='Wybór sądu'!L38 -> 12247 | D24: =C24*100/B24 -> 108.99786 | E24: ='Wybór sądu'!I38 -> 9089 | F24: ='Wybór sądu'!M38 -> 9664 | G24: =F24*100/E24 -> 106.32633 | H24: ='Wybór sądu'!J38 -> 5914 | I24: ='Wybór sądu'!N38 -> 7656 | J24: =I24*100/H24 -> 129.45553
A25: - zażalenia (A Cz)a) | B25: ='Wybór sądu'!H39 -> 15653 | C25: ='Wybór sądu'!L39 -> 14589 | D25: =C25*100/B25 -> 93.202581 | E25: ='Wybór sądu'!I39 -> 14540 | F25: ='Wybór sądu'!M39 -> 13566 | G25: =F25*100/E25 -> 93.301238 | H25: ='Wybór sądu'!J39 -> 2293 | I25: ='Wybór sądu'!N39 -> 2599 | J25: =I25*100/H25 -> 113.34496
A26: ogólne (A Co) | B26: ='Wybór sądu'!H40 -> 507 | C26: ='Wybór sądu'!L40 -> 582 | D26: =C26*100/B26 -> 114.7929 | E26: ='Wybór sądu'!I40 -> 474 | F26: ='Wybór sądu'!M40 -> 578 | G26: =F26*100/E26 -> 121.94093 | H26: ='Wybór sądu'!J40 -> 68 | I26: ='Wybór sądu'!N40 -> 74 | J26: =I26*100/H26 -> 108.82353
A27: skarga kasacyjna (WSC) | B27: ='Wybór sądu'!H41 -> 1328 | C27: ='Wybór sądu'!L41 -> 1419 | D27: =C27*100/B27 -> 106.85241 | E27: ='Wybór sądu'!I41 -> 1236 | F27: ='Wybór sądu'!M41 -> 1357 | G27: =F27*100/E27 -> 109.78964 | H27: ='Wybór sądu'!J41 -> 274 | I27: ='Wybór sądu'!N41 -> 301 | J27: =I27*100/H27 -> 109.85401
A28: skarga o stwierdzenie niezgodności z prawem (WSC)b) | B28: ='Wybór sądu'!H42 -> 24 | C28: ='Wybór sądu'!L42 -> 22 | D28: =C28*100/B28 -> 91.666667 | E28: ='Wybór sądu'!I42 -> 28 | F28: ='Wybór sądu'!M42 -> 20 | G28: =F28*100/E28 -> 71.428571 | H28: ='Wybór sądu'!J42 -> 5 | I28: ='Wybór sądu'!N42 -> 8 | J28: =I28*100/H28 -> 160
A29: skargi na postępowanie sądowe (S) | B29: ='Wybór sądu'!H43 -> 1900 | C29: ='Wybór sądu'!L43 -> 2177 | D29: =C29*100/B29 -> 114.57895 | E29: ='Wybór sądu'!I43 -> 1787 | F29: ='Wybór sądu'!M43 -> 2123 | G29: =F29*100/E29 -> 118.80246 | H29: ='Wybór sądu'!J43 -> 222 | I29: ='Wybór sądu'!N43 -> 273 | J29: =I29*100/H29 -> 122.97297
A30: Sprawy z zakresu prawa pracy - razem | B30: ='Wybór sądu'!H44 -> 840 | C30: ='Wybór sądu'!L44 -> 787 | D30: =C30*100/B30 -> 93.690476 | E30: ='Wybór sądu'!I44 -> 768 | F30: ='Wybór sądu'!M44 -> 725 | G30: =F30*100/E30 -> 94.401042 | H30: ='Wybór sądu'!J44 -> 268 | I30: ='Wybór sądu'!N44 -> 292 | J30: =I30*100/H30 -> 108.95522
A31: II instancji - apelacje (A Pa) | B31: ='Wybór sądu'!H45 -> 324 | C31: ='Wybór sądu'!L45 -> 323 | D31: =C31*100/B31 -> 99.691358 | E31: ='Wybór sądu'!I45 -> 292 | F31: ='Wybór sądu'!M45 -> 254 | G31: =F31*100/E31 -> 86.986301 | H31: ='Wybór sądu'!J45 -> 169 | I31: ='Wybór sądu'!N45 -> 210 | J31: =I31*100/H31 -> 124.26036
A32: - zażalenia (A Pz) | B32: ='Wybór sądu'!H46 -> 314 | C32: ='Wybór sądu'!L46 -> 264 | D32: =C32*100/B32 -> 84.076433 | E32: ='Wybór sądu'!I46 -> 291 | F32: ='Wybór sądu'!M46 -> 267 | G32: =F32*100/E32 -> 91.752577 | H32: ='Wybór sądu'!J46 -> 51 | I32: ='Wybór sądu'!N46 -> 42 | J32: =I32*100/H32 -> 82.352941
A33: - ogólne (A Po) | B33: ='Wybór sądu'!H47 -> 91 | C33: ='Wybór sądu'!L47 -> 82 | D33: =C33*100/B33 -> 90.10989 | E33: ='Wybór sądu'!I47 -> 90 | F33: ='Wybór sądu'!M47 -> 82 | G33: =F33*100/E33 -> 91.111111 | H33: ='Wybór sądu'!J47 -> 19 | I33: ='Wybór sądu'!N47 -> 18 | J33: =I33*100/H33 -> 94.736842
A34: skarga kasacyjna (WSC-pracy) | B34: ='Wybór sądu'!H48 -> 66 | C34: ='Wybór sądu'!L48 -> 69 | D34: =C34*100/B34 -> 104.54545 | E34: ='Wybór sądu'!I48 -> 53 | F34: ='Wybór sądu'!M48 -> 74 | G34: =F34*100/E34 -> 139.62264 | H34: ='Wybór sądu'!J48 -> 20 | I34: ='Wybór sądu'!N48 -> 17 | J34: =I34*100/H34 -> 85
A35: skarga o stwierdzenie niezgodności z prawem (WSC-pracy) | B35: ='Wybór sądu'!H49 -> 0 | C35: ='Wybór sądu'!L49 -> 0 | D35: X | E35: ='Wybór sądu'!I49 -> 0 | F35: ='Wybór sądu'!M49 -> 0 | G35: X | H35: ='Wybór sądu'!J49 -> 0 | I35: ='Wybór sądu'!N49 -> 0 | J35: X
A36: skargi na postępowanie sądowe (S) | B36: ='Wybór sądu'!H50 -> 45 | C36: ='Wybór sądu'!L50 -> 49 | D36: =C36*100/B36 -> 108.88889 | E36: ='Wybór sądu'!I50 -> 42 | F36: ='Wybór sądu'!M50 -> 48 | G36: =F36*100/E36 -> 114.28571 | H36: ='Wybór sądu'!J50 -> 9 | I36: ='Wybór sądu'!N50 -> 5 | J36: =I36*100/H36 -> 55.555556
A37: Sprawy z zakresu ubezpieczeń społecznych - razem | B37: ='Wybór sądu'!H51 -> 24830 | C37: ='Wybór sądu'!L51 -> 19641 | D37: =C37*100/B37 -> 79.101893 | E37: ='Wybór sądu'!I51 -> 17376 | F37: ='Wybór sądu'!M51 -> 22130 | G37: =F37*100/E37 -> 127.35958 | H37: ='Wybór sądu'!J51 -> 18719 | I37: ='Wybór sądu'!N51 -> 16804 | J37: =I37*100/H37 -> 89.769753
A38: II instancji - apelacje (A Ua) | B38: ='Wybór sądu'!H52 -> 20484 | C38: ='Wybór sądu'!L52 -> 16160 | D38: =C38*100/B38 -> 78.890842 | E38: ='Wybór sądu'!I52 -> 13088 | F38: ='Wybór sądu'!M52 -> 18840 | G38: =F38*100/E38 -> 143.94866 | H38: ='Wybór sądu'!J52 -> 18221 | I38: ='Wybór sądu'!N52 -> 16183 | J38: =I38*100/H38 -> 88.815103
A39: - zażalenia (A Uz) | B39: ='Wybór sądu'!H53 -> 2985 | C39: ='Wybór sądu'!L53 -> 2261 | D39: =C39*100/B39 -> 75.745394 | E39: ='Wybór sądu'!I53 -> 2923 | F39: ='Wybór sądu'!M53 -> 2076 | G39: =F39*100/E39 -> 71.022922 | H39: ='Wybór sądu'!J53 -> 301 | I39: ='Wybór sądu'!N53 -> 422 | J39: =I39*100/H39 -> 140.19934
A40: ogólne (A Uo) | B40: ='Wybór sądu'!H54 -> 31 | C40: ='Wybór sądu'!L54 -> 21 | D40: =C40*100/B40 -> 67.741935 | E40: ='Wybór sądu'!I54 -> 27 | F40: ='Wybór sądu'!M54 -> 21 | G40: =F40*100/E40 -> 77.777778 | H40: ='Wybór sądu'!J54 -> 7 | I40: ='Wybór sądu'!N54 -> 2 | J40: =I40*100/H40 -> 28.571429
A41: skarga kasacyjna (WSC-ubezp.) | B41: ='Wybór sądu'!H55 -> 1175 | C41: ='Wybór sądu'!L55 -> 1071 | D41: =C41*100/B41 -> 91.148936 | E41: ='Wybór sądu'!I55 -> 1173 | F41: ='Wybór sądu'!M55 -> 1063 | G41: =F41*100/E41 -> 90.622336 | H41: ='Wybór sądu'!J55 -> 169 | I41: ='Wybór sądu'!N55 -> 184 | J41: =I41*100/H41 -> 108.87574
...

Sheet Tabl. III (2)
A2: TABL. III. WSKAŹNIKI DOTYCZĄCE SPRAW W SĄDACH POWSZECHNYCH WEDŁUG DZIAŁÓW PRAWA I INSTANCYJNOŚCI
A3: za III kwartały 2013 i III kwartały 2014 roku
A4: RODZAJE SPRAW WEDŁUG KSIĄG EWIDENCYJNYCH | B4: WSKAŹNIK OPANOWANIA WPŁYWU | E4: WSKAŹNIK CZASU TRWANIA POSTĘPOWANIA (według metodologii CEPEJ) (w dniach) | H4: WSKAŹNIK POZOSTAŁOŚCI (w miesiącach)
B5: III kwartały 2013 | C5: III kwartały 2014 | E5: III kwartały 2013 | F5: III kwartały 2014 | H5: III kwartały 2013 | I5: III kwartały 2014
B6: w liczbach bezwzględnych | D6: III kw. 2013 = 100 | E6: w liczbach bezwzględnych | G6: III kw. 2013 = 100 | H6: w liczbach bezwzględnych | J6: III kw. 2013 = 100
A7: OGÓŁEM SPRAW W SĄDACH POWSZECHNYCH | B7: =IF('Tabl. II (2)'!B7>0,'Tabl. II (2)'!E7/'Tabl. II (2)'!B7*100,"X") -> 92.906963 | C7: =IF('Tabl. II (2)'!C7>0,'Tabl. II (2)'!F7/'Tabl. II (2)'!C7*100,"X") -> 99.013519 | D7: =C7*100/B7 -> 106.57276 | E7: =IF('Tabl. II (2)'!E7>0,'Tabl. II (2)'!H7/('Tabl. II (2)'!E7/273.8),"X") -> 67.807429 | F7: =IF('Tabl. II (2)'!F7>0,'Tabl. II (2)'!I7/('Tabl. II (2)'!F7/273.8),"X") -> 64.767642 | G7: =F7*100/E7 -> 95.517029 | H7: =IF('Tabl. II (2)'!B7>0,'Tabl. II (2)'!H7*9/'Tabl. II (2)'!B7,"X") -> 2.0707831 | I7: =IF('Tabl. II (2)'!C7>0,'Tabl. II (2)'!I7*9/'Tabl. II (2)'!C7,"X") -> 2.1079565 | J7: =I7*100/H7 -> 101.79514
A8: W SĄDACH APELACYJNYCH - OGÓŁEM | B8: =IF('Tabl. II (2)'!B8>0,'Tabl. II (2)'!E8/'Tabl. II (2)'!B8*100,"X") -> 85.03381 | C8: =IF('Tabl. II (2)'!C8>0,'Tabl. II (2)'!F8/'Tabl. II (2)'!C8*100,"X") -> 93.571076 | D8: =C8*100/B8 -> 110.03985 | E8: =IF('Tabl. II (2)'!E8>0,'Tabl. II (2)'!H8/('Tabl. II (2)'!E8/273.8),"X") -> 121.28952 | F8: =IF('Tabl. II (2)'!F8>0,'Tabl. II (2)'!I8/('Tabl. II (2)'!F8/273.8),"X") -> 124.33966 | G8: =F8*100/E8 -> 102.51476 | H8: =IF('Tabl. II (2)'!B8>0,'Tabl. II (2)'!H8*9/'Tabl. II (2)'!B8,"X") -> 3.3901896 | I8: =IF('Tabl. II (2)'!C8>0,'Tabl. II (2)'!I8*9/'Tabl. II (2)'!C8,"X") -> 3.824374 | J8: =I8*100/H8 -> 112.80709
A9: Sprawy karne - razem | B9: =IF('Tabl. II (2)'!B9>0,'Tabl. II (2)'!E9/'Tabl. II (2)'!B9*100,"X") -> 95.317906 | C9: =IF('Tabl. II (2)'!C9>0,'Tabl. II (2)'!F9/'Tabl. II (2)'!C9*100,"X") -> 96.234535 | D9: =C9*100/B9 -> 100.96165 | E9: =IF('Tabl. II (2)'!E9>0,'Tabl. II (2)'!H9/('Tabl. II (2)'!E9/273.8),"X") -> 40.204299 | F9: =IF('Tabl. II (2)'!F9>0,'Tabl. II (2)'!I9/('Tabl. II (2)'!F9/273.8),"X") -> 38.545828 | G9: =F9*100/E9 -> 95.87489 | H9: =IF('Tabl. II (2)'!B9>0,'Tabl. II (2)'!H9*9/'Tabl. II (2)'!B9,"X") -> 1.2596679 | I9: =IF('Tabl. II (2)'!C9>0,'Tabl. II (2)'!I9*9/'Tabl. II (2)'!C9,"X") -> 1.2193191 | J9: =I9*100/H9 -> 96.796876
A10: II instancji - apelacje (A Ka) | B10: =IF('Tabl. II (2)'!B10>0,'Tabl. II (2)'!E10/'Tabl. II (2)'!B10*100,"X") -> 87.385805 | C10: =IF('Tabl. II (2)'!C10>0,'Tabl. II (2)'!F10/'Tabl. II (2)'!C10*100,"X") -> 83.959391 | D10: =C10*100/B10 -> 96.078981 | E10: =IF('Tabl. II (2)'!E10>0,'Tabl. II (2)'!H10/('Tabl. II (2)'!E10/273.8),"X") -> 84.110655 | F10: =IF('Tabl. II (2)'!F10>0,'Tabl. II (2)'!I10/('Tabl. II (2)'!F10/273.8),"X") -> 98.660701 | G10: =F10*100/E10 -> 117.2987 | H10: =IF('Tabl. II (2)'!B10>0,'Tabl. II (2)'!H10*9/'Tabl. II (2)'!B10,"X") -> 2.4160225 | I10: =IF('Tabl. II (2)'!C10>0,'Tabl. II (2)'!I10*9/'Tabl. II (2)'!C10,"X") -> 2.7228426 | J10: =I10*100/H10 -> 112.69939
A11: w tym: o odszkodowanie (A Ka) | B11: =IF('Tabl. II (2)'!B11>0,'Tabl. II (2)'!E11/'Tabl. II (2)'!B11*100,"X") -> 91.065292 | C11: =IF('Tabl. II (2)'!C11>0,'Tabl. II (2)'!F11/'Tabl. II (2)'!C11*100,"X") -> 18.910256 | D11: =C11*100/B11 -> 20.765602 | E11: =IF('Tabl. II (2)'!E11>0,'Tabl. II (2)'!H11/('Tabl. II (2)'!E11/273.8),"X") -> 56.826415 | F11: =IF('Tabl. II (2)'!F11>0,'Tabl. II (2)'!I11/('Tabl. II (2)'!F11/273.8),"X") -> 338.76949 | G11: =F11*100/E11 -> 596.14792 | H11: =IF('Tabl. II (2)'!B11>0,'Tabl. II (2)'!H11*9/'Tabl. II (2)'!B11,"X") -> 1.7010309 | I11: =IF('Tabl. II (2)'!C11>0,'Tabl. II (2)'!I11*9/'Tabl. II (2)'!C11,"X") -> 2.1057692 | J11: =I11*100/H11 -> 123.79371
A12: w tym: -z ust. z dn. 23.02.1991 r. o uznaniu za nieważne orzeczeń wydanych wobec osób represjonowanych za działalność na rzecz niepodległego bytu Państwa Polskiego (Dz.U. Nr 34, poz. 149) | B12: =IF('Tabl. II (2)'!B12>0,'Tabl. II (2)'!E12/'Tabl. II (2)'!B12*100,"X") -> 91.780822 | C12: =IF('Tabl. II (2)'!C12>0,'Tabl. II (2)'!F12/'Tabl. II (2)'!C12*100,"X") -> 85.507246 | D12: =C12*100/B12 -> 93.164612 | E12: =IF('Tabl. II (2)'!E12>0,'Tabl. II (2)'!H12/('Tabl. II (2)'!E12/273.8),"X") -> 53.125373 | F12: =IF('Tabl. II (2)'!F12>0,'Tabl. II (2)'!I12/('Tabl. II (2)'!F12/273.8),"X") -> 74.250847 | G12: =F12*100/E12 -> 139.76532 | H12: =IF('Tabl. II (2)'!B12>0,'Tabl. II (2)'!H12*9/'Tabl. II (2)'!B12,"X") -> 1.6027397 | I12: =IF('Tabl. II (2)'!C12>0,'Tabl. II (2)'!I12*9/'Tabl. II (2)'!C12,"X") -> 2.0869565 | J12: =I12*100/H12 -> 130.21182
A13: - w trybie a.552 kpk | B13: =IF('Tabl. II (2)'!B13>0,'Tabl. II (2)'!E13/'Tabl. II (2)'!B13*100,"X") -> 90.825688 | C13: =IF('Tabl. II (2)'!C13>0,'Tabl. II (2)'!F13/'Tabl. II (2)'!C13*100,"X") -> 0 | D13: =C13*100/B13 -> 0 | E13: =IF('Tabl. II (2)'!E13>0,'Tabl. II (2)'!H13/('Tabl. II (2)'!E13/273.8),"X") -> 58.078788 | F13: =IF('Tabl. II (2)'!F13>0,'Tabl. II (2)'!I13/('Tabl. II (2)'!F13/273.8),"X") -> X | G13: X | H13: =IF('Tabl. II (2)'!B13>0,'Tabl. II (2)'!H13*9/'Tabl. II (2)'!B13,"X") -> 1.733945 | I13: =IF('Tabl. II (2)'!C13>0,'Tabl. II (2)'!I13*9/'Tabl. II (2)'!C13,"X") -> 2.1111111 | J13: =I13*100/H13 -> 121.75191
A14: - zażalenia (A Kz) | B14: =IF('Tabl. II (2)'!B14>0,'Tabl. II (2)'!E14/'Tabl. II (2)'!B14*100,"X") -> 99.583664 | C14: =IF('Tabl. II (2)'!C14>0,'Tabl. II (2)'!F14/'Tabl. II (2)'!C14*100,"X") -> 98.948204 | D14: =C14*100/B14 -> 99.361884 | E14: =IF('Tabl. II (2)'!E14>0,'Tabl. II (2)'!H14/('Tabl. II (2)'!E14/273.8),"X") -> 14.499462 | F14: =IF('Tabl. II (2)'!F14>0,'Tabl. II (2)'!I14/('Tabl. II (2)'!F14/273.8),"X") -> 14.881629 | G14: =F14*100/E14 -> 102.63573 | H14: =IF('Tabl. II (2)'!B14>0,'Tabl. II (2)'!H14*9/'Tabl. II (2)'!B14,"X") -> 0.47462331 | I14: =IF('Tabl. II (2)'!C14>0,'Tabl. II (2)'!I14*9/'Tabl. II (2)'!C14,"X") -> 0.48402461 | J14: =I14*100/H14 -> 101.98079
A15: ogólne (A Ko) | B15: =IF('Tabl. II (2)'!B15>0,'Tabl. II (2)'!E15/'Tabl. II (2)'!B15*100,"X") -> 96.396966 | C15: =IF('Tabl. II (2)'!C15>0,'Tabl. II (2)'!F15/'Tabl. II (2)'!C15*100,"X") -> 96.885355 | D15: =C15*100/B15 -> 100.50664 | E15: =IF('Tabl. II (2)'!E15>0,'Tabl. II (2)'!H15/('Tabl. II (2)'!E15/273.8),"X") -> 50.630557 | F15: =IF('Tabl. II (2)'!F15>0,'Tabl. II (2)'!I15/('Tabl. II (2)'!F15/273.8),"X") -> 50.564979 | G15: =F15*100/E15 -> 99.870478 | H15: =IF('Tabl. II (2)'!B15>0,'Tabl. II (2)'!H15*9/'Tabl. II (2)'!B15,"X") -> 1.6042984 | I15: =IF('Tabl. II (2)'!C15>0,'Tabl. II (2)'!I15*9/'Tabl. II (2)'!C15,"X") -> 1.610338 | J15: =I15*100/H15 -> 100.37646
A16: w tym:
A17: sprawy w trybie art.11a pwkpk | B17: =IF('Tabl. II (2)'!B17>0,'Tabl. II (2)'!E17/'Tabl. II (2)'!B17*100,"X") -> 100 | C17: =IF('Tabl. II (2)'!C17>0,'Tabl. II (2)'!F17/'Tabl. II (2)'!C17*100,"X") -> X | D17: X | E17: =IF('Tabl. II (2)'!E17>0,'Tabl. II (2)'!H17/('Tabl. II (2)'!E17/273.8),"X") -> 0 | F17: =IF('Tabl. II (2)'!F17>0,'Tabl. II (2)'!I17/('Tabl. II (2)'!F17/273.8),"X") -> 0 | G17: X | H17: =IF('Tabl. II (2)'!B17>0,'Tabl. II (2)'!H17*9/'Tabl. II (2)'!B17,"X") -> 0 | I17: =IF('Tabl. II (2)'!C17>0,'Tabl. II (2)'!I17*9/'Tabl. II (2)'!C17,"X") -> X | J17: X
A18: nadzór sądowy nad postępowaniem przygotowawczym (A Kp) | B18: =IF('Tabl. II (2)'!B18>0,'Tabl. II (2)'!E18/'Tabl. II (2)'!B18*100,"X") -> 98.138298 | C18: =IF('Tabl. II (2)'!C18>0,'Tabl. II (2)'!F18/'Tabl. II (2)'!C18*100,"X") -> 99.736842 | D18: =C18*100/B18 -> 101.62887 | E18: =IF('Tabl. II (2)'!E18>0,'Tabl. II (2)'!H18/('Tabl. II (2)'!E18/273.8),"X") -> 13.356098 | F18: =IF('Tabl. II (2)'!F18>0,'Tabl. II (2)'!I18/('Tabl. II (2)'!F18/273.8),"X") -> 5.7794195 | G18: =F18*100/E18 -> 43.271768 | H18: =IF('Tabl. II (2)'!B18>0,'Tabl. II (2)'!H18*9/'Tabl. II (2)'!B18,"X") -> 0.43085106 | I18: =IF('Tabl. II (2)'!C18>0,'Tabl. II (2)'!I18*9/'Tabl. II (2)'!C18,"X") -> 0.18947368 | J18: =I18*100/H18 -> 43.976608
A19: zażalenia na postanowienia w postępowaniu wykonawczym (A Kzw) | B19: =IF('Tabl. II (2)'!B19>0,'Tabl. II (2)'!E19/'Tabl. II (2)'!B19*100,"X") -> 94.882687 | C19: =IF('Tabl. II (2)'!C19>0,'Tabl. II (2)'!F19/'Tabl. II (2)'!C19*100,"X") -> 97.331332 | D19: =C19*100/B19 -> 102.58071 | E19: =IF('Tabl. II (2)'!E19>0,'Tabl. II (2)'!H19/('Tabl. II (2)'!E19/273.8),"X") -> 40.623033 | F19: =IF('Tabl. II (2)'!F19>0,'Tabl. II (2)'!I19/('Tabl. II (2)'!F19/273.8),"X") -> 35.590145 | G19: =F19*100/E19 -> 87.610753 | H19: =IF('Tabl. II (2)'!B19>0,'Tabl. II (2)'!H19*9/'Tabl. II (2)'!B19,"X") -> 1.266976 | I19: =IF('Tabl. II (2)'!C19>0,'Tabl. II (2)'!I19*9/'Tabl. II (2)'!C19,"X") -> 1.1386533 | J19: =I19*100/H19 -> 89.87173
A20: kasacje (WKK) | B20: =IF('Tabl. II (2)'!B20>0,'Tabl. II (2)'!E20/'Tabl. II (2)'!B20*100,"X") -> 103.58744 | C20: =IF('Tabl. II (2)'!C20>0,'Tabl. II (2)'!F20/'Tabl. II (2)'!C20*100,"X") -> 100.22173 | D20: =C20*100/B20 -> 96.750847 | E20: =IF('Tabl. II (2)'!E20>0,'Tabl. II (2)'!H20/('Tabl. II (2)'!E20/273.8),"X") -> 64.597835 | F20: =IF('Tabl. II (2)'!F20>0,'Tabl. II (2)'!I20/('Tabl. II (2)'!F20/273.8),"X") -> 67.238496 | G20: =F20*100/E20 -> 104.08785 | H20: =IF('Tabl. II (2)'!B20>0,'Tabl. II (2)'!H20*9/'Tabl. II (2)'!B20,"X") -> 2.1995516 | I20: =IF('Tabl. II (2)'!C20>0,'Tabl. II (2)'!I20*9/'Tabl. II (2)'!C20,"X") -> 2.2150776 | J20: =I20*100/H20 -> 100.70587
A21: skargi na postępowanie sądowe i prokuratorskie (S) | B21: =IF('Tabl. II (2)'!B21>0,'Tabl. II (2)'!E21/'Tabl. II (2)'!B21*100,"X") -> 98.329356 | C21: =IF('Tabl. II (2)'!C21>0,'Tabl. II (2)'!F21/'Tabl. II (2)'!C21*100,"X") -> 100.81967 | D21: =C21*100/B21 -> 102.53263 | E21: =IF('Tabl. II (2)'!E21>0,'Tabl. II (2)'!H21/('Tabl. II (2)'!E21/273.8),"X") -> 31.899029 | F21: =IF('Tabl. II (2)'!F21>0,'Tabl. II (2)'!I21/('Tabl. II (2)'!F21/273.8),"X") -> 24.486179 | G21: =F21*100/E21 -> 76.761518 | H21: =IF('Tabl. II (2)'!B21>0,'Tabl. II (2)'!H21*9/'Tabl. II (2)'!B21,"X") -> 1.0310263 | I21: =IF('Tabl. II (2)'!C21>0,'Tabl. II (2)'!I21*9/'Tabl. II (2)'!C21,"X") -> 0.81147541 | J21: =I21*100/H21 -> 78.705601
A22: W SĄDACH APELACYJNYCH (c.d.)
A23: Sprawy cywilne - razem | B23: =IF('Tabl. II (2)'!B23>0,'Tabl. II (2)'!E23/'Tabl. II (2)'!B23*100,"X") -> 88.599582 | C23: =IF('Tabl. II (2)'!C23>0,'Tabl. II (2)'!F23/'Tabl. II (2)'!C23*100,"X") -> 87.988143 | D23: =C23*100/B23 -> 99.309884 | E23: =IF('Tabl. II (2)'!E23>0,'Tabl. II (2)'!H23/('Tabl. II (2)'!E23/273.8),"X") -> 88.490418 | F23: =IF('Tabl. II (2)'!F23>0,'Tabl. II (2)'!I23/('Tabl. II (2)'!F23/273.8),"X") -> 109.39768 | G23: =F23*100/E23 -> 123.62658 | H23: =IF('Tabl. II (2)'!B23>0,'Tabl. II (2)'!H23*9/'Tabl. II (2)'!B23,"X") -> 2.5771339 | I23: =IF('Tabl. II (2)'!C23>0,'Tabl. II (2)'!I23*9/'Tabl. II (2)'!C23,"X") -> 3.1640353 | J23: =I23*100/H23 -> 122.77342
A24: II instancji - apelacje (A Ca)a) | B24: =IF('Tabl. II (2)'!B24>0,'Tabl. II (2)'!E24/'Tabl. II (2)'!B24*100,"X") -> 80.891776 | C24: =IF('Tabl. II (2)'!C24>0,'Tabl. II (2)'!F24/'Tabl. II (2)'!C24*100,"X") -> 78.909121 | D24: =C24*100/B24 -> 97.549002 | E24: =IF('Tabl. II (2)'!E24>0,'Tabl. II (2)'!H24/('Tabl. II (2)'!E24/273.8),"X") -> 178.15526 | F24: =IF('Tabl. II (2)'!F24>0,'Tabl. II (2)'!I24/('Tabl. II (2)'!F24/273.8),"X") -> 216.90944 | G24: =F24*100/E24 -> 121.75303 | H24: =IF('Tabl. II (2)'!B24>0,'Tabl. II (2)'!H24*9/'Tabl. II (2)'!B24,"X") -> 4.7370951 | I24: =IF('Tabl. II (2)'!C24>0,'Tabl. II (2)'!I24*9/'Tabl. II (2)'!C24,"X") -> 5.6261942 | J24: =I24*100/H24 -> 118.76887
A25: - zażalenia (A Cz)a) | B25: =IF('Tabl. II (2)'!B25>0,'Tabl. II (2)'!E25/'Tabl. II (2)'!B25*100,"X") -> 92.889542 | C25: =IF('Tabl. II (2)'!C25>0,'Tabl. II (2)'!F25/'Tabl. II (2)'!C25*100,"X") -> 92.987868 | D25: =C25*100/B25 -> 100.10585 | E25: =IF('Tabl. II (2)'!E25>0,'Tabl. II (2)'!H25/('Tabl. II (2)'!E25/273.8),"X") -> 43.179051 | F25: =IF('Tabl. II (2)'!F25>0,'Tabl. II (2)'!I25/('Tabl. II (2)'!F25/273.8),"X") -> 52.455123 | G25: =F25*100/E25 -> 121.48281 | H25: =IF('Tabl. II (2)'!B25>0,'Tabl. II (2)'!H25*9/'Tabl. II (2)'!B25,"X") -> 1.3184054 | I25: =IF('Tabl. II (2)'!C25>0,'Tabl. II (2)'!I25*9/'Tabl. II (2)'!C25,"X") -> 1.6033313 | J25: =I25*100/H25 -> 121.6114
A26: ogólne (A Co) | B26: =IF('Tabl. II (2)'!B26>0,'Tabl. II (2)'!E26/'Tabl. II (2)'!B26*100,"X") -> 93.491124 | C26: =IF('Tabl. II (2)'!C26>0,'Tabl. II (2)'!F26/'Tabl. II (2)'!C26*100,"X") -> 99.312715 | D26: =C26*100/B26 -> 106.22689 | E26: =IF('Tabl. II (2)'!E26>0,'Tabl. II (2)'!H26/('Tabl. II (2)'!E26/273.8),"X") -> 39.279325 | F26: =IF('Tabl. II (2)'!F26>0,'Tabl. II (2)'!I26/('Tabl. II (2)'!F26/273.8),"X") -> 35.053979 | G26: =F26*100/E26 -> 89.242825 | H26: =IF('Tabl. II (2)'!B26>0,'Tabl. II (2)'!H26*9/'Tabl. II (2)'!B26,"X") -> 1.2071006 | I26: =IF('Tabl. II (2)'!C26>0,'Tabl. II (2)'!I26*9/'Tabl. II (2)'!C26,"X") -> 1.1443299 | J26: =I26*100/H26 -> 94.799879
A27: skarga kasacyjna (WSC) | B27: =IF('Tabl. II (2)'!B27>0,'Tabl. II (2)'!E27/'Tabl. II (2)'!B27*100,"X") -> 93.072289 | C27: =IF('Tabl. II (2)'!C27>0,'Tabl. II (2)'!F27/'Tabl. II (2)'!C27*100,"X") -> 95.630726 | D27: =C27*100/B27 -> 102.74887 | E27: =IF('Tabl. II (2)'!E27>0,'Tabl. II (2)'!H27/('Tabl. II (2)'!E27/273.8),"X") -> 60.696764 | F27: =IF('Tabl. II (2)'!F27>0,'Tabl. II (2)'!I27/('Tabl. II (2)'!F27/273.8),"X") -> 60.732351 | G27: =F27*100/E27 -> 100.05863 | H27: =IF('Tabl. II (2)'!B27>0,'Tabl. II (2)'!H27*9/'Tabl. II (2)'!B27,"X") -> 1.8569277 | I27: =IF('Tabl. II (2)'!C27>0,'Tabl. II (2)'!I27*9/'Tabl. II (2)'!C27,"X") -> 1.9090909 | J27: =I27*100/H27 -> 102.80911
A28: skarga o stwierdzenie niezgodności z prawem (WSC)b) | B28: =IF('Tabl. II (2)'!B28>0,'Tabl. II (2)'!E28/'Tabl. II (2)'!B28*100,"X") -> 116.66667 | C28: =IF('Tabl. II (2)'!C28>0,'Tabl. II (2)'!F28/'Tabl. II (2)'!C28*100,"X") -> 90.909091 | D28: =C28*100/B28 -> 77.922078 | E28: =IF('Tabl. II (2)'!E28>0,'Tabl. II (2)'!H28/('Tabl. II (2)'!E28/273.8),"X") -> 48.892857 | F28: =IF('Tabl. II (2)'!F28>0,'Tabl. II (2)'!I28/('Tabl. II (2)'!F28/273.8),"X") -> 109.52 | G28: =F28*100/E28 -> 224 | H28: =IF('Tabl. II (2)'!B28>0,'Tabl. II (2)'!H28*9/'Tabl. II (2)'!B28,"X") -> 1.875 | I28: =IF('Tabl. II (2)'!C28>0,'Tabl. II (2)'!I28*9/'Tabl. II (2)'!C28,"X") -> 3.2727273 | J28: =I28*100/H28 -> 174.54545
A29: skargi na postępowanie sądowe (S) | B29: =IF('Tabl. II (2)'!B29>0,'Tabl. II (2)'!E29/'Tabl. II (2)'!B29*100,"X") -> 94.052632 | C29: =IF('Tabl. II (2)'!C29>0,'Tabl. II (2)'!F29/'Tabl. II (2)'!C29*100,"X") -> 97.519522 | D29: =C29*100/B29 -> 103.68612 | E29: =IF('Tabl. II (2)'!E29>0,'Tabl. II (2)'!H29/('Tabl. II (2)'!E29/273.8),"X") -> 34.014326 | F29: =IF('Tabl. II (2)'!F29>0,'Tabl. II (2)'!I29/('Tabl. II (2)'!F29/273.8),"X") -> 35.208384 | G29: =F29*100/E29 -> 103.51046 | H29: =IF('Tabl. II (2)'!B29>0,'Tabl. II (2)'!H29*9/'Tabl. II (2)'!B29,"X") -> 1.0515789 | I29: =IF('Tabl. II (2)'!C29>0,'Tabl. II (2)'!I29*9/'Tabl. II (2)'!C29,"X") -> 1.1286174 | J29: =I29*100/H29 -> 107.32598
A30: Sprawy z zakresu prawa pracy - razem | B30: =IF('Tabl. II (2)'!B30>0,'Tabl. II (2)'!E30/'Tabl. II (2)'!B30*100,"X") -> 91.428571 | C30: =IF('Tabl. II (2)'!C30>0,'Tabl. II (2)'!F30/'Tabl. II (2)'!C30*100,"X") -> 92.121982 | D30: =C30*100/B30 -> 100.75842 | E30: =IF('Tabl. II (2)'!E30>0,'Tabl. II (2)'!H30/('Tabl. II (2)'!E30/273.8),"X") -> 95.544792 | F30: =IF('Tabl. II (2)'!F30>0,'Tabl. II (2)'!I30/('Tabl. II (2)'!F30/273.8),"X") -> 110.27531 | G30: =F30*100/E30 -> 115.4174 | H30: =IF('Tabl. II (2)'!B30>0,'Tabl. II (2)'!H30*9/'Tabl. II (2)'!B30,"X") -> 2.8714286 | I30: =IF('Tabl. II (2)'!C30>0,'Tabl. II (2)'!I30*9/'Tabl. II (2)'!C30,"X") -> 3.339263 | J30: =I30*100/H30 -> 116.29274
A31: II instancji - apelacje (A Pa) | B31: =IF('Tabl. II (2)'!B31>0,'Tabl. II (2)'!E31/'Tabl. II (2)'!B31*100,"X") -> 90.123457 | C31: =IF('Tabl. II (2)'!C31>0,'Tabl. II (2)'!F31/'Tabl. II (2)'!C31*100,"X") -> 78.637771 | D31: =C31*100/B31 -> 87.255609 | E31: =IF('Tabl. II (2)'!E31>0,'Tabl. II (2)'!H31/('Tabl. II (2)'!E31/273.8),"X") -> 158.46644 | F31: =IF('Tabl. II (2)'!F31>0,'Tabl. II (2)'!I31/('Tabl. II (2)'!F31/273.8),"X") -> 226.37008 | G31: =F31*100/E31 -> 142.85049 | H31: =IF('Tabl. II (2)'!B31>0,'Tabl. II (2)'!H31*9/'Tabl. II (2)'!B31,"X") -> 4.6944444 | I31: =IF('Tabl. II (2)'!C31>0,'Tabl. II (2)'!I31*9/'Tabl. II (2)'!C31,"X") -> 5.8513932 | J31: =I31*100/H31 -> 124.64506
A32: - zażalenia (A Pz) | B32: =IF('Tabl. II (2)'!B32>0,'Tabl. II (2)'!E32/'Tabl. II (2)'!B32*100,"X") -> 92.675159 | C32: =IF('Tabl. II (2)'!C32>0,'Tabl. II (2)'!F32/'Tabl. II (2)'!C32*100,"X") -> 101.13636 | D32: =C32*100/B32 -> 109.12996 | E32: =IF('Tabl. II (2)'!E32>0,'Tabl. II (2)'!H32/('Tabl. II (2)'!E32/273.8),"X") -> 47.985567 | F32: =IF('Tabl. II (2)'!F32>0,'Tabl. II (2)'!I32/('Tabl. II (2)'!F32/273.8),"X") -> 43.069663 | G32: =F32*100/E32 -> 89.755453 | H32: =IF('Tabl. II (2)'!B32>0,'Tabl. II (2)'!H32*9/'Tabl. II (2)'!B32,"X") -> 1.4617834 | I32: =IF('Tabl. II (2)'!C32>0,'Tabl. II (2)'!I32*9/'Tabl. II (2)'!C32,"X") -> 1.4318182 | J32: =I32*100/H32 -> 97.950089
A33: - ogólne (A Po) | B33: =IF('Tabl. II (2)'!B33>0,'Tabl. II (2)'!E33/'Tabl. II (2)'!B33*100,"X") -> 98.901099 | C33: =IF('Tabl. II (2)'!C33>0,'Tabl. II (2)'!F33/'Tabl. II (2)'!C33*100,"X") -> 100 | D33: =C33*100/B33 -> 101.11111 | E33: =IF('Tabl. II (2)'!E33>0,'Tabl. II (2)'!H33/('Tabl. II (2)'!E33/273.8),"X") -> 57.802222 | F33: =IF('Tabl. II (2)'!F33>0,'Tabl. II (2)'!I33/('Tabl. II (2)'!F33/273.8),"X") -> 60.102439 | G33: =F33*100/E33 -> 103.97946 | H33: =IF('Tabl. II (2)'!B33>0,'Tabl. II (2)'!H33*9/'Tabl. II (2)'!B33,"X") -> 1.8791209 | I33: =IF('Tabl. II (2)'!C33>0,'Tabl. II (2)'!I33*9/'Tabl. II (2)'!C33,"X") -> 1.9756098 | J33: =I33*100/H33 -> 105.13479
A34: skarga kasacyjna (WSC-pracy) | B34: =IF('Tabl. II (2)'!B34>0,'Tabl. II (2)'!E34/'Tabl. II (2)'!B34*100,"X") -> 80.30303 | C34: =IF('Tabl. II (2)'!C34>0,'Tabl. II (2)'!F34/'Tabl. II (2)'!C34*100,"X") -> 107.24638 | D34: =C34*100/B34 -> 133.55209 | E34: =IF('Tabl. II (2)'!E34>0,'Tabl. II (2)'!H34/('Tabl. II (2)'!E34/273.8),"X") -> 103.32075 | F34: =IF('Tabl. II (2)'!F34>0,'Tabl. II (2)'!I34/('Tabl. II (2)'!F34/273.8),"X") -> 62.9 | G34: =F34*100/E34 -> 60.878378 | H34: =IF('Tabl. II (2)'!B34>0,'Tabl. II (2)'!H34*9/'Tabl. II (2)'!B34,"X") -> 2.7272727 | I34: =IF('Tabl. II (2)'!C34>0,'Tabl. II (2)'!I34*9/'Tabl. II (2)'!C34,"X") -> 2.2173913 | J34: =I34*100/H34 -> 81.304348
A35: skarga o stwierdzenie niezgodności z prawem (WSC-pracy) | B35: =IF('Tabl. II (2)'!B35>0,'Tabl. II (2)'!E35/'Tabl. II (2)'!B35*100,"X") -> X | C35: =IF('Tabl. II (2)'!C35>0,'Tabl. II (2)'!F35/'Tabl. II (2)'!C35*100,"X") -> X | D35: X | E35: =IF('Tabl. II (2)'!E35>0,'Tabl. II (2)'!H35/('Tabl. II (2)'!E35/273.8),"X") -> X | F35: =IF('Tabl. II (2)'!F35>0,'Tabl. II (2)'!I35/('Tabl. II (2)'!F35/273.8),"X") -> X | G35: X | H35: =IF('Tabl. II (2)'!B35>0,'Tabl. II (2)'!H35*9/'Tabl. II (2)'!B35,"X") -> X | I35: =IF('Tabl. II (2)'!C35>0,'Tabl. II (2)'!I35*9/'Tabl. II (2)'!C35,"X") -> X | J35: X
A36: skargi na postępowanie sądowe (S) | B36: =IF('Tabl. II (2)'!B36>0,'Tabl. II (2)'!E36/'Tabl. II (2)'!B36*100,"X") -> 93.333333 | C36: =IF('Tabl. II (2)'!C36>0,'Tabl. II (2)'!F36/'Tabl. II (2)'!C36*100,"X") -> 97.959184 | D36: =C36*100/B36 -> 104.95627 | E36: =IF('Tabl. II (2)'!E36>0,'Tabl. II (2)'!H36/('Tabl. II (2)'!E36/273.8),"X") -> 58.671429 | F36: =IF('Tabl. II (2)'!F36>0,'Tabl. II (2)'!I36/('Tabl. II (2)'!F36/273.8),"X") -> 28.520833 | G36: =F36*100/E36 -> 48.611111 | H36: =IF('Tabl. II (2)'!B36>0,'Tabl. II (2)'!H36*9/'Tabl. II (2)'!B36,"X") -> 1.8 | I36: =IF('Tabl. II (2)'!C36>0,'Tabl. II (2)'!I36*9/'Tabl. II (2)'!C36,"X") -> 0.91836735 | J36: =I36*100/H36 -> 51.020408
A37: Sprawy z zakresu ubezpieczeń społecznych - razem | B37: =IF('Tabl. II (2)'!B37>0,'Tabl. II (2)'!E37/'Tabl. II (2)'!B37*100,"X") -> 69.979863 | C37: =IF('Tabl. II (2)'!C37>0,'Tabl. II (2)'!F37/'Tabl. II (2)'!C37*100,"X") -> 112.67247 | D37: =C37*100/B37 -> 161.00699 | E37: =IF('Tabl. II (2)'!E37>0,'Tabl. II (2)'!H37/('Tabl. II (2)'!E37/273.8),"X") -> 294.96214 | F37: =IF('Tabl. II (2)'!F37>0,'Tabl. II (2)'!I37/('Tabl. II (2)'!F37/273.8),"X") -> 207.90489 | G37: =F37*100/E37 -> 70.485279 | H37: =IF('Tabl. II (2)'!B37>0,'Tabl. II (2)'!H37*9/'Tabl. II (2)'!B37,"X") -> 6.7849778 | I37: =IF('Tabl. II (2)'!C37>0,'Tabl. II (2)'!I37*9/'Tabl. II (2)'!C37,"X") -> 7.7000153 | J37: =I37*100/H37 -> 113.48623
A38: II instancji - apelacje (A Ua) | B38: =IF('Tabl. II (2)'!B38>0,'Tabl. II (2)'!E38/'Tabl. II (2)'!B38*100,"X") -> 63.893771 | C38: =IF('Tabl. II (2)'!C38>0,'Tabl. II (2)'!F38/'Tabl. II (2)'!C38*100,"X") -> 116.58416 | D38: =C38*100/B38 -> 182.46561 | E38: =IF('Tabl. II (2)'!E38>0,'Tabl. II (2)'!H38/('Tabl. II (2)'!E38/273.8),"X") -> 381.18198 | F38: =IF('Tabl. II (2)'!F38>0,'Tabl. II (2)'!I38/('Tabl. II (2)'!F38/273.8),"X") -> 235.18606 | G38: =F38*100/E38 -> 61.699155 | H38: =IF('Tabl. II (2)'!B38>0,'Tabl. II (2)'!H38*9/'Tabl. II (2)'!B38,"X") -> 8.0057118 | I38: =IF('Tabl. II (2)'!C38>0,'Tabl. II (2)'!I38*9/'Tabl. II (2)'!C38,"X") -> 9.0128094 | J38: =I38*100/H38 -> 112.57974
A39: - zażalenia (A Uz) | B39: =IF('Tabl. II (2)'!B39>0,'Tabl. II (2)'!E39/'Tabl. II (2)'!B39*100,"X") -> 97.922948 | C39: =IF('Tabl. II (2)'!C39>0,'Tabl. II (2)'!F39/'Tabl. II (2)'!C39*100,"X") -> 91.81778 | D39: =C39*100/B39 -> 93.765334 | E39: =IF('Tabl. II (2)'!E39>0,'Tabl. II (2)'!H39/('Tabl. II (2)'!E39/273.8),"X") -> 28.194937 | F39: =IF('Tabl. II (2)'!F39>0,'Tabl. II (2)'!I39/('Tabl. II (2)'!F39/273.8),"X") -> 55.65684 | G39: =F39*100/E39 -> 197.40012 | H39: =IF('Tabl. II (2)'!B39>0,'Tabl. II (2)'!H39*9/'Tabl. II (2)'!B39,"X") -> 0.90753769 | I39: =IF('Tabl. II (2)'!C39>0,'Tabl. II (2)'!I39*9/'Tabl. II (2)'!C39,"X") -> 1.6797877 | J39: =I39*100/H39 -> 185.09289
A40: ogólne (A Uo) | B40: =IF('Tabl. II (2)'!B40>0,'Tabl. II (2)'!E40/'Tabl. II (2)'!B40*100,"X") -> 87.096774 | C40: =IF('Tabl. II (2)'!C40>0,'Tabl. II (2)'!F40/'Tabl. II (2)'!C40*100,"X") -> 100 | D40: =C40*100/B40 -> 114.81481 | E40: =IF('Tabl. II (2)'!E40>0,'Tabl. II (2)'!H40/('Tabl. II (2)'!E40/273.8),"X") -> 70.985185 | F40: =IF('Tabl. II (2)'!F40>0,'Tabl. II (2)'!I40/('Tabl. II (2)'!F40/273.8),"X") -> 26.07619 | G40: =F40*100/E40 -> 36.734694 | H40: =IF('Tabl. II (2)'!B40>0,'Tabl. II (2)'!H40*9/'Tabl. II (2)'!B40,"X") -> 2.0322581 | I40: =IF('Tabl. II (2)'!C40>0,'Tabl. II (2)'!I40*9/'Tabl. II (2)'!C40,"X") -> 0.85714286 | J40: =I40*100/H40 -> 42.176871
A41: skarga kasacyjna (WSC-ubezp.) | B41: =IF('Tabl. II (2)'!B41>0,'Tabl. II (2)'!E41/'Tabl. II (2)'!B41*100,"X") -> 99.829787 | C41: =IF('Tabl. II (2)'!C41>0,'Tabl. II (2)'!F41/'Tabl. II (2)'!C41*100,"X") -> 99.253035 | D41: =C41*100/B41 -> 99.422264 | E41: =IF('Tabl. II (2)'!E41>0,'Tabl. II (2)'!H41/('Tabl. II (2)'!E41/273.8),"X") -> 39.447741 | F41: =IF('Tabl. II (2)'!F41>0,'Tabl. II (2)'!I41/('Tabl. II (2)'!F41/273.8),"X") -> 47.393415 | G41: =F41*100/E41 -> 120.14228 | H41: =IF('Tabl. II (2)'!B41>0,'Tabl. II (2)'!H41*9/'Tabl. II (2)'!B41,"X") -> 1.2944681 | I41: =IF('Tabl. II (2)'!C41>0,'Tabl. II (2)'!I41*9/'Tabl. II (2)'!C41,"X") -> 1.5462185 | J41: =I41*100/H41 -> 119.44817
...
