Workbook
Name DF_GRID_1: Wybór [1]sądu!$G$21:$J$217
Name DF_NAVPANEL_13: 'Wybór sądu'!#REF!
Name DF_NAVPANEL_13: 'Wybór sądu'!#REF!
Name DF_NAVPANEL_18: 'Wybór sądu'!#REF!
Name DF_NAVPANEL_18: 'Wybór sądu'!#REF!

Sheet BExRepositorySheet
A1: 7
C14: Filter

Sheet Wybór sądu
F1: Tablice rzymskie III kw 2014
H2: Autor | I2: PROCAG01M | K2: Aktualność danych
G5: Information
G6: Autor | H6: PROCAG01M | J6: Ostatnie odświeżanie | K6: 2014-10-20 12:13:26
G7: Bieżący użytkownik | H7: PROCAG01M | J7: Dzień | K7: 2014-10-20
G8: Ostatnio zmienione przez | H8: PROCAG01M | J8: Godzina zmiany | K8: 2014-10-20 10:18:56
G9: Dostawca informacji | H9: ST_M001 | J9: Aktualność danych
G10: Tech. nazwa zapytania | H10: S_ST_M001_TABL_20143 | J10: Aktualność danych (data)
G11: Opis zapytania | H11: Tablice rzymskie III kw 2014 | J11: Aktualność danych (godzina)
C12: Wybór sądu:
C14: Filter
C16: Apelacja
C17: Liczby
C18: Okręg
C19: Sąd | G19: Table
C20: Wiersze | G20: Table | H20: Wpływy 20143 | I20: Załatwienia 20143 | J20: Pozostałość 20143 | K20: Table
H21: Wpływy 20133 | I21: Załatwienia 20133 | J21: Pozostałość 20133 | L21: Wpływy 20143 | M21: Załatwienia 20143 | N21: Pozostałość 20143
C22: Uwaga: | G22: Ogółem spraw w sądach powszechnych | H22: 11535384 | I22: 10717175 | J22: 2654142 | K22: Ogółem spraw w sądach powszechnych | L22: 10831130 | M22: 10724283 | N22: 2536839
C23: W polu Apelacja wpisujemy np.: Apelacja Warszawska | G23: W sądach apelacyjnych - Ogółem | H23: 90210 | I23: 76709 | J23: 33981 | K23: W sądach apelacyjnych - Ogółem | L23: 89144 | M23: 83413 | N23: 37880
C24: Okręg | D24: Gliwice | G24: Sprawy karne - razem | H24: 26014 | I24: 24796 | J24: 3641 | K24: Sprawy karne - razem | L24: 26026 | M24: 25046 | N24: 3526
C25: Sąd | D25: SR w Świdnicy | G25: A Ka s05a Wiersz 1 | H25: 2846 | I25: 2487 | J25: 764 | K25: A Ka s05a Wiersz 1 | L25: 2955 | M25: 2481 | N25: 894
G26: odszkodowania A Ka s05a Wiersz 2 - formuła 3 + 4 | H26: 291 | I26: 265 | J26: 55 | K26: odszkodowania A Ka s05a Wiersz 2 - formuła 3 + 4 | L26: 312 | M26: 59 | N26: 73
C27: lub klikamy dwa razy w białe pole przy pozycji, którą chcemy ograniczyć. | G27: z ust. z dn. 23.02.1991 s05a Wiersz 3 | H27: 73 | I27: 67 | J27: 13 | K27: z ust. z dn. 23.02.1991 s05a Wiersz 3 | L27: 69 | M27: 59 | N27: 16
G28: w tryb. art. 552 kpk s05a Wiersz 4 | H28: 218 | I28: 198 | J28: 42 | K28: w tryb. art. 552 kpk s05a Wiersz 4 | L28: 243 | N28: 57
G29: A Kz s05a Wiersz 5 | H29: 5044 | I29: 5023 | J29: 266 | K29: A Kz s05a Wiersz 5 | L29: 5039 | M29: 4986 | N29: 271
C30: 2014-10-20 12:13:26 | G30: A Ko s05a Wiersz 6 | H30: 1582 | I30: 1525 | J30: 282 | K30: A Ko s05a Wiersz 6 | L30: 1509 | M30: 1462 | N30: 270
G31: s05a Wiersz 7 | H31: 0 | I31: 0 | J31: 0 | K31: s05a Wiersz 7 | L31: 0 | M31: 0 | N31: 0
G32: art. 11a pwkpk s05a Wiersz 8 | H32: 1 | I32: 1 | J32: 0 | K32: art. 11a pwkpk s05a Wiersz 8 | L32: 0 | M32: 1 | N32: 0
G33: A Kp s05a Wiersz 9 | H33: 376 | I33: 369 | J33: 18 | K33: A Kp s05a Wiersz 9 | L33: 380 | M33: 379 | N33: 8
G34: A Kzw s05a Wiersz 10 | H34: 15301 | I34: 14518 | J34: 2154 | K34: A Kzw s05a Wiersz 10 | L34: 15326 | M34: 14917 | N34: 1939
G35: WKK s05a Wiersz 11 | H35: 446 | I35: 462 | J35: 109 | K35: WKK s05a Wiersz 11 | L35: 451 | M35: 452 | N35: 111
G36: S s05a Wiersz 12 | H36: 419 | I36: 412 | J36: 48 | K36: S s05a Wiersz 12 | L36: 366 | M36: 369 | N36: 33
G37: Sprawy cywilne - razem | H37: 30648 | I37: 27154 | J37: 8776 | K37: Sprawy cywilne - razem | L37: 31036 | M37: 27308 | N37: 10911
G38: A Ca s01a Wiersz 1 | H38: 11236 | I38: 9089 | J38: 5914 | K38: A Ca s01a Wiersz 1 | L38: 12247 | M38: 9664 | N38: 7656
G39: s01a Wiersz 2 | H39: 15653 | I39: 14540 | J39: 2293 | K39: s01a Wiersz 2 | L39: 14589 | M39: 13566 | N39: 2599
G40: s01a Wiersz 3 | H40: 507 | I40: 474 | J40: 68 | K40: s01a Wiersz 3 | L40: 582 | M40: 578 | N40: 74
G41: s01a Wiersz 4 | H41: 1328 | I41: 1236 | J41: 274 | K41: s01a Wiersz 4 | L41: 1419 | M41: 1357 | N41: 301
G42: s01a Wiersz 5 | H42: 24 | I42: 28 | J42: 5 | K42: s01a Wiersz 5 | L42: 22 | M42: 20 | N42: 8
... G175: Nk s16r Wiersz 8 | H175: 504 | I175: 487 | J175: 285 | K175: Nk s16r Wiersz 8 | L175: 148 | M175: 399 | N175: 0
G176: Nkd s18r Wiersz 09 | K176: Nkd s18r Wiersz 09 | L176: 69225 | M176: 46790 | N176: 22435
G177: s18r Wiersz 09 | K177: s18r Wiersz 09 | L177: 33932 | M177: 23705 | N177: 10227
G178: s18r Wiersz 09 | K178: s18r Wiersz 09 | L178: 35293 | M178: 23085 | N178: 12208
G179: RNc s16r Wiersz 9 | H179: 0 | I179: 0 | J179: 1 | K179: RNc s16r Wiersz 9 | L179: 2 | M179: 2 | N179: 0
G180: RCo s16r Wiersz 10 | H180: 9415 | I180: 8498 | J180: 3246 | K180: RCo s16r Wiersz 10 | L180: 6398 | M180: 7052 | N180: 2127
G181: Nmo s16r Wiersz 11 | H181: 51534 | I181: 50900 | J181: 5276 | K181: Nmo s16r Wiersz 11 | L181: 54371 | M181: 53945 | N181: 5927
G182: RCps s16r Wiersz 12 | H182: 33733 | I182: 32914 | J182: 4354 | K182: RCps s16r Wiersz 12 | L182: 33351 | M182: 32629 | N182: 4713
G183: posiedzenia s16r Wiersz 13 | H183: 451183 | I183: 451183 | J183: 0 | K183: posiedzenia s16r Wiersz 13 | L183: 479428 | M183: 479428 | N183: 0
G184: wykonawcze merytoryczne | H184: 66832 | I184: 66832 | J184: 0 | K184: wykonawcze merytoryczne | L184: 67781 | M184: 67781 | N184: 0
G185: WSC s16r Wiersz 14 | H185: 4 | I185: 5 | J185: 4 | K185: WSC s16r Wiersz 14 | L185: 9 | M185: 8 | N185: 5
G186: Sprawy z zakr. prawa pracy - razem | H186: 77689 | I186: 75573 | J186: 41074 | K186: Sprawy z zakr. prawa pracy - razem | L186: 85081 | M186: 80662 | N186: 43689
G187: P s12r Wiersz 1 | H187: 56408 | I187: 53829 | J187: 38247 | K187: P s12r Wiersz 1 | L187: 61669 | M187: 57229 | N187: 40327
G188: Np s12r Wiersz 4 | H188: 12775 | I188: 14090 | J188: 1015 | K188: Np s12r Wiersz 4 | L188: 10285 | M188: 10363 | N188: 835
G189: EPU prawo pracy | H189: 245 | I189: 168 | J189: 83 | K189: EPU prawo pracy | L189: 170 | M189: 221 | N189: 21
G190: Po s12r Wiersz 5 | H190: 8502 | I190: 7652 | J190: 1810 | K190: Po s12r Wiersz 5 | L190: 13125 | M190: 13068 | N190: 2527
... G217: rozwody i separacje | H217: 72352 | I217: 66608 | J217: 53333 | K217: rozwody i separacje | L217: 71480 | M217: 66111 | N217: 55038

Sheet Graph
C1: Apelacja | H1: FEP8Qry3
C2: Liczby | H2: Autor | I2: PROCAG01M | K2: Aktualność danych (godzina)
C3: Okręg
C4: Sąd
C5: Wiersze | G5: Information
G6: Autor | H6: PROCAG01M | J6: Ostatnie odświeżanie | K6: 2014-10-20 12:13:26
G7: Bieżący użytkownik | H7: PROCAG01M | J7: Dzień | K7: 2014-10-20
G8: Ostatnio zmienione przez | H8: PROCAG01M | J8: Godzina zmiany | K8: 2014-10-20 10:18:56
G9: Dostawca informacji | H9: ST_M001 | J9: Aktualność danych
G10: Tech. nazwa zapytania | H10: S_ST_M001_TABL_20143 | J10: Aktualność danych (data)
G11: Opis zapytania | H11: Tablice rzymskie III kw 2014 | J11: Aktualność danych (godzina)
C14: Filter

Sheet Tabl. I (2)
A1: TABL. I. EWIDENCJA SPRAW WEDŁUG DZIAŁÓW PRAWA W SĄDACH POWSZECHNYCH
A2: za III kwartały 2013 i III kwartały 2014 roku
A3: RODZAJE SPRAW WEDŁUG DZIAŁÓW PRAWA I RODZAJÓW SĄDÓW | B3: WPŁYW | E3: ZAŁATWIENIA | H3: POZOSTAŁOŚĆ
B4: III kwartały 2013 | C4: III kwartały 2014 | E4: III kwartały 2013 | F4: III kwartały 2014 | H4: III kwartały 2013 | I4: III kwartały 2014
B5: w liczbach bezwzględnych | D5: III kw. 2013 = 100 | E5: w liczbach bezwzględnych | G5: III kw. 2013 = 100 | H5: w liczbach bezwzględnych | J5: III kw. 2013 = 100
A6: OGÓŁEM | B6: =SUM(B7,B11,B15,B18,B22,B26) -> 11535384 | C6: =SUM(C7,C11,C15,C18,C22,C26) -> 10831130 | D6: =C6*100/B6 -> 93.894837 | E6: =SUM(E7,E11,E15,E18,E22,E26) -> 10717175 | F6: =SUM(F7,F11,F15,F18,F22,F26) -> 10724283 | G6: =F6*100/E6 -> 100.06632 | H6: =SUM(H7,H11,H15,H18,H22,H26) -> 2654142 | I6: =SUM(I7,I11,I15,I18,I22,I26) -> 2536839 | J6: =I6*100/H6 -> 95.58038
A7: SPRAWY KARNEa) | B7: =SUM(B8:B10) -> 2067160 | C7: =SUM(C8:C10) -> 2073066 | D7: =C7*100/B7 -> 100.28571 | E7: =SUM(E8:E10) -> 1970929 | F7: =SUM(F8:F10) -> 2016679 | G7: =F7*100/E7 -> 102.32124 | H7: =SUM(H8:H10) -> 475564 | I7: =SUM(I8:I10) -> 507774 | J7: =I7*100/H7 -> 106.77301
A8: W sądach: - apelacyjnych | B8: ='Tabl. II (2)'!B9 -> 26014 | C8: ='Tabl. II (2)'!C9 -> 26026 | D8: =C8*100/B8 -> 100.04613 | E8: ='Tabl. II (2)'!E9 -> 24796 | F8: ='Tabl. II (2)'!F9 -> 25046 | G8: =F8*100/E8 -> 101.00823 | H8: ='Tabl. II (2)'!H9 -> 3641 | I8: ='Tabl. II (2)'!I9 -> 3526 | J8: =I8*100/H8 -> 96.841527
A9: - okręgowych | B9: ='Tabl. II (2)'!B53 -> 298689 | C9: ='Tabl. II (2)'!C53 -> 288969 | D9: =C9*100/B9 -> 96.745779 | E9: ='Tabl. II (2)'!E53 -> 291838 | F9: ='Tabl. II (2)'!F53 -> 282703 | G9: =F9*100/E9 -> 96.869839 | H9: ='Tabl. II (2)'!H53 -> 48880 | I9: ='Tabl. II (2)'!I53 -> 47888 | J9: =I9*100/H9 -> 97.97054
A10: - rejonowych | B10: ='Tabl. II (2)'!B135 -> 1742457 | C10: ='Tabl. II (2)'!C135 -> 1758071 | D10: =C10*100/B10 -> 100.89609 | E10: ='Tabl. II (2)'!E135 -> 1654295 | F10: ='Tabl. II (2)'!F135 -> 1708930 | G10: =F10*100/E10 -> 103.30262 | H10: ='Tabl. II (2)'!H135 -> 423043 | I10: ='Tabl. II (2)'!I135 -> 456360 | J10: =I10*100/H10 -> 107.87556
A11: SPRAWY CYWILNE | B11: =SUM(B12:B14) -> 6909825 | C11: =SUM(C12:C14) -> 6236911 | D11: =C11*100/B11 -> 90.26149 | E11: =SUM(E12:E14) -> 6355751 | F11: =SUM(F12:F14) -> 6231971 | G11: =F11*100/E11 -> 98.052472 | H11: =SUM(H12:H14) -> 1533018 | I11: =SUM(I12:I14) -> 1396699 | J11: =I11*100/H11 -> 91.107802
A12: W sądach: - apelacyjnychb) | B12: ='Tabl. II (2)'!B23 -> 30648 | C12: ='Tabl. II (2)'!C23 -> 31036 | D12: =C12*100/B12 -> 101.26599 | E12: ='Tabl. II (2)'!E23 -> 27154 | F12: ='Tabl. II (2)'!F23 -> 27308 | G12: =F12*100/E12 -> 100.56714 | H12: ='Tabl. II (2)'!H23 -> 8776 | I12: ='Tabl. II (2)'!I23 -> 10911 | J12: =I12*100/H12 -> 124.32771
A13: - okręgowychb) | B13: ='Tabl. II (2)'!B67 -> 244433 | C13: ='Tabl. II (2)'!C67 -> 247770 | D13: =C13*100/B13 -> 101.3652 | E13: ='Tabl. II (2)'!E67 -> 224163 | F13: ='Tabl. II (2)'!F67 -> 230287 | G13: =F13*100/E13 -> 102.73194 | H13: ='Tabl. II (2)'!H67 -> 134969 | I13: ='Tabl. II (2)'!I67 -> 141890 | J13: =I13*100/H13 -> 105.12784
A14: - rejonowychc) | B14: ='Tabl. II (2)'!B146 -> 6634744 | C14: ='Tabl. II (2)'!C146 -> 5958105 | D14: =C14*100/B14 -> 89.801581 | E14: ='Tabl. II (2)'!E146 -> 6104434 | F14: ='Tabl. II (2)'!F146 -> 5974376 | G14: =F14*100/E14 -> 97.86945 | H14: ='Tabl. II (2)'!H146 -> 1389273 | I14: ='Tabl. II (2)'!I146 -> 1243898 | J14: =I14*100/H14 -> 89.535894
A15: SPRAWY RODZINNE | B15: =B17 -> 1048470 | C15: =C17 -> 1043022 | D15: =C15*100/B15 -> 99.480386 | E15: =E17 -> 1002657 | F15: =F17 -> 1023487 | G15: =F15*100/E15 -> 102.07748 | H15: =H17 -> 207184 | I15: =I17 -> 209715 | J15: =I15*100/H15 -> 101.22162
A16: W sądach: - okręgowychd) | B16: ='Wybór sądu'!H217 -> 72352 | C16: ='Wybór sądu'!L217 -> 71480 | D16: =C16*100/B16 -> 98.794781 | E16: ='Wybór sądu'!I217 -> 66608 | F16: ='Wybór sądu'!M217 -> 66111 | G16: =F16*100/E16 -> 99.253843 | H16: ='Wybór sądu'!J217 -> 53333 | I16: ='Wybór sądu'!N217 -> 55038 | J16: =I16*100/H16 -> 103.19689
A17: - rejonowych | B17: ='Tabl. II (2)'!B158 -> 1048470 | C17: ='Tabl. II (2)'!C158 -> 1043022 | D17: =C17*100/B17 -> 99.480386 | E17: ='Tabl. II (2)'!E158 -> 1002657 | F17: ='Tabl. II (2)'!F158 -> 1023487 | G17: =F17*100/E17 -> 102.07748 | H17: ='Tabl. II (2)'!H158 -> 207184 | I17: ='Tabl. II (2)'!I158 -> 209715 | J17: =I17*100/H17 -> 101.22162
A18: SPRAWY Z ZAKRESU PRAWA PRACY | B18: =SUM(B19:B21) -> 90766 | C18: =SUM(C19:C21) -> 98629 | D18: =C18*100/B18 -> 108.66294 | E18: =SUM(E19:E21) -> 87240 | F18: =SUM(F19:F21) -> 92792 | G18: =F18*100/E18 -> 106.36405 | H18: =SUM(H19:H21) -> 46125 | I18: =SUM(I19:I21) -> 49326 | J18: =I18*100/H18 -> 106.93984
A19: W sądach: - apelacyjnych | B19: ='Tabl. II (2)'!B30 -> 840 | C19: ='Tabl. II (2)'!C30 -> 787 | D19: =C19*100/B19 -> 93.690476 | E19: ='Tabl. II (2)'!E30 -> 768 | F19: ='Tabl. II (2)'!F30 -> 725 | G19: =F19*100/E19 -> 94.401042 | H19: ='Tabl. II (2)'!H30 -> 268 | I19: ='Tabl. II (2)'!I30 -> 292 | J19: =I19*100/H19 -> 108.95522
A20: - okręgowych | B20: ='Tabl. II (2)'!B88 -> 12237 | C20: ='Tabl. II (2)'!C88 -> 12761 | D20: =C20*100/B20 -> 104.2821 | E20: ='Tabl. II (2)'!E88 -> 10899 | F20: ='Tabl. II (2)'!F88 -> 11405 | G20: =F20*100/E20 -> 104.64263 | H20: ='Tabl. II (2)'!H88 -> 4783 | I20: ='Tabl. II (2)'!I88 -> 5345 | J20: =I20*100/H20 -> 111.74995
A21: - rejonowychc) | B21: ='Tabl. II (2)'!B180 -> 77689 | C21: ='Tabl. II (2)'!C180 -> 85081 | D21: =C21*100/B21 -> 109.51486 | E21: ='Tabl. II (2)'!E180 -> 75573 | F21: ='Tabl. II (2)'!F180 -> 80662 | G21: =F21*100/E21 -> 106.73389 | H21: ='Tabl. II (2)'!H180 -> 41074 | I21: ='Tabl. II (2)'!I180 -> 43689 | J21: =I21*100/H21 -> 106.36656
A22: SPRAWY Z ZAKRESU UBEZPIECZEŃ SPOŁECZNYCH | B22: =SUM(B23:B25) -> 175985 | C22: =SUM(C23:C25) -> 162659 | D22: =C22*100/B22 -> 92.427764 | E22: =SUM(E23:E25) -> 144412 | F22: =SUM(F23:F25) -> 145865 | G22: =F22*100/E22 -> 101.00615 | H22: =SUM(H23:H25) -> 122354 | I22: =SUM(I23:I25) -> 131530 | J22: =I22*100/H22 -> 107.49955
A23: W sądach: - apelacyjnych | B23: ='Tabl. II (2)'!B37 -> 24830 | C23: ='Tabl. II (2)'!C37 -> 19641 | D23: =C23*100/B23 -> 79.101893 | E23: ='Tabl. II (2)'!E37 -> 17376 | F23: ='Tabl. II (2)'!F37 -> 22130 | G23: =F23*100/E23 -> 127.35958 | H23: ='Tabl. II (2)'!H37 -> 18719 | I23: ='Tabl. II (2)'!I37 -> 16804 | J23: =I23*100/H23 -> 89.769753
A24: - okręgowych | B24: ='Tabl. II (2)'!B100 -> 124911 | C24: ='Tabl. II (2)'!C100 -> 114621 | D24: =C24*100/B24 -> 91.762135 | E24: ='Tabl. II (2)'!E100 -> 105634 | F24: ='Tabl. II (2)'!F100 -> 98975 | G24: =F24*100/E24 -> 93.696158 | H24: ='Tabl. II (2)'!H100 -> 84314 | I24: ='Tabl. II (2)'!I100 -> 91429 | J24: =I24*100/H24 -> 108.43869
A25: - rejonowych | B25: ='Tabl. II (2)'!B186 -> 26244 | C25: ='Tabl. II (2)'!C186 -> 28397 | D25: =C25*100/B25 -> 108.20378 | E25: ='Tabl. II (2)'!E186 -> 21402 | F25: ='Tabl. II (2)'!F186 -> 24760 | G25: =F25*100/E25 -> 115.69012 | H25: ='Tabl. II (2)'!H186 -> 19321 | I25: ='Tabl. II (2)'!I186 -> 23297 | J25: =I25*100/H25 -> 120.57864
A26: SPRAWY GOSPODARCZE | B26: =SUM(B27:B31) -> 1243178 | C26: =SUM(C27:C31) -> 1216843 | D26: =C26*100/B26 -> 97.881639 | E26: =SUM(E27:E31) -> 1156186 | F26: =SUM(F27:F31) -> 1213489 | G26: =F26*100/E26 -> 104.95621 | H26: =SUM(H27:H31) -> 269897 | I26: =SUM(I27:I31) -> 241795 | J26: =I26*100/H26 -> 89.58788
A27: W sądach: - apelacyjnych | B27: ='Tabl. II (2)'!B45 -> 7878 | C27: ='Tabl. II (2)'!C45 -> 11654 | D27: =C27*100/B27 -> 147.93095 | E27: ='Tabl. II (2)'!E45 -> 6615 | F27: ='Tabl. II (2)'!F45 -> 8204 | G27: =F27*100/E27 -> 124.02116 | H27: ='Tabl. II (2)'!H45 -> 2577 | I27: ='Tabl. II (2)'!I45 -> 6347 | J27: =I27*100/H27 -> 246.29414
A28: - okręgowych | B28: ='Tabl. II (2)'!B111 -> 46117 | C28: ='Tabl. II (2)'!C111 -> 45331 | D28: =C28*100/B28 -> 98.295639 | E28: ='Tabl. II (2)'!E111 -> 44414 | F28: ='Tabl. II (2)'!F111 -> 41866 | G28: =F28*100/E28 -> 94.26307 | H28: ='Tabl. II (2)'!H111 -> 19815 | I28: ='Tabl. II (2)'!I111 -> 22544 | J28: =I28*100/H28 -> 113.77239
A29: - rejonowychc) | B29: ='Tabl. II (2)'!B190 -> 1155617 | C29: ='Tabl. II (2)'!C190 -> 1156320 | D29: =C29*100/B29 -> 100.06083 | E29: ='Tabl. II (2)'!E190 -> 1093175 | F29: ='Tabl. II (2)'!F190 -> 1132921 | G29: =F29*100/E29 -> 103.63583 | H29: ='Tabl. II (2)'!H190 -> 215832 | I29: ='Tabl. II (2)'!I190 -> 209019 | J29: =I29*100/H29 -> 96.843378
A30: - w Sądzie Ochrony Konkurencji i Konsumentów | B30: ='Tabl. II (2)'!B124 -> 33459 | C30: ='Tabl. II (2)'!C124 -> 3399 | D30: =C30*100/B30 -> 10.158702 | E30: ='Tabl. II (2)'!E124 -> 11876 | F30: ='Tabl. II (2)'!F124 -> 30379 | G30: =F30*100/E30 -> 255.80162 | H30: ='Tabl. II (2)'!H124 -> 31639 | I30: ='Tabl. II (2)'!I124 -> 3822 | J30: =I30*100/H30 -> 12.080028
A31: - w Sądzie Wspólnotowych Znaków Towarowych i Wzorów Przemysłowych | B31: ='Tabl. II (2)'!B133 -> 107 | C31: ='Tabl. II (2)'!C133 -> 139 | D31: =C31*100/B31 -> 129.90654 | E31: ='Tabl. II (2)'!E133 -> 106 | F31: ='Tabl. II (2)'!F133 -> 119 | G31: =F31*100/E31 -> 112.26415 | H31: ='Tabl. II (2)'!H133 -> 34 | I31: ='Tabl. II (2)'!I133 -> 63 | J31: =I31*100/H31 -> 185.29412
A33: a) W sądach rejonowych łącznie ze sprawami wykroczeniowymi.
A34: b) W liczbie spraw cywilnych zawarte są informacje o sprawach rodzinnych.
A35: c) W liczbie spraw cywilnych, z zakresu prawa pracy oraz gospodarczych w sądach rejonowych zawarte są dane statystyczne o ewidencji spraw z zakresu Elektronicznego Postępowania Upominawczego EPU.
A36: Wyszczególnienie | B36: WPŁYW | E36: ZAŁATWIENIA | H36: POZOSTAŁOŚĆ
B37: III kw. 2013 | C37: IIII kw. 2014 | E37: III kw. 2013 | F37: III kw. 2014 | H37: III kw. 2013 | I37: III kw. 2014
B38: w liczbach bezwzględnych | D38: III kw. 2013 = 100 | E38: w liczbach bezwzględnych | G38: III kw. 2013 = 100 | H38: w liczbach bezwzględnych | J38: III kw. 2013 = 100
A40: ELEKTRONICZNE POSTĘPOWANIE UPOMINAWCZE (EPU) - RAZEM | B40: =SUM(B41:B43) -> 2259202 | C40: =SUM(C41:C43) -> 1418674 | D40: =C40*100/B40 -> 62.795359 | E40: =SUM(E41:E43) -> 1844138 | F40: =SUM(F41:F43) -> 1613355 | G40: =F40*100/E40 -> 87.485589 | H40: =SUM(H41:H43) -> 494872 | I40: =SUM(I41:I43) -> 143084 | J40: =I40*100/H40 -> 28.913335
A41: SPRAWY CYWILNE | B41: ='Wybór sądu'!H159 -> 2014719 | C41: ='Wybór sądu'!L159 -> 1181019 | D41: =C41*100/B41 -> 58.619539 | E41: ='Wybór sądu'!I159 -> 1642391 | F41: ='Wybór sądu'!M159 -> 1349533 | G41: =F41*100/E41 -> 82.168801 | H41: ='Wybór sądu'!J159 -> 445288 | I41: ='Wybór sądu'!N159 -> 123912 | J41: =I41*100/H41 -> 27.827384
A42: SPRAWY Z ZAKRESU PRAWA PRACY | B42: ='Wybór sądu'!H189 -> 245 | C42: ='Wybór sądu'!L189 -> 170 | D42: =C42*100/B42 -> 69.387755 | E42: ='Wybór sądu'!I189 -> 168 | F42: ='Wybór sądu'!M189 -> 221 | G42: =F42*100/E42 -> 131.54762 | H42: ='Wybór sądu'!J189 -> 83 | I42: ='Wybór sądu'!N189 -> 21 | J42: =I42*100/H42 -> 25.301205
A43: SPRAWY GOSPODARCZE | B43: ='Wybór sądu'!H200 -> 244238 | C43: ='Wybór sądu'!L200 -> 237485 | D43: =C43*100/B43 -> 97.235074 | E43: ='Wybór sądu'!I200 -> 201579 | F43: ='Wybór sądu'!M200 -> 263601 | G43: =F43*100/E43 -> 130.76809 | H43: ='Wybór sądu'!J200 -> 49501 | I43: ='Wybór sądu'!N200 -> 19151 | J43: =I43*100/H43 -> 38.688107
A46: d) W sądach okręgowych w sprawozdaniach wykazywane są tylko sprawy o rozwód i separację.
A48: Opracowanie: /-/ Agnieszka Proczek Starszy Specjalista | F48: Naczelnik Wydziału Statystycznej Informacji Zarządczej /-/ Justyna Kowalczyk

Sheet Tabl. II (2)
A2: TABL. II. EWIDENCJA SPRAW W SĄDACH POWSZECHNYCH WEDŁUG DZIAŁÓW PRAWA I INSTANCYJNOŚCI
A3: za III kwartały 2013 i III kwartały 2014 roku
A4: RODZAJE SPRAW WEDŁUG KSIĄG EWIDENCYJNYCH | B4: WPŁYW | E4: ZAŁATWIENIA | H4: POZOSTAŁOŚĆ
B5: III kwartały 2013 | C5: III kwartały 2014 | E5: III kwartały 2013 | F5: III kwartały 2014 | H5: III kwartały 2013 | I5: III kwartały 2014
B6: w liczbach bezwzględnych | D6: III kw. 2013 = 100 | E6: w liczbach bezwzględnych | G6: III kw. 2013 = 100 | H6: w liczbach bezwzględnych | J6: III kw. 2013 = 100
A7: OGÓŁEM SPRAW W SĄDACH POWSZECHNYCH | B7: ='Wybór sądu'!H22 -> 11535384 | C7: ='Wybór sądu'!L22 -> 10831130 | D7: =C7*100/B7 -> 93.894837 | E7: ='Wybór sądu'!I22 -> 10717175 | F7: ='Wybór sądu'!M22 -> 10724283 | G7: =F7*100/E7 -> 100.06632 | H7: ='Wybór sądu'!J22 -> 2654142 | I7: ='Wybór sądu'!N22 -> 2536839 | J7: =I7*100/H7 -> 95.58038
A8: W SĄDACH APELACYJNYCH - OGÓŁEM | B8: ='Wybór sądu'!H23 -> 90210 | C8: ='Wybór sądu'!L23 -> 89144 | D8: =C8*100/B8 -> 98.818313 | E8: ='Wybór sądu'!I23 -> 76709 | F8: ='Wybór sądu'!M23 -> 83413 | G8: =F8*100/E8 -> 108.73952 | H8: ='Wybór sądu'!J23 -> 33981 | I8: ='Wybór sądu'!N23 -> 37880 | J8: =I8*100/H8 -> 111.47406
A9: Sprawy karne - razem | B9: ='Wybór sądu'!H24 -> 26014 | C9: ='Wybór sądu'!L24 -> 26026 | D9: =C9*100/B9 -> 100.04613 | E9: ='Wybór sądu'!I24 -> 24796 | F9: ='Wybór sądu'!M24 -> 25046 | G9: =F9*100/E9 -> 101.00823 | H9: ='Wybór sądu'!J24 -> 3641 | I9: ='Wybór sądu'!N24 -> 3526 | J9: =I9*100/H9 -> 96.841527
A10: II instancji - apelacje (A Ka) | B10: ='Wybór sądu'!H25 -> 2846 | C10: ='Wybór sądu'!L25 -> 2955 | D10: =C10*100/B10 -> 103.82994 | E10: ='Wybór sądu'!I25 -> 2487 | F10: ='Wybór sądu'!M25 -> 2481 | G10: =F10*100/E10 -> 99.758745 | H10: ='Wybór sądu'!J25 -> 764 | I10: ='Wybór sądu'!N25 -> 894 | J10: =I10*100/H10 -> 117.01571
A11: w tym: o odszkodowanie (A Ka) | B11: ='Wybór sądu'!H26 -> 291 | C11: ='Wybór sądu'!L26 -> 312 | D11: =C11*100/B11 -> 107.21649 | E11: ='Wybór sądu'!I26 -> 265 | F11: ='Wybór sądu'!M26 -> 59 | G11: =F11*100/E11 -> 22.264151 | H11: ='Wybór sądu'!J26 -> 55 | I11: ='Wybór sądu'!N26 -> 73 | J11: =I11*100/H11 -> 132.72727
A12: w tym: -z ust. z dn. 23.02.1991 r. o uznaniu za nieważne orzeczeń wydanych wobec osób represjonowanych za działalność na rzecz niepodległego bytu Państwa Polskiego (Dz.U. Nr 34, poz. 149) | B12: ='Wybór sądu'!H27 -> 73 | C12: ='Wybór sądu'!L27 -> 69 | D12: =C12*100/B12 -> 94.520548 | E12: ='Wybór sądu'!I27 -> 67 | F12: ='Wybór sądu'!M27 -> 59 | G12: =F12*100/E12 -> 88.059701 | H12: ='Wybór sądu'!J27 -> 13 | I12: ='Wybór sądu'!N27 -> 16 | J12: =I12*100/H12 -> 123.07692
A13: - w trybie a.552 kpk | B13: ='Wybór sądu'!H28 -> 218 | C13: ='Wybór sądu'!L28 -> 243 | D13: =C13*100/B13 -> 111.46789 | E13: ='Wybór sądu'!I28 -> 198 | F13: ='Wybór sądu'!M28 -> 0 | G13: =F13*100/E13 -> 0 | H13: ='Wybór sądu'!J28 -> 42 | I13: ='Wybór sądu'!N28 -> 57 | J13: =I13*100/H13 -> 135.71429
A14: - zażalenia (A Kz) | B14: ='Wybór sądu'!H29 -> 5044 | C14: ='Wybór sądu'!L29 -> 5039 | D14: =C14*100/B14 -> 99.900872 | E14: ='Wybór sądu'!I29 -> 5023 | F14: ='Wybór sądu'!M29 -> 4986 | G14: =F14*100/E14 -> 99.263388 | H14: ='Wybór sądu'!J29 -> 266 | I14: ='Wybór sądu'!N29 -> 271 | J14: =I14*100/H14 -> 101.8797
A15: ogólne (A Ko) | B15: ='Wybór sądu'!H30 -> 1582 | C15: ='Wybór sądu'!L30 -> 1509 | D15: =C15*100/B15 -> 95.385588 | E15: ='Wybór sądu'!I30 -> 1525 | F15: ='Wybór sądu'!M30 -> 1462 | G15: =F15*100/E15 -> 95.868852 | H15: ='Wybór sądu'!J30 -> 282 | I15: ='Wybór sądu'!N30 -> 270 | J15: =I15*100/H15 -> 95.744681
A16: w tym:
A17: sprawy w trybie art.11a pwkpk | B17: ='Wybór sądu'!H32 -> 1 | C17: ='Wybór sądu'!L32 -> 0 | D17: X | E17: ='Wybór sądu'!I32 -> 1 | F17: ='Wybór sądu'!M32 -> 1 | G17: X | H17: ='Wybór sądu'!J32 -> 0 | I17: ='Wybór sądu'!N32 -> 0 | J17: X
A18: nadzór sądowy nad postępowaniem przygotowawczym (A Kp) | B18: ='Wybór sądu'!H33 -> 376 | C18: ='Wybór sądu'!L33 -> 380 | D18: =C18*100/B18 -> 101.06383 | E18: ='Wybór sądu'!I33 -> 369 | F18: ='Wybór sądu'!M33 -> 379 | G18: =F18*100/E18 -> 102.71003 | H18: ='Wybór sądu'!J33 -> 18 | I18: ='Wybór sądu'!N33 -> 8 | J18: =I18*100/H18 -> 44.444444
A19: zażalenia na postanowienia w postępowaniu wykonawczym (A Kzw) | B19: ='Wybór sądu'!H34 -> 15301 | C19: ='Wybór sądu'!L34 -> 15326 | D19: =C19*100/B19 -> 100.16339 | E19: ='Wybór sądu'!I34 -> 14518 | F19: ='Wybór sądu'!M34 -> 14917 | G19: =F19*100/E19 -> 102.74831 | H19: ='Wybór sądu'!J34 -> 2154 | I19: ='Wybór sądu'!N34 -> 1939 | J19: =I19*100/H19 -> 90.01857
A20: kasacje (WKK) | B20: ='Wybór sądu'!H35 -> 446 | C20: ='Wybór sądu'!L35 -> 451 | D20: =C20*100/B20 -> 101.12108 | E20: ='Wybór sądu'!I35 -> 462 | F20: ='Wybór sądu'!M35 -> 452 | G20: =F20*100/E20 -> 97.835498 | H20: ='Wybór sądu'!J35 -> 109 | I20: ='Wybór sądu'!N35 -> 111 | J20: =I20*100/H20 -> 101.83486
A21: skargi na postępowanie sądowe i prokuratorskie (S) | B21: ='Wybór sądu'!H36 -> 419 | C21: ='Wybór sądu'!L36 -> 366 | D21: =C21*100/B21 -> 87.350835 | E21: ='Wybór sądu'!I36 -> 412 | F21: ='Wybór sądu'!M36 -> 369 | G21: =F21*100/E21 -> 89.563107 | H21: ='Wybór sądu'!J36 -> 48 | I21: ='Wybór sądu'!N36 -> 33 | J21: =I21*100/H21 -> 68.75
A22: W SĄDACH APELACYJNYCH (c.d.)
A23: Sprawy cywilne - razem | B23: ='Wybór sądu'!H37 -> 30648 | C23: ='Wybór sądu'!L37 -> 31036 | D23: =C23*100/B23 -> 101.26599 | E23: ='Wybór sądu'!I37 -> 27154 | F23: ='Wybór sądu'!M37 -> 27308 | G23: =F23*100/E23 -> 100.56714 | H23: ='Wybór sądu'!J37 -> 8776 | I23: ='Wybór sądu'!N37 -> 10911 | J23: =I23*100/H23 -> 124.32771
A24: II instancji - apelacje (A Ca)a) | B24: ='Wybór sądu'!H38 -> 11236 | C24: ='Wybór sądu'!L38 -> 12247 | D24: =C24*100/B24 -> 108.99786 | E24: ='Wybór sądu'!I38 -> 9089 | F24: ='Wybór sądu'!M38 -> 9664 | G24: =F24*100/E24 -> 106.32633 | H24: ='Wybór sądu'!J38 -> 5914 | I24: ='Wybór sądu'!N38 -> 7656 | J24: =I24*100/H24 -> 129.45553
A25: - zażalenia (A Cz)a) | B25: ='Wybór sądu'!H39 -> 15653 | C25: ='Wybór sądu'!L39 -> 14589 | D25: =C25*100/B25 -> 93.202581 | E25: ='Wybór sądu'!I39 -> 14540 | F25: ='Wybór sądu'!M39 -> 13566 | G25: =F25*100/E25 -> 93.301238 | H25: ='Wybór sądu'!J39 -> 2293 | I25: ='Wybór sądu'!N39 -> 2599 | J25: =I25*100/H25 -> 113.34496
A26: ogólne (A Co) | B26: ='Wybór sądu'!H40 -> 507 | C26: ='Wybór sądu'!L40 -> 582 | D26: =C26*100/B26 -> 114.7929 | E26: ='Wybór sądu'!I40 -> 474 | F26: ='Wybór sądu'!M40 -> 578 | G26: =F26*100/E26 -> 121.94093 | H26: ='Wybór sądu'!J40 -> 68 | I26: ='Wybór sądu'!N40 -> 74 | J26: =I26*100/H26 -> 108.82353
A27: skarga kasacyjna (WSC) | B27: ='Wybór sądu'!H41 -> 1328 | C27: ='Wybór sądu'!L41 -> 1419 | D27: =C27*100/B27 -> 106.85241 | E27: ='Wybór sądu'!I41 -> 1236 | F27: ='Wybór sądu'!M41 -> 1357 | G27: =F27*100/E27 -> 109.78964 | H27: ='Wybór sądu'!J41 -> 274 | I27: ='Wybór sądu'!N41 -> 301 | J27: =I27*100/H27 -> 109.85401
A28: skarga o stwierdzenie niezgodności z prawem (WSC)b) | B28: ='Wybór sądu'!H42 -> 24 | C28: ='Wybór sądu'!L42 -> 22 | D28: =C28*100/B28 -> 91.666667 | E28: ='Wybór sądu'!I42 -> 28 | F28: ='Wybór sądu'!M42 -> 20 | G28: =F28*100/E28 -> 71.428571 | H28: ='Wybór sądu'!J42 -> 5 | I28: ='Wybór sądu'!N42 -> 8 | J28: =I28*100/H28 -> 160
A29: skargi na postępowanie sądowe (S) | B29: ='Wybór sądu'!H43 -> 1900 | C29: ='Wybór sądu'!L43 -> 2177 | D29: =C29*100/B29 -> 114.57895 | E29: ='Wybór sądu'!I43 -> 1787 | F29: ='Wybór sądu'!M43 -> 2123 | G29: =F29*100/E29 -> 118.80246 | H29: ='Wybór sądu'!J43 -> 222 | I29: ='Wybór sądu'!N43 -> 273 | J29: =I29*100/H29 -> 122.97297
A30: Sprawy z zakresu prawa pracy - razem | B30: ='Wybór sądu'!H44 -> 840 | C30: ='Wybór sądu'!L44 -> 787 | D30: =C30*100/B30 -> 93.690476 | E30: ='Wybór sądu'!I44 -> 768 | F30: ='Wybór sądu'!M44 -> 725 | G30: =F30*100/E30 -> 94.401042 | H30: ='Wybór sądu'!J44 -> 268 | I30: ='Wybór sądu'!N44 -> 292 | J30: =I30*100/H30 -> 108.95522
A31: II instancji - apelacje (A Pa) | B31: ='Wybór sądu'!H45 -> 324 | C31: ='Wybór sądu'!L45 -> 323 | D31: =C31*100/B31 -> 99.691358 | E31: ='Wybór sądu'!I45 -> 292 | F31: ='Wybór sądu'!M45 -> 254 | G31: =F31*100/E31 -> 86.986301 | H31: ='Wybór sądu'!J45 -> 169 | I31: ='Wybór sądu'!N45 -> 210 | J31: =I31*100/H31 -> 124.26036
A32: - zażalenia (A Pz) | B32: ='Wybór sądu'!H46 -> 314 | C32: ='Wybór sądu'!L46 -> 264 | D32: =C32*100/B32 -> 84.076433 | E32: ='Wybór sądu'!I46 -> 291 | F32: ='Wybór sądu'!M46 -> 267 | G32: =F32*100/E32 -> 91.752577 | H32: ='Wybór sądu'!J46 -> 51 | I32: ='Wybór sądu'!N46 -> 42 | J32: =I32*100/H32 -> 82.352941
A33: - ogólne (A Po) | B33: ='Wybór sądu'!H47 -> 91 | C33: ='Wybór sądu'!L47 -> 82 | D33: =C33*100/B33 -> 90.10989 | E33: ='Wybór sądu'!I47 -> 90 | F33: ='Wybór sądu'!M47 -> 82 | G33: =F33*100/E33 -> 91.111111 | H33: ='Wybór sądu'!J47 -> 19 | I33: ='Wybór sądu'!N47 -> 18 | J33: =I33*100/H33 -> 94.736842
A34: skarga kasacyjna (WSC-pracy) | B34: ='Wybór sądu'!H48 -> 66 | C34: ='Wybór sądu'!L48 -> 69 | D34: =C34*100/B34 -> 104.54545 | E34: ='Wybór sądu'!I48 -> 53 | F34: ='Wybór sądu'!M48 -> 74 | G34: =F34*100/E34 -> 139.62264 | H34: ='Wybór sądu'!J48 -> 20 | I34: ='Wybór sądu'!N48 -> 17 | J34: =I34*100/H34 -> 85
A35: skarga o stwierdzenie niezgodności z prawem (WSC-pracy) | B35: ='Wybór sądu'!H49 -> 0 | C35: ='Wybór sądu'!L49 -> 0 | D35: X | E35: ='Wybór sądu'!I49 -> 0 | F35: ='Wybór sądu'!M49 -> 0 | G35: X | H35: ='Wybór sądu'!J49 -> 0 | I35: ='Wybór sądu'!N49 -> 0 | J35: X
A36: skargi na postępowanie sądowe (S) | B36: ='Wybór sądu'!H50 -> 45 | C36: ='Wybór sądu'!L50 -> 49 | D36: =C36*100/B36 -> 108.88889 | E36: ='Wybór sądu'!I50 -> 42 | F36: ='Wybór sądu'!M50 -> 48 | G36: =F36*100/E36 -> 114.28571 | H36: ='Wybór sądu'!J50 -> 9 | I36: ='Wybór sądu'!N50 -> 5 | J36: =I36*100/H36 -> 55.555556
A37: Sprawy z zakresu ubezpieczeń społecznych - razem | B37: ='Wybór sądu'!H51 -> 24830 | C37: ='Wybór sądu'!L51 -> 19641 | D37: =C37*100/B37 -> 79.101893 | E37: ='Wybór sądu'!I51 -> 17376 | F37: ='Wybór sądu'!M51 -> 22130 | G37: =F37*100/E37 -> 127.35958 | H37: ='Wybór sądu'!J51 -> 18719 | I37: ='Wybór sądu'!N51 -> 16804 | J37: =I37*100/H37 -> 89.769753
A38: II instancji - apelacje (A Ua) | B38: ='Wybór sądu'!H52 -> 20484 | C38: ='Wybór sądu'!L52 -> 16160 | D38: =C38*100/B38 -> 78.890842 | E38: ='Wybór sądu'!I52 -> 13088 | F38: ='Wybór sądu'!M52 -> 18840 | G38: =F38*100/E38 -> 143.94866 | H38: ='Wybór sądu'!J52 -> 18221 | I38: ='Wybór sądu'!N52 -> 16183 | J38: =I38*100/H38 -> 88.815103
A39: - zażalenia (A Uz) | B39: ='Wybór sądu'!H53 -> 2985 | C39: ='Wybór sądu'!L53 -> 2261 | D39: =C39*100/B39 -> 75.745394 | E39: ='Wybór sądu'!I53 -> 2923 | F39: ='Wybór sądu'!M53 -> 2076 | G39: =F39*100/E39 -> 71.022922 | H39: ='Wybór sądu'!J53 -> 301 | I39: ='Wybór sądu'!N53 -> 422 | J39: =I39*100/H39 -> 140.19934
A40: ogólne (A Uo) | B40: ='Wybór sądu'!H54 -> 31 | C40: ='Wybór sądu'!L54 -> 21 | D40: =C40*100/B40 -> 67.741935 | E40: ='Wybór sądu'!I54 -> 27 | F40: ='Wybór sądu'!M54 -> 21 | G40: =F40*100/E40 -> 77.777778 | H40: ='Wybór sądu'!J54 -> 7 | I40: ='Wybór sądu'!N54 -> 2 | J40: =I40*100/H40 -> 28.571429
A41: skarga kasacyjna (WSC-ubezp.) | B41: ='Wybór sądu'!H55 -> 1175 | C41: ='Wybór sądu'!L55 -> 1071 | D41: =C41*100/B41 -> 91.148936 | E41: ='Wybór sądu'!I55 -> 1173 | F41: ='Wybór sądu'!M55 -> 1063 | G41: =F41*100/E41 -> 90.622336 | H41: ='Wybór sądu'!J55 -> 169 | I41: ='Wybór sądu'!N55 -> 184 | J41: =I41*100/H41 -> 108.87574
A42: skarga o stwierdzenie niezgodności z prawem (WSC-ubezp.) | B42: ='Wybór sądu'!H56 -> 20 | C42: ='Wybór sądu'!L56 -> 11 | D42: =C42*100/B42 -> 55 | E42: ='Wybór sądu'!I56 -> 18 | F42: ='Wybór sądu'!M56 -> 13 | G42: =F42*100/E42 -> 72.222222 | H42: ='Wybór sądu'!J56 -> 2 | I42: ='Wybór sądu'!N56 -> 2 | J42: =I42*100/H42 -> 100
A43: skargi na postępowanie sądowe (S) | B43: ='Wybór sądu'!H57 -> 135 | C43: ='Wybór sądu'!L57 -> 117 | D43: =C43*100/B43 -> 86.666667 | E43: ='Wybór sądu'!I57 -> 147 | F43: ='Wybór sądu'!M57 -> 117 | G43: =F43*100/E43 -> 79.591837 | H43: ='Wybór sądu'!J57 -> 19 | I43: ='Wybór sądu'!N57 -> 11 | J43: =I43*100/H43 -> 57.894737
A44: W SĄDACH APELACYJNYCH (dok.)
A45: Sprawy gospodarcze - razem | B45: ='Wybór sądu'!H58 -> 7878 | C45: ='Wybór sądu'!L58 -> 11654 | D45: =C45*100/B45 -> 147.93095 | E45: ='Wybór sądu'!I58 -> 6615 | F45: ='Wybór sądu'!M58 -> 8204 | G45: =F45*100/E45 -> 124.02116 | H45: ='Wybór sądu'!J58 -> 2577 | I45: ='Wybór sądu'!N58 -> 6347 | J45: =I45*100/H45 -> 246.29414
A46: II instancji - apelacje (A Ca-gosp.) | B46: ='Wybór sądu'!H59 -> 2382 | C46: ='Wybór sądu'!L59 -> 2608 | D46: =C46*100/B46 -> 109.48783 | E46: ='Wybór sądu'!I59 -> 1907 | F46: ='Wybór sądu'!M59 -> 1998 | G46: =F46*100/E46 -> 104.77189 | H46: ='Wybór sądu'!J59 -> 1423 | I46: ='Wybór sądu'!N59 -> 1930 | J46: =I46*100/H46 -> 135.62895
A47: - zażalenia (A Cz-gosp.) | B47: ='Wybór sądu'!H60 -> 4877 | C47: ='Wybór sądu'!L60 -> 7961 | D47: =C47*100/B47 -> 163.2356 | E47: ='Wybór sądu'!I60 -> 4147 | F47: ='Wybór sądu'!M60 -> 5168 | G47: =F47*100/E47 -> 124.62021 | H47: ='Wybór sądu'!J60 -> 1026 | I47: ='Wybór sądu'!N60 -> 4215 | J47: =I47*100/H47 -> 410.81871
A48: ogólne (A Co-gosp.) | B48: ='Wybór sądu'!H61 -> 16 | C48: ='Wybór sądu'!L61 -> 30 | D48: =C48*100/B48 -> 187.5 | E48: ='Wybór sądu'!I61 -> 18 | F48: ='Wybór sądu'!M61 -> 35 | G48: =F48*100/E48 -> 194.44444 | H48: ='Wybór sądu'!J61 -> 0 | I48: ='Wybór sądu'!N61 -> 1 | J48: X
A49: skarga kasacyjna (WSC-gosp.) | B49: ='Wybór sądu'!H62 -> 442 | C49: ='Wybór sądu'!L62 -> 831 | D49: =C49*100/B49 -> 188.00905 | E49: ='Wybór sądu'!I62 -> 401 | F49: ='Wybór sądu'!M62 -> 764 | G49: =F49*100/E49 -> 190.52369 | H49: ='Wybór sądu'!J62 -> 105 | I49: ='Wybór sądu'!N62 -> 166 | J49: =I49*100/H49 -> 158.09524
A50: skarga o stwierdzenie niezgodności z prawem (WSC-gosp.) | B50: ='Wybór sądu'!H63 -> 3 | C50: ='Wybór sądu'!L63 -> 3 | D50: =C50*100/B50 -> 100 | E50: ='Wybór sądu'!I63 -> 3 | F50: ='Wybór sądu'!M63 -> 4 | G50: X | H50: ='Wybór sądu'!J63 -> 0 | I50: ='Wybór sądu'!N63 -> 1 | J50: X
A51: skargi na postępowanie sądowe (S) | B51: ='Wybór sądu'!H64 -> 158 | C51: ='Wybór sądu'!L64 -> 221 | D51: =C51*100/B51 -> 139.87342 | E51: ='Wybór sądu'!I64 -> 139 | F51: ='Wybór sądu'!M64 -> 235 | G51: =F51*100/E51 -> 169.06475 | H51: ='Wybór sądu'!J64 -> 23 | I51: ='Wybór sądu'!N64 -> 34 | J51: =I51*100/H51 -> 147.82609
A52: W SĄDACH OKRĘGOWYCH - OGÓŁEM | B52: ='Wybór sądu'!H65 -> 759953 | C52: ='Wybór sądu'!L65 -> 712990 | D52: =C52*100/B52 -> 93.820276 | E52: ='Wybór sądu'!I65 -> 688930 | F52: ='Wybór sądu'!M65 -> 695734 | G52: =F52*100/E52 -> 100.98762 | H52: ='Wybór sądu'!J65 -> 324434 | I52: ='Wybór sądu'!N65 -> 312981 | J52: =I52*100/H52 -> 96.469852
A53: Sprawy karne i wykroczeniowe - razem | B53: ='Wybór sądu'!H66 -> 298689 | C53: ='Wybór sądu'!L66 -> 288969 | D53: =C53*100/B53 -> 96.745779 | E53: ='Wybór sądu'!I66 -> 291838 | F53: ='Wybór sądu'!M66 -> 282703 | G53: =F53*100/E53 -> 96.869839 | H53: ='Wybór sądu'!J66 -> 48880 | I53: ='Wybór sądu'!N66 -> 47888 | J53: =I53*100/H53 -> 97.97054
A54: I instancji (K) | B54: ='Wybór sądu'!H67 -> 7088 | C54: ='Wybór sądu'!L67 -> 6823 | D54: =C54*100/B54 -> 96.261287 | E54: ='Wybór sądu'!I67 -> 6877 | F54: ='Wybór sądu'!M67 -> 6783 | G54: =F54*100/E54 -> 98.633125 | H54: ='Wybór sądu'!J67 -> 6111 | I54: ='Wybór sądu'!N67 -> 5988 | J54: =I54*100/H54 -> 97.987236
A55: w tym odpowiedzialność podmiotów zbiorowych | B55: ='Wybór sądu'!H68 -> 0 | C55: ='Wybór sądu'!L68 -> 0 | D55: X | E55: ='Wybór sądu'!I68 -> 0 | F55: ='Wybór sądu'!M68 -> 0 | G55: X | H55: ='Wybór sądu'!J68 -> 0 | I55: ='Wybór sądu'!N68 -> 0 | J55: X
A56: penitencjarne: - sprawy dotyczące wkonywania kary pozbawienia wolności; np.: przerw, odwołania warunkowego zwolnienia, zmiany określonego wyroku i typu zakładu karnego (Kow) | B56: ='Wybór sądu'!H69 -> 112675 | C56: ='Wybór sądu'!L69 -> 103071 | D56: =C56*100/B56 -> 91.47637 | E56: ='Wybór sądu'!I69 -> 110943 | F56: ='Wybór sądu'!M69 -> 102235 | G56: =F56*100/E56 -> 92.150924 | H56: ='Wybór sądu'!J69 -> 17549 | I56: ='Wybór sądu'!N69 -> 15475 | J56: =I56*100/H56 -> 88.181663
A57: - sprawy dotyczące wykonywania nadzoru sędziego penitencjarnego nad tymczasowym aresztowaniem lub karą pozbawienia wolności (Pen) | B57: ='Wybór sądu'!H70 -> 26062 | C57: ='Wybór sądu'!L70 -> 23408 | D57: =C57*100/B57 -> 89.816591 | E57: ='Wybór sądu'!I70 -> 25788 | F57: ='Wybór sądu'!M70 -> 23327 | G57: =F57*100/E57 -> 90.456802 | H57: ='Wybór sądu'!J70 -> 1136 | I57: ='Wybór sądu'!N70 -> 1174 | J57: =I57*100/H57 -> 103.34507
A58: nadzór sądowy nad postępowaniem przygotowawczym (Kp) | B58: ='Wybór sądu'!H71 -> 26660 | C58: ='Wybór sądu'!L71 -> 30443 | D58: =C58*100/B58 -> 114.1898 | E58: ='Wybór sądu'!I71 -> 25964 | F58: ='Wybór sądu'!M71 -> 30135 | G58: =F58*100/E58 -> 116.06455 | H58: ='Wybór sądu'!J71 -> 1534 | I58: ='Wybór sądu'!N71 -> 1357 | J58: =I58*100/H58 -> 88.461538
A59: Kop | B59: ='Wybór sądu'!H72 -> 3753 | C59: ='Wybór sądu'!L72 -> 3676 | D59: =C59*100/B59 -> 97.948308 | E59: ='Wybór sądu'!I72 -> 3683 | F59: ='Wybór sądu'!M72 -> 3557 | G59: =F59*100/E59 -> 96.578876 | H59: ='Wybór sądu'!J72 -> 535 | I59: ='Wybór sądu'!N72 -> 485 | J59: =I59*100/H59 -> 90.654206
A60: II instancji - apelacje w sprawach karnych (Ka) | B60: ='Wybór sądu'!H73 -> 39472 | C60: ='Wybór sądu'!L73 -> 37898 | D60: =C60*100/B60 -> 96.012363 | E60: ='Wybór sądu'!I73 -> 36295 | F60: ='Wybór sądu'!M73 -> 34500 | G60: =F60*100/E60 -> 95.054415 | H60: ='Wybór sądu'!J73 -> 11937 | I60: ='Wybór sądu'!N73 -> 12345 | J60: =I60*100/H60 -> 103.41794
A61: - zażalenia w sprawach karnych (Kz) | B61: ='Wybór sądu'!H74 -> 24945 | C61: ='Wybór sądu'!L74 -> 27022 | D61: =C61*100/B61 -> 108.32632 | E61: ='Wybór sądu'!I74 -> 24832 | F61: ='Wybór sądu'!M74 -> 26376 | G61: =F61*100/E61 -> 106.21778 | H61: ='Wybór sądu'!J74 -> 1875 | I61: ='Wybór sądu'!N74 -> 2771 | J61: =I61*100/H61 -> 147.78667
A62: zażalenia na postanowienia w postępowaniu wykonawczym (Kzw) | B62: ='Wybór sądu'!H75 -> 27429 | C62: ='Wybór sądu'!L75 -> 25571 | D62: =C62*100/B62 -> 93.226148 | E62: ='Wybór sądu'!I75 -> 27751 | F62: ='Wybór sądu'!M75 -> 25196 | G62: =F62*100/E62 -> 90.793125 | H62: ='Wybór sądu'!J75 -> 3848 | I62: ='Wybór sądu'!N75 -> 4105 | J62: =I62*100/H62 -> 106.67879
A63: ogólne (Ko) | B63: ='Wybór sądu'!H76 -> 28112 | C63: ='Wybór sądu'!L76 -> 28082 | D63: =C63*100/B63 -> 99.893284 | E63: ='Wybór sądu'!I76 -> 27340 | F63: ='Wybór sądu'!M76 -> 27675 | G63: =F63*100/E63 -> 101.22531 | H63: ='Wybór sądu'!J76 -> 3825 | I63: ='Wybór sądu'!N76 -> 3685 | J63: =I63*100/H63 -> 96.339869
A64: kasacje (WKK) | B64: ='Wybór sądu'!H77 -> 953 | C64: ='Wybór sądu'!L77 -> 881 | D64: =C64*100/B64 -> 92.444911 | E64: ='Wybór sądu'!I77 -> 937 | F64: ='Wybór sądu'!M77 -> 889 | G64: =F64*100/E64 -> 94.877268 | H64: ='Wybór sądu'!J77 -> 289 | I64: ='Wybór sądu'!N77 -> 272 | J64: =I64*100/H64 -> 94.117647
A65: skargi na postępowanie sądowe i prokuratorskie (S) | B65: ='Wybór sądu'!H78 -> 1540 | C65: ='Wybór sądu'!L78 -> 2094 | D65: =C65*100/B65 -> 135.97403 | E65: ='Wybór sądu'!I78 -> 1428 | F65: ='Wybór sądu'!M78 -> 2030 | G65: =F65*100/E65 -> 142.15686 | H65: ='Wybór sądu'!J78 -> 241 | I65: ='Wybór sądu'!N78 -> 231 | J65: =I65*100/H65 -> 95.850622
A66: W SĄDACH OKRĘGOWYCH (c.d.)
A67: Sprawy cywilne - razem | B67: ='Wybór sądu'!H79 -> 244433 | C67: ='Wybór sądu'!L79 -> 247770 | D67: =C67*100/B67 -> 101.3652 | E67: ='Wybór sądu'!I79 -> 224163 | F67: ='Wybór sądu'!M79 -> 230287 | G67: =F67*100/E67 -> 102.73194 | H67: ='Wybór sądu'!J79 -> 134969 | I67: ='Wybór sądu'!N79 -> 141890 | J67: =I67*100/H67 -> 105.12784
A68: I instancji - procesowe (C i RC)a) | B68: ='Wybór sądu'!H80 -> 107014 | C68: ='Wybór sądu'!L80 -> 105422 | D68: =C68*100/B68 -> 98.512344 | E68: ='Wybór sądu'!I80 -> 97675 | F68: ='Wybór sądu'!M80 -> 96906 | G68: =F68*100/E68 -> 99.212695 | H68: ='Wybór sądu'!J80 -> 94417 | I68: ='Wybór sądu'!N80 -> 99310 | J68: =I68*100/H68 -> 105.18233
A69: - szkody geologiczne i górnicze (CG-G) | B69: ='Wybór sądu'!H81 -> 150 | C69: ='Wybór sądu'!L81 -> 144 | D69: =C69*100/B69 -> 96 | E69: ='Wybór sądu'!I81 -> 74 | F69: ='Wybór sądu'!M81 -> 99 | G69: =F69*100/E69 -> 133.78378 | H69: ='Wybór sądu'!J81 -> 232 | I69: ='Wybór sądu'!N81 -> 278 | J69: =I69*100/H69 -> 119.82759
A70: - nieprocesowe (Ns)a) (z wył. rej.) | B70: ='Wybór sądu'!H82 -> 11758 | C70: ='Wybór sądu'!L82 -> 11949 | D70: =C70*100/B70 -> 101.62443 | E70: ='Wybór sądu'!I82 -> 10639 | F70: ='Wybór sądu'!M82 -> 10692 | G70: =F70*100/E70 -> 100.49817 | H70: ='Wybór sądu'!J82 -> 6623 | I70: ='Wybór sądu'!N82 -> 7165 | J70: =I70*100/H70 -> 108.1836
A71: - rejestrowe | B71: ='Wybór sądu'!H83 -> 6423 | C71: ='Wybór sądu'!L83 -> 6728 | D71: =C71*100/B71 -> 104.74856 | E71: ='Wybór sądu'!I83 -> 6331 | F71: ='Wybór sądu'!M83 -> 6885 | G71: =F71*100/E71 -> 108.75059 | H71: ='Wybór sądu'!J83 -> 435 | I71: ='Wybór sądu'!N83 -> 361 | J71: =I71*100/H71 -> 82.988506
A72: w tym:
A73: z zakresu rejestru dzienników i czasopism (Ns.Rej.Pr) | B73: ='Wybór sądu'!H84 -> 3800 | C73: ='Wybór sądu'!L84 -> 3683 | D73: =C73*100/B73 -> 96.921053 | E73: ='Wybór sądu'!I84 -> 3726 | F73: ='Wybór sądu'!M84 -> 3749 | G73: =F73*100/E73 -> 100.61728 | H73: ='Wybór sądu'!J84 -> 300 | I73: ='Wybór sądu'!N84 -> 273 | J73: =I73*100/H73 -> 91
A74: Partie | B74: ='Wybór sądu'!H85 -> 56 | C74: ='Wybór sądu'!L85 -> 63 | D74: =C74*100/B74 -> 112.5 | E74: ='Wybór sądu'!I85 -> 72 | F74: ='Wybór sądu'!M85 -> 51 | G74: =F74*100/E74 -> 70.833333 | H74: ='Wybór sądu'!J85 -> 9 | I74: ='Wybór sądu'!N85 -> 25 | J74: =I74*100/H74 -> 277.77778
A75: Fundusze emerytalne | B75: ='Wybór sądu'!H86 -> 53 | C75: ='Wybór sądu'!L86 -> 79 | D75: =C75*100/B75 -> 149.0566 | E75: ='Wybór sądu'!I86 -> 52 | F75: ='Wybór sądu'!M86 -> 83 | G75: =F75*100/E75 -> 159.61538 | H75: ='Wybór sądu'!J86 -> 3 | I75: ='Wybór sądu'!N86 -> 5 | J75: =I75*100/H75 -> 166.66667
A76: Fundusze inwestycyjne | B76: ='Wybór sądu'!H87 -> 2514 | C76: ='Wybór sądu'!L87 -> 2903 | D76: =C76*100/B76 -> 115.47335 | E76: ='Wybór sądu'!I87 -> 2481 | F76: ='Wybór sądu'!M87 -> 3002 | G76: =F76*100/E76 -> 120.9996 | H76: ='Wybór sądu'!J87 -> 123 | I76: ='Wybór sądu'!N87 -> 58 | J76: =I76*100/H76 -> 47.154472
A77: - nakazowe i upominawcze (Nc) | B77: ='Wybór sądu'!H88 -> 10158 | C77: ='Wybór sądu'!L88 -> 10532 | D77: =C77*100/B77 -> 103.68183 | E77: ='Wybór sądu'!I88 -> 11365 | F77: ='Wybór sądu'!M88 -> 10455 | G77: =F77*100/E77 -> 91.992961 | H77: ='Wybór sądu'!J88 -> 1186 | I77: ='Wybór sądu'!N88 -> 1303 | J77: =I77*100/H77 -> 109.86509
A78: ogólne (Co I inst.) | B78: ='Wybór sądu'!H89 -> 10029 | C78: ='Wybór sądu'!L89 -> 9385 | D78: =C78*100/B78 -> 93.578622 | E78: ='Wybór sądu'!I89 -> 9719 | F78: ='Wybór sądu'!M89 -> 9215 | G78: =F78*100/E78 -> 94.814281 | H78: ='Wybór sądu'!J89 -> 2094 | I78: ='Wybór sądu'!N89 -> 1965 | J78: =I78*100/H78 -> 93.839542
A79: skarga o stwierdzenie niezgodności z prawem (WSC) | B79: ='Wybór sądu'!H90 -> 19 | C79: ='Wybór sądu'!L90 -> 39 | D79: =C79*100/B79 -> 205.26316 | E79: ='Wybór sądu'!I90 -> 18 | F79: ='Wybór sądu'!M90 -> 40 | G79: =F79*100/E79 -> 222.22222 | H79: ='Wybór sądu'!J90 -> 3 | I79: ='Wybór sądu'!N90 -> 6 | J79: =I79*100/H79 -> 200
A80: II instancji - apelacje (Ca)a) | B80: ='Wybór sądu'!H91 -> 43689 | C80: ='Wybór sądu'!L91 -> 43421 | D80: =C80*100/B80 -> 99.386573 | E80: ='Wybór sądu'!I91 -> 37152 | F80: ='Wybór sądu'!M91 -> 38361 | G80: =F80*100/E80 -> 103.2542 | H80: ='Wybór sądu'!J91 -> 20128 | I80: ='Wybór sądu'!N91 -> 21183 | J80: =I80*100/H80 -> 105.24145
A81: - zażalenia (Cz)a) | B81: ='Wybór sądu'!H92 -> 49064 | C81: ='Wybór sądu'!L92 -> 51339 | D81: =C81*100/B81 -> 104.6368 | E81: ='Wybór sądu'!I92 -> 45373 | F81: ='Wybór sądu'!M92 -> 48851 | G81: =F81*100/E81 -> 107.66535 | H81: ='Wybór sądu'!J92 -> 8794 | I81: ='Wybór sądu'!N92 -> 9237 | J81: =I81*100/H81 -> 105.03753
A82: ogólne (Co II inst.) | B82: ='Wybór sądu'!H93 -> 330 | C82: ='Wybór sądu'!L93 -> 307 | D82: =C82*100/B82 -> 93.030303 | E82: ='Wybór sądu'!I93 -> 331 | F82: ='Wybór sądu'!M93 -> 306 | G82: =F82*100/E82 -> 92.44713 | H82: ='Wybór sądu'!J93 -> 26 | I82: ='Wybór sądu'!N93 -> 23 | J82: =I82*100/H82 -> 88.461538
A83: skarga kasacyjna (WSC) | B83: ='Wybór sądu'!H94 -> 1144 | C83: ='Wybór sądu'!L94 -> 1262 | D83: =C83*100/B83 -> 110.31469 | E83: ='Wybór sądu'!I94 -> 1079 | F83: ='Wybór sądu'!M94 -> 1249 | G83: =F83*100/E83 -> 115.75533 | H83: ='Wybór sądu'!J94 -> 284 | I83: ='Wybór sądu'!N94 -> 327 | J83: =I83*100/H83 -> 115.14085
A84: skarga o stwierdzenie niezgodności z prawem (WSC II inst.) | B84: ='Wybór sądu'!H95 -> 193 | C84: ='Wybór sądu'!L95 -> 203 | D84: =C84*100/B84 -> 105.18135 | E84: ='Wybór sądu'!I95 -> 194 | F84: ='Wybór sądu'!M95 -> 190 | G84: =F84*100/E84 -> 97.938144 | H84: ='Wybór sądu'!J95 -> 54 | I84: ='Wybór sądu'!N95 -> 55 | J84: =I84*100/H84 -> 101.85185
A85: skargi na postępowanie sądowe (S) | B85: ='Wybór sądu'!H96 -> 4462 | C85: ='Wybór sądu'!L96 -> 7039 | D85: =C85*100/B85 -> 157.75437 | E85: ='Wybór sądu'!I96 -> 4213 | F85: ='Wybór sądu'!M96 -> 7038 | G85: =F85*100/E85 -> 167.05436 | H85: ='Wybór sądu'!J96 -> 693 | I85: ='Wybór sądu'!N96 -> 677 | J85: =I85*100/H85 -> 97.691198
A87: W SĄDACH OKRĘGOWYCH (c.d.)
A88: Sprawy z zakresu prawa pracy - razem | B88: ='Wybór sądu'!H97 -> 12237 | C88: ='Wybór sądu'!L97 -> 12761 | D88: =C88*100/B88 -> 104.2821 | E88: ='Wybór sądu'!I97 -> 10899 | F88: ='Wybór sądu'!M97 -> 11405 | G88: =F88*100/E88 -> 104.64263 | H88: ='Wybór sądu'!J97 -> 4783 | I88: ='Wybór sądu'!N97 -> 5345 | J88: =I88*100/H88 -> 111.74995
A89: I instancji - ze stosunku pracy (P) | B89: ='Wybór sądu'!H98 -> 1558 | C89: ='Wybór sądu'!L98 -> 1216 | D89: =C89*100/B89 -> 78.04878 | E89: ='Wybór sądu'!I98 -> 1513 | F89: ='Wybór sądu'!M98 -> 1217 | G89: =F89*100/E89 -> 80.436219 | H89: ='Wybór sądu'!J98 -> 1510 | I89: ='Wybór sądu'!N98 -> 1469 | J89: =I89*100/H89 -> 97.284768
A90: - nakazowe (Np) | B90: ='Wybór sądu'!H99 -> 64 | C90: ='Wybór sądu'!L99 -> 52 | D90: =C90*100/B90 -> 81.25 | E90: ='Wybór sądu'!I99 -> 62 | F90: ='Wybór sądu'!M99 -> 52 | G90: =F90*100/E90 -> 83.870968 | H90: ='Wybór sądu'!J99 -> 13 | I90: ='Wybór sądu'!N99 -> 7 | J90: =I90*100/H90 -> 53.846154
A91: ogólne (Po) | B91: ='Wybór sądu'!H100 -> 561 | C91: ='Wybór sądu'!L100 -> 924 | D91: =C91*100/B91 -> 164.70588 | E91: ='Wybór sądu'!I100 -> 472 | F91: ='Wybór sądu'!M100 -> 849 | G91: =F91*100/E91 -> 179.87288 | H91: ='Wybór sądu'!J100 -> 117 | I91: ='Wybór sądu'!N100 -> 109 | J91: =I91*100/H91 -> 93.162393
A92: wykaz Kas-z | B92: ='Wybór sądu'!H101 -> 4 | C92: ='Wybór sądu'!L101 -> 4 | D92: =C92*100/B92 -> 100 | E92: ='Wybór sądu'!I101 -> 3 | F92: ='Wybór sądu'!M101 -> 1 | G92: =F92*100/E92 -> 33.333333 | H92: ='Wybór sądu'!J101 -> 1 | I92: ='Wybór sądu'!N101 -> 4 | J92: =I92*100/H92 -> 400
A93: skarga o stwierdzenie niezgodności z prawem (WSC I inst.) | B93: ='Wybór sądu'!H102 -> 0 | C93: ='Wybór sądu'!L102 -> 0 | D93: X | E93: ='Wybór sądu'!I102 -> 0 | F93: ='Wybór sądu'!M102 -> 0 | G93: X | H93: ='Wybór sądu'!J102 -> 0 | I93: ='Wybór sądu'!N102 -> 0 | J93: X
A94: II instancji - apelacje (Pa) | B94: ='Wybór sądu'!H103 -> 6866 | C94: ='Wybór sądu'!L103 -> 7242 | D94: =C94*100/B94 -> 105.47626 | E94: ='Wybór sądu'!I103 -> 5832 | F94: ='Wybór sądu'!M103 -> 6073 | G94: =F94*100/E94 -> 104.13237 | H94: ='Wybór sądu'!J103 -> 2710 | I94: ='Wybór sądu'!N103 -> 3307 | J94: =I94*100/H94 -> 122.02952
A95: - zażalenia (Pz) | B95: ='Wybór sądu'!H104 -> 2382 | C95: ='Wybór sądu'!L104 -> 2313 | D95: =C95*100/B95 -> 97.103275 | E95: ='Wybór sądu'!I104 -> 2232 | F95: ='Wybór sądu'!M104 -> 2178 | G95: =F95*100/E95 -> 97.580645 | H95: ='Wybór sądu'!J104 -> 319 | I95: ='Wybór sądu'!N104 -> 340 | J95: =I95*100/H95 -> 106.58307
A96: ogólne (Po II inst.) | B96: ='Wybór sądu'!H105 -> 53 | C96: ='Wybór sądu'!L105 -> 254 | D96: =C96*100/B96 -> 479.24528 | E96: ='Wybór sądu'!I105 -> 54 | F96: ='Wybór sądu'!M105 -> 255 | G96: =F96*100/E96 -> 472.22222 | H96: ='Wybór sądu'!J105 -> 2 | I96: ='Wybór sądu'!N105 -> 1 | J96: =I96*100/H96 -> 50
A97: skarga kasacyjna (WSC-pracy) | B97: ='Wybór sądu'!H106 -> 611 | C97: ='Wybór sądu'!L106 -> 627 | D97: =C97*100/B97 -> 102.61866 | E97: ='Wybór sądu'!I106 -> 595 | F97: ='Wybór sądu'!M106 -> 646 | G97: =F97*100/E97 -> 108.57143 | H97: ='Wybór sądu'!J106 -> 102 | I97: ='Wybór sądu'!N106 -> 93 | J97: =I97*100/H97 -> 91.176471
A98: skarga o stwierdzenie niezgodności z prawem (WSC II inst.) | B98: ='Wybór sądu'!H107 -> 30 | C98: ='Wybór sądu'!L107 -> 20 | D98: =C98*100/B98 -> 66.666667 | E98: ='Wybór sądu'!I107 -> 27 | F98: ='Wybór sądu'!M107 -> 21 | G98: =F98*100/E98 -> 77.777778 | H98: ='Wybór sądu'!J107 -> 5 | I98: ='Wybór sądu'!N107 -> 4 | J98: =I98*100/H98 -> 80
A99: skargi na postępowanie sądowe (S) | B99: ='Wybór sądu'!H108 -> 108 | C99: ='Wybór sądu'!L108 -> 109 | D99: =C99*100/B99 -> 100.92593 | E99: ='Wybór sądu'!I108 -> 109 | F99: ='Wybór sądu'!M108 -> 113 | G99: =F99*100/E99 -> 103.66972 | H99: ='Wybór sądu'!J108 -> 4 | I99: ='Wybór sądu'!N108 -> 11 | J99: =I99*100/H99 -> 275
A100: Sprawy z zakresu ubezpieczeń społecznych - razem | B100: ='Wybór sądu'!H109 -> 124911 | C100: ='Wybór sądu'!L109 -> 114621 | D100: =C100*100/B100 -> 91.762135 | E100: ='Wybór sądu'!I109 -> 105634 | F100: ='Wybór sądu'!M109 -> 98975 | G100: =F100*100/E100 -> 93.696158 | H100: ='Wybór sądu'!J109 -> 84314 | I100: ='Wybór sądu'!N109 -> 91429 | J100: =I100*100/H100 -> 108.43869
A101: I instancji (U) | B101: ='Wybór sądu'!H110 -> 118186 | C101: ='Wybór sądu'!L110 -> 107019 | D101: =C101*100/B101 -> 90.551334 | E101: ='Wybór sądu'!I110 -> 99284 | F101: ='Wybór sądu'!M110 -> 92152 | G101: =F101*100/E101 -> 92.816567 | H101: ='Wybór sądu'!J110 -> 82308 | I101: ='Wybór sądu'!N110 -> 88827 | J101: =I101*100/H101 -> 107.92025
A102: ogólne (Uo I inst.) | B102: ='Wybór sądu'!H111 -> 4603 | C102: ='Wybór sądu'!L111 -> 5099 | D102: =C102*100/B102 -> 110.77558 | E102: ='Wybór sądu'!I111 -> 4500 | F102: ='Wybór sądu'!M111 -> 4698 | G102: =F102*100/E102 -> 104.4 | H102: ='Wybór sądu'!J111 -> 1256 | I102: ='Wybór sądu'!N111 -> 1670 | J102: =I102*100/H102 -> 132.96178
...

Sheet Tabl. III (2)
A2: TABL. III. WSKAŹNIKI DOTYCZĄCE SPRAW W SĄDACH POWSZECHNYCH WEDŁUG DZIAŁÓW PRAWA I INSTANCYJNOŚCI
A3: za III kwartały 2013 i III kwartały 2014 roku
A4: RODZAJE SPRAW WEDŁUG KSIĄG EWIDENCYJNYCH | B4: WSKAŹNIK OPANOWANIA WPŁYWU | E4: WSKAŹNIK CZASU TRWANIA POSTĘPOWANIA (według metodologii CEPEJ) (w dniach) | H4: WSKAŹNIK POZOSTAŁOŚCI (w miesiącach)
B5: III kwartały 2013 | C5: III kwartały 2014 | E5: III kwartały 2013 | F5: III kwartały 2014 | H5: III kwartały 2013 | I5: III kwartały 2014
B6: w liczbach bezwzględnych | D6: III kw. 2013 = 100 | E6: w liczbach bezwzględnych | G6: III kw. 2013 = 100 | H6: w liczbach bezwzględnych | J6: III kw. 2013 = 100
A7: OGÓŁEM SPRAW W SĄDACH POWSZECHNYCH | B7: =IF('Tabl. II (2)'!B7>0,'Tabl. II (2)'!E7/'Tabl. II (2)'!B7*100,"X") -> 92.906963 | C7: =IF('Tabl. II (2)'!C7>0,'Tabl. II (2)'!F7/'Tabl. II (2)'!C7*100,"X") -> 99.013519 | D7: =C7*100/B7 -> 106.57276 | E7: =IF('Tabl. II (2)'!E7>0,'Tabl. II (2)'!H7/('Tabl. II (2)'!E7/273.8),"X") -> 67.807429 | F7: =IF('Tabl. II (2)'!F7>0,'Tabl. II (2)'!I7/('Tabl. II (2)'!F7/273.8),"X") -> 64.767642 | G7: =F7*100/E7 -> 95.517029 | H7: =IF('Tabl. II (2)'!B7>0,'Tabl. II (2)'!H7*9/'Tabl. II (2)'!B7,"X") -> 2.0707831 | I7: =IF('Tabl. II (2)'!C7>0,'Tabl. II (2)'!I7*9/'Tabl. II (2)'!C7,"X") -> 2.1079565 | J7: =I7*100/H7 -> 101.79514
A8: W SĄDACH APELACYJNYCH - OGÓŁEM | B8: =IF('Tabl. II (2)'!B8>0,'Tabl. II (2)'!E8/'Tabl. II (2)'!B8*100,"X") -> 85.03381 | C8: =IF('Tabl. II (2)'!C8>0,'Tabl. II (2)'!F8/'Tabl. II (2)'!C8*100,"X") -> 93.571076 | D8: =C8*100/B8 -> 110.03985 | E8: =IF('Tabl. II (2)'!E8>0,'Tabl. II (2)'!H8/('Tabl. II (2)'!E8/273.8),"X") -> 121.28952 | F8: =IF('Tabl. II (2)'!F8>0,'Tabl. II (2)'!I8/('Tabl. II (2)'!F8/273.8),"X") -> 124.33966 | G8: =F8*100/E8 -> 102.51476 | H8: =IF('Tabl. II (2)'!B8>0,'Tabl. II (2)'!H8*9/'Tabl. II (2)'!B8,"X") -> 3.3901896 | I8: =IF('Tabl. II (2)'!C8>0,'Tabl. II (2)'!I8*9/'Tabl. II (2)'!C8,"X") -> 3.824374 | J8: =I8*100/H8 -> 112.80709
A9: Sprawy karne - razem | B9: =IF('Tabl. II (2)'!B9>0,'Tabl. II (2)'!E9/'Tabl. II (2)'!B9*100,"X") -> 95.317906 | C9: =IF('Tabl. II (2)'!C9>0,'Tabl. II (2)'!F9/'Tabl. II (2)'!C9*100,"X") -> 96.234535 | D9: =C9*100/B9 -> 100.96165 | E9: =IF('Tabl. II (2)'!E9>0,'Tabl. II (2)'!H9/('Tabl. II (2)'!E9/273.8),"X") -> 40.204299 | F9: =IF('Tabl. II (2)'!F9>0,'Tabl. II (2)'!I9/('Tabl. II (2)'!F9/273.8),"X") -> 38.545828 | G9: =F9*100/E9 -> 95.87489 | H9: =IF('Tabl. II (2)'!B9>0,'Tabl. II (2)'!H9*9/'Tabl. II (2)'!B9,"X") -> 1.2596679 | I9: =IF('Tabl. II (2)'!C9>0,'Tabl. II (2)'!I9*9/'Tabl. II (2)'!C9,"X") -> 1.2193191 | J9: =I9*100/H9 -> 96.796876
A10: II instancji - apelacje (A Ka) | B10: =IF('Tabl. II (2)'!B10>0,'Tabl. II (2)'!E10/'Tabl. II (2)'!B10*100,"X") -> 87.385805 | C10: =IF('Tabl. II (2)'!C10>0,'Tabl. II (2)'!F10/'Tabl. II (2)'!C10*100,"X") -> 83.959391 | D10: =C10*100/B10 -> 96.078981 | E10: =IF('Tabl. II (2)'!E10>0,'Tabl. II (2)'!H10/('Tabl. II (2)'!E10/273.8),"X") -> 84.110655 | F10: =IF('Tabl. II (2)'!F10>0,'Tabl. II (2)'!I10/('Tabl. II (2)'!F10/273.8),"X") -> 98.660701 | G10: =F10*100/E10 -> 117.2987 | H10: =IF('Tabl. II (2)'!B10>0,'Tabl. II (2)'!H10*9/'Tabl. II (2)'!B10,"X") -> 2.4160225 | I10: =IF('Tabl. II (2)'!C10>0,'Tabl. II (2)'!I10*9/'Tabl. II (2)'!C10,"X") -> 2.7228426 | J10: =I10*100/H10 -> 112.69939
A11: w tym: o odszkodowanie (A Ka) | B11: =IF('Tabl. II (2)'!B11>0,'Tabl. II (2)'!E11/'Tabl. II (2)'!B11*100,"X") -> 91.065292 | C11: =IF('Tabl. II (2)'!C11>0,'Tabl. II (2)'!F11/'Tabl. II (2)'!C11*100,"X") -> 18.910256 | D11: =C11*100/B11 -> 20.765602 | E11: =IF('Tabl. II (2)'!E11>0,'Tabl. II (2)'!H11/('Tabl. II (2)'!E11/273.8),"X") -> 56.826415 | F11: =IF('Tabl. II (2)'!F11>0,'Tabl. II (2)'!I11/('Tabl. II (2)'!F11/273.8),"X") -> 338.76949 | G11: =F11*100/E11 -> 596.14792 | H11: =IF('Tabl. II (2)'!B11>0,'Tabl. II (2)'!H11*9/'Tabl. II (2)'!B11,"X") -> 1.7010309 | I11: =IF('Tabl. II (2)'!C11>0,'Tabl. II (2)'!I11*9/'Tabl. II (2)'!C11,"X") -> 2.1057692 | J11: =I11*100/H11 -> 123.79371
A12: w tym: -z ust. z dn. 23.02.1991 r. o uznaniu za nieważne orzeczeń wydanych wobec osób represjonowanych za działalność na rzecz niepodległego bytu Państwa Polskiego (Dz.U. Nr 34, poz. 149) | B12: =IF('Tabl. II (2)'!B12>0,'Tabl. II (2)'!E12/'Tabl. II (2)'!B12*100,"X") -> 91.780822 | C12: =IF('Tabl. II (2)'!C12>0,'Tabl. II (2)'!F12/'Tabl. II (2)'!C12*100,"X") -> 85.507246 | D12: =C12*100/B12 -> 93.164612 | E12: =IF('Tabl. II (2)'!E12>0,'Tabl. II (2)'!H12/('Tabl. II (2)'!E12/273.8),"X") -> 53.125373 | F12: =IF('Tabl. II (2)'!F12>0,'Tabl. II (2)'!I12/('Tabl. II (2)'!F12/273.8),"X") -> 74.250847 | G12: =F12*100/E12 -> 139.76532 | H12: =IF('Tabl. II (2)'!B12>0,'Tabl. II (2)'!H12*9/'Tabl. II (2)'!B12,"X") -> 1.6027397 | I12: =IF('Tabl. II (2)'!C12>0,'Tabl. II (2)'!I12*9/'Tabl. II (2)'!C12,"X") -> 2.0869565 | J12: =I12*100/H12 -> 130.21182
A13: - w trybie a.552 kpk | B13: =IF('Tabl. II (2)'!B13>0,'Tabl. II (2)'!E13/'Tabl. II (2)'!B13*100,"X") -> 90.825688 | C13: =IF('Tabl. II (2)'!C13>0,'Tabl. II (2)'!F13/'Tabl. II (2)'!C13*100,"X") -> 0 | D13: =C13*100/B13 -> 0 | E13: =IF('Tabl. II (2)'!E13>0,'Tabl. II (2)'!H13/('Tabl. II (2)'!E13/273.8),"X") -> 58.078788 | F13: =IF('Tabl. II (2)'!F13>0,'Tabl. II (2)'!I13/('Tabl. II (2)'!F13/273.8),"X") -> X | G13: X | H13: =IF('Tabl. II (2)'!B13>0,'Tabl. II (2)'!H13*9/'Tabl. II (2)'!B13,"X") -> 1.733945 | I13: =IF('Tabl. II (2)'!C13>0,'Tabl. II (2)'!I13*9/'Tabl. II (2)'!C13,"X") -> 2.1111111 | J13: =I13*100/H13 -> 121.75191
A14: - zażalenia (A Kz) | B14: =IF('Tabl. II (2)'!B14>0,'Tabl. II (2)'!E14/'Tabl. II (2)'!B14*100,"X") -> 99.583664 | C14: =IF('Tabl. II (2)'!C14>0,'Tabl. II (2)'!F14/'Tabl. II (2)'!C14*100,"X") -> 98.948204 | D14: =C14*100/B14 -> 99.361884 | E14: =IF('Tabl. II (2)'!E14>0,'Tabl. II (2)'!H14/('Tabl. II (2)'!E14/273.8),"X") -> 14.499462 | F14: =IF('Tabl. II (2)'!F14>0,'Tabl. II (2)'!I14/('Tabl. II (2)'!F14/273.8),"X") -> 14.881629 | G14: =F14*100/E14 -> 102.63573 | H14: =IF('Tabl. II (2)'!B14>0,'Tabl. II (2)'!H14*9/'Tabl. II (2)'!B14,"X") -> 0.47462331 | I14: =IF('Tabl. II (2)'!C14>0,'Tabl. II (2)'!I14*9/'Tabl. II (2)'!C14,"X") -> 0.48402461 | J14: =I14*100/H14 -> 101.98079
A15: ogólne (A Ko) | B15: =IF('Tabl. II (2)'!B15>0,'Tabl. II (2)'!E15/'Tabl. II (2)'!B15*100,"X") -> 96.396966 | C15: =IF('Tabl. II (2)'!C15>0,'Tabl. II (2)'!F15/'Tabl. II (2)'!C15*100,"X") -> 96.885355 | D15: =C15*100/B15 -> 100.50664 | E15: =IF('Tabl. II (2)'!E15>0,'Tabl. II (2)'!H15/('Tabl. II (2)'!E15/273.8),"X") -> 50.630557 | F15: =IF('Tabl. II (2)'!F15>0,'Tabl. II (2)'!I15/('Tabl. II (2)'!F15/273.8),"X") -> 50.564979 | G15: =F15*100/E15 -> 99.870478 | H15: =IF('Tabl. II (2)'!B15>0,'Tabl. II (2)'!H15*9/'Tabl. II (2)'!B15,"X") -> 1.6042984 | I15: =IF('Tabl. II (2)'!C15>0,'Tabl. II (2)'!I15*9/'Tabl. II (2)'!C15,"X") -> 1.610338 | J15: =I15*100/H15 -> 100.37646
A16: w tym:
A17: sprawy w trybie art.11a pwkpk | B17: =IF('Tabl. II (2)'!B17>0,'Tabl. II (2)'!E17/'Tabl. II (2)'!B17*100,"X") -> 100 | C17: =IF('Tabl. II (2)'!C17>0,'Tabl. II (2)'!F17/'Tabl. II (2)'!C17*100,"X") -> X | D17: X | E17: =IF('Tabl. II (2)'!E17>0,'Tabl. II (2)'!H17/('Tabl. II (2)'!E17/273.8),"X") -> 0 | F17: =IF('Tabl. II (2)'!F17>0,'Tabl. II (2)'!I17/('Tabl. II (2)'!F17/273.8),"X") -> 0 | G17: X | H17: =IF('Tabl. II (2)'!B17>0,'Tabl. II (2)'!H17*9/'Tabl. II (2)'!B17,"X") -> 0 | I17: =IF('Tabl. II (2)'!C17>0,'Tabl. II (2)'!I17*9/'Tabl. II (2)'!C17,"X") -> X | J17: X
A18: nadzór sądowy nad postępowaniem przygotowawczym (A Kp) | B18: =IF('Tabl. II (2)'!B18>0,'Tabl. II (2)'!E18/'Tabl. II (2)'!B18*100,"X") -> 98.138298 | C18: =IF('Tabl. II (2)'!C18>0,'Tabl. II (2)'!F18/'Tabl. II (2)'!C18*100,"X") -> 99.736842 | D18: =C18*100/B18 -> 101.62887 | E18: =IF('Tabl. II (2)'!E18>0,'Tabl. II (2)'!H18/('Tabl. II (2)'!E18/273.8),"X") -> 13.356098 | F18: =IF('Tabl. II (2)'!F18>0,'Tabl. II (2)'!I18/('Tabl. II (2)'!F18/273.8),"X") -> 5.7794195 | G18: =F18*100/E18 -> 43.271768 | H18: =IF('Tabl. II (2)'!B18>0,'Tabl. II (2)'!H18*9/'Tabl. II (2)'!B18,"X") -> 0.43085106 | I18: =IF('Tabl. II (2)'!C18>0,'Tabl. II (2)'!I18*9/'Tabl. II (2)'!C18,"X") -> 0.18947368 | J18: =I18*100/H18 -> 43.976608
A19: zażalenia na postanowienia w postępowaniu wykonawczym (A Kzw) | B19: =IF('Tabl. II (2)'!B19>0,'Tabl. II (2)'!E19/'Tabl. II (2)'!B19*100,"X") -> 94.882687 | C19: =IF('Tabl. II (2)'!C19>0,'Tabl. II (2)'!F19/'Tabl. II (2)'!C19*100,"X") -> 97.331332 | D19: =C19*100/B19 -> 102.58071 | E19: =IF('Tabl. II (2)'!E19>0,'Tabl. II (2)'!H19/('Tabl. II (2)'!E19/273.8),"X") -> 40.623033 | F19: =IF('Tabl. II (2)'!F19>0,'Tabl. II (2)'!I19/('Tabl. II (2)'!F19/273.8),"X") -> 35.590145 | G19: =F19*100/E19 -> 87.610753 | H19: =IF('Tabl. II (2)'!B19>0,'Tabl. II (2)'!H19*9/'Tabl. II (2)'!B19,"X") -> 1.266976 | I19: =IF('Tabl. II (2)'!C19>0,'Tabl. II (2)'!I19*9/'Tabl. II (2)'!C19,"X") -> 1.1386533 | J19: =I19*100/H19 -> 89.87173
A20: kasacje (WKK) | B20: =IF('Tabl. II (2)'!B20>0,'Tabl. II (2)'!E20/'Tabl. II (2)'!B20*100,"X") -> 103.58744 | C20: =IF('Tabl. II (2)'!C20>0,'Tabl. II (2)'!F20/'Tabl. II (2)'!C20*100,"X") -> 100.22173 | D20: =C20*100/B20 -> 96.750847 | E20: =IF('Tabl. II (2)'!E20>0,'Tabl. II (2)'!H20/('Tabl. II (2)'!E20/273.8),"X") -> 64.597835 | F20: =IF('Tabl. II (2)'!F20>0,'Tabl. II (2)'!I20/('Tabl. II (2)'!F20/273.8),"X") -> 67.238496 | G20: =F20*100/E20 -> 104.08785 | H20: =IF('Tabl. II (2)'!B20>0,'Tabl. II (2)'!H20*9/'Tabl. II (2)'!B20,"X") -> 2.1995516 | I20: =IF('Tabl. II (2)'!C20>0,'Tabl. II (2)'!I20*9/'Tabl. II (2)'!C20,"X") -> 2.2150776 | J20: =I20*100/H20 -> 100.70587
A21: skargi na postępowanie sądowe i prokuratorskie (S) | B21: =IF('Tabl. II (2)'!B21>0,'Tabl. II (2)'!E21/'Tabl. II (2)'!B21*100,"X") -> 98.329356 | C21: =IF('Tabl. II (2)'!C21>0,'Tabl. II (2)'!F21/'Tabl. II (2)'!C21*100,"X") -> 100.81967 | D21: =C21*100/B21 -> 102.53263 | E21: =IF('Tabl. II (2)'!E21>0,'Tabl. II (2)'!H21/('Tabl. II (2)'!E21/273.8),"X") -> 31.899029 | F21: =IF('Tabl. II (2)'!F21>0,'Tabl. II (2)'!I21/('Tabl. II (2)'!F21/273.8),"X") -> 24.486179 | G21: =F21*100/E21 -> 76.761518 | H21: =IF('Tabl. II (2)'!B21>0,'Tabl. II (2)'!H21*9/'Tabl. II (2)'!B21,"X") -> 1.0310263 | I21: =IF('Tabl. II (2)'!C21>0,'Tabl. II (2)'!I21*9/'Tabl. II (2)'!C21,"X") -> 0.81147541 | J21: =I21*100/H21 -> 78.705601
A22: W SĄDACH APELACYJNYCH (c.d.)
A23: Sprawy cywilne - razem | B23: =IF('Tabl. II (2)'!B23>0,'Tabl. II (2)'!E23/'Tabl. II (2)'!B23*100,"X") -> 88.599582 | C23: =IF('Tabl. II (2)'!C23>0,'Tabl. II (2)'!F23/'Tabl. II (2)'!C23*100,"X") -> 87.988143 | D23: =C23*100/B23 -> 99.309884 | E23: =IF('Tabl. II (2)'!E23>0,'Tabl. II (2)'!H23/('Tabl. II (2)'!E23/273.8),"X") -> 88.490418 | F23: =IF('Tabl. II (2)'!F23>0,'Tabl. II (2)'!I23/('Tabl. II (2)'!F23/273.8),"X") -> 109.39768 | G23: =F23*100/E23 -> 123.62658 | H23: =IF('Tabl. II (2)'!B23>0,'Tabl. II (2)'!H23*9/'Tabl. II (2)'!B23,"X") -> 2.5771339 | I23: =IF('Tabl. II (2)'!C23>0,'Tabl. II (2)'!I23*9/'Tabl. II (2)'!C23,"X") -> 3.1640353 | J23: =I23*100/H23 -> 122.77342
A24: II instancji - apelacje (A Ca)a) | B24: =IF('Tabl. II (2)'!B24>0,'Tabl. II (2)'!E24/'Tabl. II (2)'!B24*100,"X") -> 80.891776 | C24: =IF('Tabl. II (2)'!C24>0,'Tabl. II (2)'!F24/'Tabl. II (2)'!C24*100,"X") -> 78.909121 | D24: =C24*100/B24 -> 97.549002 | E24: =IF('Tabl. II (2)'!E24>0,'Tabl. II (2)'!H24/('Tabl. II (2)'!E24/273.8),"X") -> 178.15526 | F24: =IF('Tabl. II (2)'!F24>0,'Tabl. II (2)'!I24/('Tabl. II (2)'!F24/273.8),"X") -> 216.90944 | G24: =F24*100/E24 -> 121.75303 | H24: =IF('Tabl. II (2)'!B24>0,'Tabl. II (2)'!H24*9/'Tabl. II (2)'!B24,"X") -> 4.7370951 | I24: =IF('Tabl. II (2)'!C24>0,'Tabl. II (2)'!I24*9/'Tabl. II (2)'!C24,"X") -> 5.6261942 | J24: =I24*100/H24 -> 118.76887
A25: - zażalenia (A Cz)a) | B25: =IF('Tabl. II (2)'!B25>0,'Tabl. II (2)'!E25/'Tabl. II (2)'!B25*100,"X") -> 92.889542 | C25: =IF('Tabl. II (2)'!C25>0,'Tabl. II (2)'!F25/'Tabl. II (2)'!C25*100,"X") -> 92.987868 | D25: =C25*100/B25 -> 100.10585 | E25: =IF('Tabl. II (2)'!E25>0,'Tabl. II (2)'!H25/('Tabl. II (2)'!E25/273.8),"X") -> 43.179051 | F25: =IF('Tabl. II (2)'!F25>0,'Tabl. II (2)'!I25/('Tabl. II (2)'!F25/273.8),"X") -> 52.455123 | G25: =F25*100/E25 -> 121.48281 | H25: =IF('Tabl. II (2)'!B25>0,'Tabl. II (2)'!H25*9/'Tabl. II (2)'!B25,"X") -> 1.3184054 | I25: =IF('Tabl. II (2)'!C25>0,'Tabl. II (2)'!I25*9/'Tabl. II (2)'!C25,"X") -> 1.6033313 | J25: =I25*100/H25 -> 121.6114
A26: ogólne (A Co) | B26: =IF('Tabl. II (2)'!B26>0,'Tabl. II (2)'!E26/'Tabl. II (2)'!B26*100,"X") -> 93.491124 | C26: =IF('Tabl. II (2)'!C26>0,'Tabl. II (2)'!F26/'Tabl. II (2)'!C26*100,"X") -> 99.312715 | D26: =C26*100/B26 -> 106.22689 | E26: =IF('Tabl. II (2)'!E26>0,'Tabl. II (2)'!H26/('Tabl. II (2)'!E26/273.8),"X") -> 39.279325 | F26: =IF('Tabl. II (2)'!F26>0,'Tabl. II (2)'!I26/('Tabl. II (2)'!F26/273.8),"X") -> 35.053979 | G26: =F26*100/E26 -> 89.242825 | H26: =IF('Tabl. II (2)'!B26>0,'Tabl. II (2)'!H26*9/'Tabl. II (2)'!B26,"X") -> 1.2071006 | I26: =IF('Tabl. II (2)'!C26>0,'Tabl. II (2)'!I26*9/'Tabl. II (2)'!C26,"X") -> 1.1443299 | J26: =I26*100/H26 -> 94.799879
A27: skarga kasacyjna (WSC) | B27: =IF('Tabl. II (2)'!B27>0,'Tabl. II (2)'!E27/'Tabl. II (2)'!B27*100,"X") -> 93.072289 | C27: =IF('Tabl. II (2)'!C27>0,'Tabl. II (2)'!F27/'Tabl. II (2)'!C27*100,"X") -> 95.630726 | D27: =C27*100/B27 -> 102.74887 | E27: =IF('Tabl. II (2)'!E27>0,'Tabl. II (2)'!H27/('Tabl. II (2)'!E27/273.8),"X") -> 60.696764 | F27: =IF('Tabl. II (2)'!F27>0,'Tabl. II (2)'!I27/('Tabl. II (2)'!F27/273.8),"X") -> 60.732351 | G27: =F27*100/E27 -> 100.05863 | H27: =IF('Tabl. II (2)'!B27>0,'Tabl. II (2)'!H27*9/'Tabl. II (2)'!B27,"X") -> 1.8569277 | I27: =IF('Tabl. II (2)'!C27>0,'Tabl. II (2)'!I27*9/'Tabl. II (2)'!C27,"X") -> 1.9090909 | J27: =I27*100/H27 -> 102.80911
A28: skarga o stwierdzenie niezgodności z prawem (WSC)b) | B28: =IF('Tabl. II (2)'!B28>0,'Tabl. II (2)'!E28/'Tabl. II (2)'!B28*100,"X") -> 116.66667 | C28: =IF('Tabl. II (2)'!C28>0,'Tabl. II (2)'!F28/'Tabl. II (2)'!C28*100,"X") -> 90.909091 | D28: =C28*100/B28 -> 77.922078 | E28: =IF('Tabl. II (2)'!E28>0,'Tabl. II (2)'!H28/('Tabl. II (2)'!E28/273.8),"X") -> 48.892857 | F28: =IF('Tabl. II (2)'!F28>0,'Tabl. II (2)'!I28/('Tabl. II (2)'!F28/273.8),"X") -> 109.52 | G28: =F28*100/E28 -> 224 | H28: =IF('Tabl. II (2)'!B28>0,'Tabl. II (2)'!H28*9/'Tabl. II (2)'!B28,"X") -> 1.875 | I28: =IF('Tabl. II (2)'!C28>0,'Tabl. II (2)'!I28*9/'Tabl. II (2)'!C28,"X") -> 3.2727273 | J28: =I28*100/H28 -> 174.54545
A29: skargi na postępowanie sądowe (S) | B29: =IF('Tabl. II (2)'!B29>0,'Tabl. II (2)'!E29/'Tabl. II (2)'!B29*100,"X") -> 94.052632 | C29: =IF('Tabl. II (2)'!C29>0,'Tabl. II (2)'!F29/'Tabl. II (2)'!C29*100,"X") -> 97.519522 | D29: =C29*100/B29 -> 103.68612 | E29: =IF('Tabl. II (2)'!E29>0,'Tabl. II (2)'!H29/('Tabl. II (2)'!E29/273.8),"X") -> 34.014326 | F29: =IF('Tabl. II (2)'!F29>0,'Tabl. II (2)'!I29/('Tabl. II (2)'!F29/273.8),"X") -> 35.208384 | G29: =F29*100/E29 -> 103.51046 | H29: =IF('Tabl. II (2)'!B29>0,'Tabl. II (2)'!H29*9/'Tabl. II (2)'!B29,"X") -> 1.0515789 | I29: =IF('Tabl. II (2)'!C29>0,'Tabl. II (2)'!I29*9/'Tabl. II (2)'!C29,"X") -> 1.1286174 | J29: =I29*100/H29 -> 107.32598
A30: Sprawy z zakresu prawa pracy - razem | B30: =IF('Tabl. II (2)'!B30>0,'Tabl. II (2)'!E30/'Tabl. II (2)'!B30*100,"X") -> 91.428571 | C30: =IF('Tabl. II (2)'!C30>0,'Tabl. II (2)'!F30/'Tabl. II (2)'!C30*100,"X") -> 92.121982 | D30: =C30*100/B30 -> 100.75842 | E30: =IF('Tabl. II (2)'!E30>0,'Tabl. II (2)'!H30/('Tabl. II (2)'!E30/273.8),"X") -> 95.544792 | F30: =IF('Tabl. II (2)'!F30>0,'Tabl. II (2)'!I30/('Tabl. II (2)'!F30/273.8),"X") -> 110.27531 | G30: =F30*100/E30 -> 115.4174 | H30: =IF('Tabl. II (2)'!B30>0,'Tabl. II (2)'!H30*9/'Tabl. II (2)'!B30,"X") -> 2.8714286 | I30: =IF('Tabl. II (2)'!C30>0,'Tabl. II (2)'!I30*9/'Tabl. II (2)'!C30,"X") -> 3.339263 | J30: =I30*100/H30 -> 116.29274
A31: II instancji - apelacje (A Pa) | B31: =IF('Tabl. II (2)'!B31>0,'Tabl. II (2)'!E31/'Tabl. II (2)'!B31*100,"X") -> 90.123457 | C31: =IF('Tabl. II (2)'!C31>0,'Tabl. II (2)'!F31/'Tabl. II (2)'!C31*100,"X") -> 78.637771 | D31: =C31*100/B31 -> 87.255609 | E31: =IF('Tabl. II (2)'!E31>0,'Tabl. II (2)'!H31/('Tabl. II (2)'!E31/273.8),"X") -> 158.46644 | F31: =IF('Tabl. II (2)'!F31>0,'Tabl. II (2)'!I31/('Tabl. II (2)'!F31/273.8),"X") -> 226.37008 | G31: =F31*100/E31 -> 142.85049 | H31: =IF('Tabl. II (2)'!B31>0,'Tabl. II (2)'!H31*9/'Tabl. II (2)'!B31,"X") -> 4.6944444 | I31: =IF('Tabl. II (2)'!C31>0,'Tabl. II (2)'!I31*9/'Tabl. II (2)'!C31,"X") -> 5.8513932 | J31: =I31*100/H31 -> 124.64506
A32: - zażalenia (A Pz) | B32: =IF('Tabl. II (2)'!B32>0,'Tabl. II (2)'!E32/'Tabl. II (2)'!B32*100,"X") -> 92.675159 | C32: =IF('Tabl. II (2)'!C32>0,'Tabl. II (2)'!F32/'Tabl. II (2)'!C32*100,"X") -> 101.13636 | D32: =C32*100/B32 -> 109.12996 | E32: =IF('Tabl. II (2)'!E32>0,'Tabl. II (2)'!H32/('Tabl. II (2)'!E32/273.8),"X") -> 47.985567 | F32: =IF('Tabl. II (2)'!F32>0,'Tabl. II (2)'!I32/('Tabl. II (2)'!F32/273.8),"X") -> 43.069663 | G32: =F32*100/E32 -> 89.755453 | H32: =IF('Tabl. II (2)'!B32>0,'Tabl. II (2)'!H32*9/'Tabl. II (2)'!B32,"X") -> 1.4617834 | I32: =IF('Tabl. II (2)'!C32>0,'Tabl. II (2)'!I32*9/'Tabl. II (2)'!C32,"X") -> 1.4318182 | J32: =I32*100/H32 -> 97.950089
A33: - ogólne (A Po) | B33: =IF('Tabl. II (2)'!B33>0,'Tabl. II (2)'!E33/'Tabl. II (2)'!B33*100,"X") -> 98.901099 | C33: =IF('Tabl. II (2)'!C33>0,'Tabl. II (2)'!F33/'Tabl. II (2)'!C33*100,"X") -> 100 | D33: =C33*100/B33 -> 101.11111 | E33: =IF('Tabl. II (2)'!E33>0,'Tabl. II (2)'!H33/('Tabl. II (2)'!E33/273.8),"X") -> 57.802222 | F33: =IF('Tabl. II (2)'!F33>0,'Tabl. II (2)'!I33/('Tabl. II (2)'!F33/273.8),"X") -> 60.102439 | G33: =F33*100/E33 -> 103.97946 | H33: =IF('Tabl. II (2)'!B33>0,'Tabl. II (2)'!H33*9/'Tabl. II (2)'!B33,"X") -> 1.8791209 | I33: =IF('Tabl. II (2)'!C33>0,'Tabl. II (2)'!I33*9/'Tabl. II (2)'!C33,"X") -> 1.9756098 | J33: =I33*100/H33 -> 105.13479
A34: skarga kasacyjna (WSC-pracy) | B34: =IF('Tabl. II (2)'!B34>0,'Tabl. II (2)'!E34/'Tabl. II (2)'!B34*100,"X") -> 80.30303 | C34: =IF('Tabl. II (2)'!C34>0,'Tabl. II (2)'!F34/'Tabl. II (2)'!C34*100,"X") -> 107.24638 | D34: =C34*100/B34 -> 133.55209 | E34: =IF('Tabl. II (2)'!E34>0,'Tabl. II (2)'!H34/('Tabl. II (2)'!E34/273.8),"X") -> 103.32075 | F34: =IF('Tabl. II (2)'!F34>0,'Tabl. II (2)'!I34/('Tabl. II (2)'!F34/273.8),"X") -> 62.9 | G34: =F34*100/E34 -> 60.878378 | H34: =IF('Tabl. II (2)'!B34>0,'Tabl. II (2)'!H34*9/'Tabl. II (2)'!B34,"X") -> 2.7272727 | I34: =IF('Tabl. II (2)'!C34>0,'Tabl. II (2)'!I34*9/'Tabl. II (2)'!C34,"X") -> 2.2173913 | J34: =I34*100/H34 -> 81.304348
A35: skarga o stwierdzenie niezgodności z prawem (WSC-pracy) | B35: =IF('Tabl. II (2)'!B35>0,'Tabl. II (2)'!E35/'Tabl. II (2)'!B35*100,"X") -> X | C35: =IF('Tabl. II (2)'!C35>0,'Tabl. II (2)'!F35/'Tabl. II (2)'!C35*100,"X") -> X | D35: X | E35: =IF('Tabl. II (2)'!E35>0,'Tabl. II (2)'!H35/('Tabl. II (2)'!E35/273.8),"X") -> X | F35: =IF('Tabl. II (2)'!F35>0,'Tabl. II (2)'!I35/('Tabl. II (2)'!F35/273.8),"X") -> X | G35: X | H35: =IF('Tabl. II (2)'!B35>0,'Tabl. II (2)'!H35*9/'Tabl. II (2)'!B35,"X") -> X | I35: =IF('Tabl. II (2)'!C35>0,'Tabl. II (2)'!I35*9/'Tabl. II (2)'!C35,"X") -> X | J35: X
A36: skargi na postępowanie sądowe (S) | B36: =IF('Tabl. II (2)'!B36>0,'Tabl. II (2)'!E36/'Tabl. II (2)'!B36*100,"X") -> 93.333333 | C36: =IF('Tabl. II (2)'!C36>0,'Tabl. II (2)'!F36/'Tabl. II (2)'!C36*100,"X") -> 97.959184 | D36: =C36*100/B36 -> 104.95627 | E36: =IF('Tabl. II (2)'!E36>0,'Tabl. II (2)'!H36/('Tabl. II (2)'!E36/273.8),"X") -> 58.671429 | F36: =IF('Tabl. II (2)'!F36>0,'Tabl. II (2)'!I36/('Tabl. II (2)'!F36/273.8),"X") -> 28.520833 | G36: =F36*100/E36 -> 48.611111 | H36: =IF('Tabl. II (2)'!B36>0,'Tabl. II (2)'!H36*9/'Tabl. II (2)'!B36,"X") -> 1.8 | I36: =IF('Tabl. II (2)'!C36>0,'Tabl. II (2)'!I36*9/'Tabl. II (2)'!C36,"X") -> 0.91836735 | J36: =I36*100/H36 -> 51.020408
A37: Sprawy z zakresu ubezpieczeń społecznych - razem | B37: =IF('Tabl. II (2)'!B37>0,'Tabl. II (2)'!E37/'Tabl. II (2)'!B37*100,"X") -> 69.979863 | C37: =IF('Tabl. II (2)'!C37>0,'Tabl. II (2)'!F37/'Tabl. II (2)'!C37*100,"X") -> 112.67247 | D37: =C37*100/B37 -> 161.00699 | E37: =IF('Tabl. II (2)'!E37>0,'Tabl. II (2)'!H37/('Tabl. II (2)'!E37/273.8),"X") -> 294.96214 | F37: =IF('Tabl. II (2)'!F37>0,'Tabl. II (2)'!I37/('Tabl. II (2)'!F37/273.8),"X") -> 207.90489 | G37: =F37*100/E37 -> 70.485279 | H37: =IF('Tabl. II (2)'!B37>0,'Tabl. II (2)'!H37*9/'Tabl. II (2)'!B37,"X") -> 6.7849778 | I37: =IF('Tabl. II (2)'!C37>0,'Tabl. II (2)'!I37*9/'Tabl. II (2)'!C37,"X") -> 7.7000153 | J37: =I37*100/H37 -> 113.48623
A38: II instancji - apelacje (A Ua) | B38: =IF('Tabl. II (2)'!B38>0,'Tabl. II (2)'!E38/'Tabl. II (2)'!B38*100,"X") -> 63.893771 | C38: =IF('Tabl. II (2)'!C38>0,'Tabl. II (2)'!F38/'Tabl. II (2)'!C38*100,"X") -> 116.58416 | D38: =C38*100/B38 -> 182.46561 | E38: =IF('Tabl. II (2)'!E38>0,'Tabl. II (2)'!H38/('Tabl. II (2)'!E38/273.8),"X") -> 381.18198 | F38: =IF('Tabl. II (2)'!F38>0,'Tabl. II (2)'!I38/('Tabl. II (2)'!F38/273.8),"X") -> 235.18606 | G38: =F38*100/E38 -> 61.699155 | H38: =IF('Tabl. II (2)'!B38>0,'Tabl. II (2)'!H38*9/'Tabl. II (2)'!B38,"X") -> 8.0057118 | I38: =IF('Tabl. II (2)'!C38>0,'Tabl. II (2)'!I38*9/'Tabl. II (2)'!C38,"X") -> 9.0128094 | J38: =I38*100/H38 -> 112.57974
A39: - zażalenia (A Uz) | B39: =IF('Tabl. II (2)'!B39>0,'Tabl. II (2)'!E39/'Tabl. II (2)'!B39*100,"X") -> 97.922948 | C39: =IF('Tabl. II (2)'!C39>0,'Tabl. II (2)'!F39/'Tabl. II (2)'!C39*100,"X") -> 91.81778 | D39: =C39*100/B39 -> 93.765334 | E39: =IF('Tabl. II (2)'!E39>0,'Tabl. II (2)'!H39/('Tabl. II (2)'!E39/273.8),"X") -> 28.194937 | F39: =IF('Tabl. II (2)'!F39>0,'Tabl. II (2)'!I39/('Tabl. II (2)'!F39/273.8),"X") -> 55.65684 | G39: =F39*100/E39 -> 197.40012 | H39: =IF('Tabl. II (2)'!B39>0,'Tabl. II (2)'!H39*9/'Tabl. II (2)'!B39,"X") -> 0.90753769 | I39: =IF('Tabl. II (2)'!C39>0,'Tabl. II (2)'!I39*9/'Tabl. II (2)'!C39,"X") -> 1.6797877 | J39: =I39*100/H39 -> 185.09289
A40: ogólne (A Uo) | B40: =IF('Tabl. II (2)'!B40>0,'Tabl. II (2)'!E40/'Tabl. II (2)'!B40*100,"X") -> 87.096774 | C40: =IF('Tabl. II (2)'!C40>0,'Tabl. II (2)'!F40/'Tabl. II (2)'!C40*100,"X") -> 100 | D40: =C40*100/B40 -> 114.81481 | E40: =IF('Tabl. II (2)'!E40>0,'Tabl. II (2)'!H40/('Tabl. II (2)'!E40/273.8),"X") -> 70.985185 | F40: =IF('Tabl. II (2)'!F40>0,'Tabl. II (2)'!I40/('Tabl. II (2)'!F40/273.8),"X") -> 26.07619 | G40: =F40*100/E40 -> 36.734694 | H40: =IF('Tabl. II (2)'!B40>0,'Tabl. II (2)'!H40*9/'Tabl. II (2)'!B40,"X") -> 2.0322581 | I40: =IF('Tabl. II (2)'!C40>0,'Tabl. II (2)'!I40*9/'Tabl. II (2)'!C40,"X") -> 0.85714286 | J40: =I40*100/H40 -> 42.176871
A41: skarga kasacyjna (WSC-ubezp.) | B41: =IF('Tabl. II (2)'!B41>0,'Tabl. II (2)'!E41/'Tabl. II (2)'!B41*100,"X") -> 99.829787 | C41: =IF('Tabl. II (2)'!C41>0,'Tabl. II (2)'!F41/'Tabl. II (2)'!C41*100,"X") -> 99.253035 | D41: =C41*100/B41 -> 99.422264 | E41: =IF('Tabl. II (2)'!E41>0,'Tabl. II (2)'!H41/('Tabl. II (2)'!E41/273.8),"X") -> 39.447741 | F41: =IF('Tabl. II (2)'!F41>0,'Tabl. II (2)'!I41/('Tabl. II (2)'!F41/273.8),"X") -> 47.393415 | G41: =F41*100/E41 -> 120.14228 | H41: =IF('Tabl. II (2)'!B41>0,'Tabl. II (2)'!H41*9/'Tabl. II (2)'!B41,"X") -> 1.2944681 | I41: =IF('Tabl. II (2)'!C41>0,'Tabl. II (2)'!I41*9/'Tabl. II (2)'!C41,"X") -> 1.5462185 | J41: =I41*100/H41 -> 119.44817
A42: skarga o stwierdzenie niezgodności z prawem (WSC-ubezp.) | B42: =IF('Tabl. II (2)'!B42>0,'Tabl. II (2)'!E42/'Tabl. II (2)'!B42*100,"X") -> 90 | C42: =IF('Tabl. II (2)'!C42>0,'Tabl. II (2)'!F42/'Tabl. II (2)'!C42*100,"X") -> 118.18182 | D42: =C42*100/B42 -> 131.31313 | E42: =IF('Tabl. II (2)'!E42>0,'Tabl. II (2)'!H42/('Tabl. II (2)'!E42/273.8),"X") -> 30.422222 | F42: =IF('Tabl. II (2)'!F42>0,'Tabl. II (2)'!I42/('Tabl. II (2)'!F42/273.8),"X") -> 42.123077 | G42: =F42*100/E42 -> 138.46154 | H42: =IF('Tabl. II (2)'!B42>0,'Tabl. II (2)'!H42*9/'Tabl. II (2)'!B42,"X") -> 0.9 | I42: =IF('Tabl. II (2)'!C42>0,'Tabl. II (2)'!I42*9/'Tabl. II (2)'!C42,"X") -> 1.6363636 | J42: =I42*100/H42 -> 181.81818
A43: skargi na postępowanie sądowe (S) | B43: =IF('Tabl. II (2)'!B43>0,'Tabl. II (2)'!E43/'Tabl. II (2)'!B43*100,"X") -> 108.88889 | C43: =IF('Tabl. II (2)'!C43>0,'Tabl. II (2)'!F43/'Tabl. II (2)'!C43*100,"X") -> 100 | D43: =C43*100/B43 -> 91.836735 | E43: =IF('Tabl. II (2)'!E43>0,'Tabl. II (2)'!H43/('Tabl. II (2)'!E43/273.8),"X") -> 35.389116 | F43: =IF('Tabl. II (2)'!F43>0,'Tabl. II (2)'!I43/('Tabl. II (2)'!F43/273.8),"X") -> 25.74188 | G43: =F43*100/E43 -> 72.739541 | H43: =IF('Tabl. II (2)'!B43>0,'Tabl. II (2)'!H43*9/'Tabl. II (2)'!B43,"X") -> 1.2666667 | I43: =IF('Tabl. II (2)'!C43>0,'Tabl. II (2)'!I43*9/'Tabl. II (2)'!C43,"X") -> 0.84615385 | J43: =I43*100/H43 -> 66.801619
A44: W SĄDACH APELACYJNYCH (dok.)
A45: Sprawy gospodarcze - razem | B45: =IF('Tabl. II (2)'!B45>0,'Tabl. II (2)'!E45/'Tabl. II (2)'!B45*100,"X") -> 83.968012 | C45: =IF('Tabl. II (2)'!C45>0,'Tabl. II (2)'!F45/'Tabl. II (2)'!C45*100,"X") -> 70.39643 | D45: =C45*100/B45 -> 83.8372 | E45: =IF('Tabl. II (2)'!E45>0,'Tabl. II (2)'!H45/('Tabl. II (2)'!E45/273.8),"X") -> 106.66404 | F45: =IF('Tabl. II (2)'!F45>0,'Tabl. II (2)'!I45/('Tabl. II (2)'!F45/273.8),"X") -> 211.82455 | G45: =F45*100/E45 -> 198.59041 | H45: =IF('Tabl. II (2)'!B45>0,'Tabl. II (2)'!H45*9/'Tabl. II (2)'!B45,"X") -> 2.9440213 | I45: =IF('Tabl. II (2)'!C45>0,'Tabl. II (2)'!I45*9/'Tabl. II (2)'!C45,"X") -> 4.9015789 | J45: =I45*100/H45 -> 166.49264
A46: II instancji - apelacje (A Ca-gosp.) | B46: =IF('Tabl. II (2)'!B46>0,'Tabl. II (2)'!E46/'Tabl. II (2)'!B46*100,"X") -> 80.058774 | C46: =IF('Tabl. II (2)'!C46>0,'Tabl. II (2)'!F46/'Tabl. II (2)'!C46*100,"X") -> 76.610429 | D46: =C46*100/B46 -> 95.692734 | E46: =IF('Tabl. II (2)'!E46>0,'Tabl. II (2)'!H46/('Tabl. II (2)'!E46/273.8),"X") -> 204.30907 | F46: =IF('Tabl. II (2)'!F46>0,'Tabl. II (2)'!I46/('Tabl. II (2)'!F46/273.8),"X") -> 264.48148 | G46: =F46*100/E46 -> 129.45166 | H46: =IF('Tabl. II (2)'!B46>0,'Tabl. II (2)'!H46*9/'Tabl. II (2)'!B46,"X") -> 5.3765743 | I46: =IF('Tabl. II (2)'!C46>0,'Tabl. II (2)'!I46*9/'Tabl. II (2)'!C46,"X") -> 6.6602761 | J46: =I46*100/H46 -> 123.87583
A47: - zażalenia (A Cz-gosp.) | B47: =IF('Tabl. II (2)'!B47>0,'Tabl. II (2)'!E47/'Tabl. II (2)'!B47*100,"X") -> 85.031782 | C47: =IF('Tabl. II (2)'!C47>0,'Tabl. II (2)'!F47/'Tabl. II (2)'!C47*100,"X") -> 64.916468 | D47: =C47*100/B47 -> 76.34377 | E47: =IF('Tabl. II (2)'!E47>0,'Tabl. II (2)'!H47/('Tabl. II (2)'!E47/273.8),"X") -> 67.740246 | F47: =IF('Tabl. II (2)'!F47>0,'Tabl. II (2)'!I47/('Tabl. II (2)'!F47/273.8),"X") -> 223.31018 | G47: =F47*100/E47 -> 329.65658 | H47: =IF('Tabl. II (2)'!B47>0,'Tabl. II (2)'!H47*9/'Tabl. II (2)'!B47,"X") -> 1.8933771 | I47: =IF('Tabl. II (2)'!C47>0,'Tabl. II (2)'!I47*9/'Tabl. II (2)'!C47,"X") -> 4.7651049 | J47: =I47*100/H47 -> 251.67226
A48: ogólne (A Co-gosp.) | B48: =IF('Tabl. II (2)'!B48>0,'Tabl. II (2)'!E48/'Tabl. II (2)'!B48*100,"X") -> 112.5 | C48: =IF('Tabl. II (2)'!C48>0,'Tabl. II (2)'!F48/'Tabl. II (2)'!C48*100,"X") -> 116.66667 | D48: =C48*100/B48 -> 103.7037 | E48: =IF('Tabl. II (2)'!E48>0,'Tabl. II (2)'!H48/('Tabl. II (2)'!E48/273.8),"X") -> 0 | F48: =IF('Tabl. II (2)'!F48>0,'Tabl. II (2)'!I48/('Tabl. II (2)'!F48/273.8),"X") -> 7.8228571 | G48: X | H48: =IF('Tabl. II (2)'!B48>0,'Tabl. II (2)'!H48*9/'Tabl. II (2)'!B48,"X") -> 0 | I48: =IF('Tabl. II (2)'!C48>0,'Tabl. II (2)'!I48*9/'Tabl. II (2)'!C48,"X") -> 0.3 | J48: X
A49: skarga kasacyjna (WSC-gosp.) | B49: =IF('Tabl. II (2)'!B49>0,'Tabl. II (2)'!E49/'Tabl. II (2)'!B49*100,"X") -> 90.723982 | C49: =IF('Tabl. II (2)'!C49>0,'Tabl. II (2)'!F49/'Tabl. II (2)'!C49*100,"X") -> 91.937425 | D49: =C49*100/B49 -> 101.33751 | E49: =IF('Tabl. II (2)'!E49>0,'Tabl. II (2)'!H49/('Tabl. II (2)'!E49/273.8),"X") -> 71.693267 | F49: =IF('Tabl. II (2)'!F49>0,'Tabl. II (2)'!I49/('Tabl. II (2)'!F49/273.8),"X") -> 59.490576 | G49: =F49*100/E49 -> 82.979307 | H49: =IF('Tabl. II (2)'!B49>0,'Tabl. II (2)'!H49*9/'Tabl. II (2)'!B49,"X") -> 2.138009 | I49: =IF('Tabl. II (2)'!C49>0,'Tabl. II (2)'!I49*9/'Tabl. II (2)'!C49,"X") -> 1.7978339 | J49: =I49*100/H49 -> 84.089164
A50: skarga o stwierdzenie niezgodności z prawem (WSC-gosp.) | B50: =IF('Tabl. II (2)'!B50>0,'Tabl. II (2)'!E50/'Tabl. II (2)'!B50*100,"X") -> 100 | C50: =IF('Tabl. II (2)'!C50>0,'Tabl. II (2)'!F50/'Tabl. II (2)'!C50*100,"X") -> 133.33333 | D50: X | E50: =IF('Tabl. II (2)'!E50>0,'Tabl. II (2)'!H50/('Tabl. II (2)'!E50/273.8),"X") -> 0 | F50: =IF('Tabl. II (2)'!F50>0,'Tabl. II (2)'!I50/('Tabl. II (2)'!F50/273.8),"X") -> 68.45 | G50: X | H50: =IF('Tabl. II (2)'!B50>0,'Tabl. II (2)'!H50*9/'Tabl. II (2)'!B50,"X") -> 0 | I50: =IF('Tabl. II (2)'!C50>0,'Tabl. II (2)'!I50*9/'Tabl. II (2)'!C50,"X") -> 3 | J50: X
A51: skargi na postępowanie sądowe (S) | B51: =IF('Tabl. II (2)'!B51>0,'Tabl. II (2)'!E51/'Tabl. II (2)'!B51*100,"X") -> 87.974684 | C51: =IF('Tabl. II (2)'!C51>0,'Tabl. II (2)'!F51/'Tabl. II (2)'!C51*100,"X") -> 106.33484 | D51: =C51*100/B51 -> 120.86982 | E51: =IF('Tabl. II (2)'!E51>0,'Tabl. II (2)'!H51/('Tabl. II (2)'!E51/273.8),"X") -> 45.305036 | F51: =IF('Tabl. II (2)'!F51>0,'Tabl. II (2)'!I51/('Tabl. II (2)'!F51/273.8),"X") -> 39.613617 | G51: =F51*100/E51 -> 87.437558 | H51: =IF('Tabl. II (2)'!B51>0,'Tabl. II (2)'!H51*9/'Tabl. II (2)'!B51,"X") -> 1.3101266 | I51: =IF('Tabl. II (2)'!C51>0,'Tabl. II (2)'!I51*9/'Tabl. II (2)'!C51,"X") -> 1.3846154 | J51: =I51*100/H51 -> 105.68562
A52: W SĄDACH OKRĘGOWYCH - OGÓŁEM | B52: =IF('Tabl. II (2)'!B52>0,'Tabl. II (2)'!E52/'Tabl. II (2)'!B52*100,"X") -> 90.65429 | C52: =IF('Tabl. II (2)'!C52>0,'Tabl. II (2)'!F52/'Tabl. II (2)'!C52*100,"X") -> 97.57977 | D52: =C52*100/B52 -> 107.63944 | E52: =IF('Tabl. II (2)'!E52>0,'Tabl. II (2)'!H52/('Tabl. II (2)'!E52/273.8),"X") -> 128.93912 | F52: =IF('Tabl. II (2)'!F52>0,'Tabl. II (2)'!I52/('Tabl. II (2)'!F52/273.8),"X") -> 123.17092 | G52: =F52*100/E52 -> 95.526416 | H52: =IF('Tabl. II (2)'!B52>0,'Tabl. II (2)'!H52*9/'Tabl. II (2)'!B52,"X") -> 3.8422192 | I52: =IF('Tabl. II (2)'!C52>0,'Tabl. II (2)'!I52*9/'Tabl. II (2)'!C52,"X") -> 3.9507272 | J52: =I52*100/H52 -> 102.8241
A53: Sprawy karne i wykroczeniowe - razem | B53: =IF('Tabl. II (2)'!B53>0,'Tabl. II (2)'!E53/'Tabl. II (2)'!B53*100,"X") -> 97.70631 | C53: =IF('Tabl. II (2)'!C53>0,'Tabl. II (2)'!F53/'Tabl. II (2)'!C53*100,"X") -> 97.831601 | D53: =C53*100/B53 -> 100.12823 | E53: =IF('Tabl. II (2)'!E53>0,'Tabl. II (2)'!H53/('Tabl. II (2)'!E53/273.8),"X") -> 45.858812 | F53: =IF('Tabl. II (2)'!F53>0,'Tabl. II (2)'!I53/('Tabl. II (2)'!F53/273.8),"X") -> 46.379891 | G53: =F53*100/E53 -> 101.13627 | H53: =IF('Tabl. II (2)'!B53>0,'Tabl. II (2)'!H53*9/'Tabl. II (2)'!B53,"X") -> 1.4728363 | I53: =IF('Tabl. II (2)'!C53>0,'Tabl. II (2)'!I53*9/'Tabl. II (2)'!C53,"X") -> 1.4914818 | J53: =I53*100/H53 -> 101.26596
A54: I instancji (K) | B54: =IF('Tabl. II (2)'!B54>0,'Tabl. II (2)'!E54/'Tabl. II (2)'!B54*100,"X") -> 97.023138 | C54: =IF('Tabl. II (2)'!C54>0,'Tabl. II (2)'!F54/'Tabl. II (2)'!C54*100,"X") -> 99.413748 | D54: =C54*100/B54 -> 102.46396 | E54: =IF('Tabl. II (2)'!E54>0,'Tabl. II (2)'!H54/('Tabl. II (2)'!E54/273.8),"X") -> 243.30257 | F54: =IF('Tabl. II (2)'!F54>0,'Tabl. II (2)'!I54/('Tabl. II (2)'!F54/273.8),"X") -> 241.70933 | G54: =F54*100/E54 -> 99.34516 | H54: =IF('Tabl. II (2)'!B54>0,'Tabl. II (2)'!H54*9/'Tabl. II (2)'!B54,"X") -> 7.7594526 | I54: =IF('Tabl. II (2)'!C54>0,'Tabl. II (2)'!I54*9/'Tabl. II (2)'!C54,"X") -> 7.8985783 | J54: =I54*100/H54 -> 101.79298
A55: w tym odpowiedzialność podmiotów zbiorowych | B55: =IF('Tabl. II (2)'!B55>0,'Tabl. II (2)'!E55/'Tabl. II (2)'!B55*100,"X") -> X | C55: =IF('Tabl. II (2)'!C55>0,'Tabl. II (2)'!F55/'Tabl. II (2)'!C55*100,"X") -> X | D55: X | E55: =IF('Tabl. II (2)'!E55>0,'Tabl. II (2)'!H55/('Tabl. II (2)'!E55/273.8),"X") -> X | F55: =IF('Tabl. II (2)'!F55>0,'Tabl. II (2)'!I55/('Tabl. II (2)'!F55/273.8),"X") -> X | G55: X | H55: =IF('Tabl. II (2)'!B55>0,'Tabl. II (2)'!H55*9/'Tabl. II (2)'!B55,"X") -> X | I55: =IF('Tabl. II (2)'!C55>0,'Tabl. II (2)'!I55*9/'Tabl. II (2)'!C55,"X") -> X | J55: X
A56: penitencjarne: - sprawy dotyczące wkonywania kary pozbawienia wolności; np.: przerw, odwołania warunkowego zwolnienia, zmiany określonego wyroku i typu zakładu karnego (Kow) | B56: =IF('Tabl. II (2)'!B56>0,'Tabl. II (2)'!E56/'Tabl. II (2)'!B56*100,"X") -> 98.462836 | C56: =IF('Tabl. II (2)'!C56>0,'Tabl. II (2)'!F56/'Tabl. II (2)'!C56*100,"X") -> 99.188909 | D56: =C56*100/B56 -> 100.73741 | E56: =IF('Tabl. II (2)'!E56>0,'Tabl. II (2)'!H56/('Tabl. II (2)'!E56/273.8),"X") -> 43.309773 | F56: =IF('Tabl. II (2)'!F56>0,'Tabl. II (2)'!I56/('Tabl. II (2)'!F56/273.8),"X") -> 41.444271 | G56: =F56*100/E56 -> 95.692651 | H56: =IF('Tabl. II (2)'!B56>0,'Tabl. II (2)'!H56*9/'Tabl. II (2)'!B56,"X") -> 1.4017395 | I56: =IF('Tabl. II (2)'!C56>0,'Tabl. II (2)'!I56*9/'Tabl. II (2)'!C56,"X") -> 1.351253 | J56: =I56*100/H56 -> 96.398297
A57: - sprawy dotyczące wykonywania nadzoru sędziego penitencjarnego nad tymczasowym aresztowaniem lub karą pozbawienia wolności (Pen) | B57: =IF('Tabl. II (2)'!B57>0,'Tabl. II (2)'!E57/'Tabl. II (2)'!B57*100,"X") -> 98.948661 | C57: =IF('Tabl. II (2)'!C57>0,'Tabl. II (2)'!F57/'Tabl. II (2)'!C57*100,"X") -> 99.653964 | D57: =C57*100/B57 -> 100.7128 | E57: =IF('Tabl. II (2)'!E57>0,'Tabl. II (2)'!H57/('Tabl. II (2)'!E57/273.8),"X") -> 12.0613 | F57: =IF('Tabl. II (2)'!F57>0,'Tabl. II (2)'!I57/('Tabl. II (2)'!F57/273.8),"X") -> 13.779792 | G57: =F57*100/E57 -> 114.24798 | H57: =IF('Tabl. II (2)'!B57>0,'Tabl. II (2)'!H57*9/'Tabl. II (2)'!B57,"X") -> 0.3922953 | I57: =IF('Tabl. II (2)'!C57>0,'Tabl. II (2)'!I57*9/'Tabl. II (2)'!C57,"X") -> 0.45138414 | J57: =I57*100/H57 -> 115.06234
A58: nadzór sądowy nad postępowaniem przygotowawczym (Kp) | B58: =IF('Tabl. II (2)'!B58>0,'Tabl. II (2)'!E58/'Tabl. II (2)'!B58*100,"X") -> 97.389347 | C58: =IF('Tabl. II (2)'!C58>0,'Tabl. II (2)'!F58/'Tabl. II (2)'!C58*100,"X") -> 98.988273 | D58: =C58*100/B58 -> 101.64179 | E58: =IF('Tabl. II (2)'!E58>0,'Tabl. II (2)'!H58/('Tabl. II (2)'!E58/273.8),"X") -> 16.176598 | F58: =IF('Tabl. II (2)'!F58>0,'Tabl. II (2)'!I58/('Tabl. II (2)'!F58/273.8),"X") -> 12.329404 | G58: =F58*100/E58 -> 76.217534 | H58: =IF('Tabl. II (2)'!B58>0,'Tabl. II (2)'!H58*9/'Tabl. II (2)'!B58,"X") -> 0.51785446 | I58: =IF('Tabl. II (2)'!C58>0,'Tabl. II (2)'!I58*9/'Tabl. II (2)'!C58,"X") -> 0.40117597 | J58: =I58*100/H58 -> 77.468864
A59: Kop | B59: =IF('Tabl. II (2)'!B59>0,'Tabl. II (2)'!E59/'Tabl. II (2)'!B59*100,"X") -> 98.134825 | C59: =IF('Tabl. II (2)'!C59>0,'Tabl. II (2)'!F59/'Tabl. II (2)'!C59*100,"X") -> 96.762786 | D59: =C59*100/B59 -> 98.601883 | E59: =IF('Tabl. II (2)'!E59>0,'Tabl. II (2)'!H59/('Tabl. II (2)'!E59/273.8),"X") -> 39.77274 | F59: =IF('Tabl. II (2)'!F59>0,'Tabl. II (2)'!I59/('Tabl. II (2)'!F59/273.8),"X") -> 37.332865 | G59: =F59*100/E59 -> 93.865459 | H59: =IF('Tabl. II (2)'!B59>0,'Tabl. II (2)'!H59*9/'Tabl. II (2)'!B59,"X") -> 1.2829736 | I59: =IF('Tabl. II (2)'!C59>0,'Tabl. II (2)'!I59*9/'Tabl. II (2)'!C59,"X") -> 1.187432 | J59: =I59*100/H59 -> 92.55311
A60: II instancji - apelacje w sprawach karnych (Ka) | B60: =IF('Tabl. II (2)'!B60>0,'Tabl. II (2)'!E60/'Tabl. II (2)'!B60*100,"X") -> 91.951257 | C60: =IF('Tabl. II (2)'!C60>0,'Tabl. II (2)'!F60/'Tabl. II (2)'!C60*100,"X") -> 91.033828 | D60: =C60*100/B60 -> 99.002266 | E60: =IF('Tabl. II (2)'!E60>0,'Tabl. II (2)'!H60/('Tabl. II (2)'!E60/273.8),"X") -> 90.04961 | F60: =IF('Tabl. II (2)'!F60>0,'Tabl. II (2)'!I60/('Tabl. II (2)'!F60/273.8),"X") -> 97.972783 | G60: =F60*100/E60 -> 108.79867 | H60: =IF('Tabl. II (2)'!B60>0,'Tabl. II (2)'!H60*9/'Tabl. II (2)'!B60,"X") -> 2.7217521 | I60: =IF('Tabl. II (2)'!C60>0,'Tabl. II (2)'!I60*9/'Tabl. II (2)'!C60,"X") -> 2.931685 | J60: =I60*100/H60 -> 107.71315
A61: - zażalenia w sprawach karnych (Kz) | B61: =IF('Tabl. II (2)'!B61>0,'Tabl. II (2)'!E61/'Tabl. II (2)'!B61*100,"X") -> 99.547003 | C61: =IF('Tabl. II (2)'!C61>0,'Tabl. II (2)'!F61/'Tabl. II (2)'!C61*100,"X") -> 97.609355 | D61: =C61*100/B61 -> 98.053535 | E61: =IF('Tabl. II (2)'!E61>0,'Tabl. II (2)'!H61/('Tabl. II (2)'!E61/273.8),"X") -> 20.673929 | F61: =IF('Tabl. II (2)'!F61>0,'Tabl. II (2)'!I61/('Tabl. II (2)'!F61/273.8),"X") -> 28.764779 | G61: =F61*100/E61 -> 139.13552 | H61: =IF('Tabl. II (2)'!B61>0,'Tabl. II (2)'!H61*9/'Tabl. II (2)'!B61,"X") -> 0.67648827 | I61: =IF('Tabl. II (2)'!C61>0,'Tabl. II (2)'!I61*9/'Tabl. II (2)'!C61,"X") -> 0.92291466 | J61: =I61*100/H61 -> 136.4273
A62: zażalenia na postanowienia w postępowaniu wykonawczym (Kzw) | B62: =IF('Tabl. II (2)'!B62>0,'Tabl. II (2)'!E62/'Tabl. II (2)'!B62*100,"X") -> 101.17394 | C62: =IF('Tabl. II (2)'!C62>0,'Tabl. II (2)'!F62/'Tabl. II (2)'!C62*100,"X") -> 98.533495 | D62: =C62*100/B62 -> 97.390193 | E62: =IF('Tabl. II (2)'!E62>0,'Tabl. II (2)'!H62/('Tabl. II (2)'!E62/273.8),"X") -> 37.965565 | F62: =IF('Tabl. II (2)'!F62>0,'Tabl. II (2)'!I62/('Tabl. II (2)'!F62/273.8),"X") -> 44.608231 | G62: =F62*100/E62 -> 117.49656 | H62: =IF('Tabl. II (2)'!B62>0,'Tabl. II (2)'!H62*9/'Tabl. II (2)'!B62,"X") -> 1.2626053 | I62: =IF('Tabl. II (2)'!C62>0,'Tabl. II (2)'!I62*9/'Tabl. II (2)'!C62,"X") -> 1.4448008 | J62: =I62*100/H62 -> 114.43012
A63: ogólne (Ko) | B63: =IF('Tabl. II (2)'!B63>0,'Tabl. II (2)'!E63/'Tabl. II (2)'!B63*100,"X") -> 97.253842 | C63: =IF('Tabl. II (2)'!C63>0,'Tabl. II (2)'!F63/'Tabl. II (2)'!C63*100,"X") -> 98.550673 | D63: =C63*100/B63 -> 101.33345 | E63: =IF('Tabl. II (2)'!E63>0,'Tabl. II (2)'!H63/('Tabl. II (2)'!E63/273.8),"X") -> 38.305962 | F63: =IF('Tabl. II (2)'!F63>0,'Tabl. II (2)'!I63/('Tabl. II (2)'!F63/273.8),"X") -> 36.4572 | G63: =F63*100/E63 -> 95.173696 | H63: =IF('Tabl. II (2)'!B63>0,'Tabl. II (2)'!H63*9/'Tabl. II (2)'!B63,"X") -> 1.224566 | I63: =IF('Tabl. II (2)'!C63>0,'Tabl. II (2)'!I63*9/'Tabl. II (2)'!C63,"X") -> 1.1810056 | J63: =I63*100/H63 -> 96.442789
A64: kasacje (WKK) | B64: =IF('Tabl. II (2)'!B64>0,'Tabl. II (2)'!E64/'Tabl. II (2)'!B64*100,"X") -> 98.321091 | C64: =IF('Tabl. II (2)'!C64>0,'Tabl. II (2)'!F64/'Tabl. II (2)'!C64*100,"X") -> 100.90806 | D64: =C64*100/B64 -> 102.63114 | E64: =IF('Tabl. II (2)'!E64>0,'Tabl. II (2)'!H64/('Tabl. II (2)'!E64/273.8),"X") -> 84.448453 | F64: =IF('Tabl. II (2)'!F64>0,'Tabl. II (2)'!I64/('Tabl. II (2)'!F64/273.8),"X") -> 83.772328 | G64: =F64*100/E64 -> 99.199365 | H64: =IF('Tabl. II (2)'!B64>0,'Tabl. II (2)'!H64*9/'Tabl. II (2)'!B64,"X") -> 2.729276 | I64: =IF('Tabl. II (2)'!C64>0,'Tabl. II (2)'!I64*9/'Tabl. II (2)'!C64,"X") -> 2.7786606 | J64: =I64*100/H64 -> 101.80944
A65: skargi na postępowanie sądowe i prokuratorskie (S) | B65: =IF('Tabl. II (2)'!B65>0,'Tabl. II (2)'!E65/'Tabl. II (2)'!B65*100,"X") -> 92.727273 | C65: =IF('Tabl. II (2)'!C65>0,'Tabl. II (2)'!F65/'Tabl. II (2)'!C65*100,"X") -> 96.943649 | D65: =C65*100/B65 -> 104.54707 | E65: =IF('Tabl. II (2)'!E65>0,'Tabl. II (2)'!H65/('Tabl. II (2)'!E65/273.8),"X") -> 46.208543 | F65: =IF('Tabl. II (2)'!F65>0,'Tabl. II (2)'!I65/('Tabl. II (2)'!F65/273.8),"X") -> 31.156552 | G65: =F65*100/E65 -> 67.425955 | H65: =IF('Tabl. II (2)'!B65>0,'Tabl. II (2)'!H65*9/'Tabl. II (2)'!B65,"X") -> 1.4084416 | I65: =IF('Tabl. II (2)'!C65>0,'Tabl. II (2)'!I65*9/'Tabl. II (2)'!C65,"X") -> 0.99283668 | J65: =I65*100/H65 -> 70.491862
A66: W SĄDACH OKRĘGOWYCH (c.d.)
A67: Sprawy cywilne - razem | B67: =IF('Tabl. II (2)'!B67>0,'Tabl. II (2)'!E67/'Tabl. II (2)'!B67*100,"X") -> 91.707339 | C67: =IF('Tabl. II (2)'!C67>0,'Tabl. II (2)'!F67/'Tabl. II (2)'!C67*100,"X") -> 92.943859 | D67: =C67*100/B67 -> 101.34833 | E67: =IF('Tabl. II (2)'!E67>0,'Tabl. II (2)'!H67/('Tabl. II (2)'!E67/273.8),"X") -> 164.85554 | F67: =IF('Tabl. II (2)'!F67>0,'Tabl. II (2)'!I67/('Tabl. II (2)'!F67/273.8),"X") -> 168.70028 | G67: =F67*100/E67 -> 102.33219 | H67: =IF('Tabl. II (2)'!B67>0,'Tabl. II (2)'!H67*9/'Tabl. II (2)'!B67,"X") -> 4.9695458 | I67: =IF('Tabl. II (2)'!C67>0,'Tabl. II (2)'!I67*9/'Tabl. II (2)'!C67,"X") -> 5.1540138 | J67: =I67*100/H67 -> 103.71197
A68: I instancji - procesowe (C i RC)a) | B68: =IF('Tabl. II (2)'!B68>0,'Tabl. II (2)'!E68/'Tabl. II (2)'!B68*100,"X") -> 91.273104 | C68: =IF('Tabl. II (2)'!C68>0,'Tabl. II (2)'!F68/'Tabl. II (2)'!C68*100,"X") -> 91.92199 | D68: =C68*100/B68 -> 100.71093 | E68: =IF('Tabl. II (2)'!E68>0,'Tabl. II (2)'!H68/('Tabl. II (2)'!E68/273.8),"X") -> 264.66726 | F68: =IF('Tabl. II (2)'!F68>0,'Tabl. II (2)'!I68/('Tabl. II (2)'!F68/273.8),"X") -> 280.59231 | G68: =F68*100/E68 -> 106.01701 | H68: =IF('Tabl. II (2)'!B68>0,'Tabl. II (2)'!H68*9/'Tabl. II (2)'!B68,"X") -> 7.9405779 | I68: =IF('Tabl. II (2)'!C68>0,'Tabl. II (2)'!I68*9/'Tabl. II (2)'!C68,"X") -> 8.4782114 | J68: =I68*100/H68 -> 106.77071
A69: - szkody geologiczne i górnicze (CG-G) | B69: =IF('Tabl. II (2)'!B69>0,'Tabl. II (2)'!E69/'Tabl. II (2)'!B69*100,"X") -> 49.333333 | C69: =IF('Tabl. II (2)'!C69>0,'Tabl. II (2)'!F69/'Tabl. II (2)'!C69*100,"X") -> 68.75 | D69: =C69*100/B69 -> 139.35811 | E69: =IF('Tabl. II (2)'!E69>0,'Tabl. II (2)'!H69/('Tabl. II (2)'!E69/273.8),"X") -> 858.4 | F69: =IF('Tabl. II (2)'!F69>0,'Tabl. II (2)'!I69/('Tabl. II (2)'!F69/273.8),"X") -> 768.85253 | G69: =F69*100/E69 -> 89.568095 | H69: =IF('Tabl. II (2)'!B69>0,'Tabl. II (2)'!H69*9/'Tabl. II (2)'!B69,"X") -> 13.92 | I69: =IF('Tabl. II (2)'!C69>0,'Tabl. II (2)'!I69*9/'Tabl. II (2)'!C69,"X") -> 17.375 | J69: =I69*100/H69 -> 124.8204
A70: - nieprocesowe (Ns)a) (z wył. rej.) | B70: =IF('Tabl. II (2)'!B70>0,'Tabl. II (2)'!E70/'Tabl. II (2)'!B70*100,"X") -> 90.483075 | C70: =IF('Tabl. II (2)'!C70>0,'Tabl. II (2)'!F70/'Tabl. II (2)'!C70*100,"X") -> 89.480291 | D70: =C70*100/B70 -> 98.891744 | E70: =IF('Tabl. II (2)'!E70>0,'Tabl. II (2)'!H70/('Tabl. II (2)'!E70/273.8),"X") -> 170.44623 | F70: =IF('Tabl. II (2)'!F70>0,'Tabl. II (2)'!I70/('Tabl. II (2)'!F70/273.8),"X") -> 183.48083 | G70: =F70*100/E70 -> 107.64734 | H70: =IF('Tabl. II (2)'!B70>0,'Tabl. II (2)'!H70*9/'Tabl. II (2)'!B70,"X") -> 5.0694846 | I70: =IF('Tabl. II (2)'!C70>0,'Tabl. II (2)'!I70*9/'Tabl. II (2)'!C70,"X") -> 5.3966859 | J70: =I70*100/H70 -> 106.45433
A71: - rejestrowe | B71: =IF('Tabl. II (2)'!B71>0,'Tabl. II (2)'!E71/'Tabl. II (2)'!B71*100,"X") -> 98.567648 | C71: =IF('Tabl. II (2)'!C71>0,'Tabl. II (2)'!F71/'Tabl. II (2)'!C71*100,"X") -> 102.33353 | D71: =C71*100/B71 -> 103.82061 | E71: =IF('Tabl. II (2)'!E71>0,'Tabl. II (2)'!H71/('Tabl. II (2)'!E71/273.8),"X") -> 18.812668 | F71: =IF('Tabl. II (2)'!F71>0,'Tabl. II (2)'!I71/('Tabl. II (2)'!F71/273.8),"X") -> 14.356107 | G71: =F71*100/E71 -> 76.310854 | H71: =IF('Tabl. II (2)'!B71>0,'Tabl. II (2)'!H71*9/'Tabl. II (2)'!B71,"X") -> 0.60952826 | I71: =IF('Tabl. II (2)'!C71>0,'Tabl. II (2)'!I71*9/'Tabl. II (2)'!C71,"X") -> 0.48290725 | J71: =I71*100/H71 -> 79.226393
A72: w tym:
A73: z zakresu rejestru dzienników i czasopism (Ns.Rej.Pr) | B73: =IF('Tabl. II (2)'!B73>0,'Tabl. II (2)'!E73/'Tabl. II (2)'!B73*100,"X") -> 98.052632 | C73: =IF('Tabl. II (2)'!C73>0,'Tabl. II (2)'!F73/'Tabl. II (2)'!C73*100,"X") -> 101.79202 | D73: =C73*100/B73 -> 103.81365 | E73: =IF('Tabl. II (2)'!E73>0,'Tabl. II (2)'!H73/('Tabl. II (2)'!E73/273.8),"X") -> 22.045089 | F73: =IF('Tabl. II (2)'!F73>0,'Tabl. II (2)'!I73/('Tabl. II (2)'!F73/273.8),"X") -> 19.937957 | G73: =F73*100/E73 -> 90.441718 | H73: =IF('Tabl. II (2)'!B73>0,'Tabl. II (2)'!H73*9/'Tabl. II (2)'!B73,"X") -> 0.71052632 | I73: =IF('Tabl. II (2)'!C73>0,'Tabl. II (2)'!I73*9/'Tabl. II (2)'!C73,"X") -> 0.6671192 | J73: =I73*100/H73 -> 93.89085
A74: Partie | B74: =IF('Tabl. II (2)'!B74>0,'Tabl. II (2)'!E74/'Tabl. II (2)'!B74*100,"X") -> 128.57143 | C74: =IF('Tabl. II (2)'!C74>0,'Tabl. II (2)'!F74/'Tabl. II (2)'!C74*100,"X") -> 80.952381 | D74: =C74*100/B74 -> 62.962963 | E74: =IF('Tabl. II (2)'!E74>0,'Tabl. II (2)'!H74/('Tabl. II (2)'!E74/273.8),"X") -> 34.225 | F74: =IF('Tabl. II (2)'!F74>0,'Tabl. II (2)'!I74/('Tabl. II (2)'!F74/273.8),"X") -> 134.21569 | G74: =F74*100/E74 -> 392.15686 | H74: =IF('Tabl. II (2)'!B74>0,'Tabl. II (2)'!H74*9/'Tabl. II (2)'!B74,"X") -> 1.4464286 | I74: =IF('Tabl. II (2)'!C74>0,'Tabl. II (2)'!I74*9/'Tabl. II (2)'!C74,"X") -> 3.5714286 | J74: =I74*100/H74 -> 246.91358
A75: Fundusze emerytalne | B75: =IF('Tabl. II (2)'!B75>0,'Tabl. II (2)'!E75/'Tabl. II (2)'!B75*100,"X") -> 98.113208 | C75: =IF('Tabl. II (2)'!C75>0,'Tabl. II (2)'!F75/'Tabl. II (2)'!C75*100,"X") -> 105.06329 | D75: =C75*100/B75 -> 107.08374 | E75: =IF('Tabl. II (2)'!E75>0,'Tabl. II (2)'!H75/('Tabl. II (2)'!E75/273.8),"X") -> 15.796154 | F75: =IF('Tabl. II (2)'!F75>0,'Tabl. II (2)'!I75/('Tabl. II (2)'!F75/273.8),"X") -> 16.493976 | G75: =F75*100/E75 -> 104.41767 | H75: =IF('Tabl. II (2)'!B75>0,'Tabl. II (2)'!H75*9/'Tabl. II (2)'!B75,"X") -> 0.50943396 | I75: =IF('Tabl. II (2)'!C75>0,'Tabl. II (2)'!I75*9/'Tabl. II (2)'!C75,"X") -> 0.56962025 | J75: =I75*100/H75 -> 111.81435
A76: Fundusze inwestycyjne | B76: =IF('Tabl. II (2)'!B76>0,'Tabl. II (2)'!E76/'Tabl. II (2)'!B76*100,"X") -> 98.687351 | C76: =IF('Tabl. II (2)'!C76>0,'Tabl. II (2)'!F76/'Tabl. II (2)'!C76*100,"X") -> 103.41027 | D76: =C76*100/B76 -> 104.78573 | E76: =IF('Tabl. II (2)'!E76>0,'Tabl. II (2)'!H76/('Tabl. II (2)'!E76/273.8),"X") -> 13.574123 | F76: =IF('Tabl. II (2)'!F76>0,'Tabl. II (2)'!I76/('Tabl. II (2)'!F76/273.8),"X") -> 5.28994 | G76: =F76*100/E76 -> 38.970767 | H76: =IF('Tabl. II (2)'!B76>0,'Tabl. II (2)'!H76*9/'Tabl. II (2)'!B76,"X") -> 0.44033413 | I76: =IF('Tabl. II (2)'!C76>0,'Tabl. II (2)'!I76*9/'Tabl. II (2)'!C76,"X") -> 0.17981399 | J76: =I76*100/H76 -> 40.835805
A77: - nakazowe i upominawcze (Nc) | B77: =IF('Tabl. II (2)'!B77>0,'Tabl. II (2)'!E77/'Tabl. II (2)'!B77*100,"X") -> 111.88226 | C77: =IF('Tabl. II (2)'!C77>0,'Tabl. II (2)'!F77/'Tabl. II (2)'!C77*100,"X") -> 99.268895 | D77: =C77*100/B77 -> 88.726215 | E77: =IF('Tabl. II (2)'!E77>0,'Tabl. II (2)'!H77/('Tabl. II (2)'!E77/273.8),"X") -> 28.57253 | F77: =IF('Tabl. II (2)'!F77>0,'Tabl. II (2)'!I77/('Tabl. II (2)'!F77/273.8),"X") -> 34.12352 | G77: =F77*100/E77 -> 119.42772 | H77: =IF('Tabl. II (2)'!B77>0,'Tabl. II (2)'!H77*9/'Tabl. II (2)'!B77,"X") -> 1.0507974 | I77: =IF('Tabl. II (2)'!C77>0,'Tabl. II (2)'!I77*9/'Tabl. II (2)'!C77,"X") -> 1.1134637 | J77: =I77*100/H77 -> 105.96369
A78: ogólne (Co I inst.) | B78: =IF('Tabl. II (2)'!B78>0,'Tabl. II (2)'!E78/'Tabl. II (2)'!B78*100,"X") -> 96.908964 | C78: =IF('Tabl. II (2)'!C78>0,'Tabl. II (2)'!F78/'Tabl. II (2)'!C78*100,"X") -> 98.188599 | D78: =C78*100/B78 -> 101.32045 | E78: =IF('Tabl. II (2)'!E78>0,'Tabl. II (2)'!H78/('Tabl. II (2)'!E78/273.8),"X") -> 58.991378 | F78: =IF('Tabl. II (2)'!F78>0,'Tabl. II (2)'!I78/('Tabl. II (2)'!F78/273.8),"X") -> 58.384916 | G78: =F78*100/E78 -> 98.971948 | H78: =IF('Tabl. II (2)'!B78>0,'Tabl. II (2)'!H78*9/'Tabl. II (2)'!B78,"X") -> 1.8791505 | I78: =IF('Tabl. II (2)'!C78>0,'Tabl. II (2)'!I78*9/'Tabl. II (2)'!C78,"X") -> 1.88439 | J78: =I78*100/H78 -> 100.27882
A79: skarga o stwierdzenie niezgodności z prawem (WSC) | B79: =IF('Tabl. II (2)'!B79>0,'Tabl. II (2)'!E79/'Tabl. II (2)'!B79*100,"X") -> 94.736842 | C79: =IF('Tabl. II (2)'!C79>0,'Tabl. II (2)'!F79/'Tabl. II (2)'!C79*100,"X") -> 102.5641 | D79: =C79*100/B79 -> 108.26211 | E79: =IF('Tabl. II (2)'!E79>0,'Tabl. II (2)'!H79/('Tabl. II (2)'!E79/273.8),"X") -> 45.633333 | F79: =IF('Tabl. II (2)'!F79>0,'Tabl. II (2)'!I79/('Tabl. II (2)'!F79/273.8),"X") -> 41.07 | G79: =F79*100/E79 -> 90 | H79: =IF('Tabl. II (2)'!B79>0,'Tabl. II (2)'!H79*9/'Tabl. II (2)'!B79,"X") -> 1.4210526 | I79: =IF('Tabl. II (2)'!C79>0,'Tabl. II (2)'!I79*9/'Tabl. II (2)'!C79,"X") -> 1.3846154 | J79: =I79*100/H79 -> 97.435897
A80: II instancji - apelacje (Ca)a) | B80: =IF('Tabl. II (2)'!B80>0,'Tabl. II (2)'!E80/'Tabl. II (2)'!B80*100,"X") -> 85.037424 | C80: =IF('Tabl. II (2)'!C80>0,'Tabl. II (2)'!F80/'Tabl. II (2)'!C80*100,"X") -> 88.346653 | D80: =C80*100/B80 -> 103.8915 | E80: =IF('Tabl. II (2)'!E80>0,'Tabl. II (2)'!H80/('Tabl. II (2)'!E80/273.8),"X") -> 148.33781 | F80: =IF('Tabl. II (2)'!F80>0,'Tabl. II (2)'!I80/('Tabl. II (2)'!F80/273.8),"X") -> 151.19276 | G80: =F80*100/E80 -> 101.92462 | H80: =IF('Tabl. II (2)'!B80>0,'Tabl. II (2)'!H80*9/'Tabl. II (2)'!B80,"X") -> 4.1463984 | I80: =IF('Tabl. II (2)'!C80>0,'Tabl. II (2)'!I80*9/'Tabl. II (2)'!C80,"X") -> 4.3906635 | J80: =I80*100/H80 -> 105.89102
A81: - zażalenia (Cz)a) | B81: =IF('Tabl. II (2)'!B81>0,'Tabl. II (2)'!E81/'Tabl. II (2)'!B81*100,"X") -> 92.477173 | C81: =IF('Tabl. II (2)'!C81>0,'Tabl. II (2)'!F81/'Tabl. II (2)'!C81*100,"X") -> 95.153782 | D81: =C81*100/B81 -> 102.89435 | E81: =IF('Tabl. II (2)'!E81>0,'Tabl. II (2)'!H81/('Tabl. II (2)'!E81/273.8),"X") -> 53.06674 | F81: =IF('Tabl. II (2)'!F81>0,'Tabl. II (2)'!I81/('Tabl. II (2)'!F81/273.8),"X") -> 51.771522 | G81: =F81*100/E81 -> 97.559265 | H81: =IF('Tabl. II (2)'!B81>0,'Tabl. II (2)'!H81*9/'Tabl. II (2)'!B81,"X") -> 1.6131176 | I81: =IF('Tabl. II (2)'!C81>0,'Tabl. II (2)'!I81*9/'Tabl. II (2)'!C81,"X") -> 1.6192953 | J81: =I81*100/H81 -> 100.38297
A82: ogólne (Co II inst.) | B82: =IF('Tabl. II (2)'!B82>0,'Tabl. II (2)'!E82/'Tabl. II (2)'!B82*100,"X") -> 100.30303 | C82: =IF('Tabl. II (2)'!C82>0,'Tabl. II (2)'!F82/'Tabl. II (2)'!C82*100,"X") -> 99.674267 | D82: =C82*100/B82 -> 99.373136 | E82: =IF('Tabl. II (2)'!E82>0,'Tabl. II (2)'!H82/('Tabl. II (2)'!E82/273.8),"X") -> 21.506949 | F82: =IF('Tabl. II (2)'!F82>0,'Tabl. II (2)'!I82/('Tabl. II (2)'!F82/273.8),"X") -> 20.579739 | G82: =F82*100/E82 -> 95.688788 | H82: =IF('Tabl. II (2)'!B82>0,'Tabl. II (2)'!H82*9/'Tabl. II (2)'!B82,"X") -> 0.70909091 | I82: =IF('Tabl. II (2)'!C82>0,'Tabl. II (2)'!I82*9/'Tabl. II (2)'!C82,"X") -> 0.6742671 | J82: =I82*100/H82 -> 95.08895
A83: skarga kasacyjna (WSC) | B83: =IF('Tabl. II (2)'!B83>0,'Tabl. II (2)'!E83/'Tabl. II (2)'!B83*100,"X") -> 94.318182 | C83: =IF('Tabl. II (2)'!C83>0,'Tabl. II (2)'!F83/'Tabl. II (2)'!C83*100,"X") -> 98.969889 | D83: =C83*100/B83 -> 104.93193 | E83: =IF('Tabl. II (2)'!E83>0,'Tabl. II (2)'!H83/('Tabl. II (2)'!E83/273.8),"X") -> 72.065987 | F83: =IF('Tabl. II (2)'!F83>0,'Tabl. II (2)'!I83/('Tabl. II (2)'!F83/273.8),"X") -> 71.683427 | G83: =F83*100/E83 -> 99.469153 | H83: =IF('Tabl. II (2)'!B83>0,'Tabl. II (2)'!H83*9/'Tabl. II (2)'!B83,"X") -> 2.2342657 | I83: =IF('Tabl. II (2)'!C83>0,'Tabl. II (2)'!I83*9/'Tabl. II (2)'!C83,"X") -> 2.3320127 | J83: =I83*100/H83 -> 104.3749
A84: skarga o stwierdzenie niezgodności z prawem (WSC II inst.) | B84: =IF('Tabl. II (2)'!B84>0,'Tabl. II (2)'!E84/'Tabl. II (2)'!B84*100,"X") -> 100.51813 | C84: =IF('Tabl. II (2)'!C84>0,'Tabl. II (2)'!F84/'Tabl. II (2)'!C84*100,"X") -> 93.596059 | D84: =C84*100/B84 -> 93.113605 | E84: =IF('Tabl. II (2)'!E84>0,'Tabl. II (2)'!H84/('Tabl. II (2)'!E84/273.8),"X") -> 76.212371 | F84: =IF('Tabl. II (2)'!F84>0,'Tabl. II (2)'!I84/('Tabl. II (2)'!F84/273.8),"X") -> 79.257895 | G84: =F84*100/E84 -> 103.9961 | H84: =IF('Tabl. II (2)'!B84>0,'Tabl. II (2)'!H84*9/'Tabl. II (2)'!B84,"X") -> 2.5181347 | I84: =IF('Tabl. II (2)'!C84>0,'Tabl. II (2)'!I84*9/'Tabl. II (2)'!C84,"X") -> 2.4384236 | J84: =I84*100/H84 -> 96.834519
A85: skargi na postępowanie sądowe (S) | B85: =IF('Tabl. II (2)'!B85>0,'Tabl. II (2)'!E85/'Tabl. II (2)'!B85*100,"X") -> 94.419543 | C85: =IF('Tabl. II (2)'!C85>0,'Tabl. II (2)'!F85/'Tabl. II (2)'!C85*100,"X") -> 99.985793 | D85: =C85*100/B85 -> 105.89523 | E85: =IF('Tabl. II (2)'!E85>0,'Tabl. II (2)'!H85/('Tabl. II (2)'!E85/273.8),"X") -> 45.037598 | F85: =IF('Tabl. II (2)'!F85>0,'Tabl. II (2)'!I85/('Tabl. II (2)'!F85/273.8),"X") -> 26.337397 | G85: =F85*100/E85 -> 58.478689 | H85: =IF('Tabl. II (2)'!B85>0,'Tabl. II (2)'!H85*9/'Tabl. II (2)'!B85,"X") -> 1.3978037 | I85: =IF('Tabl. II (2)'!C85>0,'Tabl. II (2)'!I85*9/'Tabl. II (2)'!C85,"X") -> 0.86560591 | J85: =I85*100/H85 -> 61.926144
A87: W SĄDACH OKRĘGOWYCH (c.d.)
A88: Sprawy z zakresu prawa pracy - razem | B88: =IF('Tabl. II (2)'!B88>0,'Tabl. II (2)'!E88/'Tabl. II (2)'!B88*100,"X") -> 89.065948 | C88: =IF('Tabl. II (2)'!C88>0,'Tabl. II (2)'!F88/'Tabl. II (2)'!C88*100,"X") -> 89.373874 | D88: =C88*100/B88 -> 100.34573 | E88: =IF('Tabl. II (2)'!E88>0,'Tabl. II (2)'!H88/('Tabl. II (2)'!E88/273.8),"X") -> 120.15647 | F88: =IF('Tabl. II (2)'!F88>0,'Tabl. II (2)'!I88/('Tabl. II (2)'!F88/273.8),"X") -> 128.31749 | G88: =F88*100/E88 -> 106.79199 | H88: =IF('Tabl. II (2)'!B88>0,'Tabl. II (2)'!H88*9/'Tabl. II (2)'!B88,"X") -> 3.517774 | I88: =IF('Tabl. II (2)'!C88>0,'Tabl. II (2)'!I88*9/'Tabl. II (2)'!C88,"X") -> 3.7696889 | J88: =I88*100/H88 -> 107.1612
A89: I instancji - ze stosunku pracy (P) | B89: =IF('Tabl. II (2)'!B89>0,'Tabl. II (2)'!E89/'Tabl. II (2)'!B89*100,"X") -> 97.111682 | C89: =IF('Tabl. II (2)'!C89>0,'Tabl. II (2)'!F89/'Tabl. II (2)'!C89*100,"X") -> 100.08224 | D89: =C89*100/B89 -> 103.05891 | E89: =IF('Tabl. II (2)'!E89>0,'Tabl. II (2)'!H89/('Tabl. II (2)'!E89/273.8),"X") -> 273.25711 | F89: =IF('Tabl. II (2)'!F89>0,'Tabl. II (2)'!I89/('Tabl. II (2)'!F89/273.8),"X") -> 330.49482 | G89: =F89*100/E89 -> 120.94647 | H89: =IF('Tabl. II (2)'!B89>0,'Tabl. II (2)'!H89*9/'Tabl. II (2)'!B89,"X") -> 8.7227214 | I89: =IF('Tabl. II (2)'!C89>0,'Tabl. II (2)'!I89*9/'Tabl. II (2)'!C89,"X") -> 10.872533 | J89: =I89*100/H89 -> 124.64611
A90: - nakazowe (Np) | B90: =IF('Tabl. II (2)'!B90>0,'Tabl. II (2)'!E90/'Tabl. II (2)'!B90*100,"X") -> 96.875 | C90: =IF('Tabl. II (2)'!C90>0,'Tabl. II (2)'!F90/'Tabl. II (2)'!C90*100,"X") -> 100 | D90: =C90*100/B90 -> 103.22581 | E90: =IF('Tabl. II (2)'!E90>0,'Tabl. II (2)'!H90/('Tabl. II (2)'!E90/273.8),"X") -> 57.409677 | F90: =IF('Tabl. II (2)'!F90>0,'Tabl. II (2)'!I90/('Tabl. II (2)'!F90/273.8),"X") -> 36.857692 | G90: =F90*100/E90 -> 64.201183 | H90: =IF('Tabl. II (2)'!B90>0,'Tabl. II (2)'!H90*9/'Tabl. II (2)'!B90,"X") -> 1.828125 | I90: =IF('Tabl. II (2)'!C90>0,'Tabl. II (2)'!I90*9/'Tabl. II (2)'!C90,"X") -> 1.2115385 | J90: =I90*100/H90 -> 66.272189
A91: ogólne (Po) | B91: =IF('Tabl. II (2)'!B91>0,'Tabl. II (2)'!E91/'Tabl. II (2)'!B91*100,"X") -> 84.135472 | C91: =IF('Tabl. II (2)'!C91>0,'Tabl. II (2)'!F91/'Tabl. II (2)'!C91*100,"X") -> 91.883117 | D91: =C91*100/B91 -> 109.20854 | E91: =IF('Tabl. II (2)'!E91>0,'Tabl. II (2)'!H91/('Tabl. II (2)'!E91/273.8),"X") -> 67.869915 | F91: =IF('Tabl. II (2)'!F91>0,'Tabl. II (2)'!I91/('Tabl. II (2)'!F91/273.8),"X") -> 35.152179 | G91: =F91*100/E91 -> 51.793462 | H91: =IF('Tabl. II (2)'!B91>0,'Tabl. II (2)'!H91*9/'Tabl. II (2)'!B91,"X") -> 1.8770053 | I91: =IF('Tabl. II (2)'!C91>0,'Tabl. II (2)'!I91*9/'Tabl. II (2)'!C91,"X") -> 1.0616883 | J91: =I91*100/H91 -> 56.562882
A92: wykaz Kas-z | B92: =IF('Tabl. II (2)'!B92>0,'Tabl. II (2)'!E92/'Tabl. II (2)'!B92*100,"X") -> 75 | C92: =IF('Tabl. II (2)'!C92>0,'Tabl. II (2)'!F92/'Tabl. II (2)'!C92*100,"X") -> 25 | D92: =C92*100/B92 -> 33.333333 | E92: =IF('Tabl. II (2)'!E92>0,'Tabl. II (2)'!H92/('Tabl. II (2)'!E92/273.8),"X") -> 91.266667 | F92: =IF('Tabl. II (2)'!F92>0,'Tabl. II (2)'!I92/('Tabl. II (2)'!F92/273.8),"X") -> 1095.2 | G92: =F92*100/E92 -> 1200 | H92: =IF('Tabl. II (2)'!B92>0,'Tabl. II (2)'!H92*9/'Tabl. II (2)'!B92,"X") -> 2.25 | I92: =IF('Tabl. II (2)'!C92>0,'Tabl. II (2)'!I92*9/'Tabl. II (2)'!C92,"X") -> 9 | J92: =I92*100/H92 -> 400
A93: skarga o stwierdzenie niezgodności z prawem (WSC I inst.) | B93: =IF('Tabl. II (2)'!B93>0,'Tabl. II (2)'!E93/'Tabl. II (2)'!B93*100,"X") -> X | C93: =IF('Tabl. II (2)'!C93>0,'Tabl. II (2)'!F93/'Tabl. II (2)'!C93*100,"X") -> X | D93: X | E93: =IF('Tabl. II (2)'!E93>0,'Tabl. II (2)'!H93/('Tabl. II (2)'!E93/273.8),"X") -> X | F93: =IF('Tabl. II (2)'!F93>0,'Tabl. II (2)'!I93/('Tabl. II (2)'!F93/273.8),"X") -> X | G93: X | H93: =IF('Tabl. II (2)'!B93>0,'Tabl. II (2)'!H93*9/'Tabl. II (2)'!B93,"X") -> X | I93: =IF('Tabl. II (2)'!C93>0,'Tabl. II (2)'!I93*9/'Tabl. II (2)'!C93,"X") -> X | J93: X
A94: II instancji - apelacje (Pa) | B94: =IF('Tabl. II (2)'!B94>0,'Tabl. II (2)'!E94/'Tabl. II (2)'!B94*100,"X") -> 84.940285 | C94: =IF('Tabl. II (2)'!C94>0,'Tabl. II (2)'!F94/'Tabl. II (2)'!C94*100,"X") -> 83.85805 | D94: =C94*100/B94 -> 98.725887 | E94: =IF('Tabl. II (2)'!E94>0,'Tabl. II (2)'!H94/('Tabl. II (2)'!E94/273.8),"X") -> 127.22874 | F94: =IF('Tabl. II (2)'!F94>0,'Tabl. II (2)'!I94/('Tabl. II (2)'!F94/273.8),"X") -> 149.09544 | G94: =F94*100/E94 -> 117.18692 | H94: =IF('Tabl. II (2)'!B94>0,'Tabl. II (2)'!H94*9/'Tabl. II (2)'!B94,"X") -> 3.5522866 | I94: =IF('Tabl. II (2)'!C94>0,'Tabl. II (2)'!I94*9/'Tabl. II (2)'!C94,"X") -> 4.1097763 | J94: =I94*100/H94 -> 115.69383
A95: - zażalenia (Pz) | B95: =IF('Tabl. II (2)'!B95>0,'Tabl. II (2)'!E95/'Tabl. II (2)'!B95*100,"X") -> 93.702771 | C95: =IF('Tabl. II (2)'!C95>0,'Tabl. II (2)'!F95/'Tabl. II (2)'!C95*100,"X") -> 94.163424 | D95: X | E95: =IF('Tabl. II (2)'!E95>0,'Tabl. II (2)'!H95/('Tabl. II (2)'!E95/273.8),"X") -> 39.13181 | F95: =IF('Tabl. II (2)'!F95>0,'Tabl. II (2)'!I95/('Tabl. II (2)'!F95/273.8),"X") -> 42.741965 | G95: =F95*100/E95 -> 109.22563 | H95: =IF('Tabl. II (2)'!B95>0,'Tabl. II (2)'!H95*9/'Tabl. II (2)'!B95,"X") -> 1.2052897 | I95: =IF('Tabl. II (2)'!C95>0,'Tabl. II (2)'!I95*9/'Tabl. II (2)'!C95,"X") -> 1.3229572 | J95: =I95*100/H95 -> 109.76259
A96: ogólne (Po II inst.) | B96: =IF('Tabl. II (2)'!B96>0,'Tabl. II (2)'!E96/'Tabl. II (2)'!B96*100,"X") -> 101.88679 | C96: =IF('Tabl. II (2)'!C96>0,'Tabl. II (2)'!F96/'Tabl. II (2)'!C96*100,"X") -> 100.3937 | D96: =C96*100/B96 -> 98.534558 | E96: =IF('Tabl. II (2)'!E96>0,'Tabl. II (2)'!H96/('Tabl. II (2)'!E96/273.8),"X") -> 10.140741 | F96: =IF('Tabl. II (2)'!F96>0,'Tabl. II (2)'!I96/('Tabl. II (2)'!F96/273.8),"X") -> 1.0737255 | G96: =F96*100/E96 -> 10.588235 | H96: =IF('Tabl. II (2)'!B96>0,'Tabl. II (2)'!H96*9/'Tabl. II (2)'!B96,"X") -> 0.33962264 | I96: =IF('Tabl. II (2)'!C96>0,'Tabl. II (2)'!I96*9/'Tabl. II (2)'!C96,"X") -> 0.035433071 | J96: =I96*100/H96 -> 10.433071
A97: skarga kasacyjna (WSC-pracy) | B97: =IF('Tabl. II (2)'!B97>0,'Tabl. II (2)'!E97/'Tabl. II (2)'!B97*100,"X") -> 97.381342 | C97: =IF('Tabl. II (2)'!C97>0,'Tabl. II (2)'!F97/'Tabl. II (2)'!C97*100,"X") -> 103.0303 | D97: X | E97: =IF('Tabl. II (2)'!E97>0,'Tabl. II (2)'!H97/('Tabl. II (2)'!E97/273.8),"X") -> 46.937143 | F97: =IF('Tabl. II (2)'!F97>0,'Tabl. II (2)'!I97/('Tabl. II (2)'!F97/273.8),"X") -> 39.417028 | G97: =F97*100/E97 -> 83.978328 | H97: =IF('Tabl. II (2)'!B97>0,'Tabl. II (2)'!H97*9/'Tabl. II (2)'!B97,"X") -> 1.502455 | I97: =IF('Tabl. II (2)'!C97>0,'Tabl. II (2)'!I97*9/'Tabl. II (2)'!C97,"X") -> 1.3349282 | J97: =I97*100/H97 -> 88.849798
A98: skarga o stwierdzenie niezgodności z prawem (WSC II inst.) | B98: =IF('Tabl. II (2)'!B98>0,'Tabl. II (2)'!E98/'Tabl. II (2)'!B98*100,"X") -> 90 | C98: =IF('Tabl. II (2)'!C98>0,'Tabl. II (2)'!F98/'Tabl. II (2)'!C98*100,"X") -> 105 | D98: =C98*100/B98 -> 116.66667 | E98: =IF('Tabl. II (2)'!E98>0,'Tabl. II (2)'!H98/('Tabl. II (2)'!E98/273.8),"X") -> 50.703704 | F98: =IF('Tabl. II (2)'!F98>0,'Tabl. II (2)'!I98/('Tabl. II (2)'!F98/273.8),"X") -> 52.152381 | G98: =F98*100/E98 -> 102.85714 | H98: =IF('Tabl. II (2)'!B98>0,'Tabl. II (2)'!H98*9/'Tabl. II (2)'!B98,"X") -> 1.5 | I98: =IF('Tabl. II (2)'!C98>0,'Tabl. II (2)'!I98*9/'Tabl. II (2)'!C98,"X") -> 1.8 | J98: =I98*100/H98 -> 120
A99: skargi na postępowanie sądowe (S) | B99: =IF('Tabl. II (2)'!B99>0,'Tabl. II (2)'!E99/'Tabl. II (2)'!B99*100,"X") -> 100.92593 | C99: =IF('Tabl. II (2)'!C99>0,'Tabl. II (2)'!F99/'Tabl. II (2)'!C99*100,"X") -> 103.66972 | D99: =C99*100/B99 -> 102.71863 | E99: =IF('Tabl. II (2)'!E99>0,'Tabl. II (2)'!H99/('Tabl. II (2)'!E99/273.8),"X") -> 10.047706 | F99: =IF('Tabl. II (2)'!F99>0,'Tabl. II (2)'!I99/('Tabl. II (2)'!F99/273.8),"X") -> 26.653097 | G99: =F99*100/E99 -> 265.26549 | H99: =IF('Tabl. II (2)'!B99>0,'Tabl. II (2)'!H99*9/'Tabl. II (2)'!B99,"X") -> 0.33333333 | I99: =IF('Tabl. II (2)'!C99>0,'Tabl. II (2)'!I99*9/'Tabl. II (2)'!C99,"X") -> 0.90825688 | J99: =I99*100/H99 -> 272.47706
A100: Sprawy z zakresu ubezpieczeń społecznych - razem | B100: =IF('Tabl. II (2)'!B100>0,'Tabl. II (2)'!E100/'Tabl. II (2)'!B100*100,"X") -> 84.567412 | C100: =IF('Tabl. II (2)'!C100>0,'Tabl. II (2)'!F100/'Tabl. II (2)'!C100*100,"X") -> 86.349796 | D100: =C100*100/B100 -> 102.10765 | E100: =IF('Tabl. II (2)'!E100>0,'Tabl. II (2)'!H100/('Tabl. II (2)'!E100/273.8),"X") -> 218.53923 | F100: =IF('Tabl. II (2)'!F100>0,'Tabl. II (2)'!I100/('Tabl. II (2)'!F100/273.8),"X") -> 252.92508 | G100: =F100*100/E100 -> 115.73441 | H100: =IF('Tabl. II (2)'!B100>0,'Tabl. II (2)'!H100*9/'Tabl. II (2)'!B100,"X") -> 6.0749334 | I100: =IF('Tabl. II (2)'!C100>0,'Tabl. II (2)'!I100*9/'Tabl. II (2)'!C100,"X") -> 7.1789724 | J100: =I100*100/H100 -> 118.17368
A101: I instancji (U) | B101: =IF('Tabl. II (2)'!B101>0,'Tabl. II (2)'!E101/'Tabl. II (2)'!B101*100,"X") -> 84.006566 | C101: =IF('Tabl. II (2)'!C101>0,'Tabl. II (2)'!F101/'Tabl. II (2)'!C101*100,"X") -> 86.108074 | D101: =C101*100/B101 -> 102.5016 | E101: =IF('Tabl. II (2)'!E101>0,'Tabl. II (2)'!H101/('Tabl. II (2)'!E101/273.8),"X") -> 226.98451 | F101: =IF('Tabl. II (2)'!F101>0,'Tabl. II (2)'!I101/('Tabl. II (2)'!F101/273.8),"X") -> 263.92083 | G101: =F101*100/E101 -> 116.27262 | H101: =IF('Tabl. II (2)'!B101>0,'Tabl. II (2)'!H101*9/'Tabl. II (2)'!B101,"X") -> 6.267849 | I101: =IF('Tabl. II (2)'!C101>0,'Tabl. II (2)'!I101*9/'Tabl. II (2)'!C101,"X") -> 7.4701034 | J101: =I101*100/H101 -> 119.18129
A102: ogólne (Uo I inst.) | B102: =IF('Tabl. II (2)'!B102>0,'Tabl. II (2)'!E102/'Tabl. II (2)'!B102*100,"X") -> 97.762329 | C102: =IF('Tabl. II (2)'!C102>0,'Tabl. II (2)'!F102/'Tabl. II (2)'!C102*100,"X") -> 92.135713 | D102: =C102*100/B102 -> 94.244597 | E102: =IF('Tabl. II (2)'!E102>0,'Tabl. II (2)'!H102/('Tabl. II (2)'!E102/273.8),"X") -> 76.420622 | F102: =IF('Tabl. II (2)'!F102>0,'Tabl. II (2)'!I102/('Tabl. II (2)'!F102/273.8),"X") -> 97.327799 | G102: =F102*100/E102 -> 127.35803 | H102: =IF('Tabl. II (2)'!B102>0,'Tabl. II (2)'!H102*9/'Tabl. II (2)'!B102,"X") -> 2.4557897 | I102: =IF('Tabl. II (2)'!C102>0,'Tabl. II (2)'!I102*9/'Tabl. II (2)'!C102,"X") -> 2.9476368 | J102: =I102*100/H102 -> 120.02806
...
