Workbook
Name DF_GRID_1: Wybór [1]sądu!$G$20:$J$215
Name DF_NAVPANEL_13: 'Wybór sądu'!#REF!
Name DF_NAVPANEL_13: 'Wybór sądu'!#REF!
Name DF_NAVPANEL_18: 'Wybór sądu'!#REF!
Name DF_NAVPANEL_18: 'Wybór sądu'!#REF!

Sheet BExRepositorySheet
A1: 7
C14: Filter

Sheet Wybór sądu
F1: Tablice rzymskie I kw 2014
H2: Autor | I2: PROCAG01M | K2: Aktualność danych
G5: Information
G6: Autor | H6: PROCAG01M | J6: Ostatnie odświeżanie | K6: 2014-05-06 11:52:08
G7: Bieżący użytkownik | H7: PROCAG01M | J7: Dzień | K7: 2014-05-06
G8: Ostatnio zmienione przez | H8: PROCAG01M | J8: Godzina zmiany | K8: 2014-05-06 11:50:23
G9: Dostawca informacji | H9: ST_M001 | J9: Aktualność danych
G10: Tech. nazwa zapytania | H10: S_ST_M001_TABL_IKW_13_20141 | J10: Aktualność danych (data)
G11: Opis zapytania | H11: Tablice rzymskie I kw 2014 | J11: Aktualność danych (godzina)
C12: Wybór sądu:
C14: Filter
C16: Apelacja
C17: Liczby
C18: Okręg
C19: Sąd | G19: Table
C20: Wiersze | H20: Wpływy 20141 | I20: Załatwienia 20141 | J20: Pozostałość 20141
G21: s05a Wiersz 1 | H21: 950 | I21: 780 | J21: 590
C22: Uwaga: | G22: s05a Wiersz 2 - formuła 3 + 4 | H22: 114 | I22: 82 | J22: 57
C23: W polu Apelacja wpisujemy np.: Apelacja Warszawska | G23: s05a Wiersz 3 | H23: 24 | I23: 17 | J23: 13
C24: Okręg | D24: Gliwice | G24: s05a Wiersz 4 | H24: 90 | I24: 65 | J24: 44
C25: Sąd | D25: SR w Świdnicy | G25: s05a Wiersz 5 | H25: 1695 | I25: 1603 | J25: 310
G26: s05a Wiersz 6 | H26: 478 | I26: 437 | J26: 264
C27: lub klikamy dwa razy w białe pole przy pozycji, którą chcemy ograniczyć. | G27: s05a Wiersz 7 | H27: 0 | I27: 0 | J27: 0
G28: s05a Wiersz 8 | H28: 0 | I28: 1 | J28: 0
G29: s05a Wiersz 9 | H29: 138 | I29: 126 | J29: 19
C30: 2014-05-06 11:52:08 | G30: s05a Wiersz 10 | H30: 5085 | I30: 4789 | J30: 1826
G31: s05a Wiersz 11 | H31: 165 | I31: 124 | J31: 153
G32: s05a Wiersz 12 | H32: 140 | I32: 124 | J32: 52
G33: s01a Wiersz 1 | H33: 3923 | I33: 3457 | J33: 5539
G34: s01a Wiersz 2 | H34: 4549 | I34: 4394 | J34: 1731
G35: s01a Wiersz 3 | H35: 178 | I35: 196 | J35: 52
G36: s01a Wiersz 4 | H36: 457 | I36: 371 | J36: 325
G37: s01a Wiersz 5 | H37: 4 | I37: 5 | J37: 5
G38: s01a Wiersz 6 | H38: 800 | I38: 726 | J38: 293
G39: s11a Wiersz 1 | H39: 103 | I39: 84 | J39: 160
G40: s11a Wiersz 2 | H40: 91 | I40: 95 | J40: 41
G41: s11a Wiersz 3 | H41: 27 | I41: 23 | J41: 22
G42: s11a Wiersz 4 | H42: 25 | I42: 27 | J42: 20
... G67: s05o Wiersz 11 | H67: 0 | I67: 0 | J67: 0
G68: s05o Wiersz 12
G69: s05o Wiersz 13
G70: s05o Wiersz 14 | H70: 529 | I70: 486 | J70: 210
G71: s05o Wiersz 15 | H71: 0 | I71: 0 | J71: 0
G72: s01o Wiersz 1 | H72: 36705 | I72: 33364 | J72: 94134
G73: s01o Wiersz 2 | H73: 48 | I73: 35 | J73: 246
G74: s01o Wiersz 3 | H74: 4050 | I74: 3617 | J74: 6341
G75: s01o Wiersz 4 | H75: 2240 | I75: 2271 | J75: 487
G76: s01o Wiersz 5 | H76: 1237 | I76: 1209 | J76: 367
G77: s01o Wiersz 6 | H77: 21 | I77: 18 | J77: 16
G78: s01o Wiersz 7 | H78: 17 | I78: 22 | J78: 4
G79: s01o Wiersz 8 | H79: 965 | I79: 1022 | J79: 100
G80: s01o Wiersz 9 | H80: 3306 | I80: 3331 | J80: 1201
G81: s01o Wiersz 10 | H81: 14035 | I81: 13243 | J81: 16915
... G89: s11o Wiersz 1 | H89: 440 | I89: 441 | J89: 1469
G90: s11o Wiersz 2
G91: s11o Wiersz 3 | H91: 16 | I91: 14 | J91: 9
G92: s11o Wiersz 4 | H92: 2481 | I92: 1975 | J92: 2644
G93: s11o Wiersz 5 | H93: 689 | I93: 652 | J93: 242
G94: s11o Wiersz 6 | H94: 145 | I94: 131 | J94: 48
G95: s11o Wiersz 7 | H95: 23 | I95: 23 | J95: 2
G96: s11o Wiersz 8 | H96: 0 | I96: 1 | J96: 0
G97: s11o Wiersz 9 | H97: 217 | I97: 192 | J97: 137
G98: s11o Wiersz 10 | H98: 0 | I98: 0 | J98: 0
G99: s11o Wiersz 11 | H99: 5 | I99: 6 | J99: 4
G100: s11o Wiersz 12 | H100: 42 | I100: 47 | J100: 10
G101: s11o Wiersz 1 | H101: 38262 | I101: 32593 | J101: 79629
G102: s11o Wiersz 2 | H102: 1731 | I102: 1600 | J102: 1400
... G132: s05r Wiersz 1a | H132: 84240 | I132: 96740 | J132: 156125
G133: s05r Wiersz 1b
G134: s05r Wiersz 2 | H134: 10 | I134: 4 | J134: 16
G135: s05r Wiersz 3 | H135: 4436 | I135: 4202 | J135: 6746
G136: s05r Wiersz 3a | H136: 4436 | I136: 4202 | J136: 6746
G137: s05r Wiersz 3b
G138: s05r Wiersz 4 | H138: 53174 | I138: 51186 | J138: 20185
G139: s05r Wiersz 5 | H139: 291784 | I139: 281791 | J139: 107365
G140: s05r Wiersz 6 | H140: 183248 | I140: 179002 | J140: 74870
G141: s05r Wiersz 7 | H141: 108536 | I141: 102789 | J141: 32495
G142: s05r Wiersz 8 | H142: 164887 | I142: 145175 | J142: 142343
G143: s05r Wiersz 9 | H143: 18844 | I143: 15132 | J143: 17734
G144: s05r Wiersz 9a | H144: 18844 | I144: 15132 | J144: 17734
G145: s05r Wiersz 9b
G146: s05r Wiersz 10 | H146: 703 | I146: 501 | J146: 595
G147: s01r Wiersz 1 | H147: 161080 | I147: 141308 | J147: 323861
G148: s01r Wiersz 2
G149: s01r Wiersz 3 | H149: 24 | I149: 22 | J149: 173
G150: s01r Wiersz 4 | H150: 124610 | I150: 109285 | J150: 164792
G151: s01r Wiersz 5 | H151: 699339 | I151: 851519 | J151: 255384
G152: s01r Wiersz 6 | H152: 186597 | I152: 180731 | J152: 195707
G153: s01r Wiersz 7 | H153: 6309 | I153: 5605 | J153: 6026
G154: s01r Wiersz 8 | H154: 8 | I154: 11 | J154: 11
G155: s01r Wiersz 9 | H155: 807147 | I155: 829940 | J155: 180781
G156: s01r Wiersz 10 | H156: 404 | I156: 388 | J156: 102
G157: s16r Wiersz 1 | H157: 41762 | I157: 40039 | J157: 65789
G158: s16r Wiersz 2 | H158: 36158 | I158: 35669 | J158: 30899
G159: s16r Wiersz 3 | H159: 56615 | I159: 50097 | J159: 64681
G160: s18r w4+w5 | H160: 104 | I160: 12401 | J160: 5282
... G173: s12r Wiersz 1 | H173: 17835 | I173: 16303 | J173: 37419
G174: s12r Wiersz 2
G175: s12r Wiersz 3
G176: s12r Wiersz 4 | H176: 3735 | I176: 3774 | J176: 874
...

Sheet Graph
C1: Apelacja | H1: FEP8Qry3
C2: Liczby | H2: Autor | I2: PROCAG01M | K2: Aktualność danych (godzina)
C3: Okręg
C4: Sąd
C5: Wiersze | G5: Information
G6: Autor | H6: PROCAG01M | J6: Ostatnie odświeżanie | K6: 2014-05-06 11:52:08
G7: Bieżący użytkownik | H7: PROCAG01M | J7: Dzień | K7: 2014-05-06
G8: Ostatnio zmienione przez | H8: PROCAG01M | J8: Godzina zmiany | K8: 2014-05-06 11:50:23
G9: Dostawca informacji | H9: ST_M001 | J9: Aktualność danych
G10: Tech. nazwa zapytania | H10: S_ST_M001_TABL_IKW_13_20141 | J10: Aktualność danych (data)
G11: Opis zapytania | H11: Tablice rzymskie I kw 2014 | J11: Aktualność danych (godzina)
C14: Filter

Sheet Tabl. I (2)
A1: TABL. I. EWIDENCJA SPRAW WEDŁUG DZIAŁÓW PRAWA W SĄDACH POWSZECHNYCH
A2: w I kw. 2013 i I kw. 2014 roku
A3: RODZAJE SPRAW WEDŁUG DZIAŁÓW PRAWA I RODZAJÓW SĄDÓW | B3: WPŁYW | E3: ZAŁATWIENIA | H3: POZOSTAŁOŚĆ
B4: I kw. 2013 | C4: I kw. 2014 | E4: I kw. 2013 | F4: I kw. 2014 | H4: I kw. 2013 | I4: I kw. 2014
B5: w liczbach bezwzględnych | D5: I kw. 2013 = 100 | E5: w liczbach bezwzględnych | G5: I kw. 2013 = 100 | H5: w liczbach bezwzględnych | J5: I kw. 2013 = 100
A6: OGÓŁEM | B6: =SUM(B7,B11,B15,B18,B22,B26) -> 3777008 | C6: =SUM(C7,C11,C15,C18,C22,C26) -> 3585372 | D6: =C6*100/B6 -> 94.926249 | E6: =SUM(E7,E11,E15,E18,E22,E26) -> 3700217 | F6: =SUM(F7,F11,F15,F18,F22,F26) -> 3707813 | G6: =F6*100/E6 -> 100.20529 | H6: =SUM(H7,H11,H15,H18,H22,H26) -> 1912720 | I6: =SUM(I7,I11,I15,I18,I22,I26) -> 2307496 | J6: =I6*100/H6 -> 120.63951
A7: SPRAWY KARNEa) | B7: =SUM(B8:B10) -> 714447 | C7: =SUM(C8:C10) -> 700845 | D7: =C7*100/B7 -> 98.09615 | E7: =SUM(E8:E10) -> 669145 | F7: =SUM(F8:F10) -> 677293 | G7: =F7*100/E7 -> 101.21767 | H7: =SUM(H8:H10) -> 424670 | I7: =SUM(I8:I10) -> 474938 | J7: =I7*100/H7 -> 111.83696
A8: W sądach: - apelacyjnych | B8: ='Tabl. II (2)'!B9 -> 8665 | C8: ='Tabl. II (2)'!C9 -> 8651 | D8: =C8*100/B8 -> 99.83843 | E8: ='Tabl. II (2)'!E9 -> 8582 | F8: ='Tabl. II (2)'!F9 -> 7983 | G8: =F8*100/E8 -> 93.020275 | H8: ='Tabl. II (2)'!H9 -> 2506 | I8: ='Tabl. II (2)'!I9 -> 3214 | J8: =I8*100/H8 -> 128.25219
A9: - okręgowych | B9: ='Tabl. II (2)'!B53 -> 102046 | C9: ='Tabl. II (2)'!C53 -> 97406 | D9: =C9*100/B9 -> 95.453031 | E9: ='Tabl. II (2)'!E53 -> 98982 | F9: ='Tabl. II (2)'!F53 -> 93917 | G9: =F9*100/E9 -> 94.882908 | H9: ='Tabl. II (2)'!H53 -> 45093 | I9: ='Tabl. II (2)'!I53 -> 45111 | J9: =I9*100/H9 -> 100.03992
A10: - rejonowych | B10: ='Tabl. II (2)'!B136 -> 603736 | C10: ='Tabl. II (2)'!C136 -> 594788 | D10: =C10*100/B10 -> 98.517895 | E10: ='Tabl. II (2)'!E136 -> 561581 | F10: ='Tabl. II (2)'!F136 -> 575393 | G10: =F10*100/E10 -> 102.45948 | H10: ='Tabl. II (2)'!H136 -> 377071 | I10: ='Tabl. II (2)'!I136 -> 426613 | J10: =I10*100/H10 -> 113.13864
A11: SPRAWY CYWILNE | B11: =SUM(B12:B14) -> 2222719 | C11: =SUM(C12:C14) -> 2077926 | D11: =C11*100/B11 -> 93.485771 | E11: =SUM(E12:E14) -> 2205285 | F11: =SUM(F12:F14) -> 2205962 | G11: =F11*100/E11 -> 100.0307 | H11: =SUM(H12:H14) -> 996341 | I11: =SUM(I12:I14) -> 1263681 | J11: =I11*100/H11 -> 126.83218
A12: W sądach: - apelacyjnychb) | B12: ='Tabl. II (2)'!B23 -> 10248 | C12: ='Tabl. II (2)'!C23 -> 9911 | D12: =C12*100/B12 -> 96.711553 | E12: ='Tabl. II (2)'!E23 -> 9252 | F12: ='Tabl. II (2)'!F23 -> 9149 | G12: =F12*100/E12 -> 98.886727 | H12: ='Tabl. II (2)'!H23 -> 6278 | I12: ='Tabl. II (2)'!I23 -> 7945 | J12: =I12*100/H12 -> 126.55304
A13: - okręgowychb) | B13: ='Tabl. II (2)'!B67 -> 82853 | C13: ='Tabl. II (2)'!C67 -> 82497 | D13: =C13*100/B13 -> 99.570323 | E13: ='Tabl. II (2)'!E67 -> 78205 | F13: ='Tabl. II (2)'!F67 -> 78004 | G13: =F13*100/E13 -> 99.742983 | H13: ='Tabl. II (2)'!H67 -> 119347 | I13: ='Tabl. II (2)'!I67 -> 128899 | J13: =I13*100/H13 -> 108.00355
A14: - rejonowychc) | B14: ='Tabl. II (2)'!B148 -> 2129618 | C14: ='Tabl. II (2)'!C148 -> 1985518 | D14: =C14*100/B14 -> 93.233528 | E14: ='Tabl. II (2)'!E148 -> 2117828 | F14: ='Tabl. II (2)'!F148 -> 2118809 | G14: =F14*100/E14 -> 100.04632 | H14: ='Tabl. II (2)'!H148 -> 870716 | I14: ='Tabl. II (2)'!I148 -> 1126837 | J14: =I14*100/H14 -> 129.41499
A15: SPRAWY RODZINNE | B15: =B17 -> 366161 | C15: =C17 -> 367900 | D15: =C15*100/B15 -> 100.47493 | E15: =E17 -> 341844 | F15: =F17 -> 359224 | G15: =F15*100/E15 -> 105.08419 | H15: =H17 -> 185688 | I15: =I17 -> 198856 | J15: =I15*100/H15 -> 107.09147
A16: W sądach: - okręgowychd) | B16: =23716+1154 -> 24870 | C16: ='Wybór sądu'!H212 -> 25120 | D16: =C16*100/B16 -> 101.00523 | E16: =22681+1330 -> 24011 | F16: ='Wybór sądu'!I212 -> 23112 | G16: =F16*100/E16 -> 96.255883 | H16: =45836+2612 -> 48448 | I16: ='Wybór sądu'!J212 -> 51677 | J16: =I16*100/H16 -> 106.66488
A17: - rejonowych | B17: ='Tabl. II (2)'!B160 -> 366161 | C17: ='Tabl. II (2)'!C160 -> 367900 | D17: =C17*100/B17 -> 100.47493 | E17: ='Tabl. II (2)'!E160 -> 341844 | F17: ='Tabl. II (2)'!F160 -> 359224 | G17: =F17*100/E17 -> 105.08419 | H17: ='Tabl. II (2)'!H160 -> 185688 | I17: ='Tabl. II (2)'!I160 -> 198856 | J17: =I17*100/H17 -> 107.09147
A18: SPRAWY Z ZAKRESU PRAWA PRACY | B18: =SUM(B19:B21) -> 31748 | C18: =SUM(C19:C21) -> 30411 | D18: =C18*100/B18 -> 95.788711 | E18: =SUM(E19:E21) -> 29110 | F18: =SUM(F19:F21) -> 27373 | G18: =F18*100/E18 -> 94.032978 | H18: =SUM(H19:H21) -> 45237 | I18: =SUM(I19:I21) -> 46527 | J18: =I18*100/H18 -> 102.85165
A19: W sądach: - apelacyjnych | B19: ='Tabl. II (2)'!B30 -> 263 | C19: ='Tabl. II (2)'!C30 -> 262 | D19: =C19*100/B19 -> 99.619772 | E19: ='Tabl. II (2)'!E30 -> 231 | F19: ='Tabl. II (2)'!F30 -> 240 | G19: =F19*100/E19 -> 103.8961 | H19: ='Tabl. II (2)'!H30 -> 228 | I19: ='Tabl. II (2)'!I30 -> 252 | J19: =I19*100/H19 -> 110.52632
A20: - okręgowych | B20: ='Tabl. II (2)'!B88 -> 4102 | C20: ='Tabl. II (2)'!C88 -> 4058 | D20: =C20*100/B20 -> 98.927353 | E20: ='Tabl. II (2)'!E88 -> 3618 | F20: ='Tabl. II (2)'!F88 -> 3482 | G20: =F20*100/E20 -> 96.241017 | H20: ='Tabl. II (2)'!H88 -> 3929 | I20: ='Tabl. II (2)'!I88 -> 4565 | J20: =I20*100/H20 -> 116.18733
A21: - rejonowychc) | B21: ='Tabl. II (2)'!B182 -> 27383 | C21: ='Tabl. II (2)'!C182 -> 26091 | D21: =C21*100/B21 -> 95.281744 | E21: ='Tabl. II (2)'!E182 -> 25261 | F21: ='Tabl. II (2)'!F182 -> 23651 | G21: =F21*100/E21 -> 93.626539 | H21: ='Tabl. II (2)'!H182 -> 41080 | I21: ='Tabl. II (2)'!I182 -> 41710 | J21: =I21*100/H21 -> 101.53359
A22: SPRAWY Z ZAKRESU UBEZPIECZEŃ SPOŁECZNYCH | B22: =SUM(B23:B25) -> 52619 | C22: =SUM(C23:C25) -> 56687 | D22: =C22*100/B22 -> 107.73105 | E22: =SUM(E23:E25) -> 49851 | F22: =SUM(F23:F25) -> 51161 | G22: =F22*100/E22 -> 102.62783 | H22: =SUM(H23:H25) -> 93548 | I22: =SUM(I23:I25) -> 120262 | J22: =I22*100/H22 -> 128.55646
A23: W sądach: - apelacyjnych | B23: ='Tabl. II (2)'!B38 -> 7257 | C23: ='Tabl. II (2)'!C38 -> 6581 | D23: =C23*100/B23 -> 90.684856 | E23: ='Tabl. II (2)'!E38 -> 5796 | F23: ='Tabl. II (2)'!F38 -> 8180 | G23: =F23*100/E23 -> 141.13182 | H23: ='Tabl. II (2)'!H38 -> 12726 | I23: ='Tabl. II (2)'!I38 -> 17694 | J23: =I23*100/H23 -> 139.03819
A24: - okręgowych | B24: ='Tabl. II (2)'!B100 -> 37601 | C24: ='Tabl. II (2)'!C100 -> 40801 | D24: =C24*100/B24 -> 108.51041 | E24: ='Tabl. II (2)'!E100 -> 37113 | F24: ='Tabl. II (2)'!F100 -> 34829 | G24: =F24*100/E24 -> 93.845822 | H24: ='Tabl. II (2)'!H100 -> 65524 | I24: ='Tabl. II (2)'!I100 -> 81755 | J24: =I24*100/H24 -> 124.77108
A25: - rejonowych | B25: ='Tabl. II (2)'!B188 -> 7761 | C25: ='Tabl. II (2)'!C188 -> 9305 | D25: =C25*100/B25 -> 119.89434 | E25: ='Tabl. II (2)'!E188 -> 6942 | F25: ='Tabl. II (2)'!F188 -> 8152 | G25: =F25*100/E25 -> 117.43014 | H25: ='Tabl. II (2)'!H188 -> 15298 | I25: ='Tabl. II (2)'!I188 -> 20813 | J25: =I25*100/H25 -> 136.05046
A26: SPRAWY GOSPODARCZE | B26: =SUM(B27:B31) -> 389314 | C26: =SUM(C27:C31) -> 351603 | D26: =C26*100/B26 -> 90.313474 | E26: =SUM(E27:E31) -> 404982 | F26: =SUM(F27:F31) -> 386800 | G26: =F26*100/E26 -> 95.510418 | H26: =SUM(H27:H31) -> 167236 | I26: =SUM(I27:I31) -> 203232 | J26: =I26*100/H26 -> 121.52407
A27: W sądach: - apelacyjnych | B27: ='Tabl. II (2)'!B45 -> 2317 | C27: ='Tabl. II (2)'!C45 -> 3592 | D27: =C27*100/B27 -> 155.02805 | E27: ='Tabl. II (2)'!E45 -> 2081 | F27: ='Tabl. II (2)'!F45 -> 2715 | G27: =F27*100/E27 -> 130.46612 | H27: ='Tabl. II (2)'!H45 -> 1550 | I27: ='Tabl. II (2)'!I45 -> 3774 | J27: =I27*100/H27 -> 243.48387
A28: - okręgowych | B28: ='Tabl. II (2)'!B111 -> 15002 | C28: ='Tabl. II (2)'!C111 -> 14582 | D28: =C28*100/B28 -> 97.200373 | E28: ='Tabl. II (2)'!E111 -> 15889 | F28: ='Tabl. II (2)'!F111 -> 13837 | G28: =F28*100/E28 -> 87.085405 | H28: ='Tabl. II (2)'!H111 -> 17225 | I28: ='Tabl. II (2)'!I111 -> 19823 | J28: =I28*100/H28 -> 115.08273
A29: - rejonowychc) | B29: ='Tabl. II (2)'!B193 -> 368133 | C29: ='Tabl. II (2)'!C193 -> 331377 | D29: =C29*100/B29 -> 90.015565 | E29: ='Tabl. II (2)'!E193 -> 384157 | F29: ='Tabl. II (2)'!F193 -> 354059 | G29: =F29*100/E29 -> 92.165182 | H29: ='Tabl. II (2)'!H193 -> 137365 | I29: ='Tabl. II (2)'!I193 -> 162948 | J29: =I29*100/H29 -> 118.6241
A30: - w Sądzie Ochrony Konkurencji i Konsumentów | B30: ='Tabl. II (2)'!B125 -> 3828 | C30: ='Tabl. II (2)'!C125 -> 2010 | D30: =C30*100/B30 -> 52.507837 | E30: ='Tabl. II (2)'!E125 -> 2822 | F30: ='Tabl. II (2)'!F125 -> 16154 | G30: =F30*100/E30 -> 572.4309 | H30: ='Tabl. II (2)'!H125 -> 11062 | I30: ='Tabl. II (2)'!I125 -> 16658 | J30: =I30*100/H30 -> 150.5876
A31: - w Sądzie Wspólnotowych Znaków Towarowych i Wzorów Przemysłowych | B31: ='Tabl. II (2)'!B134 -> 34 | C31: ='Tabl. II (2)'!C134 -> 42 | D31: =C31*100/B31 -> 123.52941 | E31: ='Tabl. II (2)'!E134 -> 33 | F31: ='Tabl. II (2)'!F134 -> 35 | G31: =F31*100/E31 -> 106.06061 | H31: ='Tabl. II (2)'!H134 -> 34 | I31: ='Tabl. II (2)'!I134 -> 29 | J31: =I31*100/H31 -> 85.294118
A33: a) W sądach rejonowych łącznie ze sprawami wykroczeniowymi.
A34: b) W liczbie spraw cywilnych zawarte są informacje o sprawach rodzinnych.
A35: c) W liczbie spraw cywilnych, z zakresu prawa pracy oraz gospodarczych w sądach rejonowych zawarte są dane statystyczne o ewidencji spraw z zakresu Elektronicznego Postępowania Upominawczego EPU.
A36: Wyszczególnienie | B36: WPŁYW | E36: ZAŁATWIENIA | H36: POZOSTAŁOŚĆ
B37: I kw. 2013 | C37: I kw. 2014 | E37: I kw. 2013 | F37: I kw. 2014 | H37: I kw. 2013 | I37: I kw. 2014
B38: w liczbach bezwzględnych | D38: I kw. 2013 = 100 | E38: w liczbach bezwzględnych | G38: I kw. 2013 = 100 | H38: w liczbach bezwzględnych | J38: I kw. 2013 = 100
A40: ELEKTRONICZNE POSTĘPOWANIE UPOMINAWCZE (EPU) - RAZEM | B40: =SUM(B41:B43) -> 672230 | C40: =SUM(C41:C43) -> 437597 | D40: =C40*100/B40 -> 65.096321 | E40: =SUM(E41:E43) -> 631733 | F40: =SUM(F41:F43) -> 626378 | G40: =F40*100/E40 -> 99.152332 | H40: =SUM(H41:H43) -> 120304 | I40: =SUM(I41:I43) -> 148987 | J40: =I40*100/H40 -> 123.8421
A41: SPRAWY CYWILNE | B41: ='Tabl. II (2)'!B153 -> 566075 | C41: ='Tabl. II (2)'!C153 -> 373372 | D41: =C41*100/B41 -> 65.958044 | E41: ='Tabl. II (2)'!E153 -> 532484 | F41: ='Tabl. II (2)'!F153 -> 538987 | G41: =F41*100/E41 -> 101.22126 | H41: ='Tabl. II (2)'!H153 -> 106552 | I41: ='Tabl. II (2)'!I153 -> 126803 | J41: =I41*100/H41 -> 119.00574
A42: SPRAWY Z ZAKRESU PRAWA PRACY | B42: ='Tabl. II (2)'!B185 -> 116 | C42: ='Tabl. II (2)'!C185 -> 37 | D42: =C42*100/B42 -> 31.896552 | E42: ='Tabl. II (2)'!E185 -> 45 | F42: ='Tabl. II (2)'!F185 -> 86 | G42: =F42*100/E42 -> 191.11111 | H42: ='Tabl. II (2)'!H185 -> 77 | I42: ='Tabl. II (2)'!I185 -> 23 | J42: =I42*100/H42 -> 29.87013
A43: SPRAWY GOSPODARCZE | B43: ='Tabl. II (2)'!B197 -> 106039 | C43: ='Tabl. II (2)'!C197 -> 64188 | D43: =C43*100/B43 -> 60.532446 | E43: ='Tabl. II (2)'!E197 -> 99204 | F43: ='Tabl. II (2)'!F197 -> 87305 | G43: =F43*100/E43 -> 88.005524 | H43: ='Tabl. II (2)'!H197 -> 13675 | I43: ='Tabl. II (2)'!I197 -> 22161 | J43: =I43*100/H43 -> 162.05484
A46: d) W sądach okręgowych w sprawozdaniach wykazywane są tylko sprawy o rozwód i separację.
A48: Opracowanie: /-/ Agnieszka Proczek Starszy Specjalista | F48: Naczelnik Wydziału Statystycznej Informacji Zarządczej /-/ Justyna Kowalczyk

Sheet Tabl. II (2)
A2: TABL. II. EWIDENCJA SPRAW W SĄDACH POWSZECHNYCH WEDŁUG DZIAŁÓW PRAWA I INSTANCYJNOŚCI
A3: w I kw. 2013 i I kw. 2014 roku
A4: RODZAJE SPRAW WEDŁUG KSIĄG EWIDENCYJNYCH | B4: WPŁYW | E4: ZAŁATWIENIA | H4: POZOSTAŁOŚĆ
B5: I kw. 2013 | C5: I kw. 2014 | E5: I kw. 2013 | F5: I kw. 2014 | H5: I kw. 2013 | I5: I kw. 2014
B6: w liczbach bezwzględnych | D6: I kw. 2013 = 100 | E6: w liczbach bezwzględnych | G6: I kw. 2013 = 100 | H6: w liczbach bezwzględnych | J6: I kw. 2013 = 100
A7: OGÓŁEM SPRAW W SĄDACH POWSZECHNYCH | B7: =SUM(B8,B52,B135) -> 3777008 | C7: =SUM(C8,C52,C135) -> 3585372 | D7: =C7*100/B7 -> 94.926249 | E7: =SUM(E8,E52,E135) -> 3700217 | F7: =SUM(F8,F52,F135) -> 3707813 | G7: =F7*100/E7 -> 100.20529 | H7: =SUM(H8,H52,H135) -> 1912720 | I7: =SUM(I8,I52,I135) -> 2307496 | J7: =I7*100/H7 -> 120.63951
A8: W SĄDACH APELACYJNYCH - OGÓŁEM | B8: =SUM(B9,B23,B30,B38,B45) -> 28750 | C8: =SUM(C9,C23,C30,C38,C45) -> 28997 | D8: =C8*100/B8 -> 100.85913 | E8: =SUM(E9,E23,E30,E38,E45) -> 25942 | F8: =SUM(F9,F23,F30,F38,F45) -> 28267 | G8: =F8*100/E8 -> 108.9623 | H8: =SUM(H9,H23,H30,H38,H45) -> 23288 | I8: =SUM(I9,I23,I30,I38,I45) -> 32879 | J8: =I8*100/H8 -> 141.1843
A9: Sprawy karne - razem | B9: =SUM(B10,B14,B15,B18,B19,B20,B21) -> 8665 | C9: =SUM(C10,C14,C15,C18,C19,C20,C21) -> 8651 | D9: =C9*100/B9 -> 99.83843 | E9: =SUM(E10,E14,E15,E18,E19,E20,E21) -> 8582 | F9: =SUM(F10,F14,F15,F18,F19,F20,F21) -> 7983 | G9: =F9*100/E9 -> 93.020275 | H9: =SUM(H10,H14,H15,H18,H19,H20,H21) -> 2506 | I9: =SUM(I10,I14,I15,I18,I19,I20,I21) -> 3214 | J9: =I9*100/H9 -> 128.25219
A10: II instancji - apelacje (A Ka) | B10: 982 | C10: ='Wybór sądu'!H21 -> 950 | D10: =C10*100/B10 -> 96.741344 | E10: 833 | F10: ='Wybór sądu'!I21 -> 780 | G10: =F10*100/E10 -> 93.637455 | H10: 554 | I10: ='Wybór sądu'!J21 -> 590 | J10: =I10*100/H10 -> 106.49819
A11: w tym: o odszkodowanie (A Ka) | B11: 107 | C11: ='Wybór sądu'!H22 -> 114 | D11: =C11*100/B11 -> 106.54206 | E11: 94 | F11: ='Wybór sądu'!I22 -> 82 | G11: =F11*100/E11 -> 87.234043 | H11: 42 | I11: ='Wybór sądu'!J22 -> 57 | J11: =I11*100/H11 -> 135.71429
A12: w tym: -z ust. z dn. 23.02.1991 r. o uznaniu za nieważne orzeczeń wydanych wobec osób represjonowanych za działalność na rzecz niepodległego bytu Państwa Polskiego (Dz.U. Nr 34, poz. 149) | B12: 29 | C12: ='Wybór sądu'!H23 -> 24 | D12: =C12*100/B12 -> 82.758621 | E12: 29 | F12: ='Wybór sądu'!I23 -> 17 | G12: =F12*100/E12 -> 58.62069 | H12: 7 | I12: ='Wybór sądu'!J23 -> 13 | J12: =I12*100/H12 -> 185.71429
A13: - w trybie a.552 kpk | B13: 78 | C13: ='Wybór sądu'!H24 -> 90 | D13: =C13*100/B13 -> 115.38462 | E13: 65 | F13: ='Wybór sądu'!I24 -> 65 | G13: =F13*100/E13 -> 100 | H13: 35 | I13: ='Wybór sądu'!J24 -> 44 | J13: =I13*100/H13 -> 125.71429
A14: - zażalenia (A Kz) | B14: 1697 | C14: ='Wybór sądu'!H25 -> 1695 | D14: =C14*100/B14 -> 99.882145 | E14: 1671 | F14: ='Wybór sądu'!I25 -> 1603 | G14: =F14*100/E14 -> 95.93058 | H14: 271 | I14: ='Wybór sądu'!J25 -> 310 | J14: =I14*100/H14 -> 114.39114
A15: ogólne (A Ko) | B15: 546 | C15: ='Wybór sądu'!H26 -> 478 | D15: =C15*100/B15 -> 87.545788 | E15: 526 | F15: ='Wybór sądu'!I26 -> 437 | G15: =F15*100/E15 -> 83.079848 | H15: 245 | I15: ='Wybór sądu'!J26 -> 264 | J15: =I15*100/H15 -> 107.7551
A16: w tym:
A17: sprawy w trybie art.11a pwkpk | B17: 0 | C17: ='Wybór sądu'!H28 -> 0 | D17: X | E17: 0 | F17: ='Wybór sądu'!I28 -> 1 | G17: X | H17: 0 | I17: ='Wybór sądu'!J28 -> 0 | J17: X
A18: nadzór sądowy nad postępowaniem przygotowawczym (A Kp) | B18: 127 | C18: ='Wybór sądu'!H29 -> 138 | D18: =C18*100/B18 -> 108.66142 | E18: 120 | F18: ='Wybór sądu'!I29 -> 126 | G18: =F18*100/E18 -> 105 | H18: 18 | I18: ='Wybór sądu'!J29 -> 19 | J18: =I18*100/H18 -> 105.55556
A19: zażalenia na postanowienia w postępowaniu wykonawczym (A Kzw) | B19: 5021 | C19: ='Wybór sądu'!H30 -> 5085 | D19: =C19*100/B19 -> 101.27465 | E19: 5137 | F19: ='Wybór sądu'!I30 -> 4789 | G19: =F19*100/E19 -> 93.225618 | H19: 1255 | I19: ='Wybór sądu'!J30 -> 1826 | J19: =I19*100/H19 -> 145.49801
A20: kasacje (WKK) | B20: 139 | C20: ='Wybór sądu'!H31 -> 165 | D20: =C20*100/B20 -> 118.70504 | E20: 150 | F20: ='Wybór sądu'!I31 -> 124 | G20: =F20*100/E20 -> 82.666667 | H20: 114 | I20: ='Wybór sądu'!J31 -> 153 | J20: =I20*100/H20 -> 134.21053
A21: skargi na postępowanie sądowe i prokuratorskie (S) | B21: 153 | C21: ='Wybór sądu'!H32 -> 140 | D21: =C21*100/B21 -> 91.503268 | E21: 145 | F21: ='Wybór sądu'!I32 -> 124 | G21: =F21*100/E21 -> 85.517241 | H21: 49 | I21: ='Wybór sądu'!J32 -> 52 | J21: =I21*100/H21 -> 106.12245
A22: W SĄDACH APELACYJNYCH (c.d.)
A23: Sprawy cywilne - razem | B23: =SUM(B24:B29) -> 10248 | C23: =SUM(C24:C29) -> 9911 | D23: =C23*100/B23 -> 96.711553 | E23: =SUM(E24:E29) -> 9252 | F23: =SUM(F24:F29) -> 9149 | G23: =F23*100/E23 -> 98.886727 | H23: =SUM(H24:H29) -> 6278 | I23: =SUM(I24:I29) -> 7945 | J23: =I23*100/H23 -> 126.55304
A24: II instancji - apelacje (A Ca)a) | B24: 3747 | C24: ='Wybór sądu'!H33 -> 3923 | D24: =C24*100/B24 -> 104.69709 | E24: 3172 | F24: ='Wybór sądu'!I33 -> 3457 | G24: =F24*100/E24 -> 108.98487 | H24: 4342 | I24: ='Wybór sądu'!J33 -> 5539 | J24: =I24*100/H24 -> 127.56794
A25: - zażalenia (A Cz)a) | B25: 5249 | C25: ='Wybór sądu'!H34 -> 4549 | D25: =C25*100/B25 -> 86.664127 | E25: 4981 | F25: ='Wybór sądu'!I34 -> 4394 | G25: =F25*100/E25 -> 88.215218 | H25: 1448 | I25: ='Wybór sądu'!J34 -> 1731 | J25: =I25*100/H25 -> 119.5442
A26: ogólne (A Co) | B26: 180 | C26: ='Wybór sądu'!H35 -> 178 | D26: =C26*100/B26 -> 98.888889 | E26: 165 | F26: ='Wybór sądu'!I35 -> 196 | G26: =F26*100/E26 -> 118.78788 | H26: 50 | I26: ='Wybór sądu'!J35 -> 52 | J26: =I26*100/H26 -> 104
A27: skarga kasacyjna (WSC) | B27: 430 | C27: ='Wybór sądu'!H36 -> 457 | D27: =C27*100/B27 -> 106.27907 | E27: 359 | F27: ='Wybór sądu'!I36 -> 371 | G27: =F27*100/E27 -> 103.34262 | H27: 253 | I27: ='Wybór sądu'!J36 -> 325 | J27: =I27*100/H27 -> 128.4585
A28: skarga o stwierdzenie niezgodności z prawem (WSC)b) | B28: 6 | C28: ='Wybór sądu'!H37 -> 4 | D28: =C28*100/B28 -> 66.666667 | E28: 13 | F28: ='Wybór sądu'!I37 -> 5 | G28: =F28*100/E28 -> 38.461538 | H28: 2 | I28: ='Wybór sądu'!J37 -> 5 | J28: =I28*100/H28 -> 250
A29: skargi na postępowanie sądowe (S) | B29: 636 | C29: ='Wybór sądu'!H38 -> 800 | D29: =C29*100/B29 -> 125.78616 | E29: 562 | F29: ='Wybór sądu'!I38 -> 726 | G29: =F29*100/E29 -> 129.18149 | H29: 183 | I29: ='Wybór sądu'!J38 -> 293 | J29: =I29*100/H29 -> 160.10929
A30: Sprawy z zakresu prawa pracy - razem | B30: =SUM(B31:B36) -> 263 | C30: =SUM(C31:C36) -> 262 | D30: =C30*100/B30 -> 99.619772 | E30: =SUM(E31:E36) -> 231 | F30: =SUM(F31:F36) -> 240 | G30: =F30*100/E30 -> 103.8961 | H30: =SUM(H31:H36) -> 228 | I30: =SUM(I31:I36) -> 252 | J30: =I30*100/H30 -> 110.52632
A31: II instancji - apelacje (A Pa) | B31: 111 | C31: ='Wybór sądu'!H39 -> 103 | D31: =C31*100/B31 -> 92.792793 | E31: 94 | F31: ='Wybór sądu'!I39 -> 84 | G31: =F31*100/E31 -> 89.361702 | H31: 154 | I31: ='Wybór sądu'!J39 -> 160 | J31: =I31*100/H31 -> 103.8961
A32: - zażalenia (A Pz) | B32: 110 | C32: ='Wybór sądu'!H40 -> 91 | D32: =C32*100/B32 -> 82.727273 | E32: 93 | F32: ='Wybór sądu'!I40 -> 95 | G32: =F32*100/E32 -> 102.15054 | H32: 45 | I32: ='Wybór sądu'!J40 -> 41 | J32: =I32*100/H32 -> 91.111111
A33: - ogólne (A Po) | B33: 17 | C33: ='Wybór sądu'!H41 -> 27 | D33: =C33*100/B33 -> 158.82353 | E33: 21 | F33: ='Wybór sądu'!I41 -> 23 | G33: =F33*100/E33 -> 109.52381 | H33: 14 | I33: ='Wybór sądu'!J41 -> 22 | J33: =I33*100/H33 -> 157.14286
A34: skarga kasacyjna (WSC-pracy) | B34: 16 | C34: ='Wybór sądu'!H42 -> 25 | D34: =C34*100/B34 -> 156.25 | E34: 10 | F34: ='Wybór sądu'!I42 -> 27 | G34: =F34*100/E34 -> 270 | H34: 13 | I34: ='Wybór sądu'!J42 -> 20 | J34: =I34*100/H34 -> 153.84615
A35: skarga o stwierdzenie niezgodności z prawem (WSC-pracy) | B35: 0 | C35: ='Wybór sądu'!H43 -> 0 | D35: X | E35: 0 | F35: ='Wybór sądu'!I43 -> 0 | G35: X | H35: 0 | I35: ='Wybór sądu'!J43 -> 0 | J35: X
A36: skargi na postępowanie sądowe (S) | B36: 9 | C36: ='Wybór sądu'!H44 -> 16 | D36: =C36*100/B36 -> 177.77778 | E36: 13 | F36: ='Wybór sądu'!I44 -> 11 | G36: =F36*100/E36 -> 84.615385 | H36: 2 | I36: ='Wybór sądu'!J44 -> 9 | J36: =I36*100/H36 -> 450
A37: W SĄDACH APELACYJNYCH (dok.)
A38: Sprawy z zakresu ubezpieczeń społecznych - razem | B38: =SUM(B39:B44) -> 7257 | C38: =SUM(C39:C44) -> 6581 | D38: =C38*100/B38 -> 90.684856 | E38: =SUM(E39:E44) -> 5796 | F38: =SUM(F39:F44) -> 8180 | G38: =F38*100/E38 -> 141.13182 | H38: =SUM(H39:H44) -> 12726 | I38: =SUM(I39:I44) -> 17694 | J38: =I38*100/H38 -> 139.03819
A39: II instancji - apelacje (A Ua) | B39: 5978 | C39: ='Wybór sądu'!H45 -> 5419 | D39: =C39*100/B39 -> 90.649047 | E39: 4700 | F39: ='Wybór sądu'!I45 -> 7155 | G39: =F39*100/E39 -> 152.23404 | H39: 12103 | I39: ='Wybór sądu'!J45 -> 17127 | J39: =I39*100/H39 -> 141.51037
A40: - zażalenia (A Uz) | B40: 858 | C40: ='Wybór sądu'!H46 -> 746 | D40: =C40*100/B40 -> 86.946387 | E40: 729 | F40: ='Wybór sądu'!I46 -> 648 | G40: =F40*100/E40 -> 88.888889 | H40: 368 | I40: ='Wybór sądu'!J46 -> 335 | J40: =I40*100/H40 -> 91.032609
A41: ogólne (A Uo) | B41: 8 | C41: ='Wybór sądu'!H47 -> 3 | D41: =C41*100/B41 -> 37.5 | E41: 9 | F41: ='Wybór sądu'!I47 -> 3 | G41: =F41*100/E41 -> 33.333333 | H41: 2 | I41: ='Wybór sądu'!J47 -> 2 | J41: =I41*100/H41 -> 100
A42: skarga kasacyjna (WSC-ubezp.) | B42: 367 | C42: ='Wybór sądu'!H48 -> 367 | D42: =C42*100/B42 -> 100 | E42: 300 | F42: ='Wybór sądu'!I48 -> 329 | G42: =F42*100/E42 -> 109.66667 | H42: 234 | I42: ='Wybór sądu'!J48 -> 214 | J42: =I42*100/H42 -> 91.452991
A43: skarga o stwierdzenie niezgodności z prawem (WSC-ubezp.) | B43: 8 | C43: ='Wybór sądu'!H49 -> 4 | D43: =C43*100/B43 -> 50 | E43: 3 | F43: ='Wybór sądu'!I49 -> 5 | G43: =F43*100/E43 -> 166.66667 | H43: 5 | I43: ='Wybór sądu'!J49 -> 3 | J43: =I43*100/H43 -> 60
A44: skargi na postępowanie sądowe (S) | B44: 38 | C44: ='Wybór sądu'!H50 -> 42 | D44: =C44*100/B44 -> 110.52632 | E44: 55 | F44: ='Wybór sądu'!I50 -> 40 | G44: =F44*100/E44 -> 72.727273 | H44: 14 | I44: ='Wybór sądu'!J50 -> 13 | J44: =I44*100/H44 -> 92.857143
A45: Sprawy gospodarcze - razem | B45: =SUM(B46:B51) -> 2317 | C45: =SUM(C46:C51) -> 3592 | D45: =C45*100/B45 -> 155.02805 | E45: =SUM(E46:E51) -> 2081 | F45: =SUM(F46:F51) -> 2715 | G45: =F45*100/E45 -> 130.46612 | H45: =SUM(H46:H51) -> 1550 | I45: =SUM(I46:I51) -> 3774 | J45: =I45*100/H45 -> 243.48387
A46: II instancji - apelacje (A Ca-gosp.) | B46: 778 | C46: ='Wybór sądu'!H51 -> 782 | D46: =C46*100/B46 -> 100.51414 | E46: 611 | F46: ='Wybór sądu'!I51 -> 715 | G46: =F46*100/E46 -> 117.02128 | H46: 1115 | I46: ='Wybór sądu'!J51 -> 1387 | J46: =I46*100/H46 -> 124.39462
A47: - zażalenia (A Cz-gosp.) | B47: 1387 | C47: ='Wybór sądu'!H52 -> 2372 | D47: =C47*100/B47 -> 171.01658 | E47: 1332 | F47: ='Wybór sądu'!I52 -> 1793 | G47: =F47*100/E47 -> 134.60961 | H47: 351 | I47: ='Wybór sądu'!J52 -> 2001 | J47: =I47*100/H47 -> 570.08547
A48: ogólne (A Co-gosp.) | B48: 3 | C48: ='Wybór sądu'!H53 -> 10 | D48: =C48*100/B48 -> 333.33333 | E48: 4 | F48: ='Wybór sądu'!I53 -> 13 | G48: =F48*100/E48 -> 325 | H48: 1 | I48: ='Wybór sądu'!J53 -> 3 | J48: =I48*100/H48 -> 300
A49: skarga kasacyjna (WSC-gosp.) | B49: 124 | C49: ='Wybór sądu'!H54 -> 351 | D49: =C49*100/B49 -> 283.06452 | E49: 114 | F49: ='Wybór sądu'!I54 -> 125 | G49: =F49*100/E49 -> 109.64912 | H49: 74 | I49: ='Wybór sądu'!J54 -> 325 | J49: =I49*100/H49 -> 439.18919
A50: skarga o stwierdzenie niezgodności z prawem (WSC-gosp.) | B50: 0 | C50: ='Wybór sądu'!H55 -> 3 | D50: X | E50: 0 | F50: ='Wybór sądu'!I55 -> 3 | G50: X | H50: 0 | I50: ='Wybór sądu'!J55 -> 2 | J50: X
A51: skargi na postępowanie sądowe (S) | B51: 25 | C51: ='Wybór sądu'!H56 -> 74 | D51: =C51*100/B51 -> 296 | E51: 20 | F51: ='Wybór sądu'!I56 -> 66 | G51: =F51*100/E51 -> 330 | H51: 9 | I51: ='Wybór sądu'!J56 -> 56 | J51: =I51*100/H51 -> 622.22222
A52: W SĄDACH OKRĘGOWYCH - OGÓŁEM | B52: =SUM(B53,B67,B88,B100,B111,B125,B134) -> 245466 | C52: =SUM(C53,C67,C88,C100,C111,C125,C134) -> 241396 | D52: =C52*100/B52 -> 98.341929 | E52: =SUM(E53,E67,E88,E100,E111,E125,E134) -> 236662 | F52: =SUM(F53,F67,F88,F100,F111,F125,F134) -> 240258 | G52: =F52*100/E52 -> 101.51947 | H52: =SUM(H53,H67,H88,H100,H111,H125,H134) -> 262214 | I52: =SUM(I53,I67,I88,I100,I111,I125,I134) -> 296840 | J52: =I52*100/H52 -> 113.20524
A53: Sprawy karne i wykroczeniowe - razem | B53: =SUM(B54:B65) -> 102046 | C53: =SUM(C54:C65) -> 97406 | D53: =C53*100/B53 -> 95.453031 | E53: =SUM(E54:E65) -> 98982 | F53: =SUM(F54:F65) -> 93917 | G53: =F53*100/E53 -> 94.882908 | H53: =SUM(H54:H65) -> 45093 | I53: =SUM(I54:I65) -> 45111 | J53: =I53*100/H53 -> 100.03992
A54: I instancji (K) | B54: 2369 | C54: ='Wybór sądu'!H57 -> 2333 | D54: =C54*100/B54 -> 98.480371 | E54: 2300 | F54: ='Wybór sądu'!I57 -> 2224 | G54: =F54*100/E54 -> 96.695652 | H54: 5969 | I54: ='Wybór sądu'!J57 -> 6057 | J54: =I54*100/H54 -> 101.47428
A55: w tym odpowiedzialność podmiotów zbiorowych | B55: 0 | C55: ='Wybór sądu'!H67 -> 0 | D55: X | E55: 0 | F55: ='Wybór sądu'!I67 -> 0 | G55: X | H55: 0 | I55: ='Wybór sądu'!J67 -> 0 | J55: X
A56: II instancji - apelacje w sprawach karnych (Ka) | B56: 13870 | C56: ='Wybór sądu'!H58 -> 12038 | D56: =C56*100/B56 -> 86.791637 | E56: 13014 | F56: ='Wybór sądu'!I58 -> 11185 | G56: =F56*100/E56 -> 85.945904 | H56: 9616 | I56: ='Wybór sądu'!J58 -> 9800 | J56: =I56*100/H56 -> 101.91348
A57: - zażalenia w sprawach karnych (Kz) | B57: 8373 | C57: ='Wybór sądu'!H59 -> 8365 | D57: =C57*100/B57 -> 99.904455 | E57: 8177 | F57: ='Wybór sądu'!I59 -> 8135 | G57: =F57*100/E57 -> 99.486364 | H57: 1958 | I57: ='Wybór sądu'!J59 -> 2355 | J57: =I57*100/H57 -> 120.27579
A58: ogólne (Ko) | B58: 9667 | C58: ='Wybór sądu'!H60 -> 9685 | D58: =C58*100/B58 -> 100.1862 | E58: 9152 | F58: ='Wybór sądu'!I60 -> 9442 | G58: =F58*100/E58 -> 103.16871 | H58: 3568 | I58: ='Wybór sądu'!J60 -> 3521 | J58: =I58*100/H58 -> 98.682735
A59: zażalenia na postanowienia w postępowaniu wykonawczym (Kzw) | B59: 9765 | C59: ='Wybór sądu'!H61 -> 8784 | D59: =C59*100/B59 -> 89.953917 | E59: 9959 | F59: ='Wybór sądu'!I61 -> 8506 | G59: =F59*100/E59 -> 85.410182 | H59: 3976 | I59: ='Wybór sądu'!J61 -> 4008 | J59: =I59*100/H59 -> 100.80483
A60: penitencjarne: - sprawy dotyczące wkonywania kary pozbawienia wolności; np.: przerw, odwołania warunkowego zwolnienia, zmiany określonego wyroku i typu zakładu karnego (Kow) | B60: 37799 | C60: ='Wybór sądu'!H62 -> 35733 | D60: =C60*100/B60 -> 94.534247 | E60: 36782 | F60: ='Wybór sądu'!I62 -> 34564 | G60: =F60*100/E60 -> 93.969877 | H60: 16834 | I60: ='Wybór sądu'!J62 -> 15808 | J60: =I60*100/H60 -> 93.905192
A61: - sprawy dotyczące wykonywania nadzoru sędziego penitencjarnego nad tymczasowym aresztowaniem lub karą pozbawienia wolności (Pen) | B61: 9210 | C61: ='Wybór sądu'!H63 -> 8189 | D61: =C61*100/B61 -> 88.914224 | E61: 9056 | F61: ='Wybór sądu'!I63 -> 8161 | G61: =F61*100/E61 -> 90.117049 | H61: 1016 | I61: ='Wybór sądu'!J63 -> 1121 | J61: =I61*100/H61 -> 110.33465
A62: nadzór sądowy nad postępowaniem przygotowawczym (Kp) | B62: 8748 | C62: ='Wybór sądu'!H64 -> 10156 | D62: =C62*100/B62 -> 116.09511 | E62: 8429 | F62: ='Wybór sądu'!I64 -> 9806 | G62: =F62*100/E62 -> 116.33646 | H62: 1157 | I62: ='Wybór sądu'!J64 -> 1399 | J62: =I62*100/H62 -> 120.91616
A63: kasacje (WKK) | B63: 312 | C63: ='Wybór sądu'!H65 -> 309 | D63: =C63*100/B63 -> 99.038462 | E63: 300 | F63: ='Wybór sądu'!I65 -> 276 | G63: =F63*100/E63 -> 92 | H63: 285 | I63: ='Wybór sądu'!J65 -> 313 | J63: =I63*100/H63 -> 109.82456
A64: Kop | B64: 1396 | C64: ='Wybór sądu'!H66 -> 1285 | D64: =C64*100/B64 -> 92.048711 | E64: 1336 | F64: ='Wybór sądu'!I66 -> 1132 | G64: =F64*100/E64 -> 84.730539 | H64: 525 | I64: ='Wybór sądu'!J66 -> 519 | J64: =I64*100/H64 -> 98.857143
A65: skargi na postępowanie sądowe i prokuratorskie (S) | B65: 537 | C65: ='Wybór sądu'!H70 -> 529 | D65: =C65*100/B65 -> 98.510242 | E65: 477 | F65: ='Wybór sądu'!I70 -> 486 | G65: =F65*100/E65 -> 101.88679 | H65: 189 | I65: ='Wybór sądu'!J70 -> 210 | J65: =I65*100/H65 -> 111.11111
A66: W SĄDACH OKRĘGOWYCH (c.d.)
A67: Sprawy cywilne - razem | B67: =SUM(B68:B71,B77:B85) -> 82853 | C67: =SUM(C68:C71,C77:C85) -> 82497 | D67: =C67*100/B67 -> 99.570323 | E67: =SUM(E68:E71,E77:E85) -> 78205 | F67: =SUM(F68:F71,F77:F85) -> 78004 | G67: =F67*100/E67 -> 99.742983 | H67: =SUM(H68:H71,H77:H85) -> 119347 | I67: =SUM(I68:I71,I77:I85) -> 128899 | J67: =I67*100/H67 -> 108.00355
A68: I instancji - procesowe (C i RC)a) | B68: 36617 | C68: ='Wybór sądu'!H72 -> 36705 | D68: =C68*100/B68 -> 100.24033 | E68: 34634 | F68: ='Wybór sądu'!I72 -> 33364 | G68: =F68*100/E68 -> 96.333083 | H68: 87061 | I68: ='Wybór sądu'!J72 -> 94134 | J68: =I68*100/H68 -> 108.12419
A69: - szkody geologiczne i górnicze (CG-G) | B69: 55 | C69: ='Wybór sądu'!H73 -> 48 | D69: =C69*100/B69 -> 87.272727 | E69: 29 | F69: ='Wybór sądu'!I73 -> 35 | G69: =F69*100/E69 -> 120.68966 | H69: 182 | I69: ='Wybór sądu'!J73 -> 246 | J69: =I69*100/H69 -> 135.16484
A70: - nieprocesowe (Ns)a) (z wył. rej.) | B70: 3868 | C70: ='Wybór sądu'!H74 -> 4050 | D70: =C70*100/B70 -> 104.70527 | E70: 3609 | F70: ='Wybór sądu'!I74 -> 3617 | G70: =F70*100/E70 -> 100.22167 | H70: 5763 | I70: ='Wybór sądu'!J74 -> 6341 | J70: =I70*100/H70 -> 110.0295
A71: - rejestrowe | B71: 2262 | C71: ='Wybór sądu'!H75 -> 2240 | D71: =C71*100/B71 -> 99.027409 | E71: 2026 | F71: ='Wybór sądu'!I75 -> 2271 | G71: =F71*100/E71 -> 112.09279 | H71: 579 | I71: ='Wybór sądu'!J75 -> 487 | J71: =I71*100/H71 -> 84.110535
A72: w tym:
A73: z zakresu rejestru dzienników i czasopism (Ns.Rej.Pr) | B73: 1347 | C73: ='Wybór sądu'!H76 -> 1237 | D73: =C73*100/B73 -> 91.833705 | E73: 1244 | F73: ='Wybór sądu'!I76 -> 1209 | G73: =F73*100/E73 -> 97.186495 | H73: 329 | I73: ='Wybór sądu'!J76 -> 367 | J73: =I73*100/H73 -> 111.55015
A74: Partie | B74: 24 | C74: ='Wybór sądu'!H77 -> 21 | D74: =C74*100/B74 -> 87.5 | E74: 28 | F74: ='Wybór sądu'!I77 -> 18 | G74: =F74*100/E74 -> 64.285714 | H74: 21 | I74: ='Wybór sądu'!J77 -> 16 | J74: =I74*100/H74 -> 76.190476
A75: Fundusze emerytalne | B75: 18 | C75: ='Wybór sądu'!H78 -> 17 | D75: =C75*100/B75 -> 94.444444 | E75: 17 | F75: ='Wybór sądu'!I78 -> 22 | G75: =F75*100/E75 -> 129.41176 | H75: 3 | I75: ='Wybór sądu'!J78 -> 4 | J75: =I75*100/H75 -> 133.33333
A76: Fundusze inwestycyjne | B76: 873 | C76: ='Wybór sądu'!H79 -> 965 | D76: =C76*100/B76 -> 110.53837 | E76: 737 | F76: ='Wybór sądu'!I79 -> 1022 | G76: =F76*100/E76 -> 138.67028 | H76: 226 | I76: ='Wybór sądu'!J79 -> 100 | J76: =I76*100/H76 -> 44.247788
A77: - nakazowe i upominawcze (Nc) | B77: 3475 | C77: ='Wybór sądu'!H80 -> 3306 | D77: =C77*100/B77 -> 95.136691 | E77: 4483 | F77: ='Wybór sądu'!I80 -> 3331 | G77: =F77*100/E77 -> 74.302922 | H77: 1385 | I77: ='Wybór sądu'!J80 -> 1201 | J77: =I77*100/H77 -> 86.714801
A78: II instancji - apelacje (Ca)a) | B78: 15185 | C78: ='Wybór sądu'!H81 -> 14035 | D78: =C78*100/B78 -> 92.426737 | E78: 12939 | F78: ='Wybór sądu'!I81 -> 13243 | G78: =F78*100/E78 -> 102.34949 | H78: 15837 | I78: ='Wybór sądu'!J81 -> 16915 | J78: =I78*100/H78 -> 106.80684
A79: - zażalenia (Cz)a) | B79: 16277 | C79: ='Wybór sądu'!H82 -> 16053 | D79: =C79*100/B79 -> 98.623825 | E79: 15482 | F79: ='Wybór sądu'!I82 -> 16244 | G79: =F79*100/E79 -> 104.92184 | H79: 5898 | I79: ='Wybór sądu'!J82 -> 6558 | J79: =I79*100/H79 -> 111.19023
A80: ogólne (Co) - I instancja | B80: 3282 | C80: ='Wybór sądu'!H83 -> 3040 | D80: =C80*100/B80 -> 92.626447 | E80: 3264 | F80: ='Wybór sądu'!I83 -> 2965 | G80: =F80*100/E80 -> 90.839461 | H80: 1802 | I80: ='Wybór sądu'!J83 -> 1870 | J80: =I80*100/H80 -> 103.77358
A81: - II instancja | B81: 125 | C81: ='Wybór sądu'!H84 -> 119 | D81: =C81*100/B81 -> 95.2 | E81: 120 | F81: ='Wybór sądu'!I84 -> 120 | G81: =F81*100/E81 -> 100 | H81: 32 | I81: ='Wybór sądu'!J84 -> 21 | J81: =I81*100/H81 -> 65.625
A82: skarga kasacyjna (WSC) | B82: 423 | C82: ='Wybór sądu'!H85 -> 448 | D82: =C82*100/B82 -> 105.91017 | E82: 338 | F82: ='Wybór sądu'!I85 -> 416 | G82: =F82*100/E82 -> 123.07692 | H82: 304 | I82: ='Wybór sądu'!J85 -> 346 | J82: =I82*100/H82 -> 113.81579
A83: skarga o stwierdzenie niezgodności z prawem (WSC) | B83: 5 | C83: ='Wybór sądu'!H86 -> 14 | D83: =C83*100/B83 -> 280 | E83: 2 | F83: ='Wybór sądu'!I86 -> 11 | G83: =F83*100/E83 -> 550 | H83: 5 | I83: ='Wybór sądu'!J86 -> 10 | J83: =I83*100/H83 -> 200
A84: skarga o stwierdzenie niezgodności z prawem (WSC II inst.) | B84: 67 | C84: ='Wybór sądu'!H87 -> 78 | D84: =C84*100/B84 -> 116.41791 | E84: 79 | F84: ='Wybór sądu'!I87 -> 60 | G84: =F84*100/E84 -> 75.949367 | H84: 43 | I84: ='Wybór sądu'!J87 -> 60 | J84: =I84*100/H84 -> 139.53488
A85: skargi na postępowanie sądowe (S) | B85: 1212 | C85: ='Wybór sądu'!H88 -> 2361 | D85: =C85*100/B85 -> 194.80198 | E85: 1200 | F85: ='Wybór sądu'!I88 -> 2327 | G85: =F85*100/E85 -> 193.91667 | H85: 456 | I85: ='Wybór sądu'!J88 -> 710 | J85: =I85*100/H85 -> 155.70175
A87: W SĄDACH OKRĘGOWYCH (c.d.)
A88: Sprawy z zakresu prawa pracy - razem | B88: =SUM(B89:B99) -> 4102 | C88: =SUM(C89:C99) -> 4058 | D88: =C88*100/B88 -> 98.927353 | E88: =SUM(E89:E99) -> 3618 | F88: =SUM(F89:F99) -> 3482 | G88: =F88*100/E88 -> 96.241017 | H88: =SUM(H89:H99) -> 3929 | I88: =SUM(I89:I99) -> 4565 | J88: =I88*100/H88 -> 116.18733
A89: I instancji - ze stosunku pracy (P) | B89: 477 | C89: ='Wybór sądu'!H89 -> 440 | D89: =C89*100/B89 -> 92.243187 | E89: 497 | F89: ='Wybór sądu'!I89 -> 441 | G89: =F89*100/E89 -> 88.732394 | H89: 1445 | I89: ='Wybór sądu'!J89 -> 1469 | J89: =I89*100/H89 -> 101.6609
A90: - nakazowe (Np) | B90: 19 | C90: ='Wybór sądu'!H91 -> 16 | D90: =C90*100/B90 -> 84.210526 | E90: 16 | F90: ='Wybór sądu'!I91 -> 14 | G90: =F90*100/E90 -> 87.5 | H90: 14 | I90: ='Wybór sądu'!J91 -> 9 | J90: =I90*100/H90 -> 64.285714
A91: II instancji - apelacje (Pa) | B91: 2361 | C91: ='Wybór sądu'!H92 -> 2481 | D91: =C91*100/B91 -> 105.08259 | E91: 2019 | F91: ='Wybór sądu'!I92 -> 1975 | G91: =F91*100/E91 -> 97.820703 | H91: 2018 | I91: ='Wybór sądu'!J92 -> 2644 | J91: =I91*100/H91 -> 131.02081
A92: - zażalenia (Pz) | B92: 821 | C92: ='Wybór sądu'!H93 -> 689 | D92: =C92*100/B92 -> 83.922046 | E92: 749 | F92: ='Wybór sądu'!I93 -> 652 | G92: =F92*100/E92 -> 87.049399 | H92: 241 | I92: ='Wybór sądu'!J93 -> 242 | J92: =I92*100/H92 -> 100.41494
A93: ogólne (Po) | B93: 133 | C93: ='Wybór sądu'!H94 -> 145 | D93: =C93*100/B93 -> 109.02256 | E93: 96 | F93: ='Wybór sądu'!I94 -> 131 | G93: =F93*100/E93 -> 136.45833 | H93: 65 | I93: ='Wybór sądu'!J94 -> 48 | J93: =I93*100/H93 -> 73.846154
A94: ogólne (Po II inst.) | B94: 10 | C94: ='Wybór sądu'!H95 -> 23 | D94: =C94*100/B94 -> 230 | E94: 10 | F94: ='Wybór sądu'!I95 -> 23 | G94: =F94*100/E94 -> 230 | H94: 3 | I94: ='Wybór sądu'!J95 -> 2 | J94: =I94*100/H94 -> 66.666667
A95: wykaz Kas-z | B95: 1 | C95: ='Wybór sądu'!H96 -> 0 | D95: =C95*100/B95 -> 0 | E95: 1 | F95: ='Wybór sądu'!I96 -> 1 | G95: =F95*100/E95 -> 100 | H95: 0 | I95: ='Wybór sądu'!J96 -> 0 | J95: X
A96: skarga kasacyjna (WSC-pracy) | B96: 227 | C96: ='Wybór sądu'!H97 -> 217 | D96: =C96*100/B96 -> 95.594714 | E96: 190 | F96: ='Wybór sądu'!I97 -> 192 | G96: =F96*100/E96 -> 101.05263 | H96: 123 | I96: ='Wybór sądu'!J97 -> 137 | J96: =I96*100/H96 -> 111.38211
A97: skarga o stwierdzenie niezgodności z prawem (WSC I inst.) | B97: 0 | C97: ='Wybór sądu'!H98 -> 0 | D97: X | E97: 0 | F97: ='Wybór sądu'!I98 -> 0 | G97: X | H97: 0 | I97: ='Wybór sądu'!J98 -> 0 | J97: X
A98: skarga o stwierdzenie niezgodności z prawem (WSC II inst.) | B98: 14 | C98: ='Wybór sądu'!H99 -> 5 | D98: =C98*100/B98 -> 35.714286 | E98: 10 | F98: ='Wybór sądu'!I99 -> 6 | G98: =F98*100/E98 -> 60 | H98: 6 | I98: ='Wybór sądu'!J99 -> 4 | J98: =I98*100/H98 -> 66.666667
A99: skargi na postępowanie sądowe (S) | B99: 39 | C99: ='Wybór sądu'!H100 -> 42 | D99: =C99*100/B99 -> 107.69231 | E99: 30 | F99: ='Wybór sądu'!I100 -> 47 | G99: =F99*100/E99 -> 156.66667 | H99: 14 | I99: ='Wybór sądu'!J100 -> 10 | J99: =I99*100/H99 -> 71.428571
A100: Sprawy z zakresu ubezpieczeń społecznych - razem | B100: =SUM(B101:B109) -> 37601 | C100: =SUM(C101:C109) -> 40801 | D100: =C100*100/B100 -> 108.51041 | E100: =SUM(E101:E109) -> 37113 | F100: =SUM(F101:F109) -> 34829 | G100: =F100*100/E100 -> 93.845822 | H100: =SUM(H101:H109) -> 65524 | I100: =SUM(I101:I109) -> 81755 | J100: =I100*100/H100 -> 124.77108
A101: I instancji (U) | B101: 35322 | C101: ='Wybór sądu'!H101 -> 38262 | D101: =C101*100/B101 -> 108.32342 | E101: 34916 | F101: ='Wybór sądu'!I101 -> 32593 | G101: =F101*100/E101 -> 93.34689 | H101: 63811 | I101: ='Wybór sądu'!J101 -> 79629 | J101: =I101*100/H101 -> 124.78883
A102: ogólne (Uo I inst.) | B102: 1546 | C102: ='Wybór sądu'!H102 -> 1731 | D102: =C102*100/B102 -> 111.96636 | E102: 1486 | F102: ='Wybór sądu'!I102 -> 1600 | G102: =F102*100/E102 -> 107.6716 | H102: 1213 | I102: ='Wybór sądu'!J102 -> 1400 | J102: =I102*100/H102 -> 115.41632
...

Sheet Tabl. III (2)
A2: TABL. III. WSKAŹNIKI DOTYCĄCE SPRAW W SĄDACH POWSZECHNYCH WEDŁUG DZIAŁÓW PRAWA I INSTANCYJNOŚCI
A3: w I kw. 2013 i I kw. 2014 roku
A4: RODZAJE SPRAW WEDŁUG KSIĄG EWIDENCYJNYCH | B4: WSKAŹNIK OPANOWANIA WPŁYWU | E4: WSKAŹNIK CZASU TRWANIA POSTĘPOWANIA (według metodologii CEPEJ) (w dniach) | H4: WSKAŹNIK POZOSTAŁOŚCI (w miesiącach)
B5: I kw. 2013 | C5: I kw. 2014 | E5: I kw. 2013 | F5: I kw. 2014 | H5: I kw. 2013 | I5: I kw. 2014
B6: w liczbach bezwzględnych | D6: I kw. 2013 = 100 | E6: w liczbach bezwzględnych | G6: I kw. 2013 = 100 | H6: w liczbach bezwzględnych | J6: I kw. 2013 = 100
A7: OGÓŁEM SPRAW W SĄDACH POWSZECHNYCH | B7: =IF('Tabl. II (2)'!B7>0,'Tabl. II (2)'!E7/'Tabl. II (2)'!B7*100,"X") -> 97.966883 | C7: =IF('Tabl. II (2)'!C7>0,'Tabl. II (2)'!F7/'Tabl. II (2)'!C7*100,"X") -> 103.41502 | D7: =C7*100/B7 -> 105.5612 | E7: =IF('Tabl. II (2)'!E7>0,'Tabl. II (2)'!H7/('Tabl. II (2)'!E7/91.25),"X") -> 47.169044 | F7: =IF('Tabl. II (2)'!F7>0,'Tabl. II (2)'!I7/('Tabl. II (2)'!F7/91.25),"X") -> 56.787926 | G7: =F7*100/E7 -> 120.39236 | H7: =IF('Tabl. II (2)'!B7>0,'Tabl. II (2)'!H7*3/'Tabl. II (2)'!B7,"X") -> 1.5192343 | I7: =IF('Tabl. II (2)'!C7>0,'Tabl. II (2)'!I7*3/'Tabl. II (2)'!C7,"X") -> 1.9307586 | J7: =I7*100/H7 -> 127.08762
A8: W SĄDACH APELACYJNYCH - OGÓŁEM | B8: =IF('Tabl. II (2)'!B8>0,'Tabl. II (2)'!E8/'Tabl. II (2)'!B8*100,"X") -> 90.233043 | C8: =IF('Tabl. II (2)'!C8>0,'Tabl. II (2)'!F8/'Tabl. II (2)'!C8*100,"X") -> 97.482498 | D8: =C8*100/B8 -> 108.03415 | E8: =IF('Tabl. II (2)'!E8>0,'Tabl. II (2)'!H8/('Tabl. II (2)'!E8/91.25),"X") -> 81.914656 | F8: =IF('Tabl. II (2)'!F8>0,'Tabl. II (2)'!I8/('Tabl. II (2)'!F8/91.25),"X") -> 106.13821 | G8: =F8*100/E8 -> 129.5717 | H8: =IF('Tabl. II (2)'!B8>0,'Tabl. II (2)'!H8*3/'Tabl. II (2)'!B8,"X") -> 2.4300522 | I8: =IF('Tabl. II (2)'!C8>0,'Tabl. II (2)'!I8*3/'Tabl. II (2)'!C8,"X") -> 3.4016278 | J8: =I8*100/H8 -> 139.98168
A9: Sprawy karne - razem | B9: =IF('Tabl. II (2)'!B9>0,'Tabl. II (2)'!E9/'Tabl. II (2)'!B9*100,"X") -> 99.042123 | C9: =IF('Tabl. II (2)'!C9>0,'Tabl. II (2)'!F9/'Tabl. II (2)'!C9*100,"X") -> 92.278349 | D9: =C9*100/B9 -> 93.170811 | E9: =IF('Tabl. II (2)'!E9>0,'Tabl. II (2)'!H9/('Tabl. II (2)'!E9/91.25),"X") -> 26.645595 | F9: =IF('Tabl. II (2)'!F9>0,'Tabl. II (2)'!I9/('Tabl. II (2)'!F9/91.25),"X") -> 36.737755 | G9: =F9*100/E9 -> 137.87553 | H9: =IF('Tabl. II (2)'!B9>0,'Tabl. II (2)'!H9*3/'Tabl. II (2)'!B9,"X") -> 0.86762839 | I9: =IF('Tabl. II (2)'!C9>0,'Tabl. II (2)'!I9*3/'Tabl. II (2)'!C9,"X") -> 1.1145532 | J9: =I9*100/H9 -> 128.45975
A10: II instancji - apelacje (A Ka) | B10: =IF('Tabl. II (2)'!B10>0,'Tabl. II (2)'!E10/'Tabl. II (2)'!B10*100,"X") -> 84.826884 | C10: =IF('Tabl. II (2)'!C10>0,'Tabl. II (2)'!F10/'Tabl. II (2)'!C10*100,"X") -> 82.105263 | D10: =C10*100/B10 -> 96.791559 | E10: =IF('Tabl. II (2)'!E10>0,'Tabl. II (2)'!H10/('Tabl. II (2)'!E10/91.25),"X") -> 60.687275 | F10: =IF('Tabl. II (2)'!F10>0,'Tabl. II (2)'!I10/('Tabl. II (2)'!F10/91.25),"X") -> 69.022436 | G10: =F10*100/E10 -> 113.73461 | H10: =IF('Tabl. II (2)'!B10>0,'Tabl. II (2)'!H10*3/'Tabl. II (2)'!B10,"X") -> 1.6924644 | I10: =IF('Tabl. II (2)'!C10>0,'Tabl. II (2)'!I10*3/'Tabl. II (2)'!C10,"X") -> 1.8631579 | J10: =I10*100/H10 -> 110.0855
A11: w tym: o odszkodowanie (A Ka) | B11: =IF('Tabl. II (2)'!B11>0,'Tabl. II (2)'!E11/'Tabl. II (2)'!B11*100,"X") -> 87.850467 | C11: =IF('Tabl. II (2)'!C11>0,'Tabl. II (2)'!F11/'Tabl. II (2)'!C11*100,"X") -> 71.929825 | D11: =C11*100/B11 -> 81.877566 | E11: =IF('Tabl. II (2)'!E11>0,'Tabl. II (2)'!H11/('Tabl. II (2)'!E11/91.25),"X") -> 40.771277 | F11: =IF('Tabl. II (2)'!F11>0,'Tabl. II (2)'!I11/('Tabl. II (2)'!F11/91.25),"X") -> 63.429878 | G11: =F11*100/E11 -> 155.57491 | H11: =IF('Tabl. II (2)'!B11>0,'Tabl. II (2)'!H11*3/'Tabl. II (2)'!B11,"X") -> 1.1775701 | I11: =IF('Tabl. II (2)'!C11>0,'Tabl. II (2)'!I11*3/'Tabl. II (2)'!C11,"X") -> 1.5 | J11: =I11*100/H11 -> 127.38095
A12: w tym: -z ust. z dn. 23.02.1991 r. o uznaniu za nieważne orzeczeń wydanych wobec osób represjonowanych za działalność na rzecz niepodległego bytu Państwa Polskiego (Dz.U. Nr 34, poz. 149) | B12: =IF('Tabl. II (2)'!B12>0,'Tabl. II (2)'!E12/'Tabl. II (2)'!B12*100,"X") -> 100 | C12: =IF('Tabl. II (2)'!C12>0,'Tabl. II (2)'!F12/'Tabl. II (2)'!C12*100,"X") -> 70.833333 | D12: =C12*100/B12 -> 70.833333 | E12: =IF('Tabl. II (2)'!E12>0,'Tabl. II (2)'!H12/('Tabl. II (2)'!E12/91.25),"X") -> 22.025862 | F12: =IF('Tabl. II (2)'!F12>0,'Tabl. II (2)'!I12/('Tabl. II (2)'!F12/91.25),"X") -> 69.779412 | G12: =F12*100/E12 -> 316.80672 | H12: =IF('Tabl. II (2)'!B12>0,'Tabl. II (2)'!H12*3/'Tabl. II (2)'!B12,"X") -> 0.72413793 | I12: =IF('Tabl. II (2)'!C12>0,'Tabl. II (2)'!I12*3/'Tabl. II (2)'!C12,"X") -> 1.625 | J12: =I12*100/H12 -> 224.40476
A13: - w trybie a.552 kpk | B13: =IF('Tabl. II (2)'!B13>0,'Tabl. II (2)'!E13/'Tabl. II (2)'!B13*100,"X") -> 83.333333 | C13: =IF('Tabl. II (2)'!C13>0,'Tabl. II (2)'!F13/'Tabl. II (2)'!C13*100,"X") -> 72.222222 | D13: =C13*100/B13 -> 86.666667 | E13: =IF('Tabl. II (2)'!E13>0,'Tabl. II (2)'!H13/('Tabl. II (2)'!E13/91.25),"X") -> 49.134615 | F13: =IF('Tabl. II (2)'!F13>0,'Tabl. II (2)'!I13/('Tabl. II (2)'!F13/91.25),"X") -> 61.769231 | G13: =F13*100/E13 -> 125.71429 | H13: =IF('Tabl. II (2)'!B13>0,'Tabl. II (2)'!H13*3/'Tabl. II (2)'!B13,"X") -> 1.3461538 | I13: =IF('Tabl. II (2)'!C13>0,'Tabl. II (2)'!I13*3/'Tabl. II (2)'!C13,"X") -> 1.4666667 | J13: =I13*100/H13 -> 108.95238
A14: - zażalenia (A Kz) | B14: =IF('Tabl. II (2)'!B14>0,'Tabl. II (2)'!E14/'Tabl. II (2)'!B14*100,"X") -> 98.467885 | C14: =IF('Tabl. II (2)'!C14>0,'Tabl. II (2)'!F14/'Tabl. II (2)'!C14*100,"X") -> 94.572271 | D14: =C14*100/B14 -> 96.043773 | E14: =IF('Tabl. II (2)'!E14>0,'Tabl. II (2)'!H14/('Tabl. II (2)'!E14/91.25),"X") -> 14.798773 | F14: =IF('Tabl. II (2)'!F14>0,'Tabl. II (2)'!I14/('Tabl. II (2)'!F14/91.25),"X") -> 17.6466 | G14: =F14*100/E14 -> 119.24367 | H14: =IF('Tabl. II (2)'!B14>0,'Tabl. II (2)'!H14*3/'Tabl. II (2)'!B14,"X") -> 0.47908073 | I14: =IF('Tabl. II (2)'!C14>0,'Tabl. II (2)'!I14*3/'Tabl. II (2)'!C14,"X") -> 0.54867257 | J14: =I14*100/H14 -> 114.52612
A15: ogólne (A Ko) | B15: =IF('Tabl. II (2)'!B15>0,'Tabl. II (2)'!E15/'Tabl. II (2)'!B15*100,"X") -> 96.336996 | C15: =IF('Tabl. II (2)'!C15>0,'Tabl. II (2)'!F15/'Tabl. II (2)'!C15*100,"X") -> 91.422594 | D15: =C15*100/B15 -> 94.898738 | E15: =IF('Tabl. II (2)'!E15>0,'Tabl. II (2)'!H15/('Tabl. II (2)'!E15/91.25),"X") -> 42.502376 | F15: =IF('Tabl. II (2)'!F15>0,'Tabl. II (2)'!I15/('Tabl. II (2)'!F15/91.25),"X") -> 55.125858 | G15: =F15*100/E15 -> 129.70065 | H15: =IF('Tabl. II (2)'!B15>0,'Tabl. II (2)'!H15*3/'Tabl. II (2)'!B15,"X") -> 1.3461538 | I15: =IF('Tabl. II (2)'!C15>0,'Tabl. II (2)'!I15*3/'Tabl. II (2)'!C15,"X") -> 1.6569038 | J15: =I15*100/H15 -> 123.08428
A16: w tym:
A17: sprawy w trybie art.11a pwkpk | B17: =IF('Tabl. II (2)'!B17>0,'Tabl. II (2)'!E17/'Tabl. II (2)'!B17*100,"X") -> X | C17: =IF('Tabl. II (2)'!C17>0,'Tabl. II (2)'!F17/'Tabl. II (2)'!C17*100,"X") -> X | D17: X | E17: =IF('Tabl. II (2)'!E17>0,'Tabl. II (2)'!H17/('Tabl. II (2)'!E17/91.25),"X") -> X | F17: =IF('Tabl. II (2)'!F17>0,'Tabl. II (2)'!I17/('Tabl. II (2)'!F17/91.25),"X") -> 0 | G17: X | H17: =IF('Tabl. II (2)'!B17>0,'Tabl. II (2)'!H17*3/'Tabl. II (2)'!B17,"X") -> X | I17: =IF('Tabl. II (2)'!C17>0,'Tabl. II (2)'!I17*3/'Tabl. II (2)'!C17,"X") -> X | J17: X
A18: nadzór sądowy nad postępowaniem przygotowawczym (A Kp) | B18: =IF('Tabl. II (2)'!B18>0,'Tabl. II (2)'!E18/'Tabl. II (2)'!B18*100,"X") -> 94.488189 | C18: =IF('Tabl. II (2)'!C18>0,'Tabl. II (2)'!F18/'Tabl. II (2)'!C18*100,"X") -> 91.304348 | D18: =C18*100/B18 -> 96.630435 | E18: =IF('Tabl. II (2)'!E18>0,'Tabl. II (2)'!H18/('Tabl. II (2)'!E18/91.25),"X") -> 13.6875 | F18: =IF('Tabl. II (2)'!F18>0,'Tabl. II (2)'!I18/('Tabl. II (2)'!F18/91.25),"X") -> 13.759921 | G18: =F18*100/E18 -> 100.5291 | H18: =IF('Tabl. II (2)'!B18>0,'Tabl. II (2)'!H18*3/'Tabl. II (2)'!B18,"X") -> 0.42519685 | I18: =IF('Tabl. II (2)'!C18>0,'Tabl. II (2)'!I18*3/'Tabl. II (2)'!C18,"X") -> 0.41304348 | J18: =I18*100/H18 -> 97.141707
A19: zażalenia na postanowienia w postępowaniu wykonawczym (A Kzw) | B19: =IF('Tabl. II (2)'!B19>0,'Tabl. II (2)'!E19/'Tabl. II (2)'!B19*100,"X") -> 102.3103 | C19: =IF('Tabl. II (2)'!C19>0,'Tabl. II (2)'!F19/'Tabl. II (2)'!C19*100,"X") -> 94.178958 | D19: =C19*100/B19 -> 92.052277 | E19: =IF('Tabl. II (2)'!E19>0,'Tabl. II (2)'!H19/('Tabl. II (2)'!E19/91.25),"X") -> 22.292924 | F19: =IF('Tabl. II (2)'!F19>0,'Tabl. II (2)'!I19/('Tabl. II (2)'!F19/91.25),"X") -> 34.792754 | G19: =F19*100/E19 -> 156.07084 | H19: =IF('Tabl. II (2)'!B19>0,'Tabl. II (2)'!H19*3/'Tabl. II (2)'!B19,"X") -> 0.74985063 | I19: =IF('Tabl. II (2)'!C19>0,'Tabl. II (2)'!I19*3/'Tabl. II (2)'!C19,"X") -> 1.0772861 | J19: =I19*100/H19 -> 143.66676
A20: kasacje (WKK) | B20: =IF('Tabl. II (2)'!B20>0,'Tabl. II (2)'!E20/'Tabl. II (2)'!B20*100,"X") -> 107.91367 | C20: =IF('Tabl. II (2)'!C20>0,'Tabl. II (2)'!F20/'Tabl. II (2)'!C20*100,"X") -> 75.151515 | D20: =C20*100/B20 -> 69.640404 | E20: =IF('Tabl. II (2)'!E20>0,'Tabl. II (2)'!H20/('Tabl. II (2)'!E20/91.25),"X") -> 69.35 | F20: =IF('Tabl. II (2)'!F20>0,'Tabl. II (2)'!I20/('Tabl. II (2)'!F20/91.25),"X") -> 112.59073 | G20: =F20*100/E20 -> 162.35144 | H20: =IF('Tabl. II (2)'!B20>0,'Tabl. II (2)'!H20*3/'Tabl. II (2)'!B20,"X") -> 2.4604317 | I20: =IF('Tabl. II (2)'!C20>0,'Tabl. II (2)'!I20*3/'Tabl. II (2)'!C20,"X") -> 2.7818182 | J20: =I20*100/H20 -> 113.0622
A21: skargi na postępowanie sądowe i prokuratorskie (S) | B21: =IF('Tabl. II (2)'!B21>0,'Tabl. II (2)'!E21/'Tabl. II (2)'!B21*100,"X") -> 94.771242 | C21: =IF('Tabl. II (2)'!C21>0,'Tabl. II (2)'!F21/'Tabl. II (2)'!C21*100,"X") -> 88.571429 | D21: =C21*100/B21 -> 93.458128 | E21: =IF('Tabl. II (2)'!E21>0,'Tabl. II (2)'!H21/('Tabl. II (2)'!E21/91.25),"X") -> 30.836207 | F21: =IF('Tabl. II (2)'!F21>0,'Tabl. II (2)'!I21/('Tabl. II (2)'!F21/91.25),"X") -> 38.266129 | G21: =F21*100/E21 -> 124.0948 | H21: =IF('Tabl. II (2)'!B21>0,'Tabl. II (2)'!H21*3/'Tabl. II (2)'!B21,"X") -> 0.96078431 | I21: =IF('Tabl. II (2)'!C21>0,'Tabl. II (2)'!I21*3/'Tabl. II (2)'!C21,"X") -> 1.1142857 | J21: =I21*100/H21 -> 115.97668
A22: W SĄDACH APELACYJNYCH (c.d.)
A23: Sprawy cywilne - razem | B23: =IF('Tabl. II (2)'!B23>0,'Tabl. II (2)'!E23/'Tabl. II (2)'!B23*100,"X") -> 90.28103 | C23: =IF('Tabl. II (2)'!C23>0,'Tabl. II (2)'!F23/'Tabl. II (2)'!C23*100,"X") -> 92.311573 | D23: =C23*100/B23 -> 102.24914 | E23: =IF('Tabl. II (2)'!E23>0,'Tabl. II (2)'!H23/('Tabl. II (2)'!E23/91.25),"X") -> 61.918234 | F23: =IF('Tabl. II (2)'!F23>0,'Tabl. II (2)'!I23/('Tabl. II (2)'!F23/91.25),"X") -> 79.241584 | G23: =F23*100/E23 -> 127.97778 | H23: =IF('Tabl. II (2)'!B23>0,'Tabl. II (2)'!H23*3/'Tabl. II (2)'!B23,"X") -> 1.837822 | I23: =IF('Tabl. II (2)'!C23>0,'Tabl. II (2)'!I23*3/'Tabl. II (2)'!C23,"X") -> 2.4049036 | J23: =I23*100/H23 -> 130.85618
A24: II instancji - apelacje (A Ca)a) | B24: =IF('Tabl. II (2)'!B24>0,'Tabl. II (2)'!E24/'Tabl. II (2)'!B24*100,"X") -> 84.65439 | C24: =IF('Tabl. II (2)'!C24>0,'Tabl. II (2)'!F24/'Tabl. II (2)'!C24*100,"X") -> 88.121336 | D24: =C24*100/B24 -> 104.09541 | E24: =IF('Tabl. II (2)'!E24>0,'Tabl. II (2)'!H24/('Tabl. II (2)'!E24/91.25),"X") -> 124.90779 | F24: =IF('Tabl. II (2)'!F24>0,'Tabl. II (2)'!I24/('Tabl. II (2)'!F24/91.25),"X") -> 146.20589 | G24: =F24*100/E24 -> 117.05106 | H24: =IF('Tabl. II (2)'!B24>0,'Tabl. II (2)'!H24*3/'Tabl. II (2)'!B24,"X") -> 3.4763811 | I24: =IF('Tabl. II (2)'!C24>0,'Tabl. II (2)'!I24*3/'Tabl. II (2)'!C24,"X") -> 4.2357889 | J24: =I24*100/H24 -> 121.84478
A25: - zażalenia (A Cz)a) | B25: =IF('Tabl. II (2)'!B25>0,'Tabl. II (2)'!E25/'Tabl. II (2)'!B25*100,"X") -> 94.894266 | C25: =IF('Tabl. II (2)'!C25>0,'Tabl. II (2)'!F25/'Tabl. II (2)'!C25*100,"X") -> 96.592658 | D25: =C25*100/B25 -> 101.78977 | E25: =IF('Tabl. II (2)'!E25>0,'Tabl. II (2)'!H25/('Tabl. II (2)'!E25/91.25),"X") -> 26.526802 | F25: =IF('Tabl. II (2)'!F25>0,'Tabl. II (2)'!I25/('Tabl. II (2)'!F25/91.25),"X") -> 35.947599 | G25: =F25*100/E25 -> 135.51426 | H25: =IF('Tabl. II (2)'!B25>0,'Tabl. II (2)'!H25*3/'Tabl. II (2)'!B25,"X") -> 0.82758621 | I25: =IF('Tabl. II (2)'!C25>0,'Tabl. II (2)'!I25*3/'Tabl. II (2)'!C25,"X") -> 1.1415696 | J25: =I25*100/H25 -> 137.93966
A26: ogólne (A Co) | B26: =IF('Tabl. II (2)'!B26>0,'Tabl. II (2)'!E26/'Tabl. II (2)'!B26*100,"X") -> 91.666667 | C26: =IF('Tabl. II (2)'!C26>0,'Tabl. II (2)'!F26/'Tabl. II (2)'!C26*100,"X") -> 110.11236 | D26: =C26*100/B26 -> 120.12257 | E26: =IF('Tabl. II (2)'!E26>0,'Tabl. II (2)'!H26/('Tabl. II (2)'!E26/91.25),"X") -> 27.651515 | F26: =IF('Tabl. II (2)'!F26>0,'Tabl. II (2)'!I26/('Tabl. II (2)'!F26/91.25),"X") -> 24.209184 | G26: =F26*100/E26 -> 87.55102 | H26: =IF('Tabl. II (2)'!B26>0,'Tabl. II (2)'!H26*3/'Tabl. II (2)'!B26,"X") -> 0.83333333 | I26: =IF('Tabl. II (2)'!C26>0,'Tabl. II (2)'!I26*3/'Tabl. II (2)'!C26,"X") -> 0.87640449 | J26: =I26*100/H26 -> 105.16854
A27: skarga kasacyjna (WSC) | B27: =IF('Tabl. II (2)'!B27>0,'Tabl. II (2)'!E27/'Tabl. II (2)'!B27*100,"X") -> 83.488372 | C27: =IF('Tabl. II (2)'!C27>0,'Tabl. II (2)'!F27/'Tabl. II (2)'!C27*100,"X") -> 81.181619 | D27: =C27*100/B27 -> 97.237037 | E27: =IF('Tabl. II (2)'!E27>0,'Tabl. II (2)'!H27/('Tabl. II (2)'!E27/91.25),"X") -> 64.307103 | F27: =IF('Tabl. II (2)'!F27>0,'Tabl. II (2)'!I27/('Tabl. II (2)'!F27/91.25),"X") -> 79.935984 | G27: =F27*100/E27 -> 124.30351 | H27: =IF('Tabl. II (2)'!B27>0,'Tabl. II (2)'!H27*3/'Tabl. II (2)'!B27,"X") -> 1.7651163 | I27: =IF('Tabl. II (2)'!C27>0,'Tabl. II (2)'!I27*3/'Tabl. II (2)'!C27,"X") -> 2.1334792 | J27: =I27*100/H27 -> 120.86905
A28: skarga o stwierdzenie niezgodności z prawem (WSC)b) | B28: =IF('Tabl. II (2)'!B28>0,'Tabl. II (2)'!E28/'Tabl. II (2)'!B28*100,"X") -> 216.66667 | C28: =IF('Tabl. II (2)'!C28>0,'Tabl. II (2)'!F28/'Tabl. II (2)'!C28*100,"X") -> 125 | D28: =C28*100/B28 -> 57.692308 | E28: =IF('Tabl. II (2)'!E28>0,'Tabl. II (2)'!H28/('Tabl. II (2)'!E28/91.25),"X") -> 14.038462 | F28: =IF('Tabl. II (2)'!F28>0,'Tabl. II (2)'!I28/('Tabl. II (2)'!F28/91.25),"X") -> 91.25 | G28: =F28*100/E28 -> 650 | H28: =IF('Tabl. II (2)'!B28>0,'Tabl. II (2)'!H28*3/'Tabl. II (2)'!B28,"X") -> 1 | I28: =IF('Tabl. II (2)'!C28>0,'Tabl. II (2)'!I28*3/'Tabl. II (2)'!C28,"X") -> 3.75 | J28: =I28*100/H28 -> 375
A29: skargi na postępowanie sądowe (S) | B29: =IF('Tabl. II (2)'!B29>0,'Tabl. II (2)'!E29/'Tabl. II (2)'!B29*100,"X") -> 88.36478 | C29: =IF('Tabl. II (2)'!C29>0,'Tabl. II (2)'!F29/'Tabl. II (2)'!C29*100,"X") -> 90.75 | D29: =C29*100/B29 -> 102.69929 | E29: =IF('Tabl. II (2)'!E29>0,'Tabl. II (2)'!H29/('Tabl. II (2)'!E29/91.25),"X") -> 29.713078 | F29: =IF('Tabl. II (2)'!F29>0,'Tabl. II (2)'!I29/('Tabl. II (2)'!F29/91.25),"X") -> 36.826791 | G29: =F29*100/E29 -> 123.94135 | H29: =IF('Tabl. II (2)'!B29>0,'Tabl. II (2)'!H29*3/'Tabl. II (2)'!B29,"X") -> 0.86320755 | I29: =IF('Tabl. II (2)'!C29>0,'Tabl. II (2)'!I29*3/'Tabl. II (2)'!C29,"X") -> 1.09875 | J29: =I29*100/H29 -> 127.28689
A30: Sprawy z zakresu prawa pracy - razem | B30: =IF('Tabl. II (2)'!B30>0,'Tabl. II (2)'!E30/'Tabl. II (2)'!B30*100,"X") -> 87.8327 | C30: =IF('Tabl. II (2)'!C30>0,'Tabl. II (2)'!F30/'Tabl. II (2)'!C30*100,"X") -> 91.603053 | D30: =C30*100/B30 -> 104.29265 | E30: =IF('Tabl. II (2)'!E30>0,'Tabl. II (2)'!H30/('Tabl. II (2)'!E30/91.25),"X") -> 90.064935 | F30: =IF('Tabl. II (2)'!F30>0,'Tabl. II (2)'!I30/('Tabl. II (2)'!F30/91.25),"X") -> 95.8125 | G30: =F30*100/E30 -> 106.38158 | H30: =IF('Tabl. II (2)'!B30>0,'Tabl. II (2)'!H30*3/'Tabl. II (2)'!B30,"X") -> 2.6007605 | I30: =IF('Tabl. II (2)'!C30>0,'Tabl. II (2)'!I30*3/'Tabl. II (2)'!C30,"X") -> 2.8854962 | J30: =I30*100/H30 -> 110.94817
A31: II instancji - apelacje (A Pa) | B31: =IF('Tabl. II (2)'!B31>0,'Tabl. II (2)'!E31/'Tabl. II (2)'!B31*100,"X") -> 84.684685 | C31: =IF('Tabl. II (2)'!C31>0,'Tabl. II (2)'!F31/'Tabl. II (2)'!C31*100,"X") -> 81.553398 | D31: =C31*100/B31 -> 96.302417 | E31: =IF('Tabl. II (2)'!E31>0,'Tabl. II (2)'!H31/('Tabl. II (2)'!E31/91.25),"X") -> 149.49468 | F31: =IF('Tabl. II (2)'!F31>0,'Tabl. II (2)'!I31/('Tabl. II (2)'!F31/91.25),"X") -> 173.80952 | G31: =F31*100/E31 -> 116.26469 | H31: =IF('Tabl. II (2)'!B31>0,'Tabl. II (2)'!H31*3/'Tabl. II (2)'!B31,"X") -> 4.1621622 | I31: =IF('Tabl. II (2)'!C31>0,'Tabl. II (2)'!I31*3/'Tabl. II (2)'!C31,"X") -> 4.6601942 | J31: =I31*100/H31 -> 111.9657
A32: - zażalenia (A Pz) | B32: =IF('Tabl. II (2)'!B32>0,'Tabl. II (2)'!E32/'Tabl. II (2)'!B32*100,"X") -> 84.545455 | C32: =IF('Tabl. II (2)'!C32>0,'Tabl. II (2)'!F32/'Tabl. II (2)'!C32*100,"X") -> 104.3956 | D32: =C32*100/B32 -> 123.47867 | E32: =IF('Tabl. II (2)'!E32>0,'Tabl. II (2)'!H32/('Tabl. II (2)'!E32/91.25),"X") -> 44.153226 | F32: =IF('Tabl. II (2)'!F32>0,'Tabl. II (2)'!I32/('Tabl. II (2)'!F32/91.25),"X") -> 39.381579 | G32: =F32*100/E32 -> 89.192982 | H32: =IF('Tabl. II (2)'!B32>0,'Tabl. II (2)'!H32*3/'Tabl. II (2)'!B32,"X") -> 1.2272727 | I32: =IF('Tabl. II (2)'!C32>0,'Tabl. II (2)'!I32*3/'Tabl. II (2)'!C32,"X") -> 1.3516484 | J32: =I32*100/H32 -> 110.13431
A33: - ogólne (A Po) | B33: =IF('Tabl. II (2)'!B33>0,'Tabl. II (2)'!E33/'Tabl. II (2)'!B33*100,"X") -> 123.52941 | C33: =IF('Tabl. II (2)'!C33>0,'Tabl. II (2)'!F33/'Tabl. II (2)'!C33*100,"X") -> 85.185185 | D33: =C33*100/B33 -> 68.959436 | E33: =IF('Tabl. II (2)'!E33>0,'Tabl. II (2)'!H33/('Tabl. II (2)'!E33/91.25),"X") -> 60.833333 | F33: =IF('Tabl. II (2)'!F33>0,'Tabl. II (2)'!I33/('Tabl. II (2)'!F33/91.25),"X") -> 87.282609 | G33: =F33*100/E33 -> 143.47826 | H33: =IF('Tabl. II (2)'!B33>0,'Tabl. II (2)'!H33*3/'Tabl. II (2)'!B33,"X") -> 2.4705882 | I33: =IF('Tabl. II (2)'!C33>0,'Tabl. II (2)'!I33*3/'Tabl. II (2)'!C33,"X") -> 2.4444444 | J33: =I33*100/H33 -> 98.941799
A34: skarga kasacyjna (WSC-pracy) | B34: =IF('Tabl. II (2)'!B34>0,'Tabl. II (2)'!E34/'Tabl. II (2)'!B34*100,"X") -> 62.5 | C34: =IF('Tabl. II (2)'!C34>0,'Tabl. II (2)'!F34/'Tabl. II (2)'!C34*100,"X") -> 108 | D34: =C34*100/B34 -> 172.8 | E34: =IF('Tabl. II (2)'!E34>0,'Tabl. II (2)'!H34/('Tabl. II (2)'!E34/91.25),"X") -> 118.625 | F34: =IF('Tabl. II (2)'!F34>0,'Tabl. II (2)'!I34/('Tabl. II (2)'!F34/91.25),"X") -> 67.592593 | G34: =F34*100/E34 -> 56.980057 | H34: =IF('Tabl. II (2)'!B34>0,'Tabl. II (2)'!H34*3/'Tabl. II (2)'!B34,"X") -> 2.4375 | I34: =IF('Tabl. II (2)'!C34>0,'Tabl. II (2)'!I34*3/'Tabl. II (2)'!C34,"X") -> 2.4 | J34: =I34*100/H34 -> 98.461538
A35: skarga o stwierdzenie niezgodności z prawem (WSC-pracy) | B35: =IF('Tabl. II (2)'!B35>0,'Tabl. II (2)'!E35/'Tabl. II (2)'!B35*100,"X") -> X | C35: =IF('Tabl. II (2)'!C35>0,'Tabl. II (2)'!F35/'Tabl. II (2)'!C35*100,"X") -> X | D35: X | E35: =IF('Tabl. II (2)'!E35>0,'Tabl. II (2)'!H35/('Tabl. II (2)'!E35/91.25),"X") -> X | F35: =IF('Tabl. II (2)'!F35>0,'Tabl. II (2)'!I35/('Tabl. II (2)'!F35/91.25),"X") -> X | G35: X | H35: =IF('Tabl. II (2)'!H35>0,'Tabl. II (2)'!K35/('Tabl. II (2)'!H35/91.25),"X") -> X | I35: =IF('Tabl. II (2)'!I35>0,'Tabl. II (2)'!L35/('Tabl. II (2)'!I35/91.25),"X") -> X | J35: X
A36: skargi na postępowanie sądowe (S) | B36: =IF('Tabl. II (2)'!B36>0,'Tabl. II (2)'!E36/'Tabl. II (2)'!B36*100,"X") -> 144.44444 | C36: =IF('Tabl. II (2)'!C36>0,'Tabl. II (2)'!F36/'Tabl. II (2)'!C36*100,"X") -> 68.75 | D36: =C36*100/B36 -> 47.596154 | E36: =IF('Tabl. II (2)'!E36>0,'Tabl. II (2)'!H36/('Tabl. II (2)'!E36/91.25),"X") -> 14.038462 | F36: =IF('Tabl. II (2)'!F36>0,'Tabl. II (2)'!I36/('Tabl. II (2)'!F36/91.25),"X") -> 74.659091 | G36: =F36*100/E36 -> 531.81818 | H36: =IF('Tabl. II (2)'!B36>0,'Tabl. II (2)'!H36*3/'Tabl. II (2)'!B36,"X") -> 0.66666667 | I36: =IF('Tabl. II (2)'!C36>0,'Tabl. II (2)'!I36*3/'Tabl. II (2)'!C36,"X") -> 1.6875 | J36: =I36*100/H36 -> 253.125
A37: W SĄDACH APELACYJNYCH (dok.)
A38: Sprawy z zakresu ubezpieczeń społecznych - razem | B38: =IF('Tabl. II (2)'!B38>0,'Tabl. II (2)'!E38/'Tabl. II (2)'!B38*100,"X") -> 79.867714 | C38: =IF('Tabl. II (2)'!C38>0,'Tabl. II (2)'!F38/'Tabl. II (2)'!C38*100,"X") -> 124.29722 | D38: =C38*100/B38 -> 155.62887 | E38: =IF('Tabl. II (2)'!E38>0,'Tabl. II (2)'!H38/('Tabl. II (2)'!E38/91.25),"X") -> 200.35326 | F38: =IF('Tabl. II (2)'!F38>0,'Tabl. II (2)'!I38/('Tabl. II (2)'!F38/91.25),"X") -> 197.38111 | G38: =F38*100/E38 -> 98.516546 | H38: =IF('Tabl. II (2)'!B38>0,'Tabl. II (2)'!H38*3/'Tabl. II (2)'!B38,"X") -> 5.2608516 | I38: =IF('Tabl. II (2)'!C38>0,'Tabl. II (2)'!I38*3/'Tabl. II (2)'!C38,"X") -> 8.0659474 | J38: =I38*100/H38 -> 153.32019
A39: II instancji - apelacje (A Ua) | B39: =IF('Tabl. II (2)'!B39>0,'Tabl. II (2)'!E39/'Tabl. II (2)'!B39*100,"X") -> 78.621613 | C39: =IF('Tabl. II (2)'!C39>0,'Tabl. II (2)'!F39/'Tabl. II (2)'!C39*100,"X") -> 132.03543 | D39: =C39*100/B39 -> 167.93783 | E39: =IF('Tabl. II (2)'!E39>0,'Tabl. II (2)'!H39/('Tabl. II (2)'!E39/91.25),"X") -> 234.97846 | F39: =IF('Tabl. II (2)'!F39>0,'Tabl. II (2)'!I39/('Tabl. II (2)'!F39/91.25),"X") -> 218.4261 | G39: =F39*100/E39 -> 92.955798 | H39: =IF('Tabl. II (2)'!B39>0,'Tabl. II (2)'!H39*3/'Tabl. II (2)'!B39,"X") -> 6.0737705 | I39: =IF('Tabl. II (2)'!C39>0,'Tabl. II (2)'!I39*3/'Tabl. II (2)'!C39,"X") -> 9.4816387 | J39: =I39*100/H39 -> 156.10795
A40: - zażalenia (A Uz) | B40: =IF('Tabl. II (2)'!B40>0,'Tabl. II (2)'!E40/'Tabl. II (2)'!B40*100,"X") -> 84.965035 | C40: =IF('Tabl. II (2)'!C40>0,'Tabl. II (2)'!F40/'Tabl. II (2)'!C40*100,"X") -> 86.863271 | D40: =C40*100/B40 -> 102.23414 | E40: =IF('Tabl. II (2)'!E40>0,'Tabl. II (2)'!H40/('Tabl. II (2)'!E40/91.25),"X") -> 46.0631 | F40: =IF('Tabl. II (2)'!F40>0,'Tabl. II (2)'!I40/('Tabl. II (2)'!F40/91.25),"X") -> 47.173997 | G40: =F40*100/E40 -> 102.41168 | H40: =IF('Tabl. II (2)'!B40>0,'Tabl. II (2)'!H40*3/'Tabl. II (2)'!B40,"X") -> 1.2867133 | I40: =IF('Tabl. II (2)'!C40>0,'Tabl. II (2)'!I40*3/'Tabl. II (2)'!C40,"X") -> 1.347185 | J40: =I40*100/H40 -> 104.6997
A41: ogólne (A Uo) | B41: =IF('Tabl. II (2)'!B41>0,'Tabl. II (2)'!E41/'Tabl. II (2)'!B41*100,"X") -> 112.5 | C41: =IF('Tabl. II (2)'!C41>0,'Tabl. II (2)'!F41/'Tabl. II (2)'!C41*100,"X") -> 100 | D41: =C41*100/B41 -> 88.888889 | E41: =IF('Tabl. II (2)'!E41>0,'Tabl. II (2)'!H41/('Tabl. II (2)'!E41/91.25),"X") -> 20.277778 | F41: =IF('Tabl. II (2)'!F41>0,'Tabl. II (2)'!I41/('Tabl. II (2)'!F41/91.25),"X") -> 60.833333 | G41: =F41*100/E41 -> 300 | H41: =IF('Tabl. II (2)'!B41>0,'Tabl. II (2)'!H41*3/'Tabl. II (2)'!B41,"X") -> 0.75 | I41: =IF('Tabl. II (2)'!C41>0,'Tabl. II (2)'!I41*3/'Tabl. II (2)'!C41,"X") -> 2 | J41: =I41*100/H41 -> 266.66667
A42: skarga kasacyjna (WSC-ubezp.) | B42: =IF('Tabl. II (2)'!B42>0,'Tabl. II (2)'!E42/'Tabl. II (2)'!B42*100,"X") -> 81.743869 | C42: =IF('Tabl. II (2)'!C42>0,'Tabl. II (2)'!F42/'Tabl. II (2)'!C42*100,"X") -> 89.645777 | D42: =C42*100/B42 -> 109.66667 | E42: =IF('Tabl. II (2)'!E42>0,'Tabl. II (2)'!H42/('Tabl. II (2)'!E42/91.25),"X") -> 71.175 | F42: =IF('Tabl. II (2)'!F42>0,'Tabl. II (2)'!I42/('Tabl. II (2)'!F42/91.25),"X") -> 59.354103 | G42: =F42*100/E42 -> 83.391786 | H42: =IF('Tabl. II (2)'!B42>0,'Tabl. II (2)'!H42*3/'Tabl. II (2)'!B42,"X") -> 1.9128065 | I42: =IF('Tabl. II (2)'!C42>0,'Tabl. II (2)'!I42*3/'Tabl. II (2)'!C42,"X") -> 1.7493188 | J42: =I42*100/H42 -> 91.452991
A43: skarga o stwierdzenie niezgodności z prawem (WSC-ubezp.) | B43: =IF('Tabl. II (2)'!B43>0,'Tabl. II (2)'!E43/'Tabl. II (2)'!B43*100,"X") -> 37.5 | C43: =IF('Tabl. II (2)'!C43>0,'Tabl. II (2)'!F43/'Tabl. II (2)'!C43*100,"X") -> 125 | D43: =C43*100/B43 -> 333.33333 | E43: =IF('Tabl. II (2)'!E43>0,'Tabl. II (2)'!H43/('Tabl. II (2)'!E43/91.25),"X") -> 152.08333 | F43: =IF('Tabl. II (2)'!F43>0,'Tabl. II (2)'!I43/('Tabl. II (2)'!F43/91.25),"X") -> 54.75 | G43: =F43*100/E43 -> 36 | H43: =IF('Tabl. II (2)'!B43>0,'Tabl. II (2)'!H43*3/'Tabl. II (2)'!B43,"X") -> 1.875 | I43: =IF('Tabl. II (2)'!C43>0,'Tabl. II (2)'!I43*3/'Tabl. II (2)'!C43,"X") -> 2.25 | J43: =I43*100/H43 -> 120
A44: skargi na postępowanie sądowe (S) | B44: =IF('Tabl. II (2)'!B44>0,'Tabl. II (2)'!E44/'Tabl. II (2)'!B44*100,"X") -> 144.73684 | C44: =IF('Tabl. II (2)'!C44>0,'Tabl. II (2)'!F44/'Tabl. II (2)'!C44*100,"X") -> 95.238095 | D44: =C44*100/B44 -> 65.800866 | E44: =IF('Tabl. II (2)'!E44>0,'Tabl. II (2)'!H44/('Tabl. II (2)'!E44/91.25),"X") -> 23.227273 | F44: =IF('Tabl. II (2)'!F44>0,'Tabl. II (2)'!I44/('Tabl. II (2)'!F44/91.25),"X") -> 29.65625 | G44: =F44*100/E44 -> 127.67857 | H44: =IF('Tabl. II (2)'!B44>0,'Tabl. II (2)'!H44*3/'Tabl. II (2)'!B44,"X") -> 1.1052632 | I44: =IF('Tabl. II (2)'!C44>0,'Tabl. II (2)'!I44*3/'Tabl. II (2)'!C44,"X") -> 0.92857143 | J44: =I44*100/H44 -> 84.013605
A45: Sprawy gospodarcze - razem | B45: =IF('Tabl. II (2)'!B45>0,'Tabl. II (2)'!E45/'Tabl. II (2)'!B45*100,"X") -> 89.814415 | C45: =IF('Tabl. II (2)'!C45>0,'Tabl. II (2)'!F45/'Tabl. II (2)'!C45*100,"X") -> 75.584633 | D45: =C45*100/B45 -> 84.15646 | E45: =IF('Tabl. II (2)'!E45>0,'Tabl. II (2)'!H45/('Tabl. II (2)'!E45/91.25),"X") -> 67.966122 | F45: =IF('Tabl. II (2)'!F45>0,'Tabl. II (2)'!I45/('Tabl. II (2)'!F45/91.25),"X") -> 126.84254 | G45: =F45*100/E45 -> 186.62613 | H45: =IF('Tabl. II (2)'!B45>0,'Tabl. II (2)'!H45*3/'Tabl. II (2)'!B45,"X") -> 2.0069055 | I45: =IF('Tabl. II (2)'!C45>0,'Tabl. II (2)'!I45*3/'Tabl. II (2)'!C45,"X") -> 3.1520045 | J45: =I45*100/H45 -> 157.05794
A46: II instancji - apelacje (A Ca-gosp.) | B46: =IF('Tabl. II (2)'!B46>0,'Tabl. II (2)'!E46/'Tabl. II (2)'!B46*100,"X") -> 78.534704 | C46: =IF('Tabl. II (2)'!C46>0,'Tabl. II (2)'!F46/'Tabl. II (2)'!C46*100,"X") -> 91.432225 | D46: =C46*100/B46 -> 116.4227 | E46: =IF('Tabl. II (2)'!E46>0,'Tabl. II (2)'!H46/('Tabl. II (2)'!E46/91.25),"X") -> 166.52005 | F46: =IF('Tabl. II (2)'!F46>0,'Tabl. II (2)'!I46/('Tabl. II (2)'!F46/91.25),"X") -> 177.01224 | G46: =F46*100/E46 -> 106.30086 | H46: =IF('Tabl. II (2)'!B46>0,'Tabl. II (2)'!H46*3/'Tabl. II (2)'!B46,"X") -> 4.2994859 | I46: =IF('Tabl. II (2)'!C46>0,'Tabl. II (2)'!I46*3/'Tabl. II (2)'!C46,"X") -> 5.3209719 | J46: =I46*100/H46 -> 123.75833
A47: - zażalenia (A Cz-gosp.) | B47: =IF('Tabl. II (2)'!B47>0,'Tabl. II (2)'!E47/'Tabl. II (2)'!B47*100,"X") -> 96.034607 | C47: =IF('Tabl. II (2)'!C47>0,'Tabl. II (2)'!F47/'Tabl. II (2)'!C47*100,"X") -> 75.590219 | D47: =C47*100/B47 -> 78.711437 | E47: =IF('Tabl. II (2)'!E47>0,'Tabl. II (2)'!H47/('Tabl. II (2)'!E47/91.25),"X") -> 24.045608 | F47: =IF('Tabl. II (2)'!F47>0,'Tabl. II (2)'!I47/('Tabl. II (2)'!F47/91.25),"X") -> 101.83561 | G47: =F47*100/E47 -> 423.51023 | H47: =IF('Tabl. II (2)'!B47>0,'Tabl. II (2)'!H47*3/'Tabl. II (2)'!B47,"X") -> 0.7591925 | I47: =IF('Tabl. II (2)'!C47>0,'Tabl. II (2)'!I47*3/'Tabl. II (2)'!C47,"X") -> 2.5307757 | J47: =I47*100/H47 -> 333.35099
A48: ogólne (A Co-gosp.) | B48: =IF('Tabl. II (2)'!B48>0,'Tabl. II (2)'!E48/'Tabl. II (2)'!B48*100,"X") -> 133.33333 | C48: =IF('Tabl. II (2)'!C48>0,'Tabl. II (2)'!F48/'Tabl. II (2)'!C48*100,"X") -> 130 | D48: =C48*100/B48 -> 97.5 | E48: =IF('Tabl. II (2)'!E48>0,'Tabl. II (2)'!H48/('Tabl. II (2)'!E48/91.25),"X") -> 22.8125 | F48: =IF('Tabl. II (2)'!F48>0,'Tabl. II (2)'!I48/('Tabl. II (2)'!F48/91.25),"X") -> 21.057692 | G48: =F48*100/E48 -> 92.307692 | H48: =IF('Tabl. II (2)'!B48>0,'Tabl. II (2)'!H48*3/'Tabl. II (2)'!B48,"X") -> 1 | I48: =IF('Tabl. II (2)'!C48>0,'Tabl. II (2)'!I48*3/'Tabl. II (2)'!C48,"X") -> 0.9 | J48: =I48*100/H48 -> 90
A49: skarga kasacyjna (WSC-gosp.) | B49: =IF('Tabl. II (2)'!B49>0,'Tabl. II (2)'!E49/'Tabl. II (2)'!B49*100,"X") -> 91.935484 | C49: =IF('Tabl. II (2)'!C49>0,'Tabl. II (2)'!F49/'Tabl. II (2)'!C49*100,"X") -> 35.612536 | D49: =C49*100/B49 -> 38.736442 | E49: =IF('Tabl. II (2)'!E49>0,'Tabl. II (2)'!H49/('Tabl. II (2)'!E49/91.25),"X") -> 59.232456 | F49: =IF('Tabl. II (2)'!F49>0,'Tabl. II (2)'!I49/('Tabl. II (2)'!F49/91.25),"X") -> 237.25 | G49: =F49*100/E49 -> 400.54054 | H49: =IF('Tabl. II (2)'!B49>0,'Tabl. II (2)'!H49*3/'Tabl. II (2)'!B49,"X") -> 1.7903226 | I49: =IF('Tabl. II (2)'!C49>0,'Tabl. II (2)'!I49*3/'Tabl. II (2)'!C49,"X") -> 2.7777778 | J49: =I49*100/H49 -> 155.15516
A50: skarga o stwierdzenie niezgodności z prawem (WSC-gosp.) | B50: =IF('Tabl. II (2)'!B50>0,'Tabl. II (2)'!E50/'Tabl. II (2)'!B50*100,"X") -> X | C50: =IF('Tabl. II (2)'!C50>0,'Tabl. II (2)'!F50/'Tabl. II (2)'!C50*100,"X") -> 100 | D50: X | E50: =IF('Tabl. II (2)'!E50>0,'Tabl. II (2)'!H50/('Tabl. II (2)'!E50/91.25),"X") -> X | F50: =IF('Tabl. II (2)'!F50>0,'Tabl. II (2)'!I50/('Tabl. II (2)'!F50/91.25),"X") -> 60.833333 | G50: X | H50: =IF('Tabl. II (2)'!B50>0,'Tabl. II (2)'!H50*3/'Tabl. II (2)'!B50,"X") -> X | I50: =IF('Tabl. II (2)'!C50>0,'Tabl. II (2)'!I50*3/'Tabl. II (2)'!C50,"X") -> 2 | J50: X
A51: skargi na postępowanie sądowe (S) | B51: =IF('Tabl. II (2)'!B51>0,'Tabl. II (2)'!E51/'Tabl. II (2)'!B51*100,"X") -> 80 | C51: =IF('Tabl. II (2)'!C51>0,'Tabl. II (2)'!F51/'Tabl. II (2)'!C51*100,"X") -> 89.189189 | D51: =C51*100/B51 -> 111.48649 | E51: =IF('Tabl. II (2)'!E51>0,'Tabl. II (2)'!H51/('Tabl. II (2)'!E51/91.25),"X") -> 41.0625 | F51: =IF('Tabl. II (2)'!F51>0,'Tabl. II (2)'!I51/('Tabl. II (2)'!F51/91.25),"X") -> 77.424242 | G51: =F51*100/E51 -> 188.55219 | H51: =IF('Tabl. II (2)'!B51>0,'Tabl. II (2)'!H51*3/'Tabl. II (2)'!B51,"X") -> 1.08 | I51: =IF('Tabl. II (2)'!C51>0,'Tabl. II (2)'!I51*3/'Tabl. II (2)'!C51,"X") -> 2.2702703 | J51: =I51*100/H51 -> 210.21021
A52: W SĄDACH OKRĘGOWYCH - OGÓŁEM | B52: =IF('Tabl. II (2)'!B52>0,'Tabl. II (2)'!E52/'Tabl. II (2)'!B52*100,"X") -> 96.413353 | C52: =IF('Tabl. II (2)'!C52>0,'Tabl. II (2)'!F52/'Tabl. II (2)'!C52*100,"X") -> 99.528575 | D52: =C52*100/B52 -> 103.23111 | E52: =IF('Tabl. II (2)'!E52>0,'Tabl. II (2)'!H52/('Tabl. II (2)'!E52/91.25),"X") -> 101.10211 | F52: =IF('Tabl. II (2)'!F52>0,'Tabl. II (2)'!I52/('Tabl. II (2)'!F52/91.25),"X") -> 112.73985 | G52: =F52*100/E52 -> 111.51087 | H52: =IF('Tabl. II (2)'!B52>0,'Tabl. II (2)'!H52*3/'Tabl. II (2)'!B52,"X") -> 3.2046882 | I52: =IF('Tabl. II (2)'!C52>0,'Tabl. II (2)'!I52*3/'Tabl. II (2)'!C52,"X") -> 3.6890421 | J52: =I52*100/H52 -> 115.11391
A53: Sprawy karne i wykroczeniowe - razem | B53: =IF('Tabl. II (2)'!B53>0,'Tabl. II (2)'!E53/'Tabl. II (2)'!B53*100,"X") -> 96.997433 | C53: =IF('Tabl. II (2)'!C53>0,'Tabl. II (2)'!F53/'Tabl. II (2)'!C53*100,"X") -> 96.418085 | D53: =C53*100/B53 -> 99.402719 | E53: =IF('Tabl. II (2)'!E53>0,'Tabl. II (2)'!H53/('Tabl. II (2)'!E53/91.25),"X") -> 41.570551 | F53: =IF('Tabl. II (2)'!F53>0,'Tabl. II (2)'!I53/('Tabl. II (2)'!F53/91.25),"X") -> 43.829964 | G53: =F53*100/E53 -> 105.43513 | H53: =IF('Tabl. II (2)'!B53>0,'Tabl. II (2)'!H53*3/'Tabl. II (2)'!B53,"X") -> 1.3256669 | I53: =IF('Tabl. II (2)'!C53>0,'Tabl. II (2)'!I53*3/'Tabl. II (2)'!C53,"X") -> 1.3893703 | J53: =I53*100/H53 -> 104.80539
A54: I instancji (K) | B54: =IF('Tabl. II (2)'!B54>0,'Tabl. II (2)'!E54/'Tabl. II (2)'!B54*100,"X") -> 97.087379 | C54: =IF('Tabl. II (2)'!C54>0,'Tabl. II (2)'!F54/'Tabl. II (2)'!C54*100,"X") -> 95.327904 | D54: =C54*100/B54 -> 98.187741 | E54: =IF('Tabl. II (2)'!E54>0,'Tabl. II (2)'!H54/('Tabl. II (2)'!E54/91.25),"X") -> 236.81359 | F54: =IF('Tabl. II (2)'!F54>0,'Tabl. II (2)'!I54/('Tabl. II (2)'!F54/91.25),"X") -> 248.51675 | G54: =F54*100/E54 -> 104.94193 | H54: =IF('Tabl. II (2)'!B54>0,'Tabl. II (2)'!H54*3/'Tabl. II (2)'!B54,"X") -> 7.5588856 | I54: =IF('Tabl. II (2)'!C54>0,'Tabl. II (2)'!I54*3/'Tabl. II (2)'!C54,"X") -> 7.7886841 | J54: =I54*100/H54 -> 103.04011
A55: w tym odpowiedzialność podmiotów zbiorowych | B55: =IF('Tabl. II (2)'!B55>0,'Tabl. II (2)'!E55/'Tabl. II (2)'!B55*100,"X") -> X | C55: =IF('Tabl. II (2)'!C55>0,'Tabl. II (2)'!F55/'Tabl. II (2)'!C55*100,"X") -> X | D55: X | E55: =IF('Tabl. II (2)'!E55>0,'Tabl. II (2)'!H55/('Tabl. II (2)'!E55/91.25),"X") -> X | F55: =IF('Tabl. II (2)'!F55>0,'Tabl. II (2)'!I55/('Tabl. II (2)'!F55/91.25),"X") -> X | G55: X | H55: =IF('Tabl. II (2)'!B55>0,'Tabl. II (2)'!H55*3/'Tabl. II (2)'!B55,"X") -> X | I55: =IF('Tabl. II (2)'!C55>0,'Tabl. II (2)'!I55*3/'Tabl. II (2)'!C55,"X") -> X | J55: X
A56: II instancji - apelacje w sprawach karnych (Ka) | B56: =IF('Tabl. II (2)'!B56>0,'Tabl. II (2)'!E56/'Tabl. II (2)'!B56*100,"X") -> 93.828407 | C56: =IF('Tabl. II (2)'!C56>0,'Tabl. II (2)'!F56/'Tabl. II (2)'!C56*100,"X") -> 92.914105 | D56: =C56*100/B56 -> 99.02556 | E56: =IF('Tabl. II (2)'!E56>0,'Tabl. II (2)'!H56/('Tabl. II (2)'!E56/91.25),"X") -> 67.424312 | F56: =IF('Tabl. II (2)'!F56>0,'Tabl. II (2)'!I56/('Tabl. II (2)'!F56/91.25),"X") -> 79.950827 | G56: =F56*100/E56 -> 118.57863 | H56: =IF('Tabl. II (2)'!B56>0,'Tabl. II (2)'!H56*3/'Tabl. II (2)'!B56,"X") -> 2.0798846 | I56: =IF('Tabl. II (2)'!C56>0,'Tabl. II (2)'!I56*3/'Tabl. II (2)'!C56,"X") -> 2.4422662 | J56: =I56*100/H56 -> 117.42315
A57: - zażalenia w sprawach karnych (Kz) | B57: =IF('Tabl. II (2)'!B57>0,'Tabl. II (2)'!E57/'Tabl. II (2)'!B57*100,"X") -> 97.659142 | C57: =IF('Tabl. II (2)'!C57>0,'Tabl. II (2)'!F57/'Tabl. II (2)'!C57*100,"X") -> 97.250448 | D57: =C57*100/B57 -> 99.58151 | E57: =IF('Tabl. II (2)'!E57>0,'Tabl. II (2)'!H57/('Tabl. II (2)'!E57/91.25),"X") -> 21.850006 | F57: =IF('Tabl. II (2)'!F57>0,'Tabl. II (2)'!I57/('Tabl. II (2)'!F57/91.25),"X") -> 26.41595 | G57: =F57*100/E57 -> 120.89676 | H57: =IF('Tabl. II (2)'!B57>0,'Tabl. II (2)'!H57*3/'Tabl. II (2)'!B57,"X") -> 0.70154067 | I57: =IF('Tabl. II (2)'!C57>0,'Tabl. II (2)'!I57*3/'Tabl. II (2)'!C57,"X") -> 0.84459056 | J57: =I57*100/H57 -> 120.39082
A58: ogólne (Ko) | B58: =IF('Tabl. II (2)'!B58>0,'Tabl. II (2)'!E58/'Tabl. II (2)'!B58*100,"X") -> 94.672597 | C58: =IF('Tabl. II (2)'!C58>0,'Tabl. II (2)'!F58/'Tabl. II (2)'!C58*100,"X") -> 97.490965 | D58: =C58*100/B58 -> 102.97696 | E58: =IF('Tabl. II (2)'!E58>0,'Tabl. II (2)'!H58/('Tabl. II (2)'!E58/91.25),"X") -> 35.574738 | F58: =IF('Tabl. II (2)'!F58>0,'Tabl. II (2)'!I58/('Tabl. II (2)'!F58/91.25),"X") -> 34.027881 | G58: =F58*100/E58 -> 95.65181 | H58: =IF('Tabl. II (2)'!B58>0,'Tabl. II (2)'!H58*3/'Tabl. II (2)'!B58,"X") -> 1.1072722 | I58: =IF('Tabl. II (2)'!C58>0,'Tabl. II (2)'!I58*3/'Tabl. II (2)'!C58,"X") -> 1.0906557 | J58: =I58*100/H58 -> 98.499329
A59: zażalenia na postanowienia w postępowaniu wykonawczym (Kzw) | B59: =IF('Tabl. II (2)'!B59>0,'Tabl. II (2)'!E59/'Tabl. II (2)'!B59*100,"X") -> 101.98669 | C59: =IF('Tabl. II (2)'!C59>0,'Tabl. II (2)'!F59/'Tabl. II (2)'!C59*100,"X") -> 96.835155 | D59: =C59*100/B59 -> 94.948819 | E59: =IF('Tabl. II (2)'!E59>0,'Tabl. II (2)'!H59/('Tabl. II (2)'!E59/91.25),"X") -> 36.430364 | F59: =IF('Tabl. II (2)'!F59>0,'Tabl. II (2)'!I59/('Tabl. II (2)'!F59/91.25),"X") -> 42.996708 | G59: =F59*100/E59 -> 118.02437 | H59: =IF('Tabl. II (2)'!B59>0,'Tabl. II (2)'!H59*3/'Tabl. II (2)'!B59,"X") -> 1.2215054 | I59: =IF('Tabl. II (2)'!C59>0,'Tabl. II (2)'!I59*3/'Tabl. II (2)'!C59,"X") -> 1.3688525 | J59: =I59*100/H59 -> 112.06275
A60: penitencjarne: - sprawy dotyczące wkonywania kary pozbawienia wolności; np.: przerw, odwołania warunkowego zwolnienia, zmiany określonego wyroku i typu zakładu karnego (Kow) | B60: =IF('Tabl. II (2)'!B60>0,'Tabl. II (2)'!E60/'Tabl. II (2)'!B60*100,"X") -> 97.309453 | C60: =IF('Tabl. II (2)'!C60>0,'Tabl. II (2)'!F60/'Tabl. II (2)'!C60*100,"X") -> 96.728514 | D60: =C60*100/B60 -> 99.402999 | E60: =IF('Tabl. II (2)'!E60>0,'Tabl. II (2)'!H60/('Tabl. II (2)'!E60/91.25),"X") -> 41.762343 | F60: =IF('Tabl. II (2)'!F60>0,'Tabl. II (2)'!I60/('Tabl. II (2)'!F60/91.25),"X") -> 41.733596 | G60: =F60*100/E60 -> 99.931164 | H60: =IF('Tabl. II (2)'!B60>0,'Tabl. II (2)'!H60*3/'Tabl. II (2)'!B60,"X") -> 1.3360671 | I60: =IF('Tabl. II (2)'!C60>0,'Tabl. II (2)'!I60*3/'Tabl. II (2)'!C60,"X") -> 1.3271766 | J60: =I60*100/H60 -> 99.334574
A61: - sprawy dotyczące wykonywania nadzoru sędziego penitencjarnego nad tymczasowym aresztowaniem lub karą pozbawienia wolności (Pen) | B61: =IF('Tabl. II (2)'!B61>0,'Tabl. II (2)'!E61/'Tabl. II (2)'!B61*100,"X") -> 98.327904 | C61: =IF('Tabl. II (2)'!C61>0,'Tabl. II (2)'!F61/'Tabl. II (2)'!C61*100,"X") -> 99.658078 | D61: =C61*100/B61 -> 101.35279 | E61: =IF('Tabl. II (2)'!E61>0,'Tabl. II (2)'!H61/('Tabl. II (2)'!E61/91.25),"X") -> 10.237412 | F61: =IF('Tabl. II (2)'!F61>0,'Tabl. II (2)'!I61/('Tabl. II (2)'!F61/91.25),"X") -> 12.534156 | G61: =F61*100/E61 -> 122.43482 | H61: =IF('Tabl. II (2)'!B61>0,'Tabl. II (2)'!H61*3/'Tabl. II (2)'!B61,"X") -> 0.33094463 | I61: =IF('Tabl. II (2)'!C61>0,'Tabl. II (2)'!I61*3/'Tabl. II (2)'!C61,"X") -> 0.41067285 | J61: =I61*100/H61 -> 124.09111
A62: nadzór sądowy nad postępowaniem przygotowawczym (Kp) | B62: =IF('Tabl. II (2)'!B62>0,'Tabl. II (2)'!E62/'Tabl. II (2)'!B62*100,"X") -> 96.353452 | C62: =IF('Tabl. II (2)'!C62>0,'Tabl. II (2)'!F62/'Tabl. II (2)'!C62*100,"X") -> 96.553761 | D62: =C62*100/B62 -> 100.20789 | E62: =IF('Tabl. II (2)'!E62>0,'Tabl. II (2)'!H62/('Tabl. II (2)'!E62/91.25),"X") -> 12.525359 | F62: =IF('Tabl. II (2)'!F62>0,'Tabl. II (2)'!I62/('Tabl. II (2)'!F62/91.25),"X") -> 13.018433 | G62: =F62*100/E62 -> 103.9366 | H62: =IF('Tabl. II (2)'!B62>0,'Tabl. II (2)'!H62*3/'Tabl. II (2)'!B62,"X") -> 0.39677641 | I62: =IF('Tabl. II (2)'!C62>0,'Tabl. II (2)'!I62*3/'Tabl. II (2)'!C62,"X") -> 0.41325325 | J62: =I62*100/H62 -> 104.15268
A63: kasacje (WKK) | B63: =IF('Tabl. II (2)'!B63>0,'Tabl. II (2)'!E63/'Tabl. II (2)'!B63*100,"X") -> 96.153846 | C63: =IF('Tabl. II (2)'!C63>0,'Tabl. II (2)'!F63/'Tabl. II (2)'!C63*100,"X") -> 89.320388 | D63: =C63*100/B63 -> 92.893204 | E63: =IF('Tabl. II (2)'!E63>0,'Tabl. II (2)'!H63/('Tabl. II (2)'!E63/91.25),"X") -> 86.6875 | F63: =IF('Tabl. II (2)'!F63>0,'Tabl. II (2)'!I63/('Tabl. II (2)'!F63/91.25),"X") -> 103.48279 | G63: =F63*100/E63 -> 119.37452 | H63: =IF('Tabl. II (2)'!B63>0,'Tabl. II (2)'!H63*3/'Tabl. II (2)'!B63,"X") -> 2.7403846 | I63: =IF('Tabl. II (2)'!C63>0,'Tabl. II (2)'!I63*3/'Tabl. II (2)'!C63,"X") -> 3.038835 | J63: =I63*100/H63 -> 110.89082
A64: Kop | B64: =IF('Tabl. II (2)'!B64>0,'Tabl. II (2)'!E64/'Tabl. II (2)'!B64*100,"X") -> 95.702006 | C64: =IF('Tabl. II (2)'!C64>0,'Tabl. II (2)'!F64/'Tabl. II (2)'!C64*100,"X") -> 88.093385 | D64: =C64*100/B64 -> 92.049675 | E64: =IF('Tabl. II (2)'!E64>0,'Tabl. II (2)'!H64/('Tabl. II (2)'!E64/91.25),"X") -> 35.857972 | F64: =IF('Tabl. II (2)'!F64>0,'Tabl. II (2)'!I64/('Tabl. II (2)'!F64/91.25),"X") -> 41.836352 | G64: =F64*100/E64 -> 116.67239 | H64: =IF('Tabl. II (2)'!B64>0,'Tabl. II (2)'!H64*3/'Tabl. II (2)'!B64,"X") -> 1.1282235 | I64: =IF('Tabl. II (2)'!C64>0,'Tabl. II (2)'!I64*3/'Tabl. II (2)'!C64,"X") -> 1.2116732 | J64: =I64*100/H64 -> 107.39655
A65: skargi na postępowanie sądowe i prokuratorskie (S) | B65: =IF('Tabl. II (2)'!B65>0,'Tabl. II (2)'!E65/'Tabl. II (2)'!B65*100,"X") -> 88.826816 | C65: =IF('Tabl. II (2)'!C65>0,'Tabl. II (2)'!F65/'Tabl. II (2)'!C65*100,"X") -> 91.871456 | D65: =C65*100/B65 -> 103.42761 | E65: =IF('Tabl. II (2)'!E65>0,'Tabl. II (2)'!H65/('Tabl. II (2)'!E65/91.25),"X") -> 36.15566 | F65: =IF('Tabl. II (2)'!F65>0,'Tabl. II (2)'!I65/('Tabl. II (2)'!F65/91.25),"X") -> 39.429012 | G65: =F65*100/E65 -> 109.0535 | H65: =IF('Tabl. II (2)'!B65>0,'Tabl. II (2)'!H65*3/'Tabl. II (2)'!B65,"X") -> 1.0558659 | I65: =IF('Tabl. II (2)'!C65>0,'Tabl. II (2)'!I65*3/'Tabl. II (2)'!C65,"X") -> 1.1909263 | J65: =I65*100/H65 -> 112.79143
A66: W SĄDACH OKRĘGOWYCH (c.d.)
A67: Sprawy cywilne - razem | B67: =IF('Tabl. II (2)'!B67>0,'Tabl. II (2)'!E67/'Tabl. II (2)'!B67*100,"X") -> 94.390064 | C67: =IF('Tabl. II (2)'!C67>0,'Tabl. II (2)'!F67/'Tabl. II (2)'!C67*100,"X") -> 94.553741 | D67: =C67*100/B67 -> 100.1734 | E67: =IF('Tabl. II (2)'!E67>0,'Tabl. II (2)'!H67/('Tabl. II (2)'!E67/91.25),"X") -> 139.2547 | F67: =IF('Tabl. II (2)'!F67>0,'Tabl. II (2)'!I67/('Tabl. II (2)'!F67/91.25),"X") -> 150.78757 | G67: =F67*100/E67 -> 108.28186 | H67: =IF('Tabl. II (2)'!B67>0,'Tabl. II (2)'!H67*3/'Tabl. II (2)'!B67,"X") -> 4.3214006 | I67: =IF('Tabl. II (2)'!C67>0,'Tabl. II (2)'!I67*3/'Tabl. II (2)'!C67,"X") -> 4.6874068 | J67: =I67*100/H67 -> 108.46962
A68: I instancji - procesowe (C i RC)a) | B68: =IF('Tabl. II (2)'!B68>0,'Tabl. II (2)'!E68/'Tabl. II (2)'!B68*100,"X") -> 94.584483 | C68: =IF('Tabl. II (2)'!C68>0,'Tabl. II (2)'!F68/'Tabl. II (2)'!C68*100,"X") -> 90.897698 | D68: =C68*100/B68 -> 96.102125 | E68: =IF('Tabl. II (2)'!E68>0,'Tabl. II (2)'!H68/('Tabl. II (2)'!E68/91.25),"X") -> 229.37911 | F68: =IF('Tabl. II (2)'!F68>0,'Tabl. II (2)'!I68/('Tabl. II (2)'!F68/91.25),"X") -> 257.45497 | G68: =F68*100/E68 -> 112.23993 | H68: =IF('Tabl. II (2)'!B68>0,'Tabl. II (2)'!H68*3/'Tabl. II (2)'!B68,"X") -> 7.1328345 | I68: =IF('Tabl. II (2)'!C68>0,'Tabl. II (2)'!I68*3/'Tabl. II (2)'!C68,"X") -> 7.6938292 | J68: =I68*100/H68 -> 107.86496
A69: - szkody geologiczne i górnicze (CG-G) | B69: =IF('Tabl. II (2)'!B69>0,'Tabl. II (2)'!E69/'Tabl. II (2)'!B69*100,"X") -> 52.727273 | C69: =IF('Tabl. II (2)'!C69>0,'Tabl. II (2)'!F69/'Tabl. II (2)'!C69*100,"X") -> 72.916667 | D69: =C69*100/B69 -> 138.29023 | E69: =IF('Tabl. II (2)'!E69>0,'Tabl. II (2)'!H69/('Tabl. II (2)'!E69/91.25),"X") -> 572.67241 | F69: =IF('Tabl. II (2)'!F69>0,'Tabl. II (2)'!I69/('Tabl. II (2)'!F69/91.25),"X") -> 641.35714 | G69: =F69*100/E69 -> 111.99372 | H69: =IF('Tabl. II (2)'!B69>0,'Tabl. II (2)'!H69*3/'Tabl. II (2)'!B69,"X") -> 9.9272727 | I69: =IF('Tabl. II (2)'!C69>0,'Tabl. II (2)'!I69*3/'Tabl. II (2)'!C69,"X") -> 15.375 | J69: =I69*100/H69 -> 154.87637
A70: - nieprocesowe (Ns)a) (z wył. rej.) | B70: =IF('Tabl. II (2)'!B70>0,'Tabl. II (2)'!E70/'Tabl. II (2)'!B70*100,"X") -> 93.304033 | C70: =IF('Tabl. II (2)'!C70>0,'Tabl. II (2)'!F70/'Tabl. II (2)'!C70*100,"X") -> 89.308642 | D70: =C70*100/B70 -> 95.71788 | E70: =IF('Tabl. II (2)'!E70>0,'Tabl. II (2)'!H70/('Tabl. II (2)'!E70/91.25),"X") -> 145.71176 | F70: =IF('Tabl. II (2)'!F70>0,'Tabl. II (2)'!I70/('Tabl. II (2)'!F70/91.25),"X") -> 159.97132 | G70: =F70*100/E70 -> 109.78614 | H70: =IF('Tabl. II (2)'!B70>0,'Tabl. II (2)'!H70*3/'Tabl. II (2)'!B70,"X") -> 4.4697518 | I70: =IF('Tabl. II (2)'!C70>0,'Tabl. II (2)'!I70*3/'Tabl. II (2)'!C70,"X") -> 4.697037 | J70: =I70*100/H70 -> 105.08496
A71: - rejestrowe | B71: =IF('Tabl. II (2)'!B71>0,'Tabl. II (2)'!E71/'Tabl. II (2)'!B71*100,"X") -> 89.566755 | C71: =IF('Tabl. II (2)'!C71>0,'Tabl. II (2)'!F71/'Tabl. II (2)'!C71*100,"X") -> 101.38393 | D71: =C71*100/B71 -> 113.19371 | E71: =IF('Tabl. II (2)'!E71>0,'Tabl. II (2)'!H71/('Tabl. II (2)'!E71/91.25),"X") -> 26.077863 | F71: =IF('Tabl. II (2)'!F71>0,'Tabl. II (2)'!I71/('Tabl. II (2)'!F71/91.25),"X") -> 19.567922 | G71: =F71*100/E71 -> 75.036523 | H71: =IF('Tabl. II (2)'!B71>0,'Tabl. II (2)'!H71*3/'Tabl. II (2)'!B71,"X") -> 0.76790451 | I71: =IF('Tabl. II (2)'!C71>0,'Tabl. II (2)'!I71*3/'Tabl. II (2)'!C71,"X") -> 0.65223214 | J71: =I71*100/H71 -> 84.936621
A72: w tym: | E72: =IF('Tabl. II (2)'!E72>0,'Tabl. II (2)'!H72/('Tabl. II (2)'!E72/91.25),"X") -> X | F72: =IF('Tabl. II (2)'!F72>0,'Tabl. II (2)'!I72/('Tabl. II (2)'!F72/91.25),"X") -> X | G72: X | H72: =IF('Tabl. II (2)'!B72>0,'Tabl. II (2)'!H72*3/'Tabl. II (2)'!B72,"X") -> X | I72: =IF('Tabl. II (2)'!C72>0,'Tabl. II (2)'!I72*3/'Tabl. II (2)'!C72,"X") -> X | J72: X
A73: z zakresu rejestru dzienników i czasopism (Ns.Rej.Pr) | B73: =IF('Tabl. II (2)'!B73>0,'Tabl. II (2)'!E73/'Tabl. II (2)'!B73*100,"X") -> 92.353378 | C73: =IF('Tabl. II (2)'!C73>0,'Tabl. II (2)'!F73/'Tabl. II (2)'!C73*100,"X") -> 97.736459 | D73: =C73*100/B73 -> 105.82879 | E73: =IF('Tabl. II (2)'!E73>0,'Tabl. II (2)'!H73/('Tabl. II (2)'!E73/91.25),"X") -> 24.132838 | F73: =IF('Tabl. II (2)'!F73>0,'Tabl. II (2)'!I73/('Tabl. II (2)'!F73/91.25),"X") -> 27.699545 | G73: =F73*100/E73 -> 114.77948 | H73: =IF('Tabl. II (2)'!B73>0,'Tabl. II (2)'!H73*3/'Tabl. II (2)'!B73,"X") -> 0.73273942 | I73: =IF('Tabl. II (2)'!C73>0,'Tabl. II (2)'!I73*3/'Tabl. II (2)'!C73,"X") -> 0.89005659 | J73: =I73*100/H73 -> 121.46973
A74: Partie | B74: =IF('Tabl. II (2)'!B74>0,'Tabl. II (2)'!E74/'Tabl. II (2)'!B74*100,"X") -> 116.66667 | C74: =IF('Tabl. II (2)'!C74>0,'Tabl. II (2)'!F74/'Tabl. II (2)'!C74*100,"X") -> 85.714286 | D74: =C74*100/B74 -> 73.469388 | E74: =IF('Tabl. II (2)'!E74>0,'Tabl. II (2)'!H74/('Tabl. II (2)'!E74/91.25),"X") -> 68.4375 | F74: =IF('Tabl. II (2)'!F74>0,'Tabl. II (2)'!I74/('Tabl. II (2)'!F74/91.25),"X") -> 81.111111 | G74: =F74*100/E74 -> 118.51852 | H74: =IF('Tabl. II (2)'!B74>0,'Tabl. II (2)'!H74*3/'Tabl. II (2)'!B74,"X") -> 2.625 | I74: =IF('Tabl. II (2)'!C74>0,'Tabl. II (2)'!I74*3/'Tabl. II (2)'!C74,"X") -> 2.2857143 | J74: =I74*100/H74 -> 87.07483
A75: Fundusze emerytalne | B75: =IF('Tabl. II (2)'!B75>0,'Tabl. II (2)'!E75/'Tabl. II (2)'!B75*100,"X") -> 94.444444 | C75: =IF('Tabl. II (2)'!C75>0,'Tabl. II (2)'!F75/'Tabl. II (2)'!C75*100,"X") -> 129.41176 | D75: =C75*100/B75 -> 137.02422 | E75: =IF('Tabl. II (2)'!E75>0,'Tabl. II (2)'!H75/('Tabl. II (2)'!E75/91.25),"X") -> 16.102941 | F75: =IF('Tabl. II (2)'!F75>0,'Tabl. II (2)'!I75/('Tabl. II (2)'!F75/91.25),"X") -> 16.590909 | G75: =F75*100/E75 -> 103.0303 | H75: =IF('Tabl. II (2)'!B75>0,'Tabl. II (2)'!H75*3/'Tabl. II (2)'!B75,"X") -> 0.5 | I75: =IF('Tabl. II (2)'!C75>0,'Tabl. II (2)'!I75*3/'Tabl. II (2)'!C75,"X") -> 0.70588235 | J75: =I75*100/H75 -> 141.17647
A76: Fundusze inwestycyjne | B76: =IF('Tabl. II (2)'!B76>0,'Tabl. II (2)'!E76/'Tabl. II (2)'!B76*100,"X") -> 84.421535 | C76: =IF('Tabl. II (2)'!C76>0,'Tabl. II (2)'!F76/'Tabl. II (2)'!C76*100,"X") -> 105.90674 | D76: =C76*100/B76 -> 125.44991 | E76: =IF('Tabl. II (2)'!E76>0,'Tabl. II (2)'!H76/('Tabl. II (2)'!E76/91.25),"X") -> 27.981682 | F76: =IF('Tabl. II (2)'!F76>0,'Tabl. II (2)'!I76/('Tabl. II (2)'!F76/91.25),"X") -> 8.9285714 | G76: =F76*100/E76 -> 31.90863 | H76: =IF('Tabl. II (2)'!B76>0,'Tabl. II (2)'!H76*3/'Tabl. II (2)'!B76,"X") -> 0.7766323 | I76: =IF('Tabl. II (2)'!C76>0,'Tabl. II (2)'!I76*3/'Tabl. II (2)'!C76,"X") -> 0.31088083 | J76: =I76*100/H76 -> 40.029346
A77: - nakazowe i upominawcze (Nc) | B77: =IF('Tabl. II (2)'!B77>0,'Tabl. II (2)'!E77/'Tabl. II (2)'!B77*100,"X") -> 129.00719 | C77: =IF('Tabl. II (2)'!C77>0,'Tabl. II (2)'!F77/'Tabl. II (2)'!C77*100,"X") -> 100.7562 | D77: =C77*100/B77 -> 78.101226 | E77: =IF('Tabl. II (2)'!E77>0,'Tabl. II (2)'!H77/('Tabl. II (2)'!E77/91.25),"X") -> 28.191222 | F77: =IF('Tabl. II (2)'!F77>0,'Tabl. II (2)'!I77/('Tabl. II (2)'!F77/91.25),"X") -> 32.900405 | G77: =F77*100/E77 -> 116.70443 | H77: =IF('Tabl. II (2)'!B77>0,'Tabl. II (2)'!H77*3/'Tabl. II (2)'!B77,"X") -> 1.1956835 | I77: =IF('Tabl. II (2)'!C77>0,'Tabl. II (2)'!I77*3/'Tabl. II (2)'!C77,"X") -> 1.0898367 | J77: =I77*100/H77 -> 91.147591
A78: II instancji - apelacje (Ca)a) | B78: =IF('Tabl. II (2)'!B78>0,'Tabl. II (2)'!E78/'Tabl. II (2)'!B78*100,"X") -> 85.209088 | C78: =IF('Tabl. II (2)'!C78>0,'Tabl. II (2)'!F78/'Tabl. II (2)'!C78*100,"X") -> 94.356965 | D78: =C78*100/B78 -> 110.7358 | E78: =IF('Tabl. II (2)'!E78>0,'Tabl. II (2)'!H78/('Tabl. II (2)'!E78/91.25),"X") -> 111.68763 | F78: =IF('Tabl. II (2)'!F78>0,'Tabl. II (2)'!I78/('Tabl. II (2)'!F78/91.25),"X") -> 116.55167 | G78: =F78*100/E78 -> 104.35504 | H78: =IF('Tabl. II (2)'!B78>0,'Tabl. II (2)'!H78*3/'Tabl. II (2)'!B78,"X") -> 3.1288113 | I78: =IF('Tabl. II (2)'!C78>0,'Tabl. II (2)'!I78*3/'Tabl. II (2)'!C78,"X") -> 3.6156038 | J78: =I78*100/H78 -> 115.55839
A79: - zażalenia (Cz)a) | B79: =IF('Tabl. II (2)'!B79>0,'Tabl. II (2)'!E79/'Tabl. II (2)'!B79*100,"X") -> 95.115808 | C79: =IF('Tabl. II (2)'!C79>0,'Tabl. II (2)'!F79/'Tabl. II (2)'!C79*100,"X") -> 101.18981 | D79: =C79*100/B79 -> 106.3859 | E79: =IF('Tabl. II (2)'!E79>0,'Tabl. II (2)'!H79/('Tabl. II (2)'!E79/91.25),"X") -> 34.762466 | F79: =IF('Tabl. II (2)'!F79>0,'Tabl. II (2)'!I79/('Tabl. II (2)'!F79/91.25),"X") -> 36.839295 | G79: =F79*100/E79 -> 105.97434 | H79: =IF('Tabl. II (2)'!B79>0,'Tabl. II (2)'!H79*3/'Tabl. II (2)'!B79,"X") -> 1.0870554 | I79: =IF('Tabl. II (2)'!C79>0,'Tabl. II (2)'!I79*3/'Tabl. II (2)'!C79,"X") -> 1.2255653 | J79: =I79*100/H79 -> 112.74176
A80: ogólne (Co) - I instancja | B80: =IF('Tabl. II (2)'!B80>0,'Tabl. II (2)'!E80/'Tabl. II (2)'!B80*100,"X") -> 99.451554 | C80: =IF('Tabl. II (2)'!C80>0,'Tabl. II (2)'!F80/'Tabl. II (2)'!C80*100,"X") -> 97.532895 | D80: =C80*100/B80 -> 98.07076 | E80: =IF('Tabl. II (2)'!E80>0,'Tabl. II (2)'!H80/('Tabl. II (2)'!E80/91.25),"X") -> 50.377604 | F80: =IF('Tabl. II (2)'!F80>0,'Tabl. II (2)'!I80/('Tabl. II (2)'!F80/91.25),"X") -> 57.55059 | G80: =F80*100/E80 -> 114.23844 | H80: =IF('Tabl. II (2)'!B80>0,'Tabl. II (2)'!H80*3/'Tabl. II (2)'!B80,"X") -> 1.6471664 | I80: =IF('Tabl. II (2)'!C80>0,'Tabl. II (2)'!I80*3/'Tabl. II (2)'!C80,"X") -> 1.8453947 | J80: =I80*100/H80 -> 112.03451
A81: - II instancja | B81: =IF('Tabl. II (2)'!B81>0,'Tabl. II (2)'!E81/'Tabl. II (2)'!B81*100,"X") -> 96 | C81: =IF('Tabl. II (2)'!C81>0,'Tabl. II (2)'!F81/'Tabl. II (2)'!C81*100,"X") -> 100.84034 | D81: =C81*100/B81 -> 105.04202 | E81: =IF('Tabl. II (2)'!E81>0,'Tabl. II (2)'!H81/('Tabl. II (2)'!E81/91.25),"X") -> 24.333333 | F81: =IF('Tabl. II (2)'!F81>0,'Tabl. II (2)'!I81/('Tabl. II (2)'!F81/91.25),"X") -> 15.96875 | G81: =F81*100/E81 -> 65.625 | H81: =IF('Tabl. II (2)'!B81>0,'Tabl. II (2)'!H81*3/'Tabl. II (2)'!B81,"X") -> 0.768 | I81: =IF('Tabl. II (2)'!C81>0,'Tabl. II (2)'!I81*3/'Tabl. II (2)'!C81,"X") -> 0.52941176 | J81: =I81*100/H81 -> 68.933824
A82: skarga kasacyjna (WSC) | B82: =IF('Tabl. II (2)'!B82>0,'Tabl. II (2)'!E82/'Tabl. II (2)'!B82*100,"X") -> 79.905437 | C82: =IF('Tabl. II (2)'!C82>0,'Tabl. II (2)'!F82/'Tabl. II (2)'!C82*100,"X") -> 92.857143 | D82: =C82*100/B82 -> 116.20879 | E82: =IF('Tabl. II (2)'!E82>0,'Tabl. II (2)'!H82/('Tabl. II (2)'!E82/91.25),"X") -> 82.071006 | F82: =IF('Tabl. II (2)'!F82>0,'Tabl. II (2)'!I82/('Tabl. II (2)'!F82/91.25),"X") -> 75.895433 | G82: =F82*100/E82 -> 92.475329 | H82: =IF('Tabl. II (2)'!B82>0,'Tabl. II (2)'!H82*3/'Tabl. II (2)'!B82,"X") -> 2.1560284 | I82: =IF('Tabl. II (2)'!C82>0,'Tabl. II (2)'!I82*3/'Tabl. II (2)'!C82,"X") -> 2.3169643 | J82: =I82*100/H82 -> 107.46446
A83: skarga o stwierdzenie niezgodności z prawem (WSC) | B83: =IF('Tabl. II (2)'!B83>0,'Tabl. II (2)'!E83/'Tabl. II (2)'!B83*100,"X") -> 40 | C83: =IF('Tabl. II (2)'!C83>0,'Tabl. II (2)'!F83/'Tabl. II (2)'!C83*100,"X") -> 78.571429 | D83: =C83*100/B83 -> 196.42857 | E83: =IF('Tabl. II (2)'!E83>0,'Tabl. II (2)'!H83/('Tabl. II (2)'!E83/91.25),"X") -> 228.125 | F83: =IF('Tabl. II (2)'!F83>0,'Tabl. II (2)'!I83/('Tabl. II (2)'!F83/91.25),"X") -> 82.954545 | G83: =F83*100/E83 -> 36.363636 | H83: =IF('Tabl. II (2)'!B83>0,'Tabl. II (2)'!H83*3/'Tabl. II (2)'!B83,"X") -> 3 | I83: =IF('Tabl. II (2)'!C83>0,'Tabl. II (2)'!I83*3/'Tabl. II (2)'!C83,"X") -> 2.1428571 | J83: =I83*100/H83 -> 71.428571
A84: skarga o stwierdzenie niezgodności z prawem (WSC II inst.) | B84: =IF('Tabl. II (2)'!B84>0,'Tabl. II (2)'!E84/'Tabl. II (2)'!B84*100,"X") -> 117.91045 | C84: =IF('Tabl. II (2)'!C84>0,'Tabl. II (2)'!F84/'Tabl. II (2)'!C84*100,"X") -> 76.923077 | D84: =C84*100/B84 -> 65.238559 | E84: =IF('Tabl. II (2)'!E84>0,'Tabl. II (2)'!H84/('Tabl. II (2)'!E84/91.25),"X") -> 49.667722 | F84: =IF('Tabl. II (2)'!F84>0,'Tabl. II (2)'!I84/('Tabl. II (2)'!F84/91.25),"X") -> 91.25 | G84: =F84*100/E84 -> 183.72093 | H84: =IF('Tabl. II (2)'!B84>0,'Tabl. II (2)'!H84*3/'Tabl. II (2)'!B84,"X") -> 1.9253731 | I84: =IF('Tabl. II (2)'!C84>0,'Tabl. II (2)'!I84*3/'Tabl. II (2)'!C84,"X") -> 2.3076923 | J84: =I84*100/H84 -> 119.85689
A85: skargi na postępowanie sądowe (S) | B85: =IF('Tabl. II (2)'!B85>0,'Tabl. II (2)'!E85/'Tabl. II (2)'!B85*100,"X") -> 99.009901 | C85: =IF('Tabl. II (2)'!C85>0,'Tabl. II (2)'!F85/'Tabl. II (2)'!C85*100,"X") -> 98.559932 | D85: =C85*100/B85 -> 99.545532 | E85: =IF('Tabl. II (2)'!E85>0,'Tabl. II (2)'!H85/('Tabl. II (2)'!E85/91.25),"X") -> 34.675 | F85: =IF('Tabl. II (2)'!F85>0,'Tabl. II (2)'!I85/('Tabl. II (2)'!F85/91.25),"X") -> 27.841642 | G85: =F85*100/E85 -> 80.293126 | H85: =IF('Tabl. II (2)'!B85>0,'Tabl. II (2)'!H85*3/'Tabl. II (2)'!B85,"X") -> 1.1287129 | I85: =IF('Tabl. II (2)'!C85>0,'Tabl. II (2)'!I85*3/'Tabl. II (2)'!C85,"X") -> 0.9021601 | J85: =I85*100/H85 -> 79.92822
A87: W SĄDACH OKRĘGOWYCH (c.d.)
A88: Sprawy z zakresu prawa pracy - razem | B88: =IF('Tabl. II (2)'!B88>0,'Tabl. II (2)'!E88/'Tabl. II (2)'!B88*100,"X") -> 88.200878 | C88: =IF('Tabl. II (2)'!C88>0,'Tabl. II (2)'!F88/'Tabl. II (2)'!C88*100,"X") -> 85.805816 | D88: =C88*100/B88 -> 97.284537 | E88: =IF('Tabl. II (2)'!E88>0,'Tabl. II (2)'!H88/('Tabl. II (2)'!E88/91.25),"X") -> 99.093767 | F88: =IF('Tabl. II (2)'!F88>0,'Tabl. II (2)'!I88/('Tabl. II (2)'!F88/91.25),"X") -> 119.63132 | G88: =F88*100/E88 -> 120.72537 | H88: =IF('Tabl. II (2)'!B88>0,'Tabl. II (2)'!H88*3/'Tabl. II (2)'!B88,"X") -> 2.8734764 | I88: =IF('Tabl. II (2)'!C88>0,'Tabl. II (2)'!I88*3/'Tabl. II (2)'!C88,"X") -> 3.3748152 | J88: =I88*100/H88 -> 117.44712
A89: I instancji - ze stosunku pracy (P) | B89: =IF('Tabl. II (2)'!B89>0,'Tabl. II (2)'!E89/'Tabl. II (2)'!B89*100,"X") -> 104.19287 | C89: =IF('Tabl. II (2)'!C89>0,'Tabl. II (2)'!F89/'Tabl. II (2)'!C89*100,"X") -> 100.22727 | D89: =C89*100/B89 -> 96.193982 | E89: =IF('Tabl. II (2)'!E89>0,'Tabl. II (2)'!H89/('Tabl. II (2)'!E89/91.25),"X") -> 265.30433 | F89: =IF('Tabl. II (2)'!F89>0,'Tabl. II (2)'!I89/('Tabl. II (2)'!F89/91.25),"X") -> 303.95975 | G89: =F89*100/E89 -> 114.57022 | H89: =IF('Tabl. II (2)'!B89>0,'Tabl. II (2)'!H89*3/'Tabl. II (2)'!B89,"X") -> 9.0880503 | I89: =IF('Tabl. II (2)'!C89>0,'Tabl. II (2)'!I89*3/'Tabl. II (2)'!C89,"X") -> 10.015909 | J89: =I89*100/H89 -> 110.20966
A90: - nakazowe (Np) | B90: =IF('Tabl. II (2)'!B90>0,'Tabl. II (2)'!E90/'Tabl. II (2)'!B90*100,"X") -> 84.210526 | C90: =IF('Tabl. II (2)'!C90>0,'Tabl. II (2)'!F90/'Tabl. II (2)'!C90*100,"X") -> 87.5 | D90: =C90*100/B90 -> 103.90625 | E90: =IF('Tabl. II (2)'!E90>0,'Tabl. II (2)'!H90/('Tabl. II (2)'!E90/91.25),"X") -> 79.84375 | F90: =IF('Tabl. II (2)'!F90>0,'Tabl. II (2)'!I90/('Tabl. II (2)'!F90/91.25),"X") -> 58.660714 | G90: =F90*100/E90 -> 73.469388 | H90: =IF('Tabl. II (2)'!B90>0,'Tabl. II (2)'!H90*3/'Tabl. II (2)'!B90,"X") -> 2.2105263 | I90: =IF('Tabl. II (2)'!C90>0,'Tabl. II (2)'!I90*3/'Tabl. II (2)'!C90,"X") -> 1.6875 | J90: =I90*100/H90 -> 76.339286
A91: II instancji - apelacje (Pa) | B91: =IF('Tabl. II (2)'!B91>0,'Tabl. II (2)'!E91/'Tabl. II (2)'!B91*100,"X") -> 85.514612 | C91: =IF('Tabl. II (2)'!C91>0,'Tabl. II (2)'!F91/'Tabl. II (2)'!C91*100,"X") -> 79.604998 | D91: =C91*100/B91 -> 93.089351 | E91: =IF('Tabl. II (2)'!E91>0,'Tabl. II (2)'!H91/('Tabl. II (2)'!E91/91.25),"X") -> 91.204804 | F91: =IF('Tabl. II (2)'!F91>0,'Tabl. II (2)'!I91/('Tabl. II (2)'!F91/91.25),"X") -> 122.15949 | G91: =F91*100/E91 -> 133.93976 | H91: =IF('Tabl. II (2)'!B91>0,'Tabl. II (2)'!H91*3/'Tabl. II (2)'!B91,"X") -> 2.5641677 | I91: =IF('Tabl. II (2)'!C91>0,'Tabl. II (2)'!I91*3/'Tabl. II (2)'!C91,"X") -> 3.1970979 | J91: =I91*100/H91 -> 124.68365
A92: - zażalenia (Pz) | B92: =IF('Tabl. II (2)'!B92>0,'Tabl. II (2)'!E92/'Tabl. II (2)'!B92*100,"X") -> 91.230207 | C92: =IF('Tabl. II (2)'!C92>0,'Tabl. II (2)'!F92/'Tabl. II (2)'!C92*100,"X") -> 94.629898 | D92: =C92*100/B92 -> 103.7265 | E92: =IF('Tabl. II (2)'!E92>0,'Tabl. II (2)'!H92/('Tabl. II (2)'!E92/91.25),"X") -> 29.360814 | F92: =IF('Tabl. II (2)'!F92>0,'Tabl. II (2)'!I92/('Tabl. II (2)'!F92/91.25),"X") -> 33.868865 | G92: =F92*100/E92 -> 115.35397 | H92: =IF('Tabl. II (2)'!B92>0,'Tabl. II (2)'!H92*3/'Tabl. II (2)'!B92,"X") -> 0.88063337 | I92: =IF('Tabl. II (2)'!C92>0,'Tabl. II (2)'!I92*3/'Tabl. II (2)'!C92,"X") -> 1.053701 | J92: =I92*100/H92 -> 119.65263
A93: ogólne (Po) | B93: =IF('Tabl. II (2)'!B93>0,'Tabl. II (2)'!E93/'Tabl. II (2)'!B93*100,"X") -> 72.180451 | C93: =IF('Tabl. II (2)'!C93>0,'Tabl. II (2)'!F93/'Tabl. II (2)'!C93*100,"X") -> 90.344828 | D93: =C93*100/B93 -> 125.16523 | E93: =IF('Tabl. II (2)'!E93>0,'Tabl. II (2)'!H93/('Tabl. II (2)'!E93/91.25),"X") -> 61.783854 | F93: =IF('Tabl. II (2)'!F93>0,'Tabl. II (2)'!I93/('Tabl. II (2)'!F93/91.25),"X") -> 33.435115 | G93: =F93*100/E93 -> 54.116265 | H93: =IF('Tabl. II (2)'!B93>0,'Tabl. II (2)'!H93*3/'Tabl. II (2)'!B93,"X") -> 1.4661654 | I93: =IF('Tabl. II (2)'!C93>0,'Tabl. II (2)'!I93*3/'Tabl. II (2)'!C93,"X") -> 0.99310345 | J93: =I93*100/H93 -> 67.734748
A94: ogólne (Po II inst.) | B94: =IF('Tabl. II (2)'!B94>0,'Tabl. II (2)'!E94/'Tabl. II (2)'!B94*100,"X") -> 100 | C94: =IF('Tabl. II (2)'!C94>0,'Tabl. II (2)'!F94/'Tabl. II (2)'!C94*100,"X") -> 100 | D94: =C94*100/B94 -> 100 | E94: =IF('Tabl. II (2)'!E94>0,'Tabl. II (2)'!H94/('Tabl. II (2)'!E94/91.25),"X") -> 27.375 | F94: =IF('Tabl. II (2)'!F94>0,'Tabl. II (2)'!I94/('Tabl. II (2)'!F94/91.25),"X") -> 7.9347826 | G94: =F94*100/E94 -> 28.985507 | H94: =IF('Tabl. II (2)'!B94>0,'Tabl. II (2)'!H94*3/'Tabl. II (2)'!B94,"X") -> 0.9 | I94: =IF('Tabl. II (2)'!C94>0,'Tabl. II (2)'!I94*3/'Tabl. II (2)'!C94,"X") -> 0.26086957 | J94: =I94*100/H94 -> 28.985507
A95: wykaz Kas-z | B95: =IF('Tabl. II (2)'!B95>0,'Tabl. II (2)'!E95/'Tabl. II (2)'!B95*100,"X") -> 100 | C95: =IF('Tabl. II (2)'!C95>0,'Tabl. II (2)'!F95/'Tabl. II (2)'!C95*100,"X") -> X | D95: X | E95: =IF('Tabl. II (2)'!E95>0,'Tabl. II (2)'!H95/('Tabl. II (2)'!E95/91.25),"X") -> 0 | F95: =IF('Tabl. II (2)'!F95>0,'Tabl. II (2)'!I95/('Tabl. II (2)'!F95/91.25),"X") -> 0 | G95: X | H95: =IF('Tabl. II (2)'!B95>0,'Tabl. II (2)'!H95*3/'Tabl. II (2)'!B95,"X") -> 0 | I95: =IF('Tabl. II (2)'!C95>0,'Tabl. II (2)'!I95*3/'Tabl. II (2)'!C95,"X") -> X | J95: X
A96: skarga kasacyjna (WSC-pracy) | B96: =IF('Tabl. II (2)'!B96>0,'Tabl. II (2)'!E96/'Tabl. II (2)'!B96*100,"X") -> 83.700441 | C96: =IF('Tabl. II (2)'!C96>0,'Tabl. II (2)'!F96/'Tabl. II (2)'!C96*100,"X") -> 88.479263 | D96: =C96*100/B96 -> 105.70943 | E96: =IF('Tabl. II (2)'!E96>0,'Tabl. II (2)'!H96/('Tabl. II (2)'!E96/91.25),"X") -> 59.072368 | F96: =IF('Tabl. II (2)'!F96>0,'Tabl. II (2)'!I96/('Tabl. II (2)'!F96/91.25),"X") -> 65.110677 | G96: =F96*100/E96 -> 110.22188 | H96: =IF('Tabl. II (2)'!B96>0,'Tabl. II (2)'!H96*3/'Tabl. II (2)'!B96,"X") -> 1.6255507 | I96: =IF('Tabl. II (2)'!C96>0,'Tabl. II (2)'!I96*3/'Tabl. II (2)'!C96,"X") -> 1.8940092 | J96: =I96*100/H96 -> 116.51493
A97: skarga o stwierdzenie niezgodności z prawem (WSC I inst.) | B97: =IF('Tabl. II (2)'!B97>0,'Tabl. II (2)'!E97/'Tabl. II (2)'!B97*100,"X") -> X | C97: =IF('Tabl. II (2)'!C97>0,'Tabl. II (2)'!F97/'Tabl. II (2)'!C97*100,"X") -> X | D97: X | E97: =IF('Tabl. II (2)'!E97>0,'Tabl. II (2)'!H97/('Tabl. II (2)'!E97/91.25),"X") -> X | F97: =IF('Tabl. II (2)'!F97>0,'Tabl. II (2)'!I97/('Tabl. II (2)'!F97/91.25),"X") -> X | G97: X | H97: =IF('Tabl. II (2)'!B97>0,'Tabl. II (2)'!H97*3/'Tabl. II (2)'!B97,"X") -> X | I97: =IF('Tabl. II (2)'!C97>0,'Tabl. II (2)'!I97*3/'Tabl. II (2)'!C97,"X") -> X | J97: X
A98: skarga o stwierdzenie niezgodności z prawem (WSC II inst.) | B98: =IF('Tabl. II (2)'!B98>0,'Tabl. II (2)'!E98/'Tabl. II (2)'!B98*100,"X") -> 71.428571 | C98: =IF('Tabl. II (2)'!C98>0,'Tabl. II (2)'!F98/'Tabl. II (2)'!C98*100,"X") -> 120 | D98: =C98*100/B98 -> 168 | E98: =IF('Tabl. II (2)'!E98>0,'Tabl. II (2)'!H98/('Tabl. II (2)'!E98/91.25),"X") -> 54.75 | F98: =IF('Tabl. II (2)'!F98>0,'Tabl. II (2)'!I98/('Tabl. II (2)'!F98/91.25),"X") -> 60.833333 | G98: =F98*100/E98 -> 111.11111 | H98: =IF('Tabl. II (2)'!B98>0,'Tabl. II (2)'!H98*3/'Tabl. II (2)'!B98,"X") -> 1.2857143 | I98: =IF('Tabl. II (2)'!C98>0,'Tabl. II (2)'!I98*3/'Tabl. II (2)'!C98,"X") -> 2.4 | J98: =I98*100/H98 -> 186.66667
A99: skargi na postępowanie sądowe (S) | B99: =IF('Tabl. II (2)'!B99>0,'Tabl. II (2)'!E99/'Tabl. II (2)'!B99*100,"X") -> 76.923077 | C99: =IF('Tabl. II (2)'!C99>0,'Tabl. II (2)'!F99/'Tabl. II (2)'!C99*100,"X") -> 111.90476 | D99: =C99*100/B99 -> 145.47619 | E99: =IF('Tabl. II (2)'!E99>0,'Tabl. II (2)'!H99/('Tabl. II (2)'!E99/91.25),"X") -> 42.583333 | F99: =IF('Tabl. II (2)'!F99>0,'Tabl. II (2)'!I99/('Tabl. II (2)'!F99/91.25),"X") -> 19.414894 | G99: =F99*100/E99 -> 45.592705 | H99: =IF('Tabl. II (2)'!B99>0,'Tabl. II (2)'!H99*3/'Tabl. II (2)'!B99,"X") -> 1.0769231 | I99: =IF('Tabl. II (2)'!C99>0,'Tabl. II (2)'!I99*3/'Tabl. II (2)'!C99,"X") -> 0.71428571 | J99: =I99*100/H99 -> 66.326531
A100: Sprawy z zakresu ubezpieczeń społecznych - razem | B100: =IF('Tabl. II (2)'!B100>0,'Tabl. II (2)'!E100/'Tabl. II (2)'!B100*100,"X") -> 98.702162 | C100: =IF('Tabl. II (2)'!C100>0,'Tabl. II (2)'!F100/'Tabl. II (2)'!C100*100,"X") -> 85.363104 | D100: =C100*100/B100 -> 86.485546 | E100: =IF('Tabl. II (2)'!E100>0,'Tabl. II (2)'!H100/('Tabl. II (2)'!E100/91.25),"X") -> 161.10433 | F100: =IF('Tabl. II (2)'!F100>0,'Tabl. II (2)'!I100/('Tabl. II (2)'!F100/91.25),"X") -> 214.19345 | G100: =F100*100/E100 -> 132.95326 | H100: =IF('Tabl. II (2)'!B100>0,'Tabl. II (2)'!H100*3/'Tabl. II (2)'!B100,"X") -> 5.2278397 | I100: =IF('Tabl. II (2)'!C100>0,'Tabl. II (2)'!I100*3/'Tabl. II (2)'!C100,"X") -> 6.0112497 | J100: =I100*100/H100 -> 114.98535
A101: I instancji (U) | B101: =IF('Tabl. II (2)'!B101>0,'Tabl. II (2)'!E101/'Tabl. II (2)'!B101*100,"X") -> 98.850575 | C101: =IF('Tabl. II (2)'!C101>0,'Tabl. II (2)'!F101/'Tabl. II (2)'!C101*100,"X") -> 85.183733 | D101: =C101*100/B101 -> 86.174242 | E101: =IF('Tabl. II (2)'!E101>0,'Tabl. II (2)'!H101/('Tabl. II (2)'!E101/91.25),"X") -> 166.76463 | F101: =IF('Tabl. II (2)'!F101>0,'Tabl. II (2)'!I101/('Tabl. II (2)'!F101/91.25),"X") -> 222.93579 | G101: =F101*100/E101 -> 133.6829 | H101: =IF('Tabl. II (2)'!B101>0,'Tabl. II (2)'!H101*3/'Tabl. II (2)'!B101,"X") -> 5.4196535 | I101: =IF('Tabl. II (2)'!C101>0,'Tabl. II (2)'!I101*3/'Tabl. II (2)'!C101,"X") -> 6.243453 | J101: =I101*100/H101 -> 115.20023
A102: ogólne (Uo I inst.) | B102: =IF('Tabl. II (2)'!B102>0,'Tabl. II (2)'!E102/'Tabl. II (2)'!B102*100,"X") -> 96.119017 | C102: =IF('Tabl. II (2)'!C102>0,'Tabl. II (2)'!F102/'Tabl. II (2)'!C102*100,"X") -> 92.43212 | D102: =C102*100/B102 -> 96.164238 | E102: =IF('Tabl. II (2)'!E102>0,'Tabl. II (2)'!H102/('Tabl. II (2)'!E102/91.25),"X") -> 74.486036 | F102: =IF('Tabl. II (2)'!F102>0,'Tabl. II (2)'!I102/('Tabl. II (2)'!F102/91.25),"X") -> 79.84375 | G102: =F102*100/E102 -> 107.19291 | H102: =IF('Tabl. II (2)'!B102>0,'Tabl. II (2)'!H102*3/'Tabl. II (2)'!B102,"X") -> 2.3538163 | I102: =IF('Tabl. II (2)'!C102>0,'Tabl. II (2)'!I102*3/'Tabl. II (2)'!C102,"X") -> 2.4263432 | J102: =I102*100/H102 -> 103.08125
...
