Workbook
Name DF_GRID_1: Wybór [1]sądu!$G$20:$J$215
Name DF_NAVPANEL_13: 'Wybór sądu'!#REF!
Name DF_NAVPANEL_13: 'Wybór sądu'!#REF!
Name DF_NAVPANEL_18: 'Wybór sądu'!#REF!
Name DF_NAVPANEL_18: 'Wybór sądu'!#REF!

Sheet BExRepositorySheet
A1: 7
C14: Filter

Sheet Wybór sądu
F1: Tablice rzymskie I kw 2014
H2: Autor | I2: PROCAG01M | K2: Aktualność danych
G5: Information
G6: Autor | H6: PROCAG01M | J6: Ostatnie odświeżanie | K6: 2014-05-06 11:52:08
G7: Bieżący użytkownik | H7: PROCAG01M | J7: Dzień | K7: 2014-05-06
G8: Ostatnio zmienione przez | H8: PROCAG01M | J8: Godzina zmiany | K8: 2014-05-06 11:50:23
G9: Dostawca informacji | H9: ST_M001 | J9: Aktualność danych
G10: Tech. nazwa zapytania | H10: S_ST_M001_TABL_IKW_13_20141 | J10: Aktualność danych (data)
G11: Opis zapytania | H11: Tablice rzymskie I kw 2014 | J11: Aktualność danych (godzina)
C12: Wybór sądu:
C14: Filter
C16: Apelacja
C17: Liczby
C18: Okręg
C19: Sąd | G19: Table
C20: Wiersze | H20: Wpływy 20141 | I20: Załatwienia 20141 | J20: Pozostałość 20141
G21: s05a Wiersz 1 | H21: 950 | I21: 780 | J21: 590
C22: Uwaga: | G22: s05a Wiersz 2 - formuła 3 + 4 | H22: 114 | I22: 82 | J22: 57
C23: W polu Apelacja wpisujemy np.: Apelacja Warszawska | G23: s05a Wiersz 3 | H23: 24 | I23: 17 | J23: 13
C24: Okręg | D24: Gliwice | G24: s05a Wiersz 4 | H24: 90 | I24: 65 | J24: 44
C25: Sąd | D25: SR w Świdnicy | G25: s05a Wiersz 5 | H25: 1695 | I25: 1603 | J25: 310
G26: s05a Wiersz 6 | H26: 478 | I26: 437 | J26: 264
C27: lub klikamy dwa razy w białe pole przy pozycji, którą chcemy ograniczyć. | G27: s05a Wiersz 7 | H27: 0 | I27: 0 | J27: 0
G28: s05a Wiersz 8 | H28: 0 | I28: 1 | J28: 0
G29: s05a Wiersz 9 | H29: 138 | I29: 126 | J29: 19
C30: 2014-05-06 11:52:08 | G30: s05a Wiersz 10 | H30: 5085 | I30: 4789 | J30: 1826
G31: s05a Wiersz 11 | H31: 165 | I31: 124 | J31: 153
G32: s05a Wiersz 12 | H32: 140 | I32: 124 | J32: 52
G33: s01a Wiersz 1 | H33: 3923 | I33: 3457 | J33: 5539
G34: s01a Wiersz 2 | H34: 4549 | I34: 4394 | J34: 1731
G35: s01a Wiersz 3 | H35: 178 | I35: 196 | J35: 52
G36: s01a Wiersz 4 | H36: 457 | I36: 371 | J36: 325
G37: s01a Wiersz 5 | H37: 4 | I37: 5 | J37: 5
G38: s01a Wiersz 6 | H38: 800 | I38: 726 | J38: 293
G39: s11a Wiersz 1 | H39: 103 | I39: 84 | J39: 160
G40: s11a Wiersz 2 | H40: 91 | I40: 95 | J40: 41
G41: s11a Wiersz 3 | H41: 27 | I41: 23 | J41: 22
G42: s11a Wiersz 4 | H42: 25 | I42: 27 | J42: 20
... G67: s05o Wiersz 11 | H67: 0 | I67: 0 | J67: 0
G68: s05o Wiersz 12
...

Sheet Graph
C1: Apelacja | H1: FEP8Qry3
C2: Liczby | H2: Autor | I2: PROCAG01M | K2: Aktualność danych (godzina)
C3: Okręg
C4: Sąd
C5: Wiersze | G5: Information
G6: Autor | H6: PROCAG01M | J6: Ostatnie odświeżanie | K6: 2014-05-06 11:52:08
G7: Bieżący użytkownik | H7: PROCAG01M | J7: Dzień | K7: 2014-05-06
G8: Ostatnio zmienione przez | H8: PROCAG01M | J8: Godzina zmiany | K8: 2014-05-06 11:50:23
G9: Dostawca informacji | H9: ST_M001 | J9: Aktualność danych
G10: Tech. nazwa zapytania | H10: S_ST_M001_TABL_IKW_13_20141 | J10: Aktualność danych (data)
G11: Opis zapytania | H11: Tablice rzymskie I kw 2014 | J11: Aktualność danych (godzina)
C14: Filter

Sheet Tabl. I (2)
A1: TABL. I. EWIDENCJA SPRAW WEDŁUG DZIAŁÓW PRAWA W SĄDACH POWSZECHNYCH
A2: w I kw. 2013 i I kw. 2014 roku
A3: RODZAJE SPRAW WEDŁUG DZIAŁÓW PRAWA I RODZAJÓW SĄDÓW | B3: WPŁYW | E3: ZAŁATWIENIA | H3: POZOSTAŁOŚĆ
B4: I kw. 2013 | C4: I kw. 2014 | E4: I kw. 2013 | F4: I kw. 2014 | H4: I kw. 2013 | I4: I kw. 2014
B5: w liczbach bezwzględnych | D5: I kw. 2013 = 100 | E5: w liczbach bezwzględnych | G5: I kw. 2013 = 100 | H5: w liczbach bezwzględnych | J5: I kw. 2013 = 100
A6: OGÓŁEM | B6: =SUM(B7,B11,B15,B18,B22,B26) -> 3777008 | C6: =SUM(C7,C11,C15,C18,C22,C26) -> 3585372 | D6: =C6*100/B6 -> 94.926249 | E6: =SUM(E7,E11,E15,E18,E22,E26) -> 3700217 | F6: =SUM(F7,F11,F15,F18,F22,F26) -> 3707813 | G6: =F6*100/E6 -> 100.20529 | H6: =SUM(H7,H11,H15,H18,H22,H26) -> 1912720 | I6: =SUM(I7,I11,I15,I18,I22,I26) -> 2307496 | J6: =I6*100/H6 -> 120.63951
A7: SPRAWY KARNEa) | B7: =SUM(B8:B10) -> 714447 | C7: =SUM(C8:C10) -> 700845 | D7: =C7*100/B7 -> 98.09615 | E7: =SUM(E8:E10) -> 669145 | F7: =SUM(F8:F10) -> 677293 | G7: =F7*100/E7 -> 101.21767 | H7: =SUM(H8:H10) -> 424670 | I7: =SUM(I8:I10) -> 474938 | J7: =I7*100/H7 -> 111.83696
A8: W sądach: - apelacyjnych | B8: ='Tabl. II (2)'!B9 -> 8665 | C8: ='Tabl. II (2)'!C9 -> 8651 | D8: =C8*100/B8 -> 99.83843 | E8: ='Tabl. II (2)'!E9 -> 8582 | F8: ='Tabl. II (2)'!F9 -> 7983 | G8: =F8*100/E8 -> 93.020275 | H8: ='Tabl. II (2)'!H9 -> 2506 | I8: ='Tabl. II (2)'!I9 -> 3214 | J8: =I8*100/H8 -> 128.25219
A9: - okręgowych | B9: ='Tabl. II (2)'!B53 -> 102046 | C9: ='Tabl. II (2)'!C53 -> 97406 | D9: =C9*100/B9 -> 95.453031 | E9: ='Tabl. II (2)'!E53 -> 98982 | F9: ='Tabl. II (2)'!F53 -> 93917 | G9: =F9*100/E9 -> 94.882908 | H9: ='Tabl. II (2)'!H53 -> 45093 | I9: ='Tabl. II (2)'!I53 -> 45111 | J9: =I9*100/H9 -> 100.03992
A10: - rejonowych | B10: ='Tabl. II (2)'!B136 -> 603736 | C10: ='Tabl. II (2)'!C136 -> 594788 | D10: =C10*100/B10 -> 98.517895 | E10: ='Tabl. II (2)'!E136 -> 561581 | F10: ='Tabl. II (2)'!F136 -> 575393 | G10: =F10*100/E10 -> 102.45948 | H10: ='Tabl. II (2)'!H136 -> 377071 | I10: ='Tabl. II (2)'!I136 -> 426613 | J10: =I10*100/H10 -> 113.13864
A11: SPRAWY CYWILNE | B11: =SUM(B12:B14) -> 2222719 | C11: =SUM(C12:C14) -> 2077926 | D11: =C11*100/B11 -> 93.485771 | E11: =SUM(E12:E14) -> 2205285 | F11: =SUM(F12:F14) -> 2205962 | G11: =F11*100/E11 -> 100.0307 | H11: =SUM(H12:H14) -> 996341 | I11: =SUM(I12:I14) -> 1263681 | J11: =I11*100/H11 -> 126.83218
A12: W sądach: - apelacyjnychb) | B12: ='Tabl. II (2)'!B23 -> 10248 | C12: ='Tabl. II (2)'!C23 -> 9911 | D12: =C12*100/B12 -> 96.711553 | E12: ='Tabl. II (2)'!E23 -> 9252 | F12: ='Tabl. II (2)'!F23 -> 9149 | G12: =F12*100/E12 -> 98.886727 | H12: ='Tabl. II (2)'!H23 -> 6278 | I12: ='Tabl. II (2)'!I23 -> 7945 | J12: =I12*100/H12 -> 126.55304
A13: - okręgowychb) | B13: ='Tabl. II (2)'!B67 -> 82853 | C13: ='Tabl. II (2)'!C67 -> 82497 | D13: =C13*100/B13 -> 99.570323 | E13: ='Tabl. II (2)'!E67 -> 78205 | F13: ='Tabl. II (2)'!F67 -> 78004 | G13: =F13*100/E13 -> 99.742983 | H13: ='Tabl. II (2)'!H67 -> 119347 | I13: ='Tabl. II (2)'!I67 -> 128899 | J13: =I13*100/H13 -> 108.00355
A14: - rejonowychc) | B14: ='Tabl. II (2)'!B148 -> 2129618 | C14: ='Tabl. II (2)'!C148 -> 1985518 | D14: =C14*100/B14 -> 93.233528 | E14: ='Tabl. II (2)'!E148 -> 2117828 | F14: ='Tabl. II (2)'!F148 -> 2118809 | G14: =F14*100/E14 -> 100.04632 | H14: ='Tabl. II (2)'!H148 -> 870716 | I14: ='Tabl. II (2)'!I148 -> 1126837 | J14: =I14*100/H14 -> 129.41499
A15: SPRAWY RODZINNE | B15: =B17 -> 366161 | C15: =C17 -> 367900 | D15: =C15*100/B15 -> 100.47493 | E15: =E17 -> 341844 | F15: =F17 -> 359224 | G15: =F15*100/E15 -> 105.08419 | H15: =H17 -> 185688 | I15: =I17 -> 198856 | J15: =I15*100/H15 -> 107.09147
A16: W sądach: - okręgowychd) | B16: =23716+1154 -> 24870 | C16: ='Wybór sądu'!H212 -> 25120 | D16: =C16*100/B16 -> 101.00523 | E16: =22681+1330 -> 24011 | F16: ='Wybór sądu'!I212 -> 23112 | G16: =F16*100/E16 -> 96.255883 | H16: =45836+2612 -> 48448 | I16: ='Wybór sądu'!J212 -> 51677 | J16: =I16*100/H16 -> 106.66488
A17: - rejonowych | B17: ='Tabl. II (2)'!B160 -> 366161 | C17: ='Tabl. II (2)'!C160 -> 367900 | D17: =C17*100/B17 -> 100.47493 | E17: ='Tabl. II (2)'!E160 -> 341844 | F17: ='Tabl. II (2)'!F160 -> 359224 | G17: =F17*100/E17 -> 105.08419 | H17: ='Tabl. II (2)'!H160 -> 185688 | I17: ='Tabl. II (2)'!I160 -> 198856 | J17: =I17*100/H17 -> 107.09147
A18: SPRAWY Z ZAKRESU PRAWA PRACY | B18: =SUM(B19:B21) -> 31748 | C18: =SUM(C19:C21) -> 30411 | D18: =C18*100/B18 -> 95.788711 | E18: =SUM(E19:E21) -> 29110 | F18: =SUM(F19:F21) -> 27373 | G18: =F18*100/E18 -> 94.032978 | H18: =SUM(H19:H21) -> 45237 | I18: =SUM(I19:I21) -> 46527 | J18: =I18*100/H18 -> 102.85165
A19: W sądach: - apelacyjnych | B19: ='Tabl. II (2)'!B30 -> 263 | C19: ='Tabl. II (2)'!C30 -> 262 | D19: =C19*100/B19 -> 99.619772 | E19: ='Tabl. II (2)'!E30 -> 231 | F19: ='Tabl. II (2)'!F30 -> 240 | G19: =F19*100/E19 -> 103.8961 | H19: ='Tabl. II (2)'!H30 -> 228 | I19: ='Tabl. II (2)'!I30 -> 252 | J19: =I19*100/H19 -> 110.52632
A20: - okręgowych | B20: ='Tabl. II (2)'!B88 -> 4102 | C20: ='Tabl. II (2)'!C88 -> 4058 | D20: =C20*100/B20 -> 98.927353 | E20: ='Tabl. II (2)'!E88 -> 3618 | F20: ='Tabl. II (2)'!F88 -> 3482 | G20: =F20*100/E20 -> 96.241017 | H20: ='Tabl. II (2)'!H88 -> 3929 | I20: ='Tabl. II (2)'!I88 -> 4565 | J20: =I20*100/H20 -> 116.18733
A21: - rejonowychc) | B21: ='Tabl. II (2)'!B182 -> 27383 | C21: ='Tabl. II (2)'!C182 -> 26091 | D21: =C21*100/B21 -> 95.281744 | E21: ='Tabl. II (2)'!E182 -> 25261 | F21: ='Tabl. II (2)'!F182 -> 23651 | G21: =F21*100/E21 -> 93.626539 | H21: ='Tabl. II (2)'!H182 -> 41080 | I21: ='Tabl. II (2)'!I182 -> 41710 | J21: =I21*100/H21 -> 101.53359
A22: SPRAWY Z ZAKRESU UBEZPIECZEŃ SPOŁECZNYCH | B22: =SUM(B23:B25) -> 52619 | C22: =SUM(C23:C25) -> 56687 | D22: =C22*100/B22 -> 107.73105 | E22: =SUM(E23:E25) -> 49851 | F22: =SUM(F23:F25) -> 51161 | G22: =F22*100/E22 -> 102.62783 | H22: =SUM(H23:H25) -> 93548 | I22: =SUM(I23:I25) -> 120262 | J22: =I22*100/H22 -> 128.55646
A23: W sądach: - apelacyjnych | B23: ='Tabl. II (2)'!B38 -> 7257 | C23: ='Tabl. II (2)'!C38 -> 6581 | D23: =C23*100/B23 -> 90.684856 | E23: ='Tabl. II (2)'!E38 -> 5796 | F23: ='Tabl. II (2)'!F38 -> 8180 | G23: =F23*100/E23 -> 141.13182 | H23: ='Tabl. II (2)'!H38 -> 12726 | I23: ='Tabl. II (2)'!I38 -> 17694 | J23: =I23*100/H23 -> 139.03819
A24: - okręgowych | B24: ='Tabl. II (2)'!B100 -> 37601 | C24: ='Tabl. II (2)'!C100 -> 40801 | D24: =C24*100/B24 -> 108.51041 | E24: ='Tabl. II (2)'!E100 -> 37113 | F24: ='Tabl. II (2)'!F100 -> 34829 | G24: =F24*100/E24 -> 93.845822 | H24: ='Tabl. II (2)'!H100 -> 65524 | I24: ='Tabl. II (2)'!I100 -> 81755 | J24: =I24*100/H24 -> 124.77108
A25: - rejonowych | B25: ='Tabl. II (2)'!B188 -> 7761 | C25: ='Tabl. II (2)'!C188 -> 9305 | D25: =C25*100/B25 -> 119.89434 | E25: ='Tabl. II (2)'!E188 -> 6942 | F25: ='Tabl. II (2)'!F188 -> 8152 | G25: =F25*100/E25 -> 117.43014 | H25: ='Tabl. II (2)'!H188 -> 15298 | I25: ='Tabl. II (2)'!I188 -> 20813 | J25: =I25*100/H25 -> 136.05046
A26: SPRAWY GOSPODARCZE | B26: =SUM(B27:B31) -> 389314 | C26: =SUM(C27:C31) -> 351603 | D26: =C26*100/B26 -> 90.313474 | E26: =SUM(E27:E31) -> 404982 | F26: =SUM(F27:F31) -> 386800 | G26: =F26*100/E26 -> 95.510418 | H26: =SUM(H27:H31) -> 167236 | I26: =SUM(I27:I31) -> 203232 | J26: =I26*100/H26 -> 121.52407
A27: W sądach: - apelacyjnych | B27: ='Tabl. II (2)'!B45 -> 2317 | C27: ='Tabl. II (2)'!C45 -> 3592 | D27: =C27*100/B27 -> 155.02805 | E27: ='Tabl. II (2)'!E45 -> 2081 | F27: ='Tabl. II (2)'!F45 -> 2715 | G27: =F27*100/E27 -> 130.46612 | H27: ='Tabl. II (2)'!H45 -> 1550 | I27: ='Tabl. II (2)'!I45 -> 3774 | J27: =I27*100/H27 -> 243.48387
A28: - okręgowych | B28: ='Tabl. II (2)'!B111 -> 15002 | C28: ='Tabl. II (2)'!C111 -> 14582 | D28: =C28*100/B28 -> 97.200373 | E28: ='Tabl. II (2)'!E111 -> 15889 | F28: ='Tabl. II (2)'!F111 -> 13837 | G28: =F28*100/E28 -> 87.085405 | H28: ='Tabl. II (2)'!H111 -> 17225 | I28: ='Tabl. II (2)'!I111 -> 19823 | J28: =I28*100/H28 -> 115.08273
A29: - rejonowychc) | B29: ='Tabl. II (2)'!B193 -> 368133 | C29: ='Tabl. II (2)'!C193 -> 331377 | D29: =C29*100/B29 -> 90.015565 | E29: ='Tabl. II (2)'!E193 -> 384157 | F29: ='Tabl. II (2)'!F193 -> 354059 | G29: =F29*100/E29 -> 92.165182 | H29: ='Tabl. II (2)'!H193 -> 137365 | I29: ='Tabl. II (2)'!I193 -> 162948 | J29: =I29*100/H29 -> 118.6241
A30: - w Sądzie Ochrony Konkurencji i Konsumentów | B30: ='Tabl. II (2)'!B125 -> 3828 | C30: ='Tabl. II (2)'!C125 -> 2010 | D30: =C30*100/B30 -> 52.507837 | E30: ='Tabl. II (2)'!E125 -> 2822 | F30: ='Tabl. II (2)'!F125 -> 16154 | G30: =F30*100/E30 -> 572.4309 | H30: ='Tabl. II (2)'!H125 -> 11062 | I30: ='Tabl. II (2)'!I125 -> 16658 | J30: =I30*100/H30 -> 150.5876
A31: - w Sądzie Wspólnotowych Znaków Towarowych i Wzorów Przemysłowych | B31: ='Tabl. II (2)'!B134 -> 34 | C31: ='Tabl. II (2)'!C134 -> 42 | D31: =C31*100/B31 -> 123.52941 | E31: ='Tabl. II (2)'!E134 -> 33 | F31: ='Tabl. II (2)'!F134 -> 35 | G31: =F31*100/E31 -> 106.06061 | H31: ='Tabl. II (2)'!H134 -> 34 | I31: ='Tabl. II (2)'!I134 -> 29 | J31: =I31*100/H31 -> 85.294118
A33: a) W sądach rejonowych łącznie ze sprawami wykroczeniowymi.
A34: b) W liczbie spraw cywilnych zawarte są informacje o sprawach rodzinnych.
A35: c) W liczbie spraw cywilnych, z zakresu prawa pracy oraz gospodarczych w sądach rejonowych zawarte są dane statystyczne o ewidencji spraw z zakresu Elektronicznego Postępowania Upominawczego EPU.
A36: Wyszczególnienie | B36: WPŁYW | E36: ZAŁATWIENIA | H36: POZOSTAŁOŚĆ
B37: I kw. 2013 | C37: I kw. 2014 | E37: I kw. 2013 | F37: I kw. 2014 | H37: I kw. 2013 | I37: I kw. 2014
B38: w liczbach bezwzględnych | D38: I kw. 2013 = 100 | E38: w liczbach bezwzględnych | G38: I kw. 2013 = 100 | H38: w liczbach bezwzględnych | J38: I kw. 2013 = 100
A40: ELEKTRONICZNE POSTĘPOWANIE UPOMINAWCZE (EPU) - RAZEM | B40: =SUM(B41:B43) -> 672230 | C40: =SUM(C41:C43) -> 437597 | D40: =C40*100/B40 -> 65.096321 | E40: =SUM(E41:E43) -> 631733 | F40: =SUM(F41:F43) -> 626378 | G40: =F40*100/E40 -> 99.152332 | H40: =SUM(H41:H43) -> 120304 | I40: =SUM(I41:I43) -> 148987 | J40: =I40*100/H40 -> 123.8421
A41: SPRAWY CYWILNE | B41: ='Tabl. II (2)'!B153 -> 566075 | C41: ='Tabl. II (2)'!C153 -> 373372 | D41: =C41*100/B41 -> 65.958044 | E41: ='Tabl. II (2)'!E153 -> 532484 | F41: ='Tabl. II (2)'!F153 -> 538987 | G41: =F41*100/E41 -> 101.22126 | H41: ='Tabl. II (2)'!H153 -> 106552 | I41: ='Tabl. II (2)'!I153 -> 126803 | J41: =I41*100/H41 -> 119.00574
A42: SPRAWY Z ZAKRESU PRAWA PRACY | B42: ='Tabl. II (2)'!B185 -> 116 | C42: ='Tabl. II (2)'!C185 -> 37 | D42: =C42*100/B42 -> 31.896552 | E42: ='Tabl. II (2)'!E185 -> 45 | F42: ='Tabl. II (2)'!F185 -> 86 | G42: =F42*100/E42 -> 191.11111 | H42: ='Tabl. II (2)'!H185 -> 77 | I42: ='Tabl. II (2)'!I185 -> 23 | J42: =I42*100/H42 -> 29.87013
...

Sheet Tabl. II (2)
A2: TABL. II. EWIDENCJA SPRAW W SĄDACH POWSZECHNYCH WEDŁUG DZIAŁÓW PRAWA I INSTANCYJNOŚCI
A3: w I kw. 2013 i I kw. 2014 roku
A4: RODZAJE SPRAW WEDŁUG KSIĄG EWIDENCYJNYCH | B4: WPŁYW | E4: ZAŁATWIENIA | H4: POZOSTAŁOŚĆ
B5: I kw. 2013 | C5: I kw. 2014 | E5: I kw. 2013 | F5: I kw. 2014 | H5: I kw. 2013 | I5: I kw. 2014
B6: w liczbach bezwzględnych | D6: I kw. 2013 = 100 | E6: w liczbach bezwzględnych | G6: I kw. 2013 = 100 | H6: w liczbach bezwzględnych | J6: I kw. 2013 = 100
A7: OGÓŁEM SPRAW W SĄDACH POWSZECHNYCH | B7: =SUM(B8,B52,B135) -> 3777008 | C7: =SUM(C8,C52,C135) -> 3585372 | D7: =C7*100/B7 -> 94.926249 | E7: =SUM(E8,E52,E135) -> 3700217 | F7: =SUM(F8,F52,F135) -> 3707813 | G7: =F7*100/E7 -> 100.20529 | H7: =SUM(H8,H52,H135) -> 1912720 | I7: =SUM(I8,I52,I135) -> 2307496 | J7: =I7*100/H7 -> 120.63951
A8: W SĄDACH APELACYJNYCH - OGÓŁEM | B8: =SUM(B9,B23,B30,B38,B45) -> 28750 | C8: =SUM(C9,C23,C30,C38,C45) -> 28997 | D8: =C8*100/B8 -> 100.85913 | E8: =SUM(E9,E23,E30,E38,E45) -> 25942 | F8: =SUM(F9,F23,F30,F38,F45) -> 28267 | G8: =F8*100/E8 -> 108.9623 | H8: =SUM(H9,H23,H30,H38,H45) -> 23288 | I8: =SUM(I9,I23,I30,I38,I45) -> 32879 | J8: =I8*100/H8 -> 141.1843
A9: Sprawy karne - razem | B9: =SUM(B10,B14,B15,B18,B19,B20,B21) -> 8665 | C9: =SUM(C10,C14,C15,C18,C19,C20,C21) -> 8651 | D9: =C9*100/B9 -> 99.83843 | E9: =SUM(E10,E14,E15,E18,E19,E20,E21) -> 8582 | F9: =SUM(F10,F14,F15,F18,F19,F20,F21) -> 7983 | G9: =F9*100/E9 -> 93.020275 | H9: =SUM(H10,H14,H15,H18,H19,H20,H21) -> 2506 | I9: =SUM(I10,I14,I15,I18,I19,I20,I21) -> 3214 | J9: =I9*100/H9 -> 128.25219
A10: II instancji - apelacje (A Ka) | B10: 982 | C10: ='Wybór sądu'!H21 -> 950 | D10: =C10*100/B10 -> 96.741344 | E10: 833 | F10: ='Wybór sądu'!I21 -> 780 | G10: =F10*100/E10 -> 93.637455 | H10: 554 | I10: ='Wybór sądu'!J21 -> 590 | J10: =I10*100/H10 -> 106.49819
A11: w tym: o odszkodowanie (A Ka) | B11: 107 | C11: ='Wybór sądu'!H22 -> 114 | D11: =C11*100/B11 -> 106.54206 | E11: 94 | F11: ='Wybór sądu'!I22 -> 82 | G11: =F11*100/E11 -> 87.234043 | H11: 42 | I11: ='Wybór sądu'!J22 -> 57 | J11: =I11*100/H11 -> 135.71429
A12: w tym: -z ust. z dn. 23.02.1991 r. o uznaniu za nieważne orzeczeń wydanych wobec osób represjonowanych za działalność na rzecz niepodległego bytu Państwa Polskiego (Dz.U. Nr 34, poz. 149) | B12: 29 | C12: ='Wybór sądu'!H23 -> 24 | D12: =C12*100/B12 -> 82.758621 | E12: 29 | F12: ='Wybór sądu'!I23 -> 17 | G12: =F12*100/E12 -> 58.62069 | H12: 7 | I12: ='Wybór sądu'!J23 -> 13 | J12: =I12*100/H12 -> 185.71429
A13: - w trybie a.552 kpk | B13: 78 | C13: ='Wybór sądu'!H24 -> 90 | D13: =C13*100/B13 -> 115.38462 | E13: 65 | F13: ='Wybór sądu'!I24 -> 65 | G13: =F13*100/E13 -> 100 | H13: 35 | I13: ='Wybór sądu'!J24 -> 44 | J13: =I13*100/H13 -> 125.71429
A14: - zażalenia (A Kz) | B14: 1697 | C14: ='Wybór sądu'!H25 -> 1695 | D14: =C14*100/B14 -> 99.882145 | E14: 1671 | F14: ='Wybór sądu'!I25 -> 1603 | G14: =F14*100/E14 -> 95.93058 | H14: 271 | I14: ='Wybór sądu'!J25 -> 310 | J14: =I14*100/H14 -> 114.39114
A15: ogólne (A Ko) | B15: 546 | C15: ='Wybór sądu'!H26 -> 478 | D15: =C15*100/B15 -> 87.545788 | E15: 526 | F15: ='Wybór sądu'!I26 -> 437 | G15: =F15*100/E15 -> 83.079848 | H15: 245 | I15: ='Wybór sądu'!J26 -> 264 | J15: =I15*100/H15 -> 107.7551
A16: w tym:
A17: sprawy w trybie art.11a pwkpk | B17: 0 | C17: ='Wybór sądu'!H28 -> 0 | D17: X | E17: 0 | F17: ='Wybór sądu'!I28 -> 1 | G17: X | H17: 0 | I17: ='Wybór sądu'!J28 -> 0 | J17: X
A18: nadzór sądowy nad postępowaniem przygotowawczym (A Kp) | B18: 127 | C18: ='Wybór sądu'!H29 -> 138 | D18: =C18*100/B18 -> 108.66142 | E18: 120 | F18: ='Wybór sądu'!I29 -> 126 | G18: =F18*100/E18 -> 105 | H18: 18 | I18: ='Wybór sądu'!J29 -> 19 | J18: =I18*100/H18 -> 105.55556
A19: zażalenia na postanowienia w postępowaniu wykonawczym (A Kzw) | B19: 5021 | C19: ='Wybór sądu'!H30 -> 5085 | D19: =C19*100/B19 -> 101.27465 | E19: 5137 | F19: ='Wybór sądu'!I30 -> 4789 | G19: =F19*100/E19 -> 93.225618 | H19: 1255 | I19: ='Wybór sądu'!J30 -> 1826 | J19: =I19*100/H19 -> 145.49801
A20: kasacje (WKK) | B20: 139 | C20: ='Wybór sądu'!H31 -> 165 | D20: =C20*100/B20 -> 118.70504 | E20: 150 | F20: ='Wybór sądu'!I31 -> 124 | G20: =F20*100/E20 -> 82.666667 | H20: 114 | I20: ='Wybór sądu'!J31 -> 153 | J20: =I20*100/H20 -> 134.21053
A21: skargi na postępowanie sądowe i prokuratorskie (S) | B21: 153 | C21: ='Wybór sądu'!H32 -> 140 | D21: =C21*100/B21 -> 91.503268 | E21: 145 | F21: ='Wybór sądu'!I32 -> 124 | G21: =F21*100/E21 -> 85.517241 | H21: 49 | I21: ='Wybór sądu'!J32 -> 52 | J21: =I21*100/H21 -> 106.12245
A22: W SĄDACH APELACYJNYCH (c.d.)
A23: Sprawy cywilne - razem | B23: =SUM(B24:B29) -> 10248 | C23: =SUM(C24:C29) -> 9911 | D23: =C23*100/B23 -> 96.711553 | E23: =SUM(E24:E29) -> 9252 | F23: =SUM(F24:F29) -> 9149 | G23: =F23*100/E23 -> 98.886727 | H23: =SUM(H24:H29) -> 6278 | I23: =SUM(I24:I29) -> 7945 | J23: =I23*100/H23 -> 126.55304
A24: II instancji - apelacje (A Ca)a) | B24: 3747 | C24: ='Wybór sądu'!H33 -> 3923 | D24: =C24*100/B24 -> 104.69709 | E24: 3172 | F24: ='Wybór sądu'!I33 -> 3457 | G24: =F24*100/E24 -> 108.98487 | H24: 4342 | I24: ='Wybór sądu'!J33 -> 5539 | J24: =I24*100/H24 -> 127.56794
A25: - zażalenia (A Cz)a) | B25: 5249 | C25: ='Wybór sądu'!H34 -> 4549 | D25: =C25*100/B25 -> 86.664127 | E25: 4981 | F25: ='Wybór sądu'!I34 -> 4394 | G25: =F25*100/E25 -> 88.215218 | H25: 1448 | I25: ='Wybór sądu'!J34 -> 1731 | J25: =I25*100/H25 -> 119.5442
A26: ogólne (A Co) | B26: 180 | C26: ='Wybór sądu'!H35 -> 178 | D26: =C26*100/B26 -> 98.888889 | E26: 165 | F26: ='Wybór sądu'!I35 -> 196 | G26: =F26*100/E26 -> 118.78788 | H26: 50 | I26: ='Wybór sądu'!J35 -> 52 | J26: =I26*100/H26 -> 104
A27: skarga kasacyjna (WSC) | B27: 430 | C27: ='Wybór sądu'!H36 -> 457 | D27: =C27*100/B27 -> 106.27907 | E27: 359 | F27: ='Wybór sądu'!I36 -> 371 | G27: =F27*100/E27 -> 103.34262 | H27: 253 | I27: ='Wybór sądu'!J36 -> 325 | J27: =I27*100/H27 -> 128.4585
A28: skarga o stwierdzenie niezgodności z prawem (WSC)b) | B28: 6 | C28: ='Wybór sądu'!H37 -> 4 | D28: =C28*100/B28 -> 66.666667 | E28: 13 | F28: ='Wybór sądu'!I37 -> 5 | G28: =F28*100/E28 -> 38.461538 | H28: 2 | I28: ='Wybór sądu'!J37 -> 5 | J28: =I28*100/H28 -> 250
A29: skargi na postępowanie sądowe (S) | B29: 636 | C29: ='Wybór sądu'!H38 -> 800 | D29: =C29*100/B29 -> 125.78616 | E29: 562 | F29: ='Wybór sądu'!I38 -> 726 | G29: =F29*100/E29 -> 129.18149 | H29: 183 | I29: ='Wybór sądu'!J38 -> 293 | J29: =I29*100/H29 -> 160.10929
A30: Sprawy z zakresu prawa pracy - razem | B30: =SUM(B31:B36) -> 263 | C30: =SUM(C31:C36) -> 262 | D30: =C30*100/B30 -> 99.619772 | E30: =SUM(E31:E36) -> 231 | F30: =SUM(F31:F36) -> 240 | G30: =F30*100/E30 -> 103.8961 | H30: =SUM(H31:H36) -> 228 | I30: =SUM(I31:I36) -> 252 | J30: =I30*100/H30 -> 110.52632
A31: II instancji - apelacje (A Pa) | B31: 111 | C31: ='Wybór sądu'!H39 -> 103 | D31: =C31*100/B31 -> 92.792793 | E31: 94 | F31: ='Wybór sądu'!I39 -> 84 | G31: =F31*100/E31 -> 89.361702 | H31: 154 | I31: ='Wybór sądu'!J39 -> 160 | J31: =I31*100/H31 -> 103.8961
A32: - zażalenia (A Pz) | B32: 110 | C32: ='Wybór sądu'!H40 -> 91 | D32: =C32*100/B32 -> 82.727273 | E32: 93 | F32: ='Wybór sądu'!I40 -> 95 | G32: =F32*100/E32 -> 102.15054 | H32: 45 | I32: ='Wybór sądu'!J40 -> 41 | J32: =I32*100/H32 -> 91.111111
A33: - ogólne (A Po) | B33: 17 | C33: ='Wybór sądu'!H41 -> 27 | D33: =C33*100/B33 -> 158.82353 | E33: 21 | F33: ='Wybór sądu'!I41 -> 23 | G33: =F33*100/E33 -> 109.52381 | H33: 14 | I33: ='Wybór sądu'!J41 -> 22 | J33: =I33*100/H33 -> 157.14286
A34: skarga kasacyjna (WSC-pracy) | B34: 16 | C34: ='Wybór sądu'!H42 -> 25 | D34: =C34*100/B34 -> 156.25 | E34: 10 | F34: ='Wybór sądu'!I42 -> 27 | G34: =F34*100/E34 -> 270 | H34: 13 | I34: ='Wybór sądu'!J42 -> 20 | J34: =I34*100/H34 -> 153.84615
A35: skarga o stwierdzenie niezgodności z prawem (WSC-pracy) | B35: 0 | C35: ='Wybór sądu'!H43 -> 0 | D35: X | E35: 0 | F35: ='Wybór sądu'!I43 -> 0 | G35: X | H35: 0 | I35: ='Wybór sądu'!J43 -> 0 | J35: X
A36: skargi na postępowanie sądowe (S) | B36: 9 | C36: ='Wybór sądu'!H44 -> 16 | D36: =C36*100/B36 -> 177.77778 | E36: 13 | F36: ='Wybór sądu'!I44 -> 11 | G36: =F36*100/E36 -> 84.615385 | H36: 2 | I36: ='Wybór sądu'!J44 -> 9 | J36: =I36*100/H36 -> 450
A37: W SĄDACH APELACYJNYCH (dok.)
A38: Sprawy z zakresu ubezpieczeń społecznych - razem | B38: =SUM(B39:B44) -> 7257 | C38: =SUM(C39:C44) -> 6581 | D38: =C38*100/B38 -> 90.684856 | E38: =SUM(E39:E44) -> 5796 | F38: =SUM(F39:F44) -> 8180 | G38: =F38*100/E38 -> 141.13182 | H38: =SUM(H39:H44) -> 12726 | I38: =SUM(I39:I44) -> 17694 | J38: =I38*100/H38 -> 139.03819
A39: II instancji - apelacje (A Ua) | B39: 5978 | C39: ='Wybór sądu'!H45 -> 5419 | D39: =C39*100/B39 -> 90.649047 | E39: 4700 | F39: ='Wybór sądu'!I45 -> 7155 | G39: =F39*100/E39 -> 152.23404 | H39: 12103 | I39: ='Wybór sądu'!J45 -> 17127 | J39: =I39*100/H39 -> 141.51037
A40: - zażalenia (A Uz) | B40: 858 | C40: ='Wybór sądu'!H46 -> 746 | D40: =C40*100/B40 -> 86.946387 | E40: 729 | F40: ='Wybór sądu'!I46 -> 648 | G40: =F40*100/E40 -> 88.888889 | H40: 368 | I40: ='Wybór sądu'!J46 -> 335 | J40: =I40*100/H40 -> 91.032609
A41: ogólne (A Uo) | B41: 8 | C41: ='Wybór sądu'!H47 -> 3 | D41: =C41*100/B41 -> 37.5 | E41: 9 | F41: ='Wybór sądu'!I47 -> 3 | G41: =F41*100/E41 -> 33.333333 | H41: 2 | I41: ='Wybór sądu'!J47 -> 2 | J41: =I41*100/H41 -> 100
...

Sheet Tabl. III (2)
A2: TABL. III. WSKAŹNIKI DOTYCĄCE SPRAW W SĄDACH POWSZECHNYCH WEDŁUG DZIAŁÓW PRAWA I INSTANCYJNOŚCI
A3: w I kw. 2013 i I kw. 2014 roku
A4: RODZAJE SPRAW WEDŁUG KSIĄG EWIDENCYJNYCH | B4: WSKAŹNIK OPANOWANIA WPŁYWU | E4: WSKAŹNIK CZASU TRWANIA POSTĘPOWANIA (według metodologii CEPEJ) (w dniach) | H4: WSKAŹNIK POZOSTAŁOŚCI (w miesiącach)
B5: I kw. 2013 | C5: I kw. 2014 | E5: I kw. 2013 | F5: I kw. 2014 | H5: I kw. 2013 | I5: I kw. 2014
B6: w liczbach bezwzględnych | D6: I kw. 2013 = 100 | E6: w liczbach bezwzględnych | G6: I kw. 2013 = 100 | H6: w liczbach bezwzględnych | J6: I kw. 2013 = 100
A7: OGÓŁEM SPRAW W SĄDACH POWSZECHNYCH | B7: =IF('Tabl. II (2)'!B7>0,'Tabl. II (2)'!E7/'Tabl. II (2)'!B7*100,"X") -> 97.966883 | C7: =IF('Tabl. II (2)'!C7>0,'Tabl. II (2)'!F7/'Tabl. II (2)'!C7*100,"X") -> 103.41502 | D7: =C7*100/B7 -> 105.5612 | E7: =IF('Tabl. II (2)'!E7>0,'Tabl. II (2)'!H7/('Tabl. II (2)'!E7/91.25),"X") -> 47.169044 | F7: =IF('Tabl. II (2)'!F7>0,'Tabl. II (2)'!I7/('Tabl. II (2)'!F7/91.25),"X") -> 56.787926 | G7: =F7*100/E7 -> 120.39236 | H7: =IF('Tabl. II (2)'!B7>0,'Tabl. II (2)'!H7*3/'Tabl. II (2)'!B7,"X") -> 1.5192343 | I7: =IF('Tabl. II (2)'!C7>0,'Tabl. II (2)'!I7*3/'Tabl. II (2)'!C7,"X") -> 1.9307586 | J7: =I7*100/H7 -> 127.08762
A8: W SĄDACH APELACYJNYCH - OGÓŁEM | B8: =IF('Tabl. II (2)'!B8>0,'Tabl. II (2)'!E8/'Tabl. II (2)'!B8*100,"X") -> 90.233043 | C8: =IF('Tabl. II (2)'!C8>0,'Tabl. II (2)'!F8/'Tabl. II (2)'!C8*100,"X") -> 97.482498 | D8: =C8*100/B8 -> 108.03415 | E8: =IF('Tabl. II (2)'!E8>0,'Tabl. II (2)'!H8/('Tabl. II (2)'!E8/91.25),"X") -> 81.914656 | F8: =IF('Tabl. II (2)'!F8>0,'Tabl. II (2)'!I8/('Tabl. II (2)'!F8/91.25),"X") -> 106.13821 | G8: =F8*100/E8 -> 129.5717 | H8: =IF('Tabl. II (2)'!B8>0,'Tabl. II (2)'!H8*3/'Tabl. II (2)'!B8,"X") -> 2.4300522 | I8: =IF('Tabl. II (2)'!C8>0,'Tabl. II (2)'!I8*3/'Tabl. II (2)'!C8,"X") -> 3.4016278 | J8: =I8*100/H8 -> 139.98168
A9: Sprawy karne - razem | B9: =IF('Tabl. II (2)'!B9>0,'Tabl. II (2)'!E9/'Tabl. II (2)'!B9*100,"X") -> 99.042123 | C9: =IF('Tabl. II (2)'!C9>0,'Tabl. II (2)'!F9/'Tabl. II (2)'!C9*100,"X") -> 92.278349 | D9: =C9*100/B9 -> 93.170811 | E9: =IF('Tabl. II (2)'!E9>0,'Tabl. II (2)'!H9/('Tabl. II (2)'!E9/91.25),"X") -> 26.645595 | F9: =IF('Tabl. II (2)'!F9>0,'Tabl. II (2)'!I9/('Tabl. II (2)'!F9/91.25),"X") -> 36.737755 | G9: =F9*100/E9 -> 137.87553 | H9: =IF('Tabl. II (2)'!B9>0,'Tabl. II (2)'!H9*3/'Tabl. II (2)'!B9,"X") -> 0.86762839 | I9: =IF('Tabl. II (2)'!C9>0,'Tabl. II (2)'!I9*3/'Tabl. II (2)'!C9,"X") -> 1.1145532 | J9: =I9*100/H9 -> 128.45975
A10: II instancji - apelacje (A Ka) | B10: =IF('Tabl. II (2)'!B10>0,'Tabl. II (2)'!E10/'Tabl. II (2)'!B10*100,"X") -> 84.826884 | C10: =IF('Tabl. II (2)'!C10>0,'Tabl. II (2)'!F10/'Tabl. II (2)'!C10*100,"X") -> 82.105263 | D10: =C10*100/B10 -> 96.791559 | E10: =IF('Tabl. II (2)'!E10>0,'Tabl. II (2)'!H10/('Tabl. II (2)'!E10/91.25),"X") -> 60.687275 | F10: =IF('Tabl. II (2)'!F10>0,'Tabl. II (2)'!I10/('Tabl. II (2)'!F10/91.25),"X") -> 69.022436 | G10: =F10*100/E10 -> 113.73461 | H10: =IF('Tabl. II (2)'!B10>0,'Tabl. II (2)'!H10*3/'Tabl. II (2)'!B10,"X") -> 1.6924644 | I10: =IF('Tabl. II (2)'!C10>0,'Tabl. II (2)'!I10*3/'Tabl. II (2)'!C10,"X") -> 1.8631579 | J10: =I10*100/H10 -> 110.0855
A11: w tym: o odszkodowanie (A Ka) | B11: =IF('Tabl. II (2)'!B11>0,'Tabl. II (2)'!E11/'Tabl. II (2)'!B11*100,"X") -> 87.850467 | C11: =IF('Tabl. II (2)'!C11>0,'Tabl. II (2)'!F11/'Tabl. II (2)'!C11*100,"X") -> 71.929825 | D11: =C11*100/B11 -> 81.877566 | E11: =IF('Tabl. II (2)'!E11>0,'Tabl. II (2)'!H11/('Tabl. II (2)'!E11/91.25),"X") -> 40.771277 | F11: =IF('Tabl. II (2)'!F11>0,'Tabl. II (2)'!I11/('Tabl. II (2)'!F11/91.25),"X") -> 63.429878 | G11: =F11*100/E11 -> 155.57491 | H11: =IF('Tabl. II (2)'!B11>0,'Tabl. II (2)'!H11*3/'Tabl. II (2)'!B11,"X") -> 1.1775701 | I11: =IF('Tabl. II (2)'!C11>0,'Tabl. II (2)'!I11*3/'Tabl. II (2)'!C11,"X") -> 1.5 | J11: =I11*100/H11 -> 127.38095
A12: w tym: -z ust. z dn. 23.02.1991 r. o uznaniu za nieważne orzeczeń wydanych wobec osób represjonowanych za działalność na rzecz niepodległego bytu Państwa Polskiego (Dz.U. Nr 34, poz. 149) | B12: =IF('Tabl. II (2)'!B12>0,'Tabl. II (2)'!E12/'Tabl. II (2)'!B12*100,"X") -> 100 | C12: =IF('Tabl. II (2)'!C12>0,'Tabl. II (2)'!F12/'Tabl. II (2)'!C12*100,"X") -> 70.833333 | D12: =C12*100/B12 -> 70.833333 | E12: =IF('Tabl. II (2)'!E12>0,'Tabl. II (2)'!H12/('Tabl. II (2)'!E12/91.25),"X") -> 22.025862 | F12: =IF('Tabl. II (2)'!F12>0,'Tabl. II (2)'!I12/('Tabl. II (2)'!F12/91.25),"X") -> 69.779412 | G12: =F12*100/E12 -> 316.80672 | H12: =IF('Tabl. II (2)'!B12>0,'Tabl. II (2)'!H12*3/'Tabl. II (2)'!B12,"X") -> 0.72413793 | I12: =IF('Tabl. II (2)'!C12>0,'Tabl. II (2)'!I12*3/'Tabl. II (2)'!C12,"X") -> 1.625 | J12: =I12*100/H12 -> 224.40476
A13: - w trybie a.552 kpk | B13: =IF('Tabl. II (2)'!B13>0,'Tabl. II (2)'!E13/'Tabl. II (2)'!B13*100,"X") -> 83.333333 | C13: =IF('Tabl. II (2)'!C13>0,'Tabl. II (2)'!F13/'Tabl. II (2)'!C13*100,"X") -> 72.222222 | D13: =C13*100/B13 -> 86.666667 | E13: =IF('Tabl. II (2)'!E13>0,'Tabl. II (2)'!H13/('Tabl. II (2)'!E13/91.25),"X") -> 49.134615 | F13: =IF('Tabl. II (2)'!F13>0,'Tabl. II (2)'!I13/('Tabl. II (2)'!F13/91.25),"X") -> 61.769231 | G13: =F13*100/E13 -> 125.71429 | H13: =IF('Tabl. II (2)'!B13>0,'Tabl. II (2)'!H13*3/'Tabl. II (2)'!B13,"X") -> 1.3461538 | I13: =IF('Tabl. II (2)'!C13>0,'Tabl. II (2)'!I13*3/'Tabl. II (2)'!C13,"X") -> 1.4666667 | J13: =I13*100/H13 -> 108.95238
A14: - zażalenia (A Kz) | B14: =IF('Tabl. II (2)'!B14>0,'Tabl. II (2)'!E14/'Tabl. II (2)'!B14*100,"X") -> 98.467885 | C14: =IF('Tabl. II (2)'!C14>0,'Tabl. II (2)'!F14/'Tabl. II (2)'!C14*100,"X") -> 94.572271 | D14: =C14*100/B14 -> 96.043773 | E14: =IF('Tabl. II (2)'!E14>0,'Tabl. II (2)'!H14/('Tabl. II (2)'!E14/91.25),"X") -> 14.798773 | F14: =IF('Tabl. II (2)'!F14>0,'Tabl. II (2)'!I14/('Tabl. II (2)'!F14/91.25),"X") -> 17.6466 | G14: =F14*100/E14 -> 119.24367 | H14: =IF('Tabl. II (2)'!B14>0,'Tabl. II (2)'!H14*3/'Tabl. II (2)'!B14,"X") -> 0.47908073 | I14: =IF('Tabl. II (2)'!C14>0,'Tabl. II (2)'!I14*3/'Tabl. II (2)'!C14,"X") -> 0.54867257 | J14: =I14*100/H14 -> 114.52612
A15: ogólne (A Ko) | B15: =IF('Tabl. II (2)'!B15>0,'Tabl. II (2)'!E15/'Tabl. II (2)'!B15*100,"X") -> 96.336996 | C15: =IF('Tabl. II (2)'!C15>0,'Tabl. II (2)'!F15/'Tabl. II (2)'!C15*100,"X") -> 91.422594 | D15: =C15*100/B15 -> 94.898738 | E15: =IF('Tabl. II (2)'!E15>0,'Tabl. II (2)'!H15/('Tabl. II (2)'!E15/91.25),"X") -> 42.502376 | F15: =IF('Tabl. II (2)'!F15>0,'Tabl. II (2)'!I15/('Tabl. II (2)'!F15/91.25),"X") -> 55.125858 | G15: =F15*100/E15 -> 129.70065 | H15: =IF('Tabl. II (2)'!B15>0,'Tabl. II (2)'!H15*3/'Tabl. II (2)'!B15,"X") -> 1.3461538 | I15: =IF('Tabl. II (2)'!C15>0,'Tabl. II (2)'!I15*3/'Tabl. II (2)'!C15,"X") -> 1.6569038 | J15: =I15*100/H15 -> 123.08428
A16: w tym:
A17: sprawy w trybie art.11a pwkpk | B17: =IF('Tabl. II (2)'!B17>0,'Tabl. II (2)'!E17/'Tabl. II (2)'!B17*100,"X") -> X | C17: =IF('Tabl. II (2)'!C17>0,'Tabl. II (2)'!F17/'Tabl. II (2)'!C17*100,"X") -> X | D17: X | E17: =IF('Tabl. II (2)'!E17>0,'Tabl. II (2)'!H17/('Tabl. II (2)'!E17/91.25),"X") -> X | F17: =IF('Tabl. II (2)'!F17>0,'Tabl. II (2)'!I17/('Tabl. II (2)'!F17/91.25),"X") -> 0 | G17: X | H17: =IF('Tabl. II (2)'!B17>0,'Tabl. II (2)'!H17*3/'Tabl. II (2)'!B17,"X") -> X | I17: =IF('Tabl. II (2)'!C17>0,'Tabl. II (2)'!I17*3/'Tabl. II (2)'!C17,"X") -> X | J17: X
A18: nadzór sądowy nad postępowaniem przygotowawczym (A Kp) | B18: =IF('Tabl. II (2)'!B18>0,'Tabl. II (2)'!E18/'Tabl. II (2)'!B18*100,"X") -> 94.488189 | C18: =IF('Tabl. II (2)'!C18>0,'Tabl. II (2)'!F18/'Tabl. II (2)'!C18*100,"X") -> 91.304348 | D18: =C18*100/B18 -> 96.630435 | E18: =IF('Tabl. II (2)'!E18>0,'Tabl. II (2)'!H18/('Tabl. II (2)'!E18/91.25),"X") -> 13.6875 | F18: =IF('Tabl. II (2)'!F18>0,'Tabl. II (2)'!I18/('Tabl. II (2)'!F18/91.25),"X") -> 13.759921 | G18: =F18*100/E18 -> 100.5291 | H18: =IF('Tabl. II (2)'!B18>0,'Tabl. II (2)'!H18*3/'Tabl. II (2)'!B18,"X") -> 0.42519685 | I18: =IF('Tabl. II (2)'!C18>0,'Tabl. II (2)'!I18*3/'Tabl. II (2)'!C18,"X") -> 0.41304348 | J18: =I18*100/H18 -> 97.141707
A19: zażalenia na postanowienia w postępowaniu wykonawczym (A Kzw) | B19: =IF('Tabl. II (2)'!B19>0,'Tabl. II (2)'!E19/'Tabl. II (2)'!B19*100,"X") -> 102.3103 | C19: =IF('Tabl. II (2)'!C19>0,'Tabl. II (2)'!F19/'Tabl. II (2)'!C19*100,"X") -> 94.178958 | D19: =C19*100/B19 -> 92.052277 | E19: =IF('Tabl. II (2)'!E19>0,'Tabl. II (2)'!H19/('Tabl. II (2)'!E19/91.25),"X") -> 22.292924 | F19: =IF('Tabl. II (2)'!F19>0,'Tabl. II (2)'!I19/('Tabl. II (2)'!F19/91.25),"X") -> 34.792754 | G19: =F19*100/E19 -> 156.07084 | H19: =IF('Tabl. II (2)'!B19>0,'Tabl. II (2)'!H19*3/'Tabl. II (2)'!B19,"X") -> 0.74985063 | I19: =IF('Tabl. II (2)'!C19>0,'Tabl. II (2)'!I19*3/'Tabl. II (2)'!C19,"X") -> 1.0772861 | J19: =I19*100/H19 -> 143.66676
A20: kasacje (WKK) | B20: =IF('Tabl. II (2)'!B20>0,'Tabl. II (2)'!E20/'Tabl. II (2)'!B20*100,"X") -> 107.91367 | C20: =IF('Tabl. II (2)'!C20>0,'Tabl. II (2)'!F20/'Tabl. II (2)'!C20*100,"X") -> 75.151515 | D20: =C20*100/B20 -> 69.640404 | E20: =IF('Tabl. II (2)'!E20>0,'Tabl. II (2)'!H20/('Tabl. II (2)'!E20/91.25),"X") -> 69.35 | F20: =IF('Tabl. II (2)'!F20>0,'Tabl. II (2)'!I20/('Tabl. II (2)'!F20/91.25),"X") -> 112.59073 | G20: =F20*100/E20 -> 162.35144 | H20: =IF('Tabl. II (2)'!B20>0,'Tabl. II (2)'!H20*3/'Tabl. II (2)'!B20,"X") -> 2.4604317 | I20: =IF('Tabl. II (2)'!C20>0,'Tabl. II (2)'!I20*3/'Tabl. II (2)'!C20,"X") -> 2.7818182 | J20: =I20*100/H20 -> 113.0622
A21: skargi na postępowanie sądowe i prokuratorskie (S) | B21: =IF('Tabl. II (2)'!B21>0,'Tabl. II (2)'!E21/'Tabl. II (2)'!B21*100,"X") -> 94.771242 | C21: =IF('Tabl. II (2)'!C21>0,'Tabl. II (2)'!F21/'Tabl. II (2)'!C21*100,"X") -> 88.571429 | D21: =C21*100/B21 -> 93.458128 | E21: =IF('Tabl. II (2)'!E21>0,'Tabl. II (2)'!H21/('Tabl. II (2)'!E21/91.25),"X") -> 30.836207 | F21: =IF('Tabl. II (2)'!F21>0,'Tabl. II (2)'!I21/('Tabl. II (2)'!F21/91.25),"X") -> 38.266129 | G21: =F21*100/E21 -> 124.0948 | H21: =IF('Tabl. II (2)'!B21>0,'Tabl. II (2)'!H21*3/'Tabl. II (2)'!B21,"X") -> 0.96078431 | I21: =IF('Tabl. II (2)'!C21>0,'Tabl. II (2)'!I21*3/'Tabl. II (2)'!C21,"X") -> 1.1142857 | J21: =I21*100/H21 -> 115.97668
A22: W SĄDACH APELACYJNYCH (c.d.)
A23: Sprawy cywilne - razem | B23: =IF('Tabl. II (2)'!B23>0,'Tabl. II (2)'!E23/'Tabl. II (2)'!B23*100,"X") -> 90.28103 | C23: =IF('Tabl. II (2)'!C23>0,'Tabl. II (2)'!F23/'Tabl. II (2)'!C23*100,"X") -> 92.311573 | D23: =C23*100/B23 -> 102.24914 | E23: =IF('Tabl. II (2)'!E23>0,'Tabl. II (2)'!H23/('Tabl. II (2)'!E23/91.25),"X") -> 61.918234 | F23: =IF('Tabl. II (2)'!F23>0,'Tabl. II (2)'!I23/('Tabl. II (2)'!F23/91.25),"X") -> 79.241584 | G23: =F23*100/E23 -> 127.97778 | H23: =IF('Tabl. II (2)'!B23>0,'Tabl. II (2)'!H23*3/'Tabl. II (2)'!B23,"X") -> 1.837822 | I23: =IF('Tabl. II (2)'!C23>0,'Tabl. II (2)'!I23*3/'Tabl. II (2)'!C23,"X") -> 2.4049036 | J23: =I23*100/H23 -> 130.85618
A24: II instancji - apelacje (A Ca)a) | B24: =IF('Tabl. II (2)'!B24>0,'Tabl. II (2)'!E24/'Tabl. II (2)'!B24*100,"X") -> 84.65439 | C24: =IF('Tabl. II (2)'!C24>0,'Tabl. II (2)'!F24/'Tabl. II (2)'!C24*100,"X") -> 88.121336 | D24: =C24*100/B24 -> 104.09541 | E24: =IF('Tabl. II (2)'!E24>0,'Tabl. II (2)'!H24/('Tabl. II (2)'!E24/91.25),"X") -> 124.90779 | F24: =IF('Tabl. II (2)'!F24>0,'Tabl. II (2)'!I24/('Tabl. II (2)'!F24/91.25),"X") -> 146.20589 | G24: =F24*100/E24 -> 117.05106 | H24: =IF('Tabl. II (2)'!B24>0,'Tabl. II (2)'!H24*3/'Tabl. II (2)'!B24,"X") -> 3.4763811 | I24: =IF('Tabl. II (2)'!C24>0,'Tabl. II (2)'!I24*3/'Tabl. II (2)'!C24,"X") -> 4.2357889 | J24: =I24*100/H24 -> 121.84478
A25: - zażalenia (A Cz)a) | B25: =IF('Tabl. II (2)'!B25>0,'Tabl. II (2)'!E25/'Tabl. II (2)'!B25*100,"X") -> 94.894266 | C25: =IF('Tabl. II (2)'!C25>0,'Tabl. II (2)'!F25/'Tabl. II (2)'!C25*100,"X") -> 96.592658 | D25: =C25*100/B25 -> 101.78977 | E25: =IF('Tabl. II (2)'!E25>0,'Tabl. II (2)'!H25/('Tabl. II (2)'!E25/91.25),"X") -> 26.526802 | F25: =IF('Tabl. II (2)'!F25>0,'Tabl. II (2)'!I25/('Tabl. II (2)'!F25/91.25),"X") -> 35.947599 | G25: =F25*100/E25 -> 135.51426 | H25: =IF('Tabl. II (2)'!B25>0,'Tabl. II (2)'!H25*3/'Tabl. II (2)'!B25,"X") -> 0.82758621 | I25: =IF('Tabl. II (2)'!C25>0,'Tabl. II (2)'!I25*3/'Tabl. II (2)'!C25,"X") -> 1.1415696 | J25: =I25*100/H25 -> 137.93966
A26: ogólne (A Co) | B26: =IF('Tabl. II (2)'!B26>0,'Tabl. II (2)'!E26/'Tabl. II (2)'!B26*100,"X") -> 91.666667 | C26: =IF('Tabl. II (2)'!C26>0,'Tabl. II (2)'!F26/'Tabl. II (2)'!C26*100,"X") -> 110.11236 | D26: =C26*100/B26 -> 120.12257 | E26: =IF('Tabl. II (2)'!E26>0,'Tabl. II (2)'!H26/('Tabl. II (2)'!E26/91.25),"X") -> 27.651515 | F26: =IF('Tabl. II (2)'!F26>0,'Tabl. II (2)'!I26/('Tabl. II (2)'!F26/91.25),"X") -> 24.209184 | G26: =F26*100/E26 -> 87.55102 | H26: =IF('Tabl. II (2)'!B26>0,'Tabl. II (2)'!H26*3/'Tabl. II (2)'!B26,"X") -> 0.83333333 | I26: =IF('Tabl. II (2)'!C26>0,'Tabl. II (2)'!I26*3/'Tabl. II (2)'!C26,"X") -> 0.87640449 | J26: =I26*100/H26 -> 105.16854
A27: skarga kasacyjna (WSC) | B27: =IF('Tabl. II (2)'!B27>0,'Tabl. II (2)'!E27/'Tabl. II (2)'!B27*100,"X") -> 83.488372 | C27: =IF('Tabl. II (2)'!C27>0,'Tabl. II (2)'!F27/'Tabl. II (2)'!C27*100,"X") -> 81.181619 | D27: =C27*100/B27 -> 97.237037 | E27: =IF('Tabl. II (2)'!E27>0,'Tabl. II (2)'!H27/('Tabl. II (2)'!E27/91.25),"X") -> 64.307103 | F27: =IF('Tabl. II (2)'!F27>0,'Tabl. II (2)'!I27/('Tabl. II (2)'!F27/91.25),"X") -> 79.935984 | G27: =F27*100/E27 -> 124.30351 | H27: =IF('Tabl. II (2)'!B27>0,'Tabl. II (2)'!H27*3/'Tabl. II (2)'!B27,"X") -> 1.7651163 | I27: =IF('Tabl. II (2)'!C27>0,'Tabl. II (2)'!I27*3/'Tabl. II (2)'!C27,"X") -> 2.1334792 | J27: =I27*100/H27 -> 120.86905
A28: skarga o stwierdzenie niezgodności z prawem (WSC)b) | B28: =IF('Tabl. II (2)'!B28>0,'Tabl. II (2)'!E28/'Tabl. II (2)'!B28*100,"X") -> 216.66667 | C28: =IF('Tabl. II (2)'!C28>0,'Tabl. II (2)'!F28/'Tabl. II (2)'!C28*100,"X") -> 125 | D28: =C28*100/B28 -> 57.692308 | E28: =IF('Tabl. II (2)'!E28>0,'Tabl. II (2)'!H28/('Tabl. II (2)'!E28/91.25),"X") -> 14.038462 | F28: =IF('Tabl. II (2)'!F28>0,'Tabl. II (2)'!I28/('Tabl. II (2)'!F28/91.25),"X") -> 91.25 | G28: =F28*100/E28 -> 650 | H28: =IF('Tabl. II (2)'!B28>0,'Tabl. II (2)'!H28*3/'Tabl. II (2)'!B28,"X") -> 1 | I28: =IF('Tabl. II (2)'!C28>0,'Tabl. II (2)'!I28*3/'Tabl. II (2)'!C28,"X") -> 3.75 | J28: =I28*100/H28 -> 375
A29: skargi na postępowanie sądowe (S) | B29: =IF('Tabl. II (2)'!B29>0,'Tabl. II (2)'!E29/'Tabl. II (2)'!B29*100,"X") -> 88.36478 | C29: =IF('Tabl. II (2)'!C29>0,'Tabl. II (2)'!F29/'Tabl. II (2)'!C29*100,"X") -> 90.75 | D29: =C29*100/B29 -> 102.69929 | E29: =IF('Tabl. II (2)'!E29>0,'Tabl. II (2)'!H29/('Tabl. II (2)'!E29/91.25),"X") -> 29.713078 | F29: =IF('Tabl. II (2)'!F29>0,'Tabl. II (2)'!I29/('Tabl. II (2)'!F29/91.25),"X") -> 36.826791 | G29: =F29*100/E29 -> 123.94135 | H29: =IF('Tabl. II (2)'!B29>0,'Tabl. II (2)'!H29*3/'Tabl. II (2)'!B29,"X") -> 0.86320755 | I29: =IF('Tabl. II (2)'!C29>0,'Tabl. II (2)'!I29*3/'Tabl. II (2)'!C29,"X") -> 1.09875 | J29: =I29*100/H29 -> 127.28689
A30: Sprawy z zakresu prawa pracy - razem | B30: =IF('Tabl. II (2)'!B30>0,'Tabl. II (2)'!E30/'Tabl. II (2)'!B30*100,"X") -> 87.8327 | C30: =IF('Tabl. II (2)'!C30>0,'Tabl. II (2)'!F30/'Tabl. II (2)'!C30*100,"X") -> 91.603053 | D30: =C30*100/B30 -> 104.29265 | E30: =IF('Tabl. II (2)'!E30>0,'Tabl. II (2)'!H30/('Tabl. II (2)'!E30/91.25),"X") -> 90.064935 | F30: =IF('Tabl. II (2)'!F30>0,'Tabl. II (2)'!I30/('Tabl. II (2)'!F30/91.25),"X") -> 95.8125 | G30: =F30*100/E30 -> 106.38158 | H30: =IF('Tabl. II (2)'!B30>0,'Tabl. II (2)'!H30*3/'Tabl. II (2)'!B30,"X") -> 2.6007605 | I30: =IF('Tabl. II (2)'!C30>0,'Tabl. II (2)'!I30*3/'Tabl. II (2)'!C30,"X") -> 2.8854962 | J30: =I30*100/H30 -> 110.94817
A31: II instancji - apelacje (A Pa) | B31: =IF('Tabl. II (2)'!B31>0,'Tabl. II (2)'!E31/'Tabl. II (2)'!B31*100,"X") -> 84.684685 | C31: =IF('Tabl. II (2)'!C31>0,'Tabl. II (2)'!F31/'Tabl. II (2)'!C31*100,"X") -> 81.553398 | D31: =C31*100/B31 -> 96.302417 | E31: =IF('Tabl. II (2)'!E31>0,'Tabl. II (2)'!H31/('Tabl. II (2)'!E31/91.25),"X") -> 149.49468 | F31: =IF('Tabl. II (2)'!F31>0,'Tabl. II (2)'!I31/('Tabl. II (2)'!F31/91.25),"X") -> 173.80952 | G31: =F31*100/E31 -> 116.26469 | H31: =IF('Tabl. II (2)'!B31>0,'Tabl. II (2)'!H31*3/'Tabl. II (2)'!B31,"X") -> 4.1621622 | I31: =IF('Tabl. II (2)'!C31>0,'Tabl. II (2)'!I31*3/'Tabl. II (2)'!C31,"X") -> 4.6601942 | J31: =I31*100/H31 -> 111.9657
A32: - zażalenia (A Pz) | B32: =IF('Tabl. II (2)'!B32>0,'Tabl. II (2)'!E32/'Tabl. II (2)'!B32*100,"X") -> 84.545455 | C32: =IF('Tabl. II (2)'!C32>0,'Tabl. II (2)'!F32/'Tabl. II (2)'!C32*100,"X") -> 104.3956 | D32: =C32*100/B32 -> 123.47867 | E32: =IF('Tabl. II (2)'!E32>0,'Tabl. II (2)'!H32/('Tabl. II (2)'!E32/91.25),"X") -> 44.153226 | F32: =IF('Tabl. II (2)'!F32>0,'Tabl. II (2)'!I32/('Tabl. II (2)'!F32/91.25),"X") -> 39.381579 | G32: =F32*100/E32 -> 89.192982 | H32: =IF('Tabl. II (2)'!B32>0,'Tabl. II (2)'!H32*3/'Tabl. II (2)'!B32,"X") -> 1.2272727 | I32: =IF('Tabl. II (2)'!C32>0,'Tabl. II (2)'!I32*3/'Tabl. II (2)'!C32,"X") -> 1.3516484 | J32: =I32*100/H32 -> 110.13431
A33: - ogólne (A Po) | B33: =IF('Tabl. II (2)'!B33>0,'Tabl. II (2)'!E33/'Tabl. II (2)'!B33*100,"X") -> 123.52941 | C33: =IF('Tabl. II (2)'!C33>0,'Tabl. II (2)'!F33/'Tabl. II (2)'!C33*100,"X") -> 85.185185 | D33: =C33*100/B33 -> 68.959436 | E33: =IF('Tabl. II (2)'!E33>0,'Tabl. II (2)'!H33/('Tabl. II (2)'!E33/91.25),"X") -> 60.833333 | F33: =IF('Tabl. II (2)'!F33>0,'Tabl. II (2)'!I33/('Tabl. II (2)'!F33/91.25),"X") -> 87.282609 | G33: =F33*100/E33 -> 143.47826 | H33: =IF('Tabl. II (2)'!B33>0,'Tabl. II (2)'!H33*3/'Tabl. II (2)'!B33,"X") -> 2.4705882 | I33: =IF('Tabl. II (2)'!C33>0,'Tabl. II (2)'!I33*3/'Tabl. II (2)'!C33,"X") -> 2.4444444 | J33: =I33*100/H33 -> 98.941799
A34: skarga kasacyjna (WSC-pracy) | B34: =IF('Tabl. II (2)'!B34>0,'Tabl. II (2)'!E34/'Tabl. II (2)'!B34*100,"X") -> 62.5 | C34: =IF('Tabl. II (2)'!C34>0,'Tabl. II (2)'!F34/'Tabl. II (2)'!C34*100,"X") -> 108 | D34: =C34*100/B34 -> 172.8 | E34: =IF('Tabl. II (2)'!E34>0,'Tabl. II (2)'!H34/('Tabl. II (2)'!E34/91.25),"X") -> 118.625 | F34: =IF('Tabl. II (2)'!F34>0,'Tabl. II (2)'!I34/('Tabl. II (2)'!F34/91.25),"X") -> 67.592593 | G34: =F34*100/E34 -> 56.980057 | H34: =IF('Tabl. II (2)'!B34>0,'Tabl. II (2)'!H34*3/'Tabl. II (2)'!B34,"X") -> 2.4375 | I34: =IF('Tabl. II (2)'!C34>0,'Tabl. II (2)'!I34*3/'Tabl. II (2)'!C34,"X") -> 2.4 | J34: =I34*100/H34 -> 98.461538
A35: skarga o stwierdzenie niezgodności z prawem (WSC-pracy) | B35: =IF('Tabl. II (2)'!B35>0,'Tabl. II (2)'!E35/'Tabl. II (2)'!B35*100,"X") -> X | C35: =IF('Tabl. II (2)'!C35>0,'Tabl. II (2)'!F35/'Tabl. II (2)'!C35*100,"X") -> X | D35: X | E35: =IF('Tabl. II (2)'!E35>0,'Tabl. II (2)'!H35/('Tabl. II (2)'!E35/91.25),"X") -> X | F35: =IF('Tabl. II (2)'!F35>0,'Tabl. II (2)'!I35/('Tabl. II (2)'!F35/91.25),"X") -> X | G35: X | H35: =IF('Tabl. II (2)'!H35>0,'Tabl. II (2)'!K35/('Tabl. II (2)'!H35/91.25),"X") -> X | I35: =IF('Tabl. II (2)'!I35>0,'Tabl. II (2)'!L35/('Tabl. II (2)'!I35/91.25),"X") -> X | J35: X
A36: skargi na postępowanie sądowe (S) | B36: =IF('Tabl. II (2)'!B36>0,'Tabl. II (2)'!E36/'Tabl. II (2)'!B36*100,"X") -> 144.44444 | C36: =IF('Tabl. II (2)'!C36>0,'Tabl. II (2)'!F36/'Tabl. II (2)'!C36*100,"X") -> 68.75 | D36: =C36*100/B36 -> 47.596154 | E36: =IF('Tabl. II (2)'!E36>0,'Tabl. II (2)'!H36/('Tabl. II (2)'!E36/91.25),"X") -> 14.038462 | F36: =IF('Tabl. II (2)'!F36>0,'Tabl. II (2)'!I36/('Tabl. II (2)'!F36/91.25),"X") -> 74.659091 | G36: =F36*100/E36 -> 531.81818 | H36: =IF('Tabl. II (2)'!B36>0,'Tabl. II (2)'!H36*3/'Tabl. II (2)'!B36,"X") -> 0.66666667 | I36: =IF('Tabl. II (2)'!C36>0,'Tabl. II (2)'!I36*3/'Tabl. II (2)'!C36,"X") -> 1.6875 | J36: =I36*100/H36 -> 253.125
A37: W SĄDACH APELACYJNYCH (dok.)
A38: Sprawy z zakresu ubezpieczeń społecznych - razem | B38: =IF('Tabl. II (2)'!B38>0,'Tabl. II (2)'!E38/'Tabl. II (2)'!B38*100,"X") -> 79.867714 | C38: =IF('Tabl. II (2)'!C38>0,'Tabl. II (2)'!F38/'Tabl. II (2)'!C38*100,"X") -> 124.29722 | D38: =C38*100/B38 -> 155.62887 | E38: =IF('Tabl. II (2)'!E38>0,'Tabl. II (2)'!H38/('Tabl. II (2)'!E38/91.25),"X") -> 200.35326 | F38: =IF('Tabl. II (2)'!F38>0,'Tabl. II (2)'!I38/('Tabl. II (2)'!F38/91.25),"X") -> 197.38111 | G38: =F38*100/E38 -> 98.516546 | H38: =IF('Tabl. II (2)'!B38>0,'Tabl. II (2)'!H38*3/'Tabl. II (2)'!B38,"X") -> 5.2608516 | I38: =IF('Tabl. II (2)'!C38>0,'Tabl. II (2)'!I38*3/'Tabl. II (2)'!C38,"X") -> 8.0659474 | J38: =I38*100/H38 -> 153.32019
A39: II instancji - apelacje (A Ua) | B39: =IF('Tabl. II (2)'!B39>0,'Tabl. II (2)'!E39/'Tabl. II (2)'!B39*100,"X") -> 78.621613 | C39: =IF('Tabl. II (2)'!C39>0,'Tabl. II (2)'!F39/'Tabl. II (2)'!C39*100,"X") -> 132.03543 | D39: =C39*100/B39 -> 167.93783 | E39: =IF('Tabl. II (2)'!E39>0,'Tabl. II (2)'!H39/('Tabl. II (2)'!E39/91.25),"X") -> 234.97846 | F39: =IF('Tabl. II (2)'!F39>0,'Tabl. II (2)'!I39/('Tabl. II (2)'!F39/91.25),"X") -> 218.4261 | G39: =F39*100/E39 -> 92.955798 | H39: =IF('Tabl. II (2)'!B39>0,'Tabl. II (2)'!H39*3/'Tabl. II (2)'!B39,"X") -> 6.0737705 | I39: =IF('Tabl. II (2)'!C39>0,'Tabl. II (2)'!I39*3/'Tabl. II (2)'!C39,"X") -> 9.4816387 | J39: =I39*100/H39 -> 156.10795
A40: - zażalenia (A Uz) | B40: =IF('Tabl. II (2)'!B40>0,'Tabl. II (2)'!E40/'Tabl. II (2)'!B40*100,"X") -> 84.965035 | C40: =IF('Tabl. II (2)'!C40>0,'Tabl. II (2)'!F40/'Tabl. II (2)'!C40*100,"X") -> 86.863271 | D40: =C40*100/B40 -> 102.23414 | E40: =IF('Tabl. II (2)'!E40>0,'Tabl. II (2)'!H40/('Tabl. II (2)'!E40/91.25),"X") -> 46.0631 | F40: =IF('Tabl. II (2)'!F40>0,'Tabl. II (2)'!I40/('Tabl. II (2)'!F40/91.25),"X") -> 47.173997 | G40: =F40*100/E40 -> 102.41168 | H40: =IF('Tabl. II (2)'!B40>0,'Tabl. II (2)'!H40*3/'Tabl. II (2)'!B40,"X") -> 1.2867133 | I40: =IF('Tabl. II (2)'!C40>0,'Tabl. II (2)'!I40*3/'Tabl. II (2)'!C40,"X") -> 1.347185 | J40: =I40*100/H40 -> 104.6997
A41: ogólne (A Uo) | B41: =IF('Tabl. II (2)'!B41>0,'Tabl. II (2)'!E41/'Tabl. II (2)'!B41*100,"X") -> 112.5 | C41: =IF('Tabl. II (2)'!C41>0,'Tabl. II (2)'!F41/'Tabl. II (2)'!C41*100,"X") -> 100 | D41: =C41*100/B41 -> 88.888889 | E41: =IF('Tabl. II (2)'!E41>0,'Tabl. II (2)'!H41/('Tabl. II (2)'!E41/91.25),"X") -> 20.277778 | F41: =IF('Tabl. II (2)'!F41>0,'Tabl. II (2)'!I41/('Tabl. II (2)'!F41/91.25),"X") -> 60.833333 | G41: =F41*100/E41 -> 300 | H41: =IF('Tabl. II (2)'!B41>0,'Tabl. II (2)'!H41*3/'Tabl. II (2)'!B41,"X") -> 0.75 | I41: =IF('Tabl. II (2)'!C41>0,'Tabl. II (2)'!I41*3/'Tabl. II (2)'!C41,"X") -> 2 | J41: =I41*100/H41 -> 266.66667
...
